{"text_format":"1","workbook":"xlsx","n_sheets":5,"sheets":["CONSULTA","baseEXPED","basePAGAS","Pagas_PORTAL","Planilha1"],"not_rendered":{"charts":0,"images":0,"macros":1,"external_links":0,"defined_names":38,"comments":0,"pivot_tables":0},"unopened":[],"bounds":{"document_bytes":16777216,"sheet_cells":100000,"rows_first":2000,"rows_last":500,"rows_between":2000,"halvings":0,"cell_chars":16384,"cell_head_chars":4096},"cells_cut":0,"cells_raw":0,"read":"whole","date_system":"1900"}

{"sheet":"CONSULTA","index":0,"n_rows":6727,"n_cols":18,"rows_kept":6727,"cut":false,"hidden":false,"merged":[[14,4,14,9],[19,12,19,16],[18,12,18,16],[22,4,23,6],[11,6,11,10],[12,6,12,10],[9,4,9,16],[7,12,7,16],[5,4,5,16],[11,16,11,17],[12,16,12,17],[28,18,28,20],[43,0,45,1],[46,4,46,22],[23,12,23,16],[15,5,15,9],[16,5,16,9],[17,5,17,9],[18,5,18,9],[19,5,19,9],[20,5,20,10],[17,12,17,17],[22,7,22,9],[23,7,23,9]]}
[]
[]
[]
[]
[]
[null,null,null,null,"Superior Tribunal de Justiça"]
[]
[null,null,null,null,"Coordenadoria de Execução Judicial",null,null,null,null,null,null,null,"Seção de Precatórios e RPVs"]
[]
[{"$f":"A11-1","v":14807},null,null,null,{"$f":"IF(E13>baseEXPED!CF9,\"R P V       N Ã O     A U T U A D A\",\"PAGAMENTO DE  REQUISIÇÕES DE PEQUENOS VALORES + RELATÓRIOS\")","v":"PAGAMENTO DE  REQUISIÇÕES DE PEQUENOS VALORES + RELATÓRIOS"}]
[{"$f":"E13","v":14808}]
[{"$f":"A11+1","v":14809},null,null,null,"RPV",null,"SITUAÇÃO",null,null,null,null,null,"NATUREZA",null,"CLASSE",null,"EXECUÇÃO"]
[{"$f":"A12+1","v":14810},null,null,null,14808,null,{"$f":"IF(E13=\"\",\"\",VLOOKUP(E13,expedidas,7))","v":"Paga em JUN-2023 - 1ª remessa"},null,null,null,null,null,{"$f":"IF(E13=\"\",\"\",VLOOKUP(E13,expedidas,26))","v":"Alimentar"},null,{"$f":"IF(E13=\"\",\"\",VLOOKUP(E13,expedidas,12))","v":"MS 10.424/DF"},null,{"$f":"IF(E13=\"\",\"\",VLOOKUP(E13,expedidas,20))","v":"2006/0199698-4"}]
[]
[null,null,null,null,"Beneficiários",null,null,null,null,null,"%H.A"]
[null,null,null,null,"Requerente   :",{"$f":"IF(E13=\"\",\"\",VLOOKUP(E13,expedidas,22))","v":"Espólio De Adelia Marcelina De Castro Oliveira"}]
[null,null,null,null,{"$f":"IF(F17=\"\",\"\",\"Advogado  I   :\")","v":"Advogado  I   :"},{"$f":"IF(E13=\"\",\"\",VLOOKUP(E13,expedidas,28))","v":"Fonseca e Assis Advogados Associados"},null,null,null,null,{"$f":"IF(E13=\"\",\"\",VLOOKUP(E13,expedidas,27))","v":11}]
[null,null,null,null,{"$f":"IF(F18=\"\",\"\",\"Advogado  II  :\")","v":"Advogado  II  :"},{"$f":"IF(E13=\"\",\"\",VLOOKUP(E13,expedidas,31))","v":" x x x "},null,null,null,null,{"$f":"IF(E13=\"\",\"\",VLOOKUP(E13,expedidas,30))","v":0},null,"Relátórios elaborados e prontos para gerar"]
[null,null,null,null,{"$f":"IF(F19=\"\",\"\",\"Advogado  III  :\")","v":"Advogado  III  :"},{"$f":"IF(E13=\"\",\"\",VLOOKUP(E13,expedidas,34))","v":" x x x "},null,null,null,null,{"$f":"IF(E13=\"\",\"\",VLOOKUP(E13,expedidas,33))","v":0},null,"RPVs expedidas em",null,null,null,null,{"$f":"VLOOKUP(E13,expedidas,5)","v":"2022-09-27"}]
[null,null,null,null,{"$f":"IF(F20=\"\",\"\",\"Advogado  IV  :\")","v":"Advogado  IV  :"},{"$f":"IF(E13=\"\",\"\",VLOOKUP(E13,expedidas,37))","v":" x x x "},null,null,null,null,{"$f":"IF(E13=\"\",\"\",VLOOKUP(E13,expedidas,36))","v":0},null,{"$f":"IF(R20=\"\",\"\",\"RPVs enviadas para pagamento (pagas)\")","v":"RPVs enviadas para pagamento (pagas)"},null,null,null,null,{"$f":"IF(VLOOKUP(E13,expedidas,8)=\"\",\"\",VLOOKUP(E13,expedidas,8))","v":"2023-06-01"}]
[null,null,null,null,"Entidade devedora",{"$f":"IF(E13=0,\"\",VLOOKUP(E13,expedidas,18))","v":"UNIÃO"}]
[]
[null,null,null,null,"Valores pendentes",null,null,{"$f":"baseEXPED!CB10&\" ALIMENTAR\"","v":"1543 ALIMENTAR"},null,null,{"$f":"baseEXPED!CC10","v":64350142.23000022}]
[null,null,null,null,null,null,null,{"$f":"baseEXPED!CD10&\"  COMUM\"","v":"35  COMUM"},null,null,{"$f":"baseEXPED!CE10","v":1045304.6499999998}]
[]
[]
[]
[]
[]
[]
[]
[]
[{"$f":"baseEXPED!CF9","v":"ultimo sequencial"}]
[]
[]
[]
[]
[]
[]
[]
[]
[]
[]
[{"$f":"A32+1","v":1}]
[]
[]
[]
[]
[]
[]
[]
[]
[]
[]
[]
[]
[]
[]
[]
[]
[]
[]
[]
[]
[]
[]
[]
[]
[]
[]
[]
[]
[]
[]
[]
[]
[]
["rpv consultada",{"$f":"SUM(B79:B6727)","v":{"$error":"#REF!"}}]
[{"$f":"basePAGAS!#REF!","v":{"$error":"#REF!"}},{"$f":"IF(A79=\"\",\"\",IF(VLOOKUP(A79,base_rpvs_pagas,2)=A$12,A79,0))","v":{"$error":"#REF!"}}]
[{"$f":"basePAGAS!#REF!","v":{"$error":"#REF!"}},{"$error":"#REF!"}]
[{"$f":"basePAGAS!#REF!","v":{"$error":"#REF!"}},{"$error":"#REF!"}]
[{"$f":"basePAGAS!#REF!","v":{"$error":"#REF!"}},{"$error":"#REF!"}]
[{"$f":"basePAGAS!#REF!","v":{"$error":"#REF!"}},{"$error":"#REF!"}]
[{"$f":"basePAGAS!#REF!","v":{"$error":"#REF!"}},{"$error":"#REF!"}]
[{"$f":"basePAGAS!#REF!","v":{"$error":"#REF!"}},{"$error":"#REF!"}]
[{"$f":"basePAGAS!#REF!","v":{"$error":"#REF!"}},{"$error":"#REF!"}]
[{"$f":"basePAGAS!#REF!","v":{"$error":"#REF!"}},{"$error":"#REF!"}]
[{"$f":"basePAGAS!#REF!","v":{"$error":"#REF!"}},{"$error":"#REF!"}]
[{"$f":"basePAGAS!#REF!","v":{"$error":"#REF!"}},{"$error":"#REF!"}]
[{"$f":"basePAGAS!#REF!","v":{"$error":"#REF!"}},{"$error":"#REF!"}]
[{"$f":"basePAGAS!#REF!","v":{"$error":"#REF!"}},{"$error":"#REF!"}]
[{"$f":"basePAGAS!#REF!","v":{"$error":"#REF!"}},{"$error":"#REF!"}]
[{"$f":"basePAGAS!#REF!","v":{"$error":"#REF!"}},{"$error":"#REF!"}]
[{"$f":"basePAGAS!#REF!","v":{"$error":"#REF!"}},{"$error":"#REF!"}]
[{"$f":"basePAGAS!#REF!","v":{"$error":"#REF!"}},{"$error":"#REF!"}]
[{"$f":"basePAGAS!#REF!","v":{"$error":"#REF!"}},{"$error":"#REF!"}]
[{"$f":"basePAGAS!#REF!","v":{"$error":"#REF!"}},{"$error":"#REF!"}]
[{"$f":"basePAGAS!#REF!","v":{"$error":"#REF!"}},{"$error":"#REF!"}]
[{"$f":"basePAGAS!#REF!","v":{"$error":"#REF!"}},{"$error":"#REF!"}]
[{"$f":"basePAGAS!#REF!","v":{"$error":"#REF!"}},{"$error":"#REF!"}]
[{"$f":"basePAGAS!#REF!","v":{"$error":"#REF!"}},{"$error":"#REF!"}]
[{"$f":"basePAGAS!#REF!","v":{"$error":"#REF!"}},{"$error":"#REF!"}]
[{"$f":"basePAGAS!#REF!","v":{"$error":"#REF!"}},{"$error":"#REF!"}]
[{"$f":"basePAGAS!#REF!","v":{"$error":"#REF!"}},{"$error":"#REF!"}]
[{"$f":"basePAGAS!#REF!","v":{"$error":"#REF!"}},{"$error":"#REF!"}]
[{"$f":"basePAGAS!#REF!","v":{"$error":"#REF!"}},{"$error":"#REF!"}]
[{"$f":"basePAGAS!#REF!","v":{"$error":"#REF!"}},{"$error":"#REF!"}]
[{"$f":"basePAGAS!#REF!","v":{"$error":"#REF!"}},{"$error":"#REF!"}]
[{"$f":"basePAGAS!#REF!","v":{"$error":"#REF!"}},{"$error":"#REF!"}]
[{"$f":"basePAGAS!#REF!","v":{"$error":"#REF!"}},{"$error":"#REF!"}]
[{"$f":"basePAGAS!#REF!","v":{"$error":"#REF!"}},{"$error":"#REF!"}]
[{"$f":"basePAGAS!#REF!","v":{"$error":"#REF!"}},{"$error":"#REF!"}]
[{"$f":"basePAGAS!#REF!","v":{"$error":"#REF!"}},{"$error":"#REF!"}]
[{"$f":"basePAGAS!#REF!","v":{"$error":"#REF!"}},{"$error":"#REF!"}]
[{"$f":"basePAGAS!#REF!","v":{"$error":"#REF!"}},{"$error":"#REF!"}]
[{"$f":"basePAGAS!#REF!","v":{"$error":"#REF!"}},{"$error":"#REF!"}]
[{"$f":"basePAGAS!#REF!","v":{"$error":"#REF!"}},{"$error":"#REF!"}]
[{"$f":"basePAGAS!#REF!","v":{"$error":"#REF!"}},{"$error":"#REF!"}]
[{"$f":"basePAGAS!#REF!","v":{"$error":"#REF!"}},{"$error":"#REF!"}]
[{"$f":"basePAGAS!#REF!","v":{"$error":"#REF!"}},{"$error":"#REF!"}]
[{"$f":"basePAGAS!#REF!","v":{"$error":"#REF!"}},{"$error":"#REF!"}]
[{"$f":"basePAGAS!#REF!","v":{"$error":"#REF!"}},{"$error":"#REF!"}]
[{"$f":"basePAGAS!#REF!","v":{"$error":"#REF!"}},{"$error":"#REF!"}]
[{"$f":"basePAGAS!#REF!","v":{"$error":"#REF!"}},{"$error":"#REF!"}]
[{"$f":"basePAGAS!#REF!","v":{"$error":"#REF!"}},{"$error":"#REF!"}]
[{"$f":"basePAGAS!#REF!","v":{"$error":"#REF!"}},{"$error":"#REF!"}]
[{"$f":"basePAGAS!#REF!","v":{"$error":"#REF!"}},{"$error":"#REF!"}]
[{"$f":"basePAGAS!#REF!","v":{"$error":"#REF!"}},{"$error":"#REF!"}]
[{"$f":"basePAGAS!#REF!","v":{"$error":"#REF!"}},{"$error":"#REF!"}]
[{"$f":"basePAGAS!#REF!","v":{"$error":"#REF!"}},{"$error":"#REF!"}]
[{"$f":"basePAGAS!#REF!","v":{"$error":"#REF!"}},{"$error":"#REF!"}]
[{"$f":"basePAGAS!#REF!","v":{"$error":"#REF!"}},{"$error":"#REF!"}]
[{"$f":"basePAGAS!#REF!","v":{"$error":"#REF!"}},{"$error":"#REF!"}]
[{"$f":"basePAGAS!#REF!","v":{"$error":"#REF!"}},{"$error":"#REF!"}]
[{"$f":"basePAGAS!#REF!","v":{"$error":"#REF!"}},{"$error":"#REF!"}]
[{"$f":"basePAGAS!#REF!","v":{"$error":"#REF!"}},{"$error":"#REF!"}]
[{"$f":"basePAGAS!#REF!","v":{"$error":"#REF!"}},{"$error":"#REF!"}]
[{"$f":"basePAGAS!#REF!","v":{"$error":"#REF!"}},{"$error":"#REF!"}]
[{"$f":"basePAGAS!#REF!","v":{"$error":"#REF!"}},{"$error":"#REF!"}]
[{"$f":"basePAGAS!#REF!","v":{"$error":"#REF!"}},{"$error":"#REF!"}]
[{"$f":"basePAGAS!#REF!","v":{"$error":"#REF!"}},{"$error":"#REF!"}]
[{"$f":"basePAGAS!#REF!","v":{"$error":"#REF!"}},{"$error":"#REF!"}]
[{"$f":"basePAGAS!#REF!","v":{"$error":"#REF!"}},{"$f":"IF(A143=\"\",\"\",IF(VLOOKUP(A143,base_rpvs_pagas,2)=A$12,A143,0))","v":{"$error":"#REF!"}}]
[{"$f":"basePAGAS!#REF!","v":{"$error":"#REF!"}},{"$error":"#REF!"}]
[{"$f":"basePAGAS!#REF!","v":{"$error":"#REF!"}},{"$error":"#REF!"}]
[{"$f":"basePAGAS!#REF!","v":{"$error":"#REF!"}},{"$error":"#REF!"}]
[{"$f":"basePAGAS!#REF!","v":{"$error":"#REF!"}},{"$error":"#REF!"}]
[{"$f":"basePAGAS!#REF!","v":{"$error":"#REF!"}},{"$error":"#REF!"}]
[{"$f":"basePAGAS!#REF!","v":{"$error":"#REF!"}},{"$error":"#REF!"}]
[{"$f":"basePAGAS!#REF!","v":{"$error":"#REF!"}},{"$error":"#REF!"}]
[{"$f":"basePAGAS!#REF!","v":{"$error":"#REF!"}},{"$error":"#REF!"}]
[{"$f":"basePAGAS!#REF!","v":{"$error":"#REF!"}},{"$error":"#REF!"}]
[{"$f":"basePAGAS!#REF!","v":{"$error":"#REF!"}},{"$error":"#REF!"}]
[{"$f":"basePAGAS!#REF!","v":{"$error":"#REF!"}},{"$error":"#REF!"}]
[{"$f":"basePAGAS!#REF!","v":{"$error":"#REF!"}},{"$error":"#REF!"}]
[{"$f":"basePAGAS!#REF!","v":{"$error":"#REF!"}},{"$error":"#REF!"}]
[{"$f":"basePAGAS!#REF!","v":{"$error":"#REF!"}},{"$error":"#REF!"}]
[{"$f":"basePAGAS!#REF!","v":{"$error":"#REF!"}},{"$error":"#REF!"}]
[{"$f":"basePAGAS!#REF!","v":{"$error":"#REF!"}},{"$error":"#REF!"}]
[{"$f":"basePAGAS!#REF!","v":{"$error":"#REF!"}},{"$error":"#REF!"}]
[{"$f":"basePAGAS!#REF!","v":{"$error":"#REF!"}},{"$error":"#REF!"}]
[{"$f":"basePAGAS!#REF!","v":{"$error":"#REF!"}},{"$error":"#REF!"}]
[{"$f":"basePAGAS!#REF!","v":{"$error":"#REF!"}},{"$error":"#REF!"}]
[{"$f":"basePAGAS!#REF!","v":{"$error":"#REF!"}},{"$error":"#REF!"}]
[{"$f":"basePAGAS!#REF!","v":{"$error":"#REF!"}},{"$error":"#REF!"}]
[{"$f":"basePAGAS!#REF!","v":{"$error":"#REF!"}},{"$error":"#REF!"}]
[{"$f":"basePAGAS!#REF!","v":{"$error":"#REF!"}},{"$error":"#REF!"}]
[{"$f":"basePAGAS!#REF!","v":{"$error":"#REF!"}},{"$error":"#REF!"}]
[{"$f":"basePAGAS!#REF!","v":{"$error":"#REF!"}},{"$error":"#REF!"}]
[{"$f":"basePAGAS!#REF!","v":{"$error":"#REF!"}},{"$error":"#REF!"}]
[{"$f":"basePAGAS!#REF!","v":{"$error":"#REF!"}},{"$error":"#REF!"}]
[{"$f":"basePAGAS!#REF!","v":{"$error":"#REF!"}},{"$error":"#REF!"}]
[{"$f":"basePAGAS!#REF!","v":{"$error":"#REF!"}},{"$error":"#REF!"}]
[{"$f":"basePAGAS!#REF!","v":{"$error":"#REF!"}},{"$error":"#REF!"}]
[{"$f":"basePAGAS!#REF!","v":{"$error":"#REF!"}},{"$error":"#REF!"}]
[{"$f":"basePAGAS!#REF!","v":{"$error":"#REF!"}},{"$error":"#REF!"}]
[{"$f":"basePAGAS!#REF!","v":{"$error":"#REF!"}},{"$error":"#REF!"}]
[{"$f":"basePAGAS!#REF!","v":{"$error":"#REF!"}},{"$error":"#REF!"}]
[{"$f":"basePAGAS!#REF!","v":{"$error":"#REF!"}},{"$error":"#REF!"}]
[{"$f":"basePAGAS!#REF!","v":{"$error":"#REF!"}},{"$error":"#REF!"}]
[{"$f":"basePAGAS!#REF!","v":{"$error":"#REF!"}},{"$error":"#REF!"}]
[{"$f":"basePAGAS!#REF!","v":{"$error":"#REF!"}},{"$error":"#REF!"}]
[{"$f":"basePAGAS!#REF!","v":{"$error":"#REF!"}},{"$error":"#REF!"}]
[{"$f":"basePAGAS!#REF!","v":{"$error":"#REF!"}},{"$error":"#REF!"}]
[{"$f":"basePAGAS!#REF!","v":{"$error":"#REF!"}},{"$error":"#REF!"}]
[{"$f":"basePAGAS!#REF!","v":{"$error":"#REF!"}},{"$error":"#REF!"}]
[{"$f":"basePAGAS!#REF!","v":{"$error":"#REF!"}},{"$error":"#REF!"}]
[{"$f":"basePAGAS!#REF!","v":{"$error":"#REF!"}},{"$error":"#REF!"}]
[{"$f":"basePAGAS!#REF!","v":{"$error":"#REF!"}},{"$error":"#REF!"}]
[{"$f":"basePAGAS!#REF!","v":{"$error":"#REF!"}},{"$error":"#REF!"}]
[{"$f":"basePAGAS!#REF!","v":{"$error":"#REF!"}},{"$error":"#REF!"}]
[{"$f":"basePAGAS!#REF!","v":{"$error":"#REF!"}},{"$error":"#REF!"}]
[{"$f":"basePAGAS!#REF!","v":{"$error":"#REF!"}},{"$error":"#REF!"}]
[{"$f":"basePAGAS!#REF!","v":{"$error":"#REF!"}},{"$error":"#REF!"}]
[{"$f":"basePAGAS!#REF!","v":{"$error":"#REF!"}},{"$error":"#REF!"}]
[{"$f":"basePAGAS!#REF!","v":{"$error":"#REF!"}},{"$error":"#REF!"}]
[{"$f":"basePAGAS!#REF!","v":{"$error":"#REF!"}},{"$error":"#REF!"}]
[{"$f":"basePAGAS!#REF!","v":{"$error":"#REF!"}},{"$error":"#REF!"}]
[{"$f":"basePAGAS!#REF!","v":{"$error":"#REF!"}},{"$error":"#REF!"}]
[{"$f":"basePAGAS!#REF!","v":{"$error":"#REF!"}},{"$error":"#REF!"}]
[{"$f":"basePAGAS!#REF!","v":{"$error":"#REF!"}},{"$error":"#REF!"}]
[{"$f":"basePAGAS!#REF!","v":{"$error":"#REF!"}},{"$error":"#REF!"}]
[{"$f":"basePAGAS!#REF!","v":{"$error":"#REF!"}},{"$error":"#REF!"}]
[{"$f":"basePAGAS!#REF!","v":{"$error":"#REF!"}},{"$error":"#REF!"}]
[{"$f":"basePAGAS!#REF!","v":{"$error":"#REF!"}},{"$error":"#REF!"}]
[{"$f":"basePAGAS!#REF!","v":{"$error":"#REF!"}},{"$error":"#REF!"}]
[{"$f":"basePAGAS!#REF!","v":{"$error":"#REF!"}},{"$f":"IF(A207=\"\",\"\",IF(VLOOKUP(A207,base_rpvs_pagas,2)=A$12,A207,0))","v":{"$error":"#REF!"}}]
[{"$f":"basePAGAS!#REF!","v":{"$error":"#REF!"}},{"$error":"#REF!"}]
[{"$f":"basePAGAS!#REF!","v":{"$error":"#REF!"}},{"$error":"#REF!"}]
[{"$f":"basePAGAS!#REF!","v":{"$error":"#REF!"}},{"$error":"#REF!"}]
[{"$f":"basePAGAS!#REF!","v":{"$error":"#REF!"}},{"$error":"#REF!"}]
[{"$f":"basePAGAS!#REF!","v":{"$error":"#REF!"}},{"$error":"#REF!"}]
[{"$f":"basePAGAS!#REF!","v":{"$error":"#REF!"}},{"$error":"#REF!"}]
[{"$f":"basePAGAS!#REF!","v":{"$error":"#REF!"}},{"$error":"#REF!"}]
[{"$f":"basePAGAS!#REF!","v":{"$error":"#REF!"}},{"$error":"#REF!"}]
[{"$f":"basePAGAS!#REF!","v":{"$error":"#REF!"}},{"$error":"#REF!"}]
[{"$f":"basePAGAS!#REF!","v":{"$error":"#REF!"}},{"$error":"#REF!"}]
[{"$f":"basePAGAS!#REF!","v":{"$error":"#REF!"}},{"$error":"#REF!"}]
[{"$f":"basePAGAS!#REF!","v":{"$error":"#REF!"}},{"$error":"#REF!"}]
[{"$f":"basePAGAS!#REF!","v":{"$error":"#REF!"}},{"$error":"#REF!"}]
[{"$f":"basePAGAS!#REF!","v":{"$error":"#REF!"}},{"$error":"#REF!"}]
[{"$f":"basePAGAS!#REF!","v":{"$error":"#REF!"}},{"$error":"#REF!"}]
[{"$f":"basePAGAS!#REF!","v":{"$error":"#REF!"}},{"$error":"#REF!"}]
[{"$f":"basePAGAS!#REF!","v":{"$error":"#REF!"}},{"$error":"#REF!"}]
[{"$f":"basePAGAS!#REF!","v":{"$error":"#REF!"}},{"$error":"#REF!"}]
[{"$f":"basePAGAS!#REF!","v":{"$error":"#REF!"}},{"$error":"#REF!"}]
[{"$f":"basePAGAS!#REF!","v":{"$error":"#REF!"}},{"$error":"#REF!"}]
[{"$f":"basePAGAS!#REF!","v":{"$error":"#REF!"}},{"$error":"#REF!"}]
[{"$f":"basePAGAS!#REF!","v":{"$error":"#REF!"}},{"$error":"#REF!"}]
[{"$f":"basePAGAS!#REF!","v":{"$error":"#REF!"}},{"$error":"#REF!"}]
[{"$f":"basePAGAS!#REF!","v":{"$error":"#REF!"}},{"$error":"#REF!"}]
[{"$f":"basePAGAS!#REF!","v":{"$error":"#REF!"}},{"$error":"#REF!"}]
[{"$f":"basePAGAS!#REF!","v":{"$error":"#REF!"}},{"$error":"#REF!"}]
[{"$f":"basePAGAS!#REF!","v":{"$error":"#REF!"}},{"$error":"#REF!"}]
[{"$f":"basePAGAS!#REF!","v":{"$error":"#REF!"}},{"$error":"#REF!"}]
[{"$f":"basePAGAS!#REF!","v":{"$error":"#REF!"}},{"$error":"#REF!"}]
[{"$f":"basePAGAS!#REF!","v":{"$error":"#REF!"}},{"$error":"#REF!"}]
[{"$f":"basePAGAS!#REF!","v":{"$error":"#REF!"}},{"$error":"#REF!"}]
[{"$f":"basePAGAS!#REF!","v":{"$error":"#REF!"}},{"$error":"#REF!"}]
[{"$f":"basePAGAS!#REF!","v":{"$error":"#REF!"}},{"$error":"#REF!"}]
[{"$f":"basePAGAS!#REF!","v":{"$error":"#REF!"}},{"$error":"#REF!"}]
[{"$f":"basePAGAS!#REF!","v":{"$error":"#REF!"}},{"$error":"#REF!"}]
[{"$f":"basePAGAS!#REF!","v":{"$error":"#REF!"}},{"$error":"#REF!"}]
[{"$f":"basePAGAS!#REF!","v":{"$error":"#REF!"}},{"$error":"#REF!"}]
[{"$f":"basePAGAS!#REF!","v":{"$error":"#REF!"}},{"$error":"#REF!"}]
[{"$f":"basePAGAS!#REF!","v":{"$error":"#REF!"}},{"$error":"#REF!"}]
[{"$f":"basePAGAS!#REF!","v":{"$error":"#REF!"}},{"$error":"#REF!"}]
[{"$f":"basePAGAS!#REF!","v":{"$error":"#REF!"}},{"$error":"#REF!"}]
[{"$f":"basePAGAS!#REF!","v":{"$error":"#REF!"}},{"$error":"#REF!"}]
[{"$f":"basePAGAS!#REF!","v":{"$error":"#REF!"}},{"$error":"#REF!"}]
[{"$f":"basePAGAS!#REF!","v":{"$error":"#REF!"}},{"$error":"#REF!"}]
[{"$f":"basePAGAS!#REF!","v":{"$error":"#REF!"}},{"$error":"#REF!"}]
[{"$f":"basePAGAS!#REF!","v":{"$error":"#REF!"}},{"$error":"#REF!"}]
[{"$f":"basePAGAS!#REF!","v":{"$error":"#REF!"}},{"$error":"#REF!"}]
[{"$f":"basePAGAS!#REF!","v":{"$error":"#REF!"}},{"$error":"#REF!"}]
[{"$f":"basePAGAS!#REF!","v":{"$error":"#REF!"}},{"$error":"#REF!"}]
[{"$f":"basePAGAS!#REF!","v":{"$error":"#REF!"}},{"$error":"#REF!"}]
[{"$f":"basePAGAS!#REF!","v":{"$error":"#REF!"}},{"$error":"#REF!"}]
[{"$f":"basePAGAS!#REF!","v":{"$error":"#REF!"}},{"$error":"#REF!"}]
[{"$f":"basePAGAS!#REF!","v":{"$error":"#REF!"}},{"$error":"#REF!"}]
[{"$f":"basePAGAS!#REF!","v":{"$error":"#REF!"}},{"$error":"#REF!"}]
[{"$f":"basePAGAS!#REF!","v":{"$error":"#REF!"}},{"$error":"#REF!"}]
[{"$f":"basePAGAS!#REF!","v":{"$error":"#REF!"}},{"$error":"#REF!"}]
[{"$f":"basePAGAS!#REF!","v":{"$error":"#REF!"}},{"$error":"#REF!"}]
[{"$f":"basePAGAS!#REF!","v":{"$error":"#REF!"}},{"$error":"#REF!"}]
[{"$f":"basePAGAS!#REF!","v":{"$error":"#REF!"}},{"$error":"#REF!"}]
[{"$f":"basePAGAS!#REF!","v":{"$error":"#REF!"}},{"$error":"#REF!"}]
[{"$f":"basePAGAS!#REF!","v":{"$error":"#REF!"}},{"$error":"#REF!"}]
[{"$f":"basePAGAS!#REF!","v":{"$error":"#REF!"}},{"$error":"#REF!"}]
[{"$f":"basePAGAS!#REF!","v":{"$error":"#REF!"}},{"$error":"#REF!"}]
[{"$f":"basePAGAS!#REF!","v":{"$error":"#REF!"}},{"$f":"IF(A271=\"\",\"\",IF(VLOOKUP(A271,base_rpvs_pagas,2)=A$12,A271,0))","v":{"$error":"#REF!"}}]
[{"$f":"basePAGAS!#REF!","v":{"$error":"#REF!"}},{"$error":"#REF!"}]
[{"$f":"basePAGAS!#REF!","v":{"$error":"#REF!"}},{"$error":"#REF!"}]
[{"$f":"basePAGAS!#REF!","v":{"$error":"#REF!"}},{"$error":"#REF!"}]
[{"$f":"basePAGAS!#REF!","v":{"$error":"#REF!"}},{"$error":"#REF!"}]
[{"$f":"basePAGAS!#REF!","v":{"$error":"#REF!"}},{"$error":"#REF!"}]
[{"$f":"basePAGAS!#REF!","v":{"$error":"#REF!"}},{"$error":"#REF!"}]
[{"$f":"basePAGAS!#REF!","v":{"$error":"#REF!"}},{"$error":"#REF!"}]
[{"$f":"basePAGAS!#REF!","v":{"$error":"#REF!"}},{"$error":"#REF!"}]
[{"$f":"basePAGAS!#REF!","v":{"$error":"#REF!"}},{"$error":"#REF!"}]
[{"$f":"basePAGAS!#REF!","v":{"$error":"#REF!"}},{"$error":"#REF!"}]
[{"$f":"basePAGAS!#REF!","v":{"$error":"#REF!"}},{"$error":"#REF!"}]
[{"$f":"basePAGAS!#REF!","v":{"$error":"#REF!"}},{"$error":"#REF!"}]
[{"$f":"basePAGAS!#REF!","v":{"$error":"#REF!"}},{"$error":"#REF!"}]
[{"$f":"basePAGAS!#REF!","v":{"$error":"#REF!"}},{"$error":"#REF!"}]
[{"$f":"basePAGAS!#REF!","v":{"$error":"#REF!"}},{"$error":"#REF!"}]
[{"$f":"basePAGAS!#REF!","v":{"$error":"#REF!"}},{"$error":"#REF!"}]
[{"$f":"basePAGAS!#REF!","v":{"$error":"#REF!"}},{"$error":"#REF!"}]
[{"$f":"basePAGAS!#REF!","v":{"$error":"#REF!"}},{"$error":"#REF!"}]
[{"$f":"basePAGAS!#REF!","v":{"$error":"#REF!"}},{"$error":"#REF!"}]
[{"$f":"basePAGAS!#REF!","v":{"$error":"#REF!"}},{"$error":"#REF!"}]
[{"$f":"basePAGAS!#REF!","v":{"$error":"#REF!"}},{"$error":"#REF!"}]
[{"$f":"basePAGAS!#REF!","v":{"$error":"#REF!"}},{"$error":"#REF!"}]
[{"$f":"basePAGAS!#REF!","v":{"$error":"#REF!"}},{"$error":"#REF!"}]
[{"$f":"basePAGAS!#REF!","v":{"$error":"#REF!"}},{"$error":"#REF!"}]
[{"$f":"basePAGAS!#REF!","v":{"$error":"#REF!"}},{"$error":"#REF!"}]
[{"$f":"basePAGAS!#REF!","v":{"$error":"#REF!"}},{"$error":"#REF!"}]
[{"$f":"basePAGAS!#REF!","v":{"$error":"#REF!"}},{"$error":"#REF!"}]
[{"$f":"basePAGAS!#REF!","v":{"$error":"#REF!"}},{"$error":"#REF!"}]
[{"$f":"basePAGAS!#REF!","v":{"$error":"#REF!"}},{"$error":"#REF!"}]
[{"$f":"basePAGAS!#REF!","v":{"$error":"#REF!"}},{"$error":"#REF!"}]
[{"$f":"basePAGAS!#REF!","v":{"$error":"#REF!"}},{"$error":"#REF!"}]
[{"$f":"basePAGAS!#REF!","v":{"$error":"#REF!"}},{"$error":"#REF!"}]
[{"$f":"basePAGAS!#REF!","v":{"$error":"#REF!"}},{"$error":"#REF!"}]
[{"$f":"basePAGAS!#REF!","v":{"$error":"#REF!"}},{"$error":"#REF!"}]
[{"$f":"basePAGAS!#REF!","v":{"$error":"#REF!"}},{"$error":"#REF!"}]
[{"$f":"basePAGAS!#REF!","v":{"$error":"#REF!"}},{"$error":"#REF!"}]
[{"$f":"basePAGAS!#REF!","v":{"$error":"#REF!"}},{"$error":"#REF!"}]
[{"$f":"basePAGAS!#REF!","v":{"$error":"#REF!"}},{"$error":"#REF!"}]
[{"$f":"basePAGAS!#REF!","v":{"$error":"#REF!"}},{"$error":"#REF!"}]
[{"$f":"basePAGAS!#REF!","v":{"$error":"#REF!"}},{"$error":"#REF!"}]
[{"$f":"basePAGAS!#REF!","v":{"$error":"#REF!"}},{"$error":"#REF!"}]
[{"$f":"basePAGAS!#REF!","v":{"$error":"#REF!"}},{"$error":"#REF!"}]
[{"$f":"basePAGAS!#REF!","v":{"$error":"#REF!"}},{"$error":"#REF!"}]
[{"$f":"basePAGAS!#REF!","v":{"$error":"#REF!"}},{"$error":"#REF!"}]
[{"$f":"basePAGAS!#REF!","v":{"$error":"#REF!"}},{"$error":"#REF!"}]
[{"$f":"basePAGAS!#REF!","v":{"$error":"#REF!"}},{"$error":"#REF!"}]
[{"$f":"basePAGAS!#REF!","v":{"$error":"#REF!"}},{"$error":"#REF!"}]
[{"$f":"basePAGAS!#REF!","v":{"$error":"#REF!"}},{"$error":"#REF!"}]
[{"$f":"basePAGAS!#REF!","v":{"$error":"#REF!"}},{"$error":"#REF!"}]
[{"$f":"basePAGAS!#REF!","v":{"$error":"#REF!"}},{"$error":"#REF!"}]
[{"$f":"basePAGAS!#REF!","v":{"$error":"#REF!"}},{"$error":"#REF!"}]
[{"$f":"basePAGAS!#REF!","v":{"$error":"#REF!"}},{"$error":"#REF!"}]
[{"$f":"basePAGAS!#REF!","v":{"$error":"#REF!"}},{"$error":"#REF!"}]
[{"$f":"basePAGAS!#REF!","v":{"$error":"#REF!"}},{"$error":"#REF!"}]
[{"$f":"basePAGAS!#REF!","v":{"$error":"#REF!"}},{"$error":"#REF!"}]
[{"$f":"basePAGAS!#REF!","v":{"$error":"#REF!"}},{"$error":"#REF!"}]
[{"$f":"basePAGAS!#REF!","v":{"$error":"#REF!"}},{"$error":"#REF!"}]
[{"$f":"basePAGAS!#REF!","v":{"$error":"#REF!"}},{"$error":"#REF!"}]
[{"$f":"basePAGAS!#REF!","v":{"$error":"#REF!"}},{"$error":"#REF!"}]
[{"$f":"basePAGAS!#REF!","v":{"$error":"#REF!"}},{"$error":"#REF!"}]
[{"$f":"basePAGAS!#REF!","v":{"$error":"#REF!"}},{"$error":"#REF!"}]
[{"$f":"basePAGAS!#REF!","v":{"$error":"#REF!"}},{"$error":"#REF!"}]
[{"$f":"basePAGAS!#REF!","v":{"$error":"#REF!"}},{"$error":"#REF!"}]
[{"$f":"basePAGAS!#REF!","v":{"$error":"#REF!"}},{"$f":"IF(A335=\"\",\"\",IF(VLOOKUP(A335,base_rpvs_pagas,2)=A$12,A335,0))","v":{"$error":"#REF!"}}]
[{"$f":"basePAGAS!#REF!","v":{"$error":"#REF!"}},{"$error":"#REF!"}]
[{"$f":"basePAGAS!#REF!","v":{"$error":"#REF!"}},{"$error":"#REF!"}]
[{"$f":"basePAGAS!#REF!","v":{"$error":"#REF!"}},{"$error":"#REF!"}]
[{"$f":"basePAGAS!#REF!","v":{"$error":"#REF!"}},{"$error":"#REF!"}]
[{"$f":"basePAGAS!#REF!","v":{"$error":"#REF!"}},{"$error":"#REF!"}]
[{"$f":"basePAGAS!#REF!","v":{"$error":"#REF!"}},{"$error":"#REF!"}]
[{"$f":"basePAGAS!#REF!","v":{"$error":"#REF!"}},{"$error":"#REF!"}]
[{"$f":"basePAGAS!#REF!","v":{"$error":"#REF!"}},{"$error":"#REF!"}]
[{"$f":"basePAGAS!#REF!","v":{"$error":"#REF!"}},{"$error":"#REF!"}]
[{"$f":"basePAGAS!#REF!","v":{"$error":"#REF!"}},{"$error":"#REF!"}]
[{"$f":"basePAGAS!#REF!","v":{"$error":"#REF!"}},{"$error":"#REF!"}]
[{"$f":"basePAGAS!#REF!","v":{"$error":"#REF!"}},{"$error":"#REF!"}]
[{"$f":"basePAGAS!#REF!","v":{"$error":"#REF!"}},{"$error":"#REF!"}]
[{"$f":"basePAGAS!#REF!","v":{"$error":"#REF!"}},{"$error":"#REF!"}]
[{"$f":"basePAGAS!#REF!","v":{"$error":"#REF!"}},{"$error":"#REF!"}]
[{"$f":"basePAGAS!#REF!","v":{"$error":"#REF!"}},{"$error":"#REF!"}]
[{"$f":"basePAGAS!#REF!","v":{"$error":"#REF!"}},{"$error":"#REF!"}]
[{"$f":"basePAGAS!#REF!","v":{"$error":"#REF!"}},{"$error":"#REF!"}]
[{"$f":"basePAGAS!#REF!","v":{"$error":"#REF!"}},{"$error":"#REF!"}]
[{"$f":"basePAGAS!#REF!","v":{"$error":"#REF!"}},{"$error":"#REF!"}]
[{"$f":"basePAGAS!#REF!","v":{"$error":"#REF!"}},{"$error":"#REF!"}]
[{"$f":"basePAGAS!#REF!","v":{"$error":"#REF!"}},{"$error":"#REF!"}]
[{"$f":"basePAGAS!#REF!","v":{"$error":"#REF!"}},{"$error":"#REF!"}]
[{"$f":"basePAGAS!#REF!","v":{"$error":"#REF!"}},{"$error":"#REF!"}]
[{"$f":"basePAGAS!#REF!","v":{"$error":"#REF!"}},{"$error":"#REF!"}]
[{"$f":"basePAGAS!#REF!","v":{"$error":"#REF!"}},{"$error":"#REF!"}]
[{"$f":"basePAGAS!#REF!","v":{"$error":"#REF!"}},{"$error":"#REF!"}]
[{"$f":"basePAGAS!#REF!","v":{"$error":"#REF!"}},{"$error":"#REF!"}]
[{"$f":"basePAGAS!#REF!","v":{"$error":"#REF!"}},{"$error":"#REF!"}]
[{"$f":"basePAGAS!#REF!","v":{"$error":"#REF!"}},{"$error":"#REF!"}]
[{"$f":"basePAGAS!#REF!","v":{"$error":"#REF!"}},{"$error":"#REF!"}]
[{"$f":"basePAGAS!#REF!","v":{"$error":"#REF!"}},{"$error":"#REF!"}]
[{"$f":"basePAGAS!#REF!","v":{"$error":"#REF!"}},{"$error":"#REF!"}]
[{"$f":"basePAGAS!#REF!","v":{"$error":"#REF!"}},{"$error":"#REF!"}]
[{"$f":"basePAGAS!#REF!","v":{"$error":"#REF!"}},{"$error":"#REF!"}]
[{"$f":"basePAGAS!#REF!","v":{"$error":"#REF!"}},{"$error":"#REF!"}]
[{"$f":"basePAGAS!#REF!","v":{"$error":"#REF!"}},{"$error":"#REF!"}]
[{"$f":"basePAGAS!#REF!","v":{"$error":"#REF!"}},{"$error":"#REF!"}]
[{"$f":"basePAGAS!#REF!","v":{"$error":"#REF!"}},{"$error":"#REF!"}]
[{"$f":"basePAGAS!#REF!","v":{"$error":"#REF!"}},{"$error":"#REF!"}]
[{"$f":"basePAGAS!#REF!","v":{"$error":"#REF!"}},{"$error":"#REF!"}]
[{"$f":"basePAGAS!#REF!","v":{"$error":"#REF!"}},{"$error":"#REF!"}]
[{"$f":"basePAGAS!#REF!","v":{"$error":"#REF!"}},{"$error":"#REF!"}]
[{"$f":"basePAGAS!#REF!","v":{"$error":"#REF!"}},{"$error":"#REF!"}]
[{"$f":"basePAGAS!#REF!","v":{"$error":"#REF!"}},{"$error":"#REF!"}]
[{"$f":"basePAGAS!#REF!","v":{"$error":"#REF!"}},{"$error":"#REF!"}]
[{"$f":"basePAGAS!#REF!","v":{"$error":"#REF!"}},{"$error":"#REF!"}]
[{"$f":"basePAGAS!#REF!","v":{"$error":"#REF!"}},{"$error":"#REF!"}]
[{"$f":"basePAGAS!#REF!","v":{"$error":"#REF!"}},{"$error":"#REF!"}]
[{"$f":"basePAGAS!#REF!","v":{"$error":"#REF!"}},{"$error":"#REF!"}]
[{"$f":"basePAGAS!#REF!","v":{"$error":"#REF!"}},{"$error":"#REF!"}]
[{"$f":"basePAGAS!#REF!","v":{"$error":"#REF!"}},{"$error":"#REF!"}]
[{"$f":"basePAGAS!#REF!","v":{"$error":"#REF!"}},{"$error":"#REF!"}]
[{"$f":"basePAGAS!#REF!","v":{"$error":"#REF!"}},{"$error":"#REF!"}]
[{"$f":"basePAGAS!#REF!","v":{"$error":"#REF!"}},{"$error":"#REF!"}]
[{"$f":"basePAGAS!#REF!","v":{"$error":"#REF!"}},{"$error":"#REF!"}]
[{"$f":"basePAGAS!#REF!","v":{"$error":"#REF!"}},{"$error":"#REF!"}]
[{"$f":"basePAGAS!#REF!","v":{"$error":"#REF!"}},{"$error":"#REF!"}]
[{"$f":"basePAGAS!#REF!","v":{"$error":"#REF!"}},{"$error":"#REF!"}]
[{"$f":"basePAGAS!#REF!","v":{"$error":"#REF!"}},{"$error":"#REF!"}]
[{"$f":"basePAGAS!#REF!","v":{"$error":"#REF!"}},{"$error":"#REF!"}]
[{"$f":"basePAGAS!#REF!","v":{"$error":"#REF!"}},{"$error":"#REF!"}]
[{"$f":"basePAGAS!#REF!","v":{"$error":"#REF!"}},{"$error":"#REF!"}]
[{"$f":"basePAGAS!#REF!","v":{"$error":"#REF!"}},{"$f":"IF(A399=\"\",\"\",IF(VLOOKUP(A399,base_rpvs_pagas,2)=A$12,A399,0))","v":{"$error":"#REF!"}}]
[{"$f":"basePAGAS!#REF!","v":{"$error":"#REF!"}},{"$error":"#REF!"}]
[{"$f":"basePAGAS!#REF!","v":{"$error":"#REF!"}},{"$error":"#REF!"}]
[{"$f":"basePAGAS!#REF!","v":{"$error":"#REF!"}},{"$error":"#REF!"}]
[{"$f":"basePAGAS!#REF!","v":{"$error":"#REF!"}},{"$error":"#REF!"}]
[{"$f":"basePAGAS!#REF!","v":{"$error":"#REF!"}},{"$error":"#REF!"}]
[{"$f":"basePAGAS!#REF!","v":{"$error":"#REF!"}},{"$error":"#REF!"}]
[{"$f":"basePAGAS!#REF!","v":{"$error":"#REF!"}},{"$error":"#REF!"}]
[{"$f":"basePAGAS!#REF!","v":{"$error":"#REF!"}},{"$error":"#REF!"}]
[{"$f":"basePAGAS!#REF!","v":{"$error":"#REF!"}},{"$error":"#REF!"}]
[{"$f":"basePAGAS!#REF!","v":{"$error":"#REF!"}},{"$error":"#REF!"}]
[{"$f":"basePAGAS!#REF!","v":{"$error":"#REF!"}},{"$error":"#REF!"}]
[{"$f":"basePAGAS!#REF!","v":{"$error":"#REF!"}},{"$error":"#REF!"}]
[{"$f":"basePAGAS!#REF!","v":{"$error":"#REF!"}},{"$error":"#REF!"}]
[{"$f":"basePAGAS!#REF!","v":{"$error":"#REF!"}},{"$error":"#REF!"}]
[{"$f":"basePAGAS!#REF!","v":{"$error":"#REF!"}},{"$error":"#REF!"}]
[{"$f":"basePAGAS!#REF!","v":{"$error":"#REF!"}},{"$error":"#REF!"}]
[{"$f":"basePAGAS!#REF!","v":{"$error":"#REF!"}},{"$error":"#REF!"}]
[{"$f":"basePAGAS!#REF!","v":{"$error":"#REF!"}},{"$error":"#REF!"}]
[{"$f":"basePAGAS!#REF!","v":{"$error":"#REF!"}},{"$error":"#REF!"}]
[{"$f":"basePAGAS!#REF!","v":{"$error":"#REF!"}},{"$error":"#REF!"}]
[{"$f":"basePAGAS!#REF!","v":{"$error":"#REF!"}},{"$error":"#REF!"}]
[{"$f":"basePAGAS!#REF!","v":{"$error":"#REF!"}},{"$error":"#REF!"}]
[{"$f":"basePAGAS!#REF!","v":{"$error":"#REF!"}},{"$error":"#REF!"}]
[{"$f":"basePAGAS!#REF!","v":{"$error":"#REF!"}},{"$error":"#REF!"}]
[{"$f":"basePAGAS!#REF!","v":{"$error":"#REF!"}},{"$error":"#REF!"}]
[{"$f":"basePAGAS!#REF!","v":{"$error":"#REF!"}},{"$error":"#REF!"}]
[{"$f":"basePAGAS!#REF!","v":{"$error":"#REF!"}},{"$error":"#REF!"}]
[{"$f":"basePAGAS!#REF!","v":{"$error":"#REF!"}},{"$error":"#REF!"}]
[{"$f":"basePAGAS!#REF!","v":{"$error":"#REF!"}},{"$error":"#REF!"}]
[{"$f":"basePAGAS!#REF!","v":{"$error":"#REF!"}},{"$error":"#REF!"}]
[{"$f":"basePAGAS!#REF!","v":{"$error":"#REF!"}},{"$error":"#REF!"}]
[{"$f":"basePAGAS!#REF!","v":{"$error":"#REF!"}},{"$error":"#REF!"}]
[{"$f":"basePAGAS!#REF!","v":{"$error":"#REF!"}},{"$error":"#REF!"}]
[{"$f":"basePAGAS!#REF!","v":{"$error":"#REF!"}},{"$error":"#REF!"}]
[{"$f":"basePAGAS!#REF!","v":{"$error":"#REF!"}},{"$error":"#REF!"}]
[{"$f":"basePAGAS!#REF!","v":{"$error":"#REF!"}},{"$error":"#REF!"}]
[{"$f":"basePAGAS!#REF!","v":{"$error":"#REF!"}},{"$error":"#REF!"}]
[{"$f":"basePAGAS!#REF!","v":{"$error":"#REF!"}},{"$error":"#REF!"}]
[{"$f":"basePAGAS!#REF!","v":{"$error":"#REF!"}},{"$error":"#REF!"}]
[{"$f":"basePAGAS!#REF!","v":{"$error":"#REF!"}},{"$error":"#REF!"}]
[{"$f":"basePAGAS!#REF!","v":{"$error":"#REF!"}},{"$error":"#REF!"}]
[{"$f":"basePAGAS!#REF!","v":{"$error":"#REF!"}},{"$error":"#REF!"}]
[{"$f":"basePAGAS!#REF!","v":{"$error":"#REF!"}},{"$error":"#REF!"}]
[{"$f":"basePAGAS!#REF!","v":{"$error":"#REF!"}},{"$error":"#REF!"}]
[{"$f":"basePAGAS!#REF!","v":{"$error":"#REF!"}},{"$error":"#REF!"}]
[{"$f":"basePAGAS!#REF!","v":{"$error":"#REF!"}},{"$error":"#REF!"}]
[{"$f":"basePAGAS!#REF!","v":{"$error":"#REF!"}},{"$error":"#REF!"}]
[{"$f":"basePAGAS!#REF!","v":{"$error":"#REF!"}},{"$error":"#REF!"}]
[{"$f":"basePAGAS!#REF!","v":{"$error":"#REF!"}},{"$error":"#REF!"}]
[{"$f":"basePAGAS!#REF!","v":{"$error":"#REF!"}},{"$error":"#REF!"}]
[{"$f":"basePAGAS!#REF!","v":{"$error":"#REF!"}},{"$error":"#REF!"}]
[{"$f":"basePAGAS!#REF!","v":{"$error":"#REF!"}},{"$error":"#REF!"}]
[{"$f":"basePAGAS!#REF!","v":{"$error":"#REF!"}},{"$error":"#REF!"}]
[{"$f":"basePAGAS!#REF!","v":{"$error":"#REF!"}},{"$error":"#REF!"}]
[{"$f":"basePAGAS!#REF!","v":{"$error":"#REF!"}},{"$error":"#REF!"}]
[{"$f":"basePAGAS!#REF!","v":{"$error":"#REF!"}},{"$error":"#REF!"}]
[{"$f":"basePAGAS!#REF!","v":{"$error":"#REF!"}},{"$error":"#REF!"}]
[{"$f":"basePAGAS!#REF!","v":{"$error":"#REF!"}},{"$error":"#REF!"}]
[{"$f":"basePAGAS!#REF!","v":{"$error":"#REF!"}},{"$error":"#REF!"}]
[{"$f":"basePAGAS!#REF!","v":{"$error":"#REF!"}},{"$error":"#REF!"}]
[{"$f":"basePAGAS!#REF!","v":{"$error":"#REF!"}},{"$error":"#REF!"}]
[{"$f":"basePAGAS!#REF!","v":{"$error":"#REF!"}},{"$error":"#REF!"}]
[{"$f":"basePAGAS!#REF!","v":{"$error":"#REF!"}},{"$error":"#REF!"}]
[{"$f":"basePAGAS!#REF!","v":{"$error":"#REF!"}},{"$f":"IF(A463=\"\",\"\",IF(VLOOKUP(A463,base_rpvs_pagas,2)=A$12,A463,0))","v":{"$error":"#REF!"}}]
[{"$f":"basePAGAS!#REF!","v":{"$error":"#REF!"}},{"$error":"#REF!"}]
[{"$f":"basePAGAS!#REF!","v":{"$error":"#REF!"}},{"$error":"#REF!"}]
[{"$f":"basePAGAS!#REF!","v":{"$error":"#REF!"}},{"$error":"#REF!"}]
[{"$f":"basePAGAS!#REF!","v":{"$error":"#REF!"}},{"$error":"#REF!"}]
[{"$f":"basePAGAS!#REF!","v":{"$error":"#REF!"}},{"$error":"#REF!"}]
[{"$f":"basePAGAS!#REF!","v":{"$error":"#REF!"}},{"$error":"#REF!"}]
[{"$f":"basePAGAS!#REF!","v":{"$error":"#REF!"}},{"$error":"#REF!"}]
[{"$f":"basePAGAS!#REF!","v":{"$error":"#REF!"}},{"$error":"#REF!"}]
[{"$f":"basePAGAS!#REF!","v":{"$error":"#REF!"}},{"$error":"#REF!"}]
[{"$f":"basePAGAS!#REF!","v":{"$error":"#REF!"}},{"$error":"#REF!"}]
[{"$f":"basePAGAS!#REF!","v":{"$error":"#REF!"}},{"$error":"#REF!"}]
[{"$f":"basePAGAS!#REF!","v":{"$error":"#REF!"}},{"$error":"#REF!"}]
[{"$f":"basePAGAS!#REF!","v":{"$error":"#REF!"}},{"$error":"#REF!"}]
[{"$f":"basePAGAS!#REF!","v":{"$error":"#REF!"}},{"$error":"#REF!"}]
[{"$f":"basePAGAS!#REF!","v":{"$error":"#REF!"}},{"$error":"#REF!"}]
[{"$f":"basePAGAS!#REF!","v":{"$error":"#REF!"}},{"$error":"#REF!"}]
[{"$f":"basePAGAS!#REF!","v":{"$error":"#REF!"}},{"$error":"#REF!"}]
[{"$f":"basePAGAS!#REF!","v":{"$error":"#REF!"}},{"$error":"#REF!"}]
[{"$f":"basePAGAS!#REF!","v":{"$error":"#REF!"}},{"$error":"#REF!"}]
[{"$f":"basePAGAS!#REF!","v":{"$error":"#REF!"}},{"$error":"#REF!"}]
[{"$f":"basePAGAS!#REF!","v":{"$error":"#REF!"}},{"$error":"#REF!"}]
[{"$f":"basePAGAS!#REF!","v":{"$error":"#REF!"}},{"$error":"#REF!"}]
[{"$f":"basePAGAS!#REF!","v":{"$error":"#REF!"}},{"$error":"#REF!"}]
[{"$f":"basePAGAS!#REF!","v":{"$error":"#REF!"}},{"$error":"#REF!"}]
[{"$f":"basePAGAS!#REF!","v":{"$error":"#REF!"}},{"$error":"#REF!"}]
[{"$f":"basePAGAS!#REF!","v":{"$error":"#REF!"}},{"$error":"#REF!"}]
[{"$f":"basePAGAS!#REF!","v":{"$error":"#REF!"}},{"$error":"#REF!"}]
[{"$f":"basePAGAS!#REF!","v":{"$error":"#REF!"}},{"$error":"#REF!"}]
[{"$f":"basePAGAS!#REF!","v":{"$error":"#REF!"}},{"$error":"#REF!"}]
[{"$f":"basePAGAS!#REF!","v":{"$error":"#REF!"}},{"$error":"#REF!"}]
[{"$f":"basePAGAS!#REF!","v":{"$error":"#REF!"}},{"$error":"#REF!"}]
[{"$f":"basePAGAS!#REF!","v":{"$error":"#REF!"}},{"$error":"#REF!"}]
[{"$f":"basePAGAS!#REF!","v":{"$error":"#REF!"}},{"$error":"#REF!"}]
[{"$f":"basePAGAS!#REF!","v":{"$error":"#REF!"}},{"$error":"#REF!"}]
[{"$f":"basePAGAS!#REF!","v":{"$error":"#REF!"}},{"$error":"#REF!"}]
[{"$f":"basePAGAS!#REF!","v":{"$error":"#REF!"}},{"$error":"#REF!"}]
[{"$f":"basePAGAS!#REF!","v":{"$error":"#REF!"}},{"$error":"#REF!"}]
[{"$f":"basePAGAS!#REF!","v":{"$error":"#REF!"}},{"$error":"#REF!"}]
[{"$f":"basePAGAS!#REF!","v":{"$error":"#REF!"}},{"$error":"#REF!"}]
[{"$f":"basePAGAS!#REF!","v":{"$error":"#REF!"}},{"$error":"#REF!"}]
[{"$f":"basePAGAS!#REF!","v":{"$error":"#REF!"}},{"$error":"#REF!"}]
[{"$f":"basePAGAS!#REF!","v":{"$error":"#REF!"}},{"$error":"#REF!"}]
[{"$f":"basePAGAS!#REF!","v":{"$error":"#REF!"}},{"$error":"#REF!"}]
[{"$f":"basePAGAS!#REF!","v":{"$error":"#REF!"}},{"$error":"#REF!"}]
[{"$f":"basePAGAS!#REF!","v":{"$error":"#REF!"}},{"$error":"#REF!"}]
[{"$f":"basePAGAS!#REF!","v":{"$error":"#REF!"}},{"$error":"#REF!"}]
[{"$f":"basePAGAS!#REF!","v":{"$error":"#REF!"}},{"$error":"#REF!"}]
[{"$f":"basePAGAS!#REF!","v":{"$error":"#REF!"}},{"$error":"#REF!"}]
[{"$f":"basePAGAS!#REF!","v":{"$error":"#REF!"}},{"$error":"#REF!"}]
[{"$f":"basePAGAS!#REF!","v":{"$error":"#REF!"}},{"$error":"#REF!"}]
[{"$f":"basePAGAS!#REF!","v":{"$error":"#REF!"}},{"$error":"#REF!"}]
[{"$f":"basePAGAS!#REF!","v":{"$error":"#REF!"}},{"$error":"#REF!"}]
[{"$f":"basePAGAS!#REF!","v":{"$error":"#REF!"}},{"$error":"#REF!"}]
[{"$f":"basePAGAS!#REF!","v":{"$error":"#REF!"}},{"$error":"#REF!"}]
[{"$f":"basePAGAS!#REF!","v":{"$error":"#REF!"}},{"$error":"#REF!"}]
[{"$f":"basePAGAS!#REF!","v":{"$error":"#REF!"}},{"$error":"#REF!"}]
[{"$f":"basePAGAS!#REF!","v":{"$error":"#REF!"}},{"$error":"#REF!"}]
[{"$f":"basePAGAS!#REF!","v":{"$error":"#REF!"}},{"$error":"#REF!"}]
[{"$f":"basePAGAS!#REF!","v":{"$error":"#REF!"}},{"$error":"#REF!"}]
[{"$f":"basePAGAS!#REF!","v":{"$error":"#REF!"}},{"$error":"#REF!"}]
[{"$f":"basePAGAS!#REF!","v":{"$error":"#REF!"}},{"$error":"#REF!"}]
[{"$f":"basePAGAS!#REF!","v":{"$error":"#REF!"}},{"$error":"#REF!"}]
[{"$f":"basePAGAS!#REF!","v":{"$error":"#REF!"}},{"$error":"#REF!"}]
[{"$f":"basePAGAS!#REF!","v":{"$error":"#REF!"}},{"$f":"IF(A527=\"\",\"\",IF(VLOOKUP(A527,base_rpvs_pagas,2)=A$12,A527,0))","v":{"$error":"#REF!"}}]
[{"$f":"basePAGAS!#REF!","v":{"$error":"#REF!"}},{"$error":"#REF!"}]
[{"$f":"basePAGAS!#REF!","v":{"$error":"#REF!"}},{"$error":"#REF!"}]
[{"$f":"basePAGAS!#REF!","v":{"$error":"#REF!"}},{"$error":"#REF!"}]
[{"$f":"basePAGAS!#REF!","v":{"$error":"#REF!"}},{"$error":"#REF!"}]
[{"$f":"basePAGAS!#REF!","v":{"$error":"#REF!"}},{"$error":"#REF!"}]
[{"$f":"basePAGAS!#REF!","v":{"$error":"#REF!"}},{"$error":"#REF!"}]
[{"$f":"basePAGAS!#REF!","v":{"$error":"#REF!"}},{"$error":"#REF!"}]
[{"$f":"basePAGAS!#REF!","v":{"$error":"#REF!"}},{"$error":"#REF!"}]
[{"$f":"basePAGAS!#REF!","v":{"$error":"#REF!"}},{"$error":"#REF!"}]
[{"$f":"basePAGAS!#REF!","v":{"$error":"#REF!"}},{"$error":"#REF!"}]
[{"$f":"basePAGAS!#REF!","v":{"$error":"#REF!"}},{"$error":"#REF!"}]
[{"$f":"basePAGAS!#REF!","v":{"$error":"#REF!"}},{"$error":"#REF!"}]
[{"$f":"basePAGAS!#REF!","v":{"$error":"#REF!"}},{"$error":"#REF!"}]
[{"$f":"basePAGAS!#REF!","v":{"$error":"#REF!"}},{"$error":"#REF!"}]
[{"$f":"basePAGAS!#REF!","v":{"$error":"#REF!"}},{"$error":"#REF!"}]
[{"$f":"basePAGAS!#REF!","v":{"$error":"#REF!"}},{"$error":"#REF!"}]
[{"$f":"basePAGAS!#REF!","v":{"$error":"#REF!"}},{"$error":"#REF!"}]
[{"$f":"basePAGAS!#REF!","v":{"$error":"#REF!"}},{"$error":"#REF!"}]
[{"$f":"basePAGAS!#REF!","v":{"$error":"#REF!"}},{"$error":"#REF!"}]
[{"$f":"basePAGAS!#REF!","v":{"$error":"#REF!"}},{"$error":"#REF!"}]
[{"$f":"basePAGAS!#REF!","v":{"$error":"#REF!"}},{"$error":"#REF!"}]
[{"$f":"basePAGAS!#REF!","v":{"$error":"#REF!"}},{"$error":"#REF!"}]
[{"$f":"basePAGAS!#REF!","v":{"$error":"#REF!"}},{"$error":"#REF!"}]
[{"$f":"basePAGAS!#REF!","v":{"$error":"#REF!"}},{"$error":"#REF!"}]
[{"$f":"basePAGAS!#REF!","v":{"$error":"#REF!"}},{"$error":"#REF!"}]
[{"$f":"basePAGAS!#REF!","v":{"$error":"#REF!"}},{"$error":"#REF!"}]
[{"$f":"basePAGAS!#REF!","v":{"$error":"#REF!"}},{"$error":"#REF!"}]
[{"$f":"basePAGAS!#REF!","v":{"$error":"#REF!"}},{"$error":"#REF!"}]
[{"$f":"basePAGAS!#REF!","v":{"$error":"#REF!"}},{"$error":"#REF!"}]
[{"$f":"basePAGAS!#REF!","v":{"$error":"#REF!"}},{"$error":"#REF!"}]
[{"$f":"basePAGAS!#REF!","v":{"$error":"#REF!"}},{"$error":"#REF!"}]
[{"$f":"basePAGAS!#REF!","v":{"$error":"#REF!"}},{"$error":"#REF!"}]
[{"$f":"basePAGAS!#REF!","v":{"$error":"#REF!"}},{"$error":"#REF!"}]
[{"$f":"basePAGAS!#REF!","v":{"$error":"#REF!"}},{"$error":"#REF!"}]
[{"$f":"basePAGAS!#REF!","v":{"$error":"#REF!"}},{"$error":"#REF!"}]
[{"$f":"basePAGAS!#REF!","v":{"$error":"#REF!"}},{"$error":"#REF!"}]
[{"$f":"basePAGAS!#REF!","v":{"$error":"#REF!"}},{"$error":"#REF!"}]
[{"$f":"basePAGAS!#REF!","v":{"$error":"#REF!"}},{"$error":"#REF!"}]
[{"$f":"basePAGAS!#REF!","v":{"$error":"#REF!"}},{"$error":"#REF!"}]
[{"$f":"basePAGAS!#REF!","v":{"$error":"#REF!"}},{"$error":"#REF!"}]
[{"$f":"basePAGAS!#REF!","v":{"$error":"#REF!"}},{"$error":"#REF!"}]
[{"$f":"basePAGAS!#REF!","v":{"$error":"#REF!"}},{"$error":"#REF!"}]
[{"$f":"basePAGAS!#REF!","v":{"$error":"#REF!"}},{"$error":"#REF!"}]
[{"$f":"basePAGAS!#REF!","v":{"$error":"#REF!"}},{"$error":"#REF!"}]
[{"$f":"basePAGAS!#REF!","v":{"$error":"#REF!"}},{"$error":"#REF!"}]
[{"$f":"basePAGAS!#REF!","v":{"$error":"#REF!"}},{"$error":"#REF!"}]
[{"$f":"basePAGAS!#REF!","v":{"$error":"#REF!"}},{"$error":"#REF!"}]
[{"$f":"basePAGAS!#REF!","v":{"$error":"#REF!"}},{"$error":"#REF!"}]
[{"$f":"basePAGAS!#REF!","v":{"$error":"#REF!"}},{"$error":"#REF!"}]
[{"$f":"basePAGAS!#REF!","v":{"$error":"#REF!"}},{"$error":"#REF!"}]
[{"$f":"basePAGAS!#REF!","v":{"$error":"#REF!"}},{"$error":"#REF!"}]
[{"$f":"basePAGAS!#REF!","v":{"$error":"#REF!"}},{"$error":"#REF!"}]
[{"$f":"basePAGAS!#REF!","v":{"$error":"#REF!"}},{"$error":"#REF!"}]
[{"$f":"basePAGAS!#REF!","v":{"$error":"#REF!"}},{"$error":"#REF!"}]
[{"$f":"basePAGAS!#REF!","v":{"$error":"#REF!"}},{"$error":"#REF!"}]
[{"$f":"basePAGAS!#REF!","v":{"$error":"#REF!"}},{"$error":"#REF!"}]
[{"$f":"basePAGAS!#REF!","v":{"$error":"#REF!"}},{"$error":"#REF!"}]
[{"$f":"basePAGAS!#REF!","v":{"$error":"#REF!"}},{"$error":"#REF!"}]
[{"$f":"basePAGAS!#REF!","v":{"$error":"#REF!"}},{"$error":"#REF!"}]
[{"$f":"basePAGAS!#REF!","v":{"$error":"#REF!"}},{"$error":"#REF!"}]
[{"$f":"basePAGAS!#REF!","v":{"$error":"#REF!"}},{"$error":"#REF!"}]
[{"$f":"basePAGAS!#REF!","v":{"$error":"#REF!"}},{"$error":"#REF!"}]
[{"$f":"basePAGAS!#REF!","v":{"$error":"#REF!"}},{"$error":"#REF!"}]
[{"$f":"basePAGAS!#REF!","v":{"$error":"#REF!"}},{"$f":"IF(A591=\"\",\"\",IF(VLOOKUP(A591,base_rpvs_pagas,2)=A$12,A591,0))","v":{"$error":"#REF!"}}]
[{"$f":"basePAGAS!#REF!","v":{"$error":"#REF!"}},{"$error":"#REF!"}]
[{"$f":"basePAGAS!#REF!","v":{"$error":"#REF!"}},{"$error":"#REF!"}]
[{"$f":"basePAGAS!#REF!","v":{"$error":"#REF!"}},{"$error":"#REF!"}]
[{"$f":"basePAGAS!#REF!","v":{"$error":"#REF!"}},{"$error":"#REF!"}]
[{"$f":"basePAGAS!#REF!","v":{"$error":"#REF!"}},{"$error":"#REF!"}]
[{"$f":"basePAGAS!#REF!","v":{"$error":"#REF!"}},{"$error":"#REF!"}]
[{"$f":"basePAGAS!#REF!","v":{"$error":"#REF!"}},{"$error":"#REF!"}]
[{"$f":"basePAGAS!#REF!","v":{"$error":"#REF!"}},{"$error":"#REF!"}]
[{"$f":"basePAGAS!#REF!","v":{"$error":"#REF!"}},{"$error":"#REF!"}]
[{"$f":"basePAGAS!#REF!","v":{"$error":"#REF!"}},{"$error":"#REF!"}]
[{"$f":"basePAGAS!#REF!","v":{"$error":"#REF!"}},{"$error":"#REF!"}]
[{"$f":"basePAGAS!#REF!","v":{"$error":"#REF!"}},{"$error":"#REF!"}]
[{"$f":"basePAGAS!#REF!","v":{"$error":"#REF!"}},{"$error":"#REF!"}]
[{"$f":"basePAGAS!#REF!","v":{"$error":"#REF!"}},{"$error":"#REF!"}]
[{"$f":"basePAGAS!#REF!","v":{"$error":"#REF!"}},{"$error":"#REF!"}]
[{"$f":"basePAGAS!#REF!","v":{"$error":"#REF!"}},{"$error":"#REF!"}]
[{"$f":"basePAGAS!#REF!","v":{"$error":"#REF!"}},{"$error":"#REF!"}]
[{"$f":"basePAGAS!#REF!","v":{"$error":"#REF!"}},{"$error":"#REF!"}]
[{"$f":"basePAGAS!#REF!","v":{"$error":"#REF!"}},{"$error":"#REF!"}]
[{"$f":"basePAGAS!#REF!","v":{"$error":"#REF!"}},{"$error":"#REF!"}]
[{"$f":"basePAGAS!#REF!","v":{"$error":"#REF!"}},{"$error":"#REF!"}]
[{"$f":"basePAGAS!#REF!","v":{"$error":"#REF!"}},{"$error":"#REF!"}]
[{"$f":"basePAGAS!#REF!","v":{"$error":"#REF!"}},{"$error":"#REF!"}]
[{"$f":"basePAGAS!#REF!","v":{"$error":"#REF!"}},{"$error":"#REF!"}]
[{"$f":"basePAGAS!#REF!","v":{"$error":"#REF!"}},{"$error":"#REF!"}]
[{"$f":"basePAGAS!#REF!","v":{"$error":"#REF!"}},{"$error":"#REF!"}]
[{"$f":"basePAGAS!#REF!","v":{"$error":"#REF!"}},{"$error":"#REF!"}]
[{"$f":"basePAGAS!#REF!","v":{"$error":"#REF!"}},{"$error":"#REF!"}]
[{"$f":"basePAGAS!#REF!","v":{"$error":"#REF!"}},{"$error":"#REF!"}]
[{"$f":"basePAGAS!#REF!","v":{"$error":"#REF!"}},{"$error":"#REF!"}]
[{"$f":"basePAGAS!#REF!","v":{"$error":"#REF!"}},{"$error":"#REF!"}]
[{"$f":"basePAGAS!#REF!","v":{"$error":"#REF!"}},{"$error":"#REF!"}]
[{"$f":"basePAGAS!#REF!","v":{"$error":"#REF!"}},{"$error":"#REF!"}]
[{"$f":"basePAGAS!#REF!","v":{"$error":"#REF!"}},{"$error":"#REF!"}]
[{"$f":"basePAGAS!#REF!","v":{"$error":"#REF!"}},{"$error":"#REF!"}]
[{"$f":"basePAGAS!#REF!","v":{"$error":"#REF!"}},{"$error":"#REF!"}]
[{"$f":"basePAGAS!#REF!","v":{"$error":"#REF!"}},{"$error":"#REF!"}]
[{"$f":"basePAGAS!#REF!","v":{"$error":"#REF!"}},{"$error":"#REF!"}]
[{"$f":"basePAGAS!#REF!","v":{"$error":"#REF!"}},{"$error":"#REF!"}]
[{"$f":"basePAGAS!#REF!","v":{"$error":"#REF!"}},{"$error":"#REF!"}]
[{"$f":"basePAGAS!#REF!","v":{"$error":"#REF!"}},{"$error":"#REF!"}]
[{"$f":"basePAGAS!#REF!","v":{"$error":"#REF!"}},{"$error":"#REF!"}]
[{"$f":"basePAGAS!#REF!","v":{"$error":"#REF!"}},{"$error":"#REF!"}]
[{"$f":"basePAGAS!#REF!","v":{"$error":"#REF!"}},{"$error":"#REF!"}]
[{"$f":"basePAGAS!#REF!","v":{"$error":"#REF!"}},{"$error":"#REF!"}]
[{"$f":"basePAGAS!#REF!","v":{"$error":"#REF!"}},{"$error":"#REF!"}]
[{"$f":"basePAGAS!#REF!","v":{"$error":"#REF!"}},{"$error":"#REF!"}]
[{"$f":"basePAGAS!#REF!","v":{"$error":"#REF!"}},{"$error":"#REF!"}]
[{"$f":"basePAGAS!#REF!","v":{"$error":"#REF!"}},{"$error":"#REF!"}]
[{"$f":"basePAGAS!#REF!","v":{"$error":"#REF!"}},{"$error":"#REF!"}]
[{"$f":"basePAGAS!#REF!","v":{"$error":"#REF!"}},{"$error":"#REF!"}]
[{"$f":"basePAGAS!#REF!","v":{"$error":"#REF!"}},{"$error":"#REF!"}]
[{"$f":"basePAGAS!#REF!","v":{"$error":"#REF!"}},{"$error":"#REF!"}]
[{"$f":"basePAGAS!#REF!","v":{"$error":"#REF!"}},{"$error":"#REF!"}]
[{"$f":"basePAGAS!#REF!","v":{"$error":"#REF!"}},{"$error":"#REF!"}]
[{"$f":"basePAGAS!#REF!","v":{"$error":"#REF!"}},{"$error":"#REF!"}]
[{"$f":"basePAGAS!#REF!","v":{"$error":"#REF!"}},{"$error":"#REF!"}]
[{"$f":"basePAGAS!#REF!","v":{"$error":"#REF!"}},{"$error":"#REF!"}]
[{"$f":"basePAGAS!#REF!","v":{"$error":"#REF!"}},{"$error":"#REF!"}]
[{"$f":"basePAGAS!#REF!","v":{"$error":"#REF!"}},{"$error":"#REF!"}]
[{"$f":"basePAGAS!#REF!","v":{"$error":"#REF!"}},{"$error":"#REF!"}]
[{"$f":"basePAGAS!#REF!","v":{"$error":"#REF!"}},{"$error":"#REF!"}]
[{"$f":"basePAGAS!#REF!","v":{"$error":"#REF!"}},{"$error":"#REF!"}]
[{"$f":"basePAGAS!#REF!","v":{"$error":"#REF!"}},{"$f":"IF(A655=\"\",\"\",IF(VLOOKUP(A655,base_rpvs_pagas,2)=A$12,A655,0))","v":{"$error":"#REF!"}}]
[{"$f":"basePAGAS!#REF!","v":{"$error":"#REF!"}},{"$error":"#REF!"}]
[{"$f":"basePAGAS!#REF!","v":{"$error":"#REF!"}},{"$error":"#REF!"}]
[{"$f":"basePAGAS!#REF!","v":{"$error":"#REF!"}},{"$error":"#REF!"}]
[{"$f":"basePAGAS!#REF!","v":{"$error":"#REF!"}},{"$error":"#REF!"}]
[{"$f":"basePAGAS!#REF!","v":{"$error":"#REF!"}},{"$error":"#REF!"}]
[{"$f":"basePAGAS!#REF!","v":{"$error":"#REF!"}},{"$error":"#REF!"}]
[{"$f":"basePAGAS!#REF!","v":{"$error":"#REF!"}},{"$error":"#REF!"}]
[{"$f":"basePAGAS!#REF!","v":{"$error":"#REF!"}},{"$error":"#REF!"}]
[{"$f":"basePAGAS!#REF!","v":{"$error":"#REF!"}},{"$error":"#REF!"}]
[{"$f":"basePAGAS!#REF!","v":{"$error":"#REF!"}},{"$error":"#REF!"}]
[{"$f":"basePAGAS!#REF!","v":{"$error":"#REF!"}},{"$error":"#REF!"}]
[{"$f":"basePAGAS!#REF!","v":{"$error":"#REF!"}},{"$error":"#REF!"}]
[{"$f":"basePAGAS!#REF!","v":{"$error":"#REF!"}},{"$error":"#REF!"}]
[{"$f":"basePAGAS!#REF!","v":{"$error":"#REF!"}},{"$error":"#REF!"}]
[{"$f":"basePAGAS!#REF!","v":{"$error":"#REF!"}},{"$error":"#REF!"}]
[{"$f":"basePAGAS!#REF!","v":{"$error":"#REF!"}},{"$error":"#REF!"}]
[{"$f":"basePAGAS!#REF!","v":{"$error":"#REF!"}},{"$error":"#REF!"}]
[{"$f":"basePAGAS!#REF!","v":{"$error":"#REF!"}},{"$error":"#REF!"}]
[{"$f":"basePAGAS!#REF!","v":{"$error":"#REF!"}},{"$error":"#REF!"}]
[{"$f":"basePAGAS!#REF!","v":{"$error":"#REF!"}},{"$error":"#REF!"}]
[{"$f":"basePAGAS!#REF!","v":{"$error":"#REF!"}},{"$error":"#REF!"}]
[{"$f":"basePAGAS!#REF!","v":{"$error":"#REF!"}},{"$error":"#REF!"}]
[{"$f":"basePAGAS!#REF!","v":{"$error":"#REF!"}},{"$error":"#REF!"}]
[{"$f":"basePAGAS!#REF!","v":{"$error":"#REF!"}},{"$error":"#REF!"}]
[{"$f":"basePAGAS!#REF!","v":{"$error":"#REF!"}},{"$error":"#REF!"}]
[{"$f":"basePAGAS!#REF!","v":{"$error":"#REF!"}},{"$error":"#REF!"}]
[{"$f":"basePAGAS!#REF!","v":{"$error":"#REF!"}},{"$error":"#REF!"}]
[{"$f":"basePAGAS!#REF!","v":{"$error":"#REF!"}},{"$error":"#REF!"}]
[{"$f":"basePAGAS!#REF!","v":{"$error":"#REF!"}},{"$error":"#REF!"}]
[{"$f":"basePAGAS!#REF!","v":{"$error":"#REF!"}},{"$error":"#REF!"}]
[{"$f":"basePAGAS!#REF!","v":{"$error":"#REF!"}},{"$error":"#REF!"}]
[{"$f":"basePAGAS!#REF!","v":{"$error":"#REF!"}},{"$error":"#REF!"}]
[{"$f":"basePAGAS!#REF!","v":{"$error":"#REF!"}},{"$error":"#REF!"}]
[{"$f":"basePAGAS!#REF!","v":{"$error":"#REF!"}},{"$error":"#REF!"}]
[{"$f":"basePAGAS!#REF!","v":{"$error":"#REF!"}},{"$error":"#REF!"}]
[{"$f":"basePAGAS!#REF!","v":{"$error":"#REF!"}},{"$error":"#REF!"}]
[{"$f":"basePAGAS!#REF!","v":{"$error":"#REF!"}},{"$error":"#REF!"}]
[{"$f":"basePAGAS!#REF!","v":{"$error":"#REF!"}},{"$error":"#REF!"}]
[{"$f":"basePAGAS!#REF!","v":{"$error":"#REF!"}},{"$error":"#REF!"}]
[{"$f":"basePAGAS!#REF!","v":{"$error":"#REF!"}},{"$error":"#REF!"}]
[{"$f":"basePAGAS!#REF!","v":{"$error":"#REF!"}},{"$error":"#REF!"}]
[{"$f":"basePAGAS!#REF!","v":{"$error":"#REF!"}},{"$error":"#REF!"}]
[{"$f":"basePAGAS!#REF!","v":{"$error":"#REF!"}},{"$error":"#REF!"}]
[{"$f":"basePAGAS!#REF!","v":{"$error":"#REF!"}},{"$error":"#REF!"}]
[{"$f":"basePAGAS!#REF!","v":{"$error":"#REF!"}},{"$error":"#REF!"}]
[{"$f":"basePAGAS!#REF!","v":{"$error":"#REF!"}},{"$error":"#REF!"}]
[{"$f":"basePAGAS!#REF!","v":{"$error":"#REF!"}},{"$error":"#REF!"}]
[{"$f":"basePAGAS!#REF!","v":{"$error":"#REF!"}},{"$error":"#REF!"}]
[{"$f":"basePAGAS!#REF!","v":{"$error":"#REF!"}},{"$error":"#REF!"}]
[{"$f":"basePAGAS!#REF!","v":{"$error":"#REF!"}},{"$error":"#REF!"}]
[{"$f":"basePAGAS!#REF!","v":{"$error":"#REF!"}},{"$error":"#REF!"}]
[{"$f":"basePAGAS!#REF!","v":{"$error":"#REF!"}},{"$error":"#REF!"}]
[{"$f":"basePAGAS!#REF!","v":{"$error":"#REF!"}},{"$error":"#REF!"}]
[{"$f":"basePAGAS!#REF!","v":{"$error":"#REF!"}},{"$error":"#REF!"}]
[{"$f":"basePAGAS!#REF!","v":{"$error":"#REF!"}},{"$error":"#REF!"}]
[{"$f":"basePAGAS!#REF!","v":{"$error":"#REF!"}},{"$error":"#REF!"}]
[{"$f":"basePAGAS!#REF!","v":{"$error":"#REF!"}},{"$error":"#REF!"}]
[{"$f":"basePAGAS!#REF!","v":{"$error":"#REF!"}},{"$error":"#REF!"}]
[{"$f":"basePAGAS!#REF!","v":{"$error":"#REF!"}},{"$error":"#REF!"}]
[{"$f":"basePAGAS!#REF!","v":{"$error":"#REF!"}},{"$error":"#REF!"}]
[{"$f":"basePAGAS!#REF!","v":{"$error":"#REF!"}},{"$error":"#REF!"}]
[{"$f":"basePAGAS!#REF!","v":{"$error":"#REF!"}},{"$error":"#REF!"}]
[{"$f":"basePAGAS!#REF!","v":{"$error":"#REF!"}},{"$error":"#REF!"}]
[{"$f":"basePAGAS!#REF!","v":{"$error":"#REF!"}},{"$f":"IF(A719=\"\",\"\",IF(VLOOKUP(A719,base_rpvs_pagas,2)=A$12,A719,0))","v":{"$error":"#REF!"}}]
[{"$f":"basePAGAS!#REF!","v":{"$error":"#REF!"}},{"$error":"#REF!"}]
[{"$f":"basePAGAS!#REF!","v":{"$error":"#REF!"}},{"$error":"#REF!"}]
[{"$f":"basePAGAS!#REF!","v":{"$error":"#REF!"}},{"$error":"#REF!"}]
[{"$f":"basePAGAS!#REF!","v":{"$error":"#REF!"}},{"$error":"#REF!"}]
[{"$f":"basePAGAS!#REF!","v":{"$error":"#REF!"}},{"$error":"#REF!"}]
[{"$f":"basePAGAS!#REF!","v":{"$error":"#REF!"}},{"$error":"#REF!"}]
[{"$f":"basePAGAS!#REF!","v":{"$error":"#REF!"}},{"$error":"#REF!"}]
[{"$f":"basePAGAS!#REF!","v":{"$error":"#REF!"}},{"$error":"#REF!"}]
[{"$f":"basePAGAS!#REF!","v":{"$error":"#REF!"}},{"$error":"#REF!"}]
[{"$f":"basePAGAS!#REF!","v":{"$error":"#REF!"}},{"$error":"#REF!"}]
[{"$f":"basePAGAS!#REF!","v":{"$error":"#REF!"}},{"$error":"#REF!"}]
[{"$f":"basePAGAS!#REF!","v":{"$error":"#REF!"}},{"$error":"#REF!"}]
[{"$f":"basePAGAS!#REF!","v":{"$error":"#REF!"}},{"$error":"#REF!"}]
[{"$f":"basePAGAS!#REF!","v":{"$error":"#REF!"}},{"$error":"#REF!"}]
[{"$f":"basePAGAS!#REF!","v":{"$error":"#REF!"}},{"$error":"#REF!"}]
[{"$f":"basePAGAS!#REF!","v":{"$error":"#REF!"}},{"$error":"#REF!"}]
[{"$f":"basePAGAS!#REF!","v":{"$error":"#REF!"}},{"$error":"#REF!"}]
[{"$f":"basePAGAS!#REF!","v":{"$error":"#REF!"}},{"$error":"#REF!"}]
[{"$f":"basePAGAS!#REF!","v":{"$error":"#REF!"}},{"$error":"#REF!"}]
[{"$f":"basePAGAS!#REF!","v":{"$error":"#REF!"}},{"$error":"#REF!"}]
[{"$f":"basePAGAS!#REF!","v":{"$error":"#REF!"}},{"$error":"#REF!"}]
[{"$f":"basePAGAS!#REF!","v":{"$error":"#REF!"}},{"$error":"#REF!"}]
[{"$f":"basePAGAS!#REF!","v":{"$error":"#REF!"}},{"$error":"#REF!"}]
[{"$f":"basePAGAS!#REF!","v":{"$error":"#REF!"}},{"$error":"#REF!"}]
[{"$f":"basePAGAS!#REF!","v":{"$error":"#REF!"}},{"$error":"#REF!"}]
[{"$f":"basePAGAS!#REF!","v":{"$error":"#REF!"}},{"$error":"#REF!"}]
[{"$f":"basePAGAS!#REF!","v":{"$error":"#REF!"}},{"$error":"#REF!"}]
[{"$f":"basePAGAS!#REF!","v":{"$error":"#REF!"}},{"$error":"#REF!"}]
[{"$f":"basePAGAS!#REF!","v":{"$error":"#REF!"}},{"$error":"#REF!"}]
[{"$f":"basePAGAS!#REF!","v":{"$error":"#REF!"}},{"$error":"#REF!"}]
[{"$f":"basePAGAS!#REF!","v":{"$error":"#REF!"}},{"$error":"#REF!"}]
[{"$f":"basePAGAS!#REF!","v":{"$error":"#REF!"}},{"$error":"#REF!"}]
[{"$f":"basePAGAS!#REF!","v":{"$error":"#REF!"}},{"$error":"#REF!"}]
[{"$f":"basePAGAS!#REF!","v":{"$error":"#REF!"}},{"$error":"#REF!"}]
[{"$f":"basePAGAS!#REF!","v":{"$error":"#REF!"}},{"$error":"#REF!"}]
[{"$f":"basePAGAS!#REF!","v":{"$error":"#REF!"}},{"$error":"#REF!"}]
[{"$f":"basePAGAS!#REF!","v":{"$error":"#REF!"}},{"$error":"#REF!"}]
[{"$f":"basePAGAS!#REF!","v":{"$error":"#REF!"}},{"$error":"#REF!"}]
[{"$f":"basePAGAS!#REF!","v":{"$error":"#REF!"}},{"$error":"#REF!"}]
[{"$f":"basePAGAS!#REF!","v":{"$error":"#REF!"}},{"$error":"#REF!"}]
[{"$f":"basePAGAS!#REF!","v":{"$error":"#REF!"}},{"$error":"#REF!"}]
[{"$f":"basePAGAS!#REF!","v":{"$error":"#REF!"}},{"$error":"#REF!"}]
[{"$f":"basePAGAS!#REF!","v":{"$error":"#REF!"}},{"$error":"#REF!"}]
[{"$f":"basePAGAS!#REF!","v":{"$error":"#REF!"}},{"$error":"#REF!"}]
[{"$f":"basePAGAS!#REF!","v":{"$error":"#REF!"}},{"$error":"#REF!"}]
[{"$f":"basePAGAS!#REF!","v":{"$error":"#REF!"}},{"$error":"#REF!"}]
[{"$f":"basePAGAS!#REF!","v":{"$error":"#REF!"}},{"$error":"#REF!"}]
[{"$f":"basePAGAS!#REF!","v":{"$error":"#REF!"}},{"$error":"#REF!"}]
[{"$f":"basePAGAS!#REF!","v":{"$error":"#REF!"}},{"$error":"#REF!"}]
[{"$f":"basePAGAS!#REF!","v":{"$error":"#REF!"}},{"$error":"#REF!"}]
[{"$f":"basePAGAS!#REF!","v":{"$error":"#REF!"}},{"$error":"#REF!"}]
[{"$f":"basePAGAS!#REF!","v":{"$error":"#REF!"}},{"$error":"#REF!"}]
[{"$f":"basePAGAS!#REF!","v":{"$error":"#REF!"}},{"$error":"#REF!"}]
[{"$f":"basePAGAS!#REF!","v":{"$error":"#REF!"}},{"$error":"#REF!"}]
[{"$f":"basePAGAS!#REF!","v":{"$error":"#REF!"}},{"$error":"#REF!"}]
[{"$f":"basePAGAS!#REF!","v":{"$error":"#REF!"}},{"$error":"#REF!"}]
[{"$f":"basePAGAS!#REF!","v":{"$error":"#REF!"}},{"$error":"#REF!"}]
[{"$f":"basePAGAS!#REF!","v":{"$error":"#REF!"}},{"$error":"#REF!"}]
[{"$f":"basePAGAS!#REF!","v":{"$error":"#REF!"}},{"$error":"#REF!"}]
[{"$f":"basePAGAS!#REF!","v":{"$error":"#REF!"}},{"$error":"#REF!"}]
[{"$f":"basePAGAS!#REF!","v":{"$error":"#REF!"}},{"$error":"#REF!"}]
[{"$f":"basePAGAS!#REF!","v":{"$error":"#REF!"}},{"$error":"#REF!"}]
[{"$f":"basePAGAS!#REF!","v":{"$error":"#REF!"}},{"$error":"#REF!"}]
[{"$f":"basePAGAS!#REF!","v":{"$error":"#REF!"}},{"$f":"IF(A783=\"\",\"\",IF(VLOOKUP(A783,base_rpvs_pagas,2)=A$12,A783,0))","v":{"$error":"#REF!"}}]
[{"$f":"basePAGAS!#REF!","v":{"$error":"#REF!"}},{"$error":"#REF!"}]
[{"$f":"basePAGAS!#REF!","v":{"$error":"#REF!"}},{"$error":"#REF!"}]
[{"$f":"basePAGAS!#REF!","v":{"$error":"#REF!"}},{"$error":"#REF!"}]
[{"$f":"basePAGAS!#REF!","v":{"$error":"#REF!"}},{"$error":"#REF!"}]
[{"$f":"basePAGAS!#REF!","v":{"$error":"#REF!"}},{"$error":"#REF!"}]
[{"$f":"basePAGAS!#REF!","v":{"$error":"#REF!"}},{"$error":"#REF!"}]
[{"$f":"basePAGAS!#REF!","v":{"$error":"#REF!"}},{"$error":"#REF!"}]
[{"$f":"basePAGAS!#REF!","v":{"$error":"#REF!"}},{"$error":"#REF!"}]
[{"$f":"basePAGAS!#REF!","v":{"$error":"#REF!"}},{"$error":"#REF!"}]
[{"$f":"basePAGAS!#REF!","v":{"$error":"#REF!"}},{"$error":"#REF!"}]
[{"$f":"basePAGAS!#REF!","v":{"$error":"#REF!"}},{"$error":"#REF!"}]
[{"$f":"basePAGAS!#REF!","v":{"$error":"#REF!"}},{"$error":"#REF!"}]
[{"$f":"basePAGAS!#REF!","v":{"$error":"#REF!"}},{"$error":"#REF!"}]
[{"$f":"basePAGAS!#REF!","v":{"$error":"#REF!"}},{"$error":"#REF!"}]
[{"$f":"basePAGAS!#REF!","v":{"$error":"#REF!"}},{"$error":"#REF!"}]
[{"$f":"basePAGAS!#REF!","v":{"$error":"#REF!"}},{"$error":"#REF!"}]
[{"$f":"basePAGAS!#REF!","v":{"$error":"#REF!"}},{"$error":"#REF!"}]
[{"$f":"basePAGAS!#REF!","v":{"$error":"#REF!"}},{"$error":"#REF!"}]
[{"$f":"basePAGAS!#REF!","v":{"$error":"#REF!"}},{"$error":"#REF!"}]
[{"$f":"basePAGAS!#REF!","v":{"$error":"#REF!"}},{"$error":"#REF!"}]
[{"$f":"basePAGAS!#REF!","v":{"$error":"#REF!"}},{"$error":"#REF!"}]
[{"$f":"basePAGAS!#REF!","v":{"$error":"#REF!"}},{"$error":"#REF!"}]
[{"$f":"basePAGAS!#REF!","v":{"$error":"#REF!"}},{"$error":"#REF!"}]
[{"$f":"basePAGAS!#REF!","v":{"$error":"#REF!"}},{"$error":"#REF!"}]
[{"$f":"basePAGAS!#REF!","v":{"$error":"#REF!"}},{"$error":"#REF!"}]
[{"$f":"basePAGAS!#REF!","v":{"$error":"#REF!"}},{"$error":"#REF!"}]
[{"$f":"basePAGAS!#REF!","v":{"$error":"#REF!"}},{"$error":"#REF!"}]
[{"$f":"basePAGAS!#REF!","v":{"$error":"#REF!"}},{"$error":"#REF!"}]
[{"$f":"basePAGAS!#REF!","v":{"$error":"#REF!"}},{"$error":"#REF!"}]
[{"$f":"basePAGAS!#REF!","v":{"$error":"#REF!"}},{"$error":"#REF!"}]
[{"$f":"basePAGAS!#REF!","v":{"$error":"#REF!"}},{"$error":"#REF!"}]
[{"$f":"basePAGAS!#REF!","v":{"$error":"#REF!"}},{"$error":"#REF!"}]
[{"$f":"basePAGAS!#REF!","v":{"$error":"#REF!"}},{"$error":"#REF!"}]
[{"$f":"basePAGAS!#REF!","v":{"$error":"#REF!"}},{"$error":"#REF!"}]
[{"$f":"basePAGAS!#REF!","v":{"$error":"#REF!"}},{"$error":"#REF!"}]
[{"$f":"basePAGAS!#REF!","v":{"$error":"#REF!"}},{"$error":"#REF!"}]
[{"$f":"basePAGAS!#REF!","v":{"$error":"#REF!"}},{"$error":"#REF!"}]
[{"$f":"basePAGAS!#REF!","v":{"$error":"#REF!"}},{"$error":"#REF!"}]
[{"$f":"basePAGAS!#REF!","v":{"$error":"#REF!"}},{"$error":"#REF!"}]
[{"$f":"basePAGAS!#REF!","v":{"$error":"#REF!"}},{"$error":"#REF!"}]
[{"$f":"basePAGAS!#REF!","v":{"$error":"#REF!"}},{"$error":"#REF!"}]
[{"$f":"basePAGAS!#REF!","v":{"$error":"#REF!"}},{"$error":"#REF!"}]
[{"$f":"basePAGAS!#REF!","v":{"$error":"#REF!"}},{"$error":"#REF!"}]
[{"$f":"basePAGAS!#REF!","v":{"$error":"#REF!"}},{"$error":"#REF!"}]
[{"$f":"basePAGAS!#REF!","v":{"$error":"#REF!"}},{"$error":"#REF!"}]
[{"$f":"basePAGAS!#REF!","v":{"$error":"#REF!"}},{"$error":"#REF!"}]
[{"$f":"basePAGAS!#REF!","v":{"$error":"#REF!"}},{"$error":"#REF!"}]
[{"$f":"basePAGAS!#REF!","v":{"$error":"#REF!"}},{"$error":"#REF!"}]
[{"$f":"basePAGAS!#REF!","v":{"$error":"#REF!"}},{"$error":"#REF!"}]
[{"$f":"basePAGAS!#REF!","v":{"$error":"#REF!"}},{"$error":"#REF!"}]
[{"$f":"basePAGAS!#REF!","v":{"$error":"#REF!"}},{"$error":"#REF!"}]
[{"$f":"basePAGAS!#REF!","v":{"$error":"#REF!"}},{"$error":"#REF!"}]
[{"$f":"basePAGAS!#REF!","v":{"$error":"#REF!"}},{"$error":"#REF!"}]
[{"$f":"basePAGAS!#REF!","v":{"$error":"#REF!"}},{"$error":"#REF!"}]
[{"$f":"basePAGAS!#REF!","v":{"$error":"#REF!"}},{"$error":"#REF!"}]
[{"$f":"basePAGAS!#REF!","v":{"$error":"#REF!"}},{"$error":"#REF!"}]
[{"$f":"basePAGAS!#REF!","v":{"$error":"#REF!"}},{"$error":"#REF!"}]
[{"$f":"basePAGAS!#REF!","v":{"$error":"#REF!"}},{"$error":"#REF!"}]
[{"$f":"basePAGAS!#REF!","v":{"$error":"#REF!"}},{"$error":"#REF!"}]
[{"$f":"basePAGAS!#REF!","v":{"$error":"#REF!"}},{"$error":"#REF!"}]
[{"$f":"basePAGAS!#REF!","v":{"$error":"#REF!"}},{"$error":"#REF!"}]
[{"$f":"basePAGAS!#REF!","v":{"$error":"#REF!"}},{"$error":"#REF!"}]
[{"$f":"basePAGAS!#REF!","v":{"$error":"#REF!"}},{"$error":"#REF!"}]
[{"$f":"basePAGAS!#REF!","v":{"$error":"#REF!"}},{"$f":"IF(A847=\"\",\"\",IF(VLOOKUP(A847,base_rpvs_pagas,2)=A$12,A847,0))","v":{"$error":"#REF!"}}]
[{"$f":"basePAGAS!#REF!","v":{"$error":"#REF!"}},{"$error":"#REF!"}]
[{"$f":"basePAGAS!#REF!","v":{"$error":"#REF!"}},{"$error":"#REF!"}]
[{"$f":"basePAGAS!#REF!","v":{"$error":"#REF!"}},{"$error":"#REF!"}]
[{"$f":"basePAGAS!#REF!","v":{"$error":"#REF!"}},{"$error":"#REF!"}]
[{"$f":"basePAGAS!#REF!","v":{"$error":"#REF!"}},{"$error":"#REF!"}]
[{"$f":"basePAGAS!#REF!","v":{"$error":"#REF!"}},{"$error":"#REF!"}]
[{"$f":"basePAGAS!#REF!","v":{"$error":"#REF!"}},{"$error":"#REF!"}]
[{"$f":"basePAGAS!#REF!","v":{"$error":"#REF!"}},{"$error":"#REF!"}]
[{"$f":"basePAGAS!#REF!","v":{"$error":"#REF!"}},{"$error":"#REF!"}]
[{"$f":"basePAGAS!#REF!","v":{"$error":"#REF!"}},{"$error":"#REF!"}]
[{"$f":"basePAGAS!#REF!","v":{"$error":"#REF!"}},{"$error":"#REF!"}]
[{"$f":"basePAGAS!#REF!","v":{"$error":"#REF!"}},{"$error":"#REF!"}]
[{"$f":"basePAGAS!#REF!","v":{"$error":"#REF!"}},{"$error":"#REF!"}]
[{"$f":"basePAGAS!#REF!","v":{"$error":"#REF!"}},{"$error":"#REF!"}]
[{"$f":"basePAGAS!#REF!","v":{"$error":"#REF!"}},{"$error":"#REF!"}]
[{"$f":"basePAGAS!#REF!","v":{"$error":"#REF!"}},{"$error":"#REF!"}]
[{"$f":"basePAGAS!#REF!","v":{"$error":"#REF!"}},{"$error":"#REF!"}]
[{"$f":"basePAGAS!#REF!","v":{"$error":"#REF!"}},{"$error":"#REF!"}]
[{"$f":"basePAGAS!#REF!","v":{"$error":"#REF!"}},{"$error":"#REF!"}]
[{"$f":"basePAGAS!#REF!","v":{"$error":"#REF!"}},{"$error":"#REF!"}]
[{"$f":"basePAGAS!#REF!","v":{"$error":"#REF!"}},{"$error":"#REF!"}]
[{"$f":"basePAGAS!#REF!","v":{"$error":"#REF!"}},{"$error":"#REF!"}]
[{"$f":"basePAGAS!#REF!","v":{"$error":"#REF!"}},{"$error":"#REF!"}]
[{"$f":"basePAGAS!#REF!","v":{"$error":"#REF!"}},{"$error":"#REF!"}]
[{"$f":"basePAGAS!#REF!","v":{"$error":"#REF!"}},{"$error":"#REF!"}]
[{"$f":"basePAGAS!#REF!","v":{"$error":"#REF!"}},{"$error":"#REF!"}]
[{"$f":"basePAGAS!#REF!","v":{"$error":"#REF!"}},{"$error":"#REF!"}]
[{"$f":"basePAGAS!#REF!","v":{"$error":"#REF!"}},{"$error":"#REF!"}]
[{"$f":"basePAGAS!#REF!","v":{"$error":"#REF!"}},{"$error":"#REF!"}]
[{"$f":"basePAGAS!#REF!","v":{"$error":"#REF!"}},{"$error":"#REF!"}]
[{"$f":"basePAGAS!#REF!","v":{"$error":"#REF!"}},{"$error":"#REF!"}]
[{"$f":"basePAGAS!#REF!","v":{"$error":"#REF!"}},{"$error":"#REF!"}]
[{"$f":"basePAGAS!#REF!","v":{"$error":"#REF!"}},{"$error":"#REF!"}]
[{"$f":"basePAGAS!#REF!","v":{"$error":"#REF!"}},{"$error":"#REF!"}]
[{"$f":"basePAGAS!#REF!","v":{"$error":"#REF!"}},{"$error":"#REF!"}]
[{"$f":"basePAGAS!#REF!","v":{"$error":"#REF!"}},{"$error":"#REF!"}]
[{"$f":"basePAGAS!#REF!","v":{"$error":"#REF!"}},{"$error":"#REF!"}]
[{"$f":"basePAGAS!#REF!","v":{"$error":"#REF!"}},{"$error":"#REF!"}]
[{"$f":"basePAGAS!#REF!","v":{"$error":"#REF!"}},{"$error":"#REF!"}]
[{"$f":"basePAGAS!#REF!","v":{"$error":"#REF!"}},{"$error":"#REF!"}]
[{"$f":"basePAGAS!#REF!","v":{"$error":"#REF!"}},{"$error":"#REF!"}]
[{"$f":"basePAGAS!#REF!","v":{"$error":"#REF!"}},{"$error":"#REF!"}]
[{"$f":"basePAGAS!#REF!","v":{"$error":"#REF!"}},{"$error":"#REF!"}]
[{"$f":"basePAGAS!#REF!","v":{"$error":"#REF!"}},{"$error":"#REF!"}]
[{"$f":"basePAGAS!#REF!","v":{"$error":"#REF!"}},{"$error":"#REF!"}]
[{"$f":"basePAGAS!#REF!","v":{"$error":"#REF!"}},{"$error":"#REF!"}]
[{"$f":"basePAGAS!#REF!","v":{"$error":"#REF!"}},{"$error":"#REF!"}]
[{"$f":"basePAGAS!#REF!","v":{"$error":"#REF!"}},{"$error":"#REF!"}]
[{"$f":"basePAGAS!#REF!","v":{"$error":"#REF!"}},{"$error":"#REF!"}]
[{"$f":"basePAGAS!#REF!","v":{"$error":"#REF!"}},{"$error":"#REF!"}]
[{"$f":"basePAGAS!#REF!","v":{"$error":"#REF!"}},{"$error":"#REF!"}]
[{"$f":"basePAGAS!#REF!","v":{"$error":"#REF!"}},{"$error":"#REF!"}]
[{"$f":"basePAGAS!#REF!","v":{"$error":"#REF!"}},{"$error":"#REF!"}]
[{"$f":"basePAGAS!#REF!","v":{"$error":"#REF!"}},{"$error":"#REF!"}]
[{"$f":"basePAGAS!#REF!","v":{"$error":"#REF!"}},{"$error":"#REF!"}]
[{"$f":"basePAGAS!#REF!","v":{"$error":"#REF!"}},{"$error":"#REF!"}]
[{"$f":"basePAGAS!#REF!","v":{"$error":"#REF!"}},{"$error":"#REF!"}]
[{"$f":"basePAGAS!#REF!","v":{"$error":"#REF!"}},{"$error":"#REF!"}]
[{"$f":"basePAGAS!#REF!","v":{"$error":"#REF!"}},{"$error":"#REF!"}]
[{"$f":"basePAGAS!#REF!","v":{"$error":"#REF!"}},{"$error":"#REF!"}]
[{"$f":"basePAGAS!#REF!","v":{"$error":"#REF!"}},{"$error":"#REF!"}]
[{"$f":"basePAGAS!#REF!","v":{"$error":"#REF!"}},{"$error":"#REF!"}]
[{"$f":"basePAGAS!#REF!","v":{"$error":"#REF!"}},{"$error":"#REF!"}]
[{"$f":"basePAGAS!#REF!","v":{"$error":"#REF!"}},{"$f":"IF(A911=\"\",\"\",IF(VLOOKUP(A911,base_rpvs_pagas,2)=A$12,A911,0))","v":{"$error":"#REF!"}}]
[{"$f":"basePAGAS!#REF!","v":{"$error":"#REF!"}},{"$error":"#REF!"}]
[{"$f":"basePAGAS!#REF!","v":{"$error":"#REF!"}},{"$error":"#REF!"}]
[{"$f":"basePAGAS!#REF!","v":{"$error":"#REF!"}},{"$error":"#REF!"}]
[{"$f":"basePAGAS!#REF!","v":{"$error":"#REF!"}},{"$error":"#REF!"}]
[{"$f":"basePAGAS!#REF!","v":{"$error":"#REF!"}},{"$error":"#REF!"}]
[{"$f":"basePAGAS!#REF!","v":{"$error":"#REF!"}},{"$error":"#REF!"}]
[{"$f":"basePAGAS!#REF!","v":{"$error":"#REF!"}},{"$error":"#REF!"}]
[{"$f":"basePAGAS!#REF!","v":{"$error":"#REF!"}},{"$error":"#REF!"}]
[{"$f":"basePAGAS!#REF!","v":{"$error":"#REF!"}},{"$error":"#REF!"}]
[{"$f":"basePAGAS!#REF!","v":{"$error":"#REF!"}},{"$error":"#REF!"}]
[{"$f":"basePAGAS!#REF!","v":{"$error":"#REF!"}},{"$error":"#REF!"}]
[{"$f":"basePAGAS!#REF!","v":{"$error":"#REF!"}},{"$error":"#REF!"}]
[{"$f":"basePAGAS!#REF!","v":{"$error":"#REF!"}},{"$error":"#REF!"}]
[{"$f":"basePAGAS!#REF!","v":{"$error":"#REF!"}},{"$error":"#REF!"}]
[{"$f":"basePAGAS!#REF!","v":{"$error":"#REF!"}},{"$error":"#REF!"}]
[{"$f":"basePAGAS!#REF!","v":{"$error":"#REF!"}},{"$error":"#REF!"}]
[{"$f":"basePAGAS!#REF!","v":{"$error":"#REF!"}},{"$error":"#REF!"}]
[{"$f":"basePAGAS!#REF!","v":{"$error":"#REF!"}},{"$error":"#REF!"}]
[{"$f":"basePAGAS!#REF!","v":{"$error":"#REF!"}},{"$error":"#REF!"}]
[{"$f":"basePAGAS!#REF!","v":{"$error":"#REF!"}},{"$error":"#REF!"}]
[{"$f":"basePAGAS!#REF!","v":{"$error":"#REF!"}},{"$error":"#REF!"}]
[{"$f":"basePAGAS!#REF!","v":{"$error":"#REF!"}},{"$error":"#REF!"}]
[{"$f":"basePAGAS!#REF!","v":{"$error":"#REF!"}},{"$error":"#REF!"}]
[{"$f":"basePAGAS!#REF!","v":{"$error":"#REF!"}},{"$error":"#REF!"}]
[{"$f":"basePAGAS!#REF!","v":{"$error":"#REF!"}},{"$error":"#REF!"}]
[{"$f":"basePAGAS!#REF!","v":{"$error":"#REF!"}},{"$error":"#REF!"}]
[{"$f":"basePAGAS!#REF!","v":{"$error":"#REF!"}},{"$error":"#REF!"}]
[{"$f":"basePAGAS!#REF!","v":{"$error":"#REF!"}},{"$error":"#REF!"}]
[{"$f":"basePAGAS!#REF!","v":{"$error":"#REF!"}},{"$error":"#REF!"}]
[{"$f":"basePAGAS!#REF!","v":{"$error":"#REF!"}},{"$error":"#REF!"}]
[{"$f":"basePAGAS!#REF!","v":{"$error":"#REF!"}},{"$error":"#REF!"}]
[{"$f":"basePAGAS!#REF!","v":{"$error":"#REF!"}},{"$error":"#REF!"}]
[{"$f":"basePAGAS!#REF!","v":{"$error":"#REF!"}},{"$error":"#REF!"}]
[{"$f":"basePAGAS!#REF!","v":{"$error":"#REF!"}},{"$error":"#REF!"}]
[{"$f":"basePAGAS!#REF!","v":{"$error":"#REF!"}},{"$error":"#REF!"}]
[{"$f":"basePAGAS!#REF!","v":{"$error":"#REF!"}},{"$error":"#REF!"}]
[{"$f":"basePAGAS!#REF!","v":{"$error":"#REF!"}},{"$error":"#REF!"}]
[{"$f":"basePAGAS!#REF!","v":{"$error":"#REF!"}},{"$error":"#REF!"}]
[{"$f":"basePAGAS!#REF!","v":{"$error":"#REF!"}},{"$error":"#REF!"}]
[{"$f":"basePAGAS!#REF!","v":{"$error":"#REF!"}},{"$error":"#REF!"}]
[{"$f":"basePAGAS!#REF!","v":{"$error":"#REF!"}},{"$error":"#REF!"}]
[{"$f":"basePAGAS!#REF!","v":{"$error":"#REF!"}},{"$error":"#REF!"}]
[{"$f":"basePAGAS!#REF!","v":{"$error":"#REF!"}},{"$error":"#REF!"}]
[{"$f":"basePAGAS!#REF!","v":{"$error":"#REF!"}},{"$error":"#REF!"}]
[{"$f":"basePAGAS!#REF!","v":{"$error":"#REF!"}},{"$error":"#REF!"}]
[{"$f":"basePAGAS!#REF!","v":{"$error":"#REF!"}},{"$error":"#REF!"}]
[{"$f":"basePAGAS!#REF!","v":{"$error":"#REF!"}},{"$error":"#REF!"}]
[{"$f":"basePAGAS!#REF!","v":{"$error":"#REF!"}},{"$error":"#REF!"}]
[{"$f":"basePAGAS!#REF!","v":{"$error":"#REF!"}},{"$error":"#REF!"}]
[{"$f":"basePAGAS!#REF!","v":{"$error":"#REF!"}},{"$error":"#REF!"}]
[{"$f":"basePAGAS!#REF!","v":{"$error":"#REF!"}},{"$error":"#REF!"}]
[{"$f":"basePAGAS!#REF!","v":{"$error":"#REF!"}},{"$error":"#REF!"}]
[{"$f":"basePAGAS!#REF!","v":{"$error":"#REF!"}},{"$error":"#REF!"}]
[{"$f":"basePAGAS!#REF!","v":{"$error":"#REF!"}},{"$error":"#REF!"}]
[{"$f":"basePAGAS!#REF!","v":{"$error":"#REF!"}},{"$error":"#REF!"}]
[{"$f":"basePAGAS!#REF!","v":{"$error":"#REF!"}},{"$error":"#REF!"}]
[{"$f":"basePAGAS!#REF!","v":{"$error":"#REF!"}},{"$error":"#REF!"}]
[{"$f":"basePAGAS!#REF!","v":{"$error":"#REF!"}},{"$error":"#REF!"}]
[{"$f":"basePAGAS!#REF!","v":{"$error":"#REF!"}},{"$error":"#REF!"}]
[{"$f":"basePAGAS!#REF!","v":{"$error":"#REF!"}},{"$error":"#REF!"}]
[{"$f":"basePAGAS!#REF!","v":{"$error":"#REF!"}},{"$error":"#REF!"}]
[{"$f":"basePAGAS!#REF!","v":{"$error":"#REF!"}},{"$error":"#REF!"}]
[{"$f":"basePAGAS!#REF!","v":{"$error":"#REF!"}},{"$error":"#REF!"}]
[{"$f":"basePAGAS!#REF!","v":{"$error":"#REF!"}},{"$f":"IF(A975=\"\",\"\",IF(VLOOKUP(A975,base_rpvs_pagas,2)=A$12,A975,0))","v":{"$error":"#REF!"}}]
[{"$f":"basePAGAS!#REF!","v":{"$error":"#REF!"}},{"$error":"#REF!"}]
[{"$f":"basePAGAS!#REF!","v":{"$error":"#REF!"}},{"$error":"#REF!"}]
[{"$f":"basePAGAS!#REF!","v":{"$error":"#REF!"}},{"$error":"#REF!"}]
[{"$f":"basePAGAS!#REF!","v":{"$error":"#REF!"}},{"$error":"#REF!"}]
[{"$f":"basePAGAS!#REF!","v":{"$error":"#REF!"}},{"$error":"#REF!"}]
[{"$f":"basePAGAS!#REF!","v":{"$error":"#REF!"}},{"$error":"#REF!"}]
[{"$f":"basePAGAS!#REF!","v":{"$error":"#REF!"}},{"$error":"#REF!"}]
[{"$f":"basePAGAS!#REF!","v":{"$error":"#REF!"}},{"$error":"#REF!"}]
[{"$f":"basePAGAS!#REF!","v":{"$error":"#REF!"}},{"$error":"#REF!"}]
[{"$f":"basePAGAS!#REF!","v":{"$error":"#REF!"}},{"$error":"#REF!"}]
[{"$f":"basePAGAS!#REF!","v":{"$error":"#REF!"}},{"$error":"#REF!"}]
[{"$f":"basePAGAS!#REF!","v":{"$error":"#REF!"}},{"$error":"#REF!"}]
[{"$f":"basePAGAS!#REF!","v":{"$error":"#REF!"}},{"$error":"#REF!"}]
[{"$f":"basePAGAS!#REF!","v":{"$error":"#REF!"}},{"$error":"#REF!"}]
[{"$f":"basePAGAS!#REF!","v":{"$error":"#REF!"}},{"$error":"#REF!"}]
[{"$f":"basePAGAS!#REF!","v":{"$error":"#REF!"}},{"$error":"#REF!"}]
[{"$f":"basePAGAS!#REF!","v":{"$error":"#REF!"}},{"$error":"#REF!"}]
[{"$f":"basePAGAS!#REF!","v":{"$error":"#REF!"}},{"$error":"#REF!"}]
[{"$f":"basePAGAS!#REF!","v":{"$error":"#REF!"}},{"$error":"#REF!"}]
[{"$f":"basePAGAS!#REF!","v":{"$error":"#REF!"}},{"$error":"#REF!"}]
[{"$f":"basePAGAS!#REF!","v":{"$error":"#REF!"}},{"$error":"#REF!"}]
[{"$f":"basePAGAS!#REF!","v":{"$error":"#REF!"}},{"$error":"#REF!"}]
[{"$f":"basePAGAS!#REF!","v":{"$error":"#REF!"}},{"$error":"#REF!"}]
[{"$f":"basePAGAS!#REF!","v":{"$error":"#REF!"}},{"$error":"#REF!"}]
[{"$f":"basePAGAS!#REF!","v":{"$error":"#REF!"}},{"$error":"#REF!"}]
[{"$f":"basePAGAS!#REF!","v":{"$error":"#REF!"}},{"$error":"#REF!"}]
[{"$f":"basePAGAS!#REF!","v":{"$error":"#REF!"}},{"$error":"#REF!"}]
[{"$f":"basePAGAS!#REF!","v":{"$error":"#REF!"}},{"$error":"#REF!"}]
[{"$f":"basePAGAS!#REF!","v":{"$error":"#REF!"}},{"$error":"#REF!"}]
[{"$f":"basePAGAS!#REF!","v":{"$error":"#REF!"}},{"$error":"#REF!"}]
[{"$f":"basePAGAS!#REF!","v":{"$error":"#REF!"}},{"$error":"#REF!"}]
[{"$f":"basePAGAS!#REF!","v":{"$error":"#REF!"}},{"$error":"#REF!"}]
[{"$f":"basePAGAS!#REF!","v":{"$error":"#REF!"}},{"$error":"#REF!"}]
[{"$f":"basePAGAS!#REF!","v":{"$error":"#REF!"}},{"$error":"#REF!"}]
[{"$f":"basePAGAS!#REF!","v":{"$error":"#REF!"}},{"$error":"#REF!"}]
[{"$f":"basePAGAS!#REF!","v":{"$error":"#REF!"}},{"$error":"#REF!"}]
[{"$f":"basePAGAS!#REF!","v":{"$error":"#REF!"}},{"$error":"#REF!"}]
[{"$f":"basePAGAS!#REF!","v":{"$error":"#REF!"}},{"$error":"#REF!"}]
[{"$f":"basePAGAS!#REF!","v":{"$error":"#REF!"}},{"$error":"#REF!"}]
[{"$f":"basePAGAS!#REF!","v":{"$error":"#REF!"}},{"$error":"#REF!"}]
[{"$f":"basePAGAS!#REF!","v":{"$error":"#REF!"}},{"$error":"#REF!"}]
[{"$f":"basePAGAS!#REF!","v":{"$error":"#REF!"}},{"$error":"#REF!"}]
[{"$f":"basePAGAS!#REF!","v":{"$error":"#REF!"}},{"$error":"#REF!"}]
[{"$f":"basePAGAS!#REF!","v":{"$error":"#REF!"}},{"$error":"#REF!"}]
[{"$f":"basePAGAS!#REF!","v":{"$error":"#REF!"}},{"$error":"#REF!"}]
[{"$f":"basePAGAS!#REF!","v":{"$error":"#REF!"}},{"$error":"#REF!"}]
[{"$f":"basePAGAS!#REF!","v":{"$error":"#REF!"}},{"$error":"#REF!"}]
[{"$f":"basePAGAS!#REF!","v":{"$error":"#REF!"}},{"$error":"#REF!"}]
[{"$f":"basePAGAS!#REF!","v":{"$error":"#REF!"}},{"$error":"#REF!"}]
[{"$f":"basePAGAS!#REF!","v":{"$error":"#REF!"}},{"$error":"#REF!"}]
[{"$f":"basePAGAS!#REF!","v":{"$error":"#REF!"}},{"$error":"#REF!"}]
[{"$f":"basePAGAS!#REF!","v":{"$error":"#REF!"}},{"$error":"#REF!"}]
[{"$f":"basePAGAS!#REF!","v":{"$error":"#REF!"}},{"$error":"#REF!"}]
[{"$f":"basePAGAS!#REF!","v":{"$error":"#REF!"}},{"$error":"#REF!"}]
[{"$f":"basePAGAS!#REF!","v":{"$error":"#REF!"}},{"$error":"#REF!"}]
[{"$f":"basePAGAS!#REF!","v":{"$error":"#REF!"}},{"$error":"#REF!"}]
[{"$f":"basePAGAS!#REF!","v":{"$error":"#REF!"}},{"$error":"#REF!"}]
[{"$f":"basePAGAS!#REF!","v":{"$error":"#REF!"}},{"$error":"#REF!"}]
[{"$f":"basePAGAS!#REF!","v":{"$error":"#REF!"}},{"$error":"#REF!"}]
[{"$f":"basePAGAS!#REF!","v":{"$error":"#REF!"}},{"$error":"#REF!"}]
[{"$f":"basePAGAS!#REF!","v":{"$error":"#REF!"}},{"$error":"#REF!"}]
[{"$f":"basePAGAS!#REF!","v":{"$error":"#REF!"}},{"$error":"#REF!"}]
[{"$f":"basePAGAS!#REF!","v":{"$error":"#REF!"}},{"$error":"#REF!"}]
[{"$f":"basePAGAS!#REF!","v":{"$error":"#REF!"}},{"$f":"IF(A1039=\"\",\"\",IF(VLOOKUP(A1039,base_rpvs_pagas,2)=A$12,A1039,0))","v":{"$error":"#REF!"}}]
[{"$f":"basePAGAS!#REF!","v":{"$error":"#REF!"}},{"$error":"#REF!"}]
[{"$f":"basePAGAS!#REF!","v":{"$error":"#REF!"}},{"$error":"#REF!"}]
[{"$f":"basePAGAS!#REF!","v":{"$error":"#REF!"}},{"$error":"#REF!"}]
[{"$f":"basePAGAS!#REF!","v":{"$error":"#REF!"}},{"$error":"#REF!"}]
[{"$f":"basePAGAS!#REF!","v":{"$error":"#REF!"}},{"$error":"#REF!"}]
[{"$f":"basePAGAS!#REF!","v":{"$error":"#REF!"}},{"$error":"#REF!"}]
[{"$f":"basePAGAS!#REF!","v":{"$error":"#REF!"}},{"$error":"#REF!"}]
[{"$f":"basePAGAS!#REF!","v":{"$error":"#REF!"}},{"$error":"#REF!"}]
[{"$f":"basePAGAS!#REF!","v":{"$error":"#REF!"}},{"$error":"#REF!"}]
[{"$f":"basePAGAS!#REF!","v":{"$error":"#REF!"}},{"$error":"#REF!"}]
[{"$f":"basePAGAS!#REF!","v":{"$error":"#REF!"}},{"$error":"#REF!"}]
[{"$f":"basePAGAS!#REF!","v":{"$error":"#REF!"}},{"$error":"#REF!"}]
[{"$f":"basePAGAS!#REF!","v":{"$error":"#REF!"}},{"$error":"#REF!"}]
[{"$f":"basePAGAS!#REF!","v":{"$error":"#REF!"}},{"$error":"#REF!"}]
[{"$f":"basePAGAS!#REF!","v":{"$error":"#REF!"}},{"$error":"#REF!"}]
[{"$f":"basePAGAS!#REF!","v":{"$error":"#REF!"}},{"$error":"#REF!"}]
[{"$f":"basePAGAS!#REF!","v":{"$error":"#REF!"}},{"$error":"#REF!"}]
[{"$f":"basePAGAS!#REF!","v":{"$error":"#REF!"}},{"$error":"#REF!"}]
[{"$f":"basePAGAS!#REF!","v":{"$error":"#REF!"}},{"$error":"#REF!"}]
[{"$f":"basePAGAS!#REF!","v":{"$error":"#REF!"}},{"$error":"#REF!"}]
[{"$f":"basePAGAS!#REF!","v":{"$error":"#REF!"}},{"$error":"#REF!"}]
[{"$f":"basePAGAS!#REF!","v":{"$error":"#REF!"}},{"$error":"#REF!"}]
[{"$f":"basePAGAS!#REF!","v":{"$error":"#REF!"}},{"$error":"#REF!"}]
[{"$f":"basePAGAS!#REF!","v":{"$error":"#REF!"}},{"$error":"#REF!"}]
[{"$f":"basePAGAS!#REF!","v":{"$error":"#REF!"}},{"$error":"#REF!"}]
[{"$f":"basePAGAS!#REF!","v":{"$error":"#REF!"}},{"$error":"#REF!"}]
[{"$f":"basePAGAS!#REF!","v":{"$error":"#REF!"}},{"$error":"#REF!"}]
[{"$f":"basePAGAS!#REF!","v":{"$error":"#REF!"}},{"$error":"#REF!"}]
[{"$f":"basePAGAS!#REF!","v":{"$error":"#REF!"}},{"$error":"#REF!"}]
[{"$f":"basePAGAS!#REF!","v":{"$error":"#REF!"}},{"$error":"#REF!"}]
[{"$f":"basePAGAS!#REF!","v":{"$error":"#REF!"}},{"$error":"#REF!"}]
[{"$f":"basePAGAS!#REF!","v":{"$error":"#REF!"}},{"$error":"#REF!"}]
[{"$f":"basePAGAS!#REF!","v":{"$error":"#REF!"}},{"$error":"#REF!"}]
[{"$f":"basePAGAS!#REF!","v":{"$error":"#REF!"}},{"$error":"#REF!"}]
[{"$f":"basePAGAS!#REF!","v":{"$error":"#REF!"}},{"$error":"#REF!"}]
[{"$f":"basePAGAS!#REF!","v":{"$error":"#REF!"}},{"$error":"#REF!"}]
[{"$f":"basePAGAS!#REF!","v":{"$error":"#REF!"}},{"$error":"#REF!"}]
[{"$f":"basePAGAS!#REF!","v":{"$error":"#REF!"}},{"$error":"#REF!"}]
[{"$f":"basePAGAS!#REF!","v":{"$error":"#REF!"}},{"$error":"#REF!"}]
[{"$f":"basePAGAS!#REF!","v":{"$error":"#REF!"}},{"$error":"#REF!"}]
[{"$f":"basePAGAS!#REF!","v":{"$error":"#REF!"}},{"$error":"#REF!"}]
[{"$f":"basePAGAS!#REF!","v":{"$error":"#REF!"}},{"$error":"#REF!"}]
[{"$f":"basePAGAS!#REF!","v":{"$error":"#REF!"}},{"$error":"#REF!"}]
[{"$f":"basePAGAS!#REF!","v":{"$error":"#REF!"}},{"$error":"#REF!"}]
[{"$f":"basePAGAS!#REF!","v":{"$error":"#REF!"}},{"$error":"#REF!"}]
[{"$f":"basePAGAS!#REF!","v":{"$error":"#REF!"}},{"$error":"#REF!"}]
[{"$f":"basePAGAS!#REF!","v":{"$error":"#REF!"}},{"$error":"#REF!"}]
[{"$f":"basePAGAS!#REF!","v":{"$error":"#REF!"}},{"$error":"#REF!"}]
[{"$f":"basePAGAS!#REF!","v":{"$error":"#REF!"}},{"$error":"#REF!"}]
[{"$f":"basePAGAS!#REF!","v":{"$error":"#REF!"}},{"$error":"#REF!"}]
[{"$f":"basePAGAS!#REF!","v":{"$error":"#REF!"}},{"$error":"#REF!"}]
[{"$f":"basePAGAS!#REF!","v":{"$error":"#REF!"}},{"$error":"#REF!"}]
[{"$f":"basePAGAS!#REF!","v":{"$error":"#REF!"}},{"$error":"#REF!"}]
[{"$f":"basePAGAS!#REF!","v":{"$error":"#REF!"}},{"$error":"#REF!"}]
[{"$f":"basePAGAS!#REF!","v":{"$error":"#REF!"}},{"$error":"#REF!"}]
[{"$f":"basePAGAS!#REF!","v":{"$error":"#REF!"}},{"$error":"#REF!"}]
[{"$f":"basePAGAS!#REF!","v":{"$error":"#REF!"}},{"$error":"#REF!"}]
[{"$f":"basePAGAS!#REF!","v":{"$error":"#REF!"}},{"$error":"#REF!"}]
[{"$f":"basePAGAS!#REF!","v":{"$error":"#REF!"}},{"$error":"#REF!"}]
[{"$f":"basePAGAS!#REF!","v":{"$error":"#REF!"}},{"$error":"#REF!"}]
[{"$f":"basePAGAS!#REF!","v":{"$error":"#REF!"}},{"$error":"#REF!"}]
[{"$f":"basePAGAS!#REF!","v":{"$error":"#REF!"}},{"$error":"#REF!"}]
[{"$f":"basePAGAS!#REF!","v":{"$error":"#REF!"}},{"$error":"#REF!"}]
[{"$f":"basePAGAS!#REF!","v":{"$error":"#REF!"}},{"$f":"IF(A1103=\"\",\"\",IF(VLOOKUP(A1103,base_rpvs_pagas,2)=A$12,A1103,0))","v":{"$error":"#REF!"}}]
[{"$f":"basePAGAS!#REF!","v":{"$error":"#REF!"}},{"$error":"#REF!"}]
[{"$f":"basePAGAS!#REF!","v":{"$error":"#REF!"}},{"$error":"#REF!"}]
[{"$f":"basePAGAS!#REF!","v":{"$error":"#REF!"}},{"$error":"#REF!"}]
[{"$f":"basePAGAS!#REF!","v":{"$error":"#REF!"}},{"$error":"#REF!"}]
[{"$f":"basePAGAS!#REF!","v":{"$error":"#REF!"}},{"$error":"#REF!"}]
[{"$f":"basePAGAS!#REF!","v":{"$error":"#REF!"}},{"$error":"#REF!"}]
[{"$f":"basePAGAS!#REF!","v":{"$error":"#REF!"}},{"$error":"#REF!"}]
[{"$f":"basePAGAS!#REF!","v":{"$error":"#REF!"}},{"$error":"#REF!"}]
[{"$f":"basePAGAS!#REF!","v":{"$error":"#REF!"}},{"$error":"#REF!"}]
[{"$f":"basePAGAS!#REF!","v":{"$error":"#REF!"}},{"$error":"#REF!"}]
[{"$f":"basePAGAS!#REF!","v":{"$error":"#REF!"}},{"$error":"#REF!"}]
[{"$f":"basePAGAS!#REF!","v":{"$error":"#REF!"}},{"$error":"#REF!"}]
[{"$f":"basePAGAS!#REF!","v":{"$error":"#REF!"}},{"$error":"#REF!"}]
[{"$f":"basePAGAS!#REF!","v":{"$error":"#REF!"}},{"$error":"#REF!"}]
[{"$f":"basePAGAS!#REF!","v":{"$error":"#REF!"}},{"$error":"#REF!"}]
[{"$f":"basePAGAS!#REF!","v":{"$error":"#REF!"}},{"$error":"#REF!"}]
[{"$f":"basePAGAS!#REF!","v":{"$error":"#REF!"}},{"$error":"#REF!"}]
[{"$f":"basePAGAS!#REF!","v":{"$error":"#REF!"}},{"$error":"#REF!"}]
[{"$f":"basePAGAS!#REF!","v":{"$error":"#REF!"}},{"$error":"#REF!"}]
[{"$f":"basePAGAS!#REF!","v":{"$error":"#REF!"}},{"$error":"#REF!"}]
[{"$f":"basePAGAS!#REF!","v":{"$error":"#REF!"}},{"$error":"#REF!"}]
[{"$f":"basePAGAS!#REF!","v":{"$error":"#REF!"}},{"$error":"#REF!"}]
[{"$f":"basePAGAS!#REF!","v":{"$error":"#REF!"}},{"$error":"#REF!"}]
[{"$f":"basePAGAS!#REF!","v":{"$error":"#REF!"}},{"$error":"#REF!"}]
[{"$f":"basePAGAS!#REF!","v":{"$error":"#REF!"}},{"$error":"#REF!"}]
[{"$f":"basePAGAS!#REF!","v":{"$error":"#REF!"}},{"$error":"#REF!"}]
[{"$f":"basePAGAS!#REF!","v":{"$error":"#REF!"}},{"$error":"#REF!"}]
[{"$f":"basePAGAS!#REF!","v":{"$error":"#REF!"}},{"$error":"#REF!"}]
[{"$f":"basePAGAS!#REF!","v":{"$error":"#REF!"}},{"$error":"#REF!"}]
[{"$f":"basePAGAS!#REF!","v":{"$error":"#REF!"}},{"$error":"#REF!"}]
[{"$f":"basePAGAS!#REF!","v":{"$error":"#REF!"}},{"$error":"#REF!"}]
[{"$f":"basePAGAS!#REF!","v":{"$error":"#REF!"}},{"$error":"#REF!"}]
[{"$f":"basePAGAS!#REF!","v":{"$error":"#REF!"}},{"$error":"#REF!"}]
[{"$f":"basePAGAS!#REF!","v":{"$error":"#REF!"}},{"$error":"#REF!"}]
[{"$f":"basePAGAS!#REF!","v":{"$error":"#REF!"}},{"$error":"#REF!"}]
[{"$f":"basePAGAS!#REF!","v":{"$error":"#REF!"}},{"$error":"#REF!"}]
[{"$f":"basePAGAS!#REF!","v":{"$error":"#REF!"}},{"$error":"#REF!"}]
[{"$f":"basePAGAS!#REF!","v":{"$error":"#REF!"}},{"$error":"#REF!"}]
[{"$f":"basePAGAS!#REF!","v":{"$error":"#REF!"}},{"$error":"#REF!"}]
[{"$f":"basePAGAS!#REF!","v":{"$error":"#REF!"}},{"$error":"#REF!"}]
[{"$f":"basePAGAS!#REF!","v":{"$error":"#REF!"}},{"$error":"#REF!"}]
[{"$f":"basePAGAS!#REF!","v":{"$error":"#REF!"}},{"$error":"#REF!"}]
[{"$f":"basePAGAS!#REF!","v":{"$error":"#REF!"}},{"$error":"#REF!"}]
[{"$f":"basePAGAS!#REF!","v":{"$error":"#REF!"}},{"$error":"#REF!"}]
[{"$f":"basePAGAS!#REF!","v":{"$error":"#REF!"}},{"$error":"#REF!"}]
[{"$f":"basePAGAS!#REF!","v":{"$error":"#REF!"}},{"$error":"#REF!"}]
[{"$f":"basePAGAS!#REF!","v":{"$error":"#REF!"}},{"$error":"#REF!"}]
[{"$f":"basePAGAS!#REF!","v":{"$error":"#REF!"}},{"$error":"#REF!"}]
[{"$f":"basePAGAS!#REF!","v":{"$error":"#REF!"}},{"$error":"#REF!"}]
[{"$f":"basePAGAS!#REF!","v":{"$error":"#REF!"}},{"$error":"#REF!"}]
[{"$f":"basePAGAS!#REF!","v":{"$error":"#REF!"}},{"$error":"#REF!"}]
[{"$f":"basePAGAS!#REF!","v":{"$error":"#REF!"}},{"$error":"#REF!"}]
[{"$f":"basePAGAS!#REF!","v":{"$error":"#REF!"}},{"$error":"#REF!"}]
[{"$f":"basePAGAS!#REF!","v":{"$error":"#REF!"}},{"$error":"#REF!"}]
[{"$f":"basePAGAS!#REF!","v":{"$error":"#REF!"}},{"$error":"#REF!"}]
[{"$f":"basePAGAS!#REF!","v":{"$error":"#REF!"}},{"$error":"#REF!"}]
[{"$f":"basePAGAS!#REF!","v":{"$error":"#REF!"}},{"$error":"#REF!"}]
[{"$f":"basePAGAS!#REF!","v":{"$error":"#REF!"}},{"$error":"#REF!"}]
[{"$f":"basePAGAS!#REF!","v":{"$error":"#REF!"}},{"$error":"#REF!"}]
[{"$f":"basePAGAS!#REF!","v":{"$error":"#REF!"}},{"$error":"#REF!"}]
[{"$f":"basePAGAS!#REF!","v":{"$error":"#REF!"}},{"$error":"#REF!"}]
[{"$f":"basePAGAS!#REF!","v":{"$error":"#REF!"}},{"$error":"#REF!"}]
[{"$f":"basePAGAS!#REF!","v":{"$error":"#REF!"}},{"$error":"#REF!"}]
[{"$f":"basePAGAS!#REF!","v":{"$error":"#REF!"}},{"$f":"IF(A1167=\"\",\"\",IF(VLOOKUP(A1167,base_rpvs_pagas,2)=A$12,A1167,0))","v":{"$error":"#REF!"}}]
[{"$f":"basePAGAS!#REF!","v":{"$error":"#REF!"}},{"$error":"#REF!"}]
[{"$f":"basePAGAS!#REF!","v":{"$error":"#REF!"}},{"$error":"#REF!"}]
[{"$f":"basePAGAS!#REF!","v":{"$error":"#REF!"}},{"$error":"#REF!"}]
[{"$f":"basePAGAS!#REF!","v":{"$error":"#REF!"}},{"$error":"#REF!"}]
[{"$f":"basePAGAS!#REF!","v":{"$error":"#REF!"}},{"$error":"#REF!"}]
[{"$f":"basePAGAS!#REF!","v":{"$error":"#REF!"}},{"$error":"#REF!"}]
[{"$f":"basePAGAS!#REF!","v":{"$error":"#REF!"}},{"$error":"#REF!"}]
[{"$f":"basePAGAS!#REF!","v":{"$error":"#REF!"}},{"$error":"#REF!"}]
[{"$f":"basePAGAS!#REF!","v":{"$error":"#REF!"}},{"$error":"#REF!"}]
[{"$f":"basePAGAS!#REF!","v":{"$error":"#REF!"}},{"$error":"#REF!"}]
[{"$f":"basePAGAS!#REF!","v":{"$error":"#REF!"}},{"$error":"#REF!"}]
[{"$f":"basePAGAS!#REF!","v":{"$error":"#REF!"}},{"$error":"#REF!"}]
[{"$f":"basePAGAS!#REF!","v":{"$error":"#REF!"}},{"$error":"#REF!"}]
[{"$f":"basePAGAS!#REF!","v":{"$error":"#REF!"}},{"$error":"#REF!"}]
[{"$f":"basePAGAS!#REF!","v":{"$error":"#REF!"}},{"$error":"#REF!"}]
[{"$f":"basePAGAS!#REF!","v":{"$error":"#REF!"}},{"$error":"#REF!"}]
[{"$f":"basePAGAS!#REF!","v":{"$error":"#REF!"}},{"$error":"#REF!"}]
[{"$f":"basePAGAS!#REF!","v":{"$error":"#REF!"}},{"$error":"#REF!"}]
[{"$f":"basePAGAS!#REF!","v":{"$error":"#REF!"}},{"$error":"#REF!"}]
[{"$f":"basePAGAS!#REF!","v":{"$error":"#REF!"}},{"$error":"#REF!"}]
[{"$f":"basePAGAS!#REF!","v":{"$error":"#REF!"}},{"$error":"#REF!"}]
[{"$f":"basePAGAS!#REF!","v":{"$error":"#REF!"}},{"$error":"#REF!"}]
[{"$f":"basePAGAS!#REF!","v":{"$error":"#REF!"}},{"$error":"#REF!"}]
[{"$f":"basePAGAS!#REF!","v":{"$error":"#REF!"}},{"$error":"#REF!"}]
[{"$f":"basePAGAS!#REF!","v":{"$error":"#REF!"}},{"$error":"#REF!"}]
[{"$f":"basePAGAS!#REF!","v":{"$error":"#REF!"}},{"$error":"#REF!"}]
[{"$f":"basePAGAS!#REF!","v":{"$error":"#REF!"}},{"$error":"#REF!"}]
[{"$f":"basePAGAS!#REF!","v":{"$error":"#REF!"}},{"$error":"#REF!"}]
[{"$f":"basePAGAS!#REF!","v":{"$error":"#REF!"}},{"$error":"#REF!"}]
[{"$f":"basePAGAS!#REF!","v":{"$error":"#REF!"}},{"$error":"#REF!"}]
[{"$f":"basePAGAS!#REF!","v":{"$error":"#REF!"}},{"$error":"#REF!"}]
[{"$f":"basePAGAS!#REF!","v":{"$error":"#REF!"}},{"$error":"#REF!"}]
[{"$f":"basePAGAS!#REF!","v":{"$error":"#REF!"}},{"$error":"#REF!"}]
[{"$f":"basePAGAS!#REF!","v":{"$error":"#REF!"}},{"$error":"#REF!"}]
[{"$f":"basePAGAS!#REF!","v":{"$error":"#REF!"}},{"$error":"#REF!"}]
[{"$f":"basePAGAS!#REF!","v":{"$error":"#REF!"}},{"$error":"#REF!"}]
[{"$f":"basePAGAS!#REF!","v":{"$error":"#REF!"}},{"$error":"#REF!"}]
[{"$f":"basePAGAS!#REF!","v":{"$error":"#REF!"}},{"$error":"#REF!"}]
[{"$f":"basePAGAS!#REF!","v":{"$error":"#REF!"}},{"$error":"#REF!"}]
[{"$f":"basePAGAS!#REF!","v":{"$error":"#REF!"}},{"$error":"#REF!"}]
[{"$f":"basePAGAS!#REF!","v":{"$error":"#REF!"}},{"$error":"#REF!"}]
[{"$f":"basePAGAS!#REF!","v":{"$error":"#REF!"}},{"$error":"#REF!"}]
[{"$f":"basePAGAS!#REF!","v":{"$error":"#REF!"}},{"$error":"#REF!"}]
[{"$f":"basePAGAS!#REF!","v":{"$error":"#REF!"}},{"$error":"#REF!"}]
[{"$f":"basePAGAS!#REF!","v":{"$error":"#REF!"}},{"$error":"#REF!"}]
[{"$f":"basePAGAS!#REF!","v":{"$error":"#REF!"}},{"$error":"#REF!"}]
[{"$f":"basePAGAS!#REF!","v":{"$error":"#REF!"}},{"$error":"#REF!"}]
[{"$f":"basePAGAS!#REF!","v":{"$error":"#REF!"}},{"$error":"#REF!"}]
[{"$f":"basePAGAS!#REF!","v":{"$error":"#REF!"}},{"$error":"#REF!"}]
[{"$f":"basePAGAS!#REF!","v":{"$error":"#REF!"}},{"$error":"#REF!"}]
[{"$f":"basePAGAS!#REF!","v":{"$error":"#REF!"}},{"$error":"#REF!"}]
[{"$f":"basePAGAS!#REF!","v":{"$error":"#REF!"}},{"$error":"#REF!"}]
[{"$f":"basePAGAS!#REF!","v":{"$error":"#REF!"}},{"$error":"#REF!"}]
[{"$f":"basePAGAS!#REF!","v":{"$error":"#REF!"}},{"$error":"#REF!"}]
[{"$f":"basePAGAS!#REF!","v":{"$error":"#REF!"}},{"$error":"#REF!"}]
[{"$f":"basePAGAS!#REF!","v":{"$error":"#REF!"}},{"$error":"#REF!"}]
[{"$f":"basePAGAS!#REF!","v":{"$error":"#REF!"}},{"$error":"#REF!"}]
[{"$f":"basePAGAS!#REF!","v":{"$error":"#REF!"}},{"$error":"#REF!"}]
[{"$f":"basePAGAS!#REF!","v":{"$error":"#REF!"}},{"$error":"#REF!"}]
[{"$f":"basePAGAS!#REF!","v":{"$error":"#REF!"}},{"$error":"#REF!"}]
[{"$f":"basePAGAS!#REF!","v":{"$error":"#REF!"}},{"$error":"#REF!"}]
[{"$f":"basePAGAS!#REF!","v":{"$error":"#REF!"}},{"$error":"#REF!"}]
[{"$f":"basePAGAS!#REF!","v":{"$error":"#REF!"}},{"$error":"#REF!"}]
[{"$f":"basePAGAS!#REF!","v":{"$error":"#REF!"}},{"$f":"IF(A1231=\"\",\"\",IF(VLOOKUP(A1231,base_rpvs_pagas,2)=A$12,A1231,0))","v":{"$error":"#REF!"}}]
[{"$f":"basePAGAS!#REF!","v":{"$error":"#REF!"}},{"$error":"#REF!"}]
[{"$f":"basePAGAS!#REF!","v":{"$error":"#REF!"}},{"$error":"#REF!"}]
[{"$f":"basePAGAS!#REF!","v":{"$error":"#REF!"}},{"$error":"#REF!"}]
[{"$f":"basePAGAS!#REF!","v":{"$error":"#REF!"}},{"$error":"#REF!"}]
[{"$f":"basePAGAS!#REF!","v":{"$error":"#REF!"}},{"$error":"#REF!"}]
[{"$f":"basePAGAS!#REF!","v":{"$error":"#REF!"}},{"$error":"#REF!"}]
[{"$f":"basePAGAS!#REF!","v":{"$error":"#REF!"}},{"$error":"#REF!"}]
[{"$f":"basePAGAS!#REF!","v":{"$error":"#REF!"}},{"$error":"#REF!"}]
[{"$f":"basePAGAS!#REF!","v":{"$error":"#REF!"}},{"$error":"#REF!"}]
[{"$f":"basePAGAS!#REF!","v":{"$error":"#REF!"}},{"$error":"#REF!"}]
[{"$f":"basePAGAS!#REF!","v":{"$error":"#REF!"}},{"$error":"#REF!"}]
[{"$f":"basePAGAS!#REF!","v":{"$error":"#REF!"}},{"$error":"#REF!"}]
[{"$f":"basePAGAS!#REF!","v":{"$error":"#REF!"}},{"$error":"#REF!"}]
[{"$f":"basePAGAS!#REF!","v":{"$error":"#REF!"}},{"$error":"#REF!"}]
[{"$f":"basePAGAS!#REF!","v":{"$error":"#REF!"}},{"$error":"#REF!"}]
[{"$f":"basePAGAS!#REF!","v":{"$error":"#REF!"}},{"$error":"#REF!"}]
[{"$f":"basePAGAS!#REF!","v":{"$error":"#REF!"}},{"$error":"#REF!"}]
[{"$f":"basePAGAS!#REF!","v":{"$error":"#REF!"}},{"$error":"#REF!"}]
[{"$f":"basePAGAS!#REF!","v":{"$error":"#REF!"}},{"$error":"#REF!"}]
[{"$f":"basePAGAS!#REF!","v":{"$error":"#REF!"}},{"$error":"#REF!"}]
[{"$f":"basePAGAS!#REF!","v":{"$error":"#REF!"}},{"$error":"#REF!"}]
[{"$f":"basePAGAS!#REF!","v":{"$error":"#REF!"}},{"$error":"#REF!"}]
[{"$f":"basePAGAS!#REF!","v":{"$error":"#REF!"}},{"$error":"#REF!"}]
[{"$f":"basePAGAS!#REF!","v":{"$error":"#REF!"}},{"$error":"#REF!"}]
[{"$f":"basePAGAS!#REF!","v":{"$error":"#REF!"}},{"$error":"#REF!"}]
[{"$f":"basePAGAS!#REF!","v":{"$error":"#REF!"}},{"$error":"#REF!"}]
[{"$f":"basePAGAS!#REF!","v":{"$error":"#REF!"}},{"$error":"#REF!"}]
[{"$f":"basePAGAS!#REF!","v":{"$error":"#REF!"}},{"$error":"#REF!"}]
[{"$f":"basePAGAS!#REF!","v":{"$error":"#REF!"}},{"$error":"#REF!"}]
[{"$f":"basePAGAS!#REF!","v":{"$error":"#REF!"}},{"$error":"#REF!"}]
[{"$f":"basePAGAS!#REF!","v":{"$error":"#REF!"}},{"$error":"#REF!"}]
[{"$f":"basePAGAS!#REF!","v":{"$error":"#REF!"}},{"$error":"#REF!"}]
[{"$f":"basePAGAS!#REF!","v":{"$error":"#REF!"}},{"$error":"#REF!"}]
[{"$f":"basePAGAS!#REF!","v":{"$error":"#REF!"}},{"$error":"#REF!"}]
[{"$f":"basePAGAS!#REF!","v":{"$error":"#REF!"}},{"$error":"#REF!"}]
[{"$f":"basePAGAS!#REF!","v":{"$error":"#REF!"}},{"$error":"#REF!"}]
[{"$f":"basePAGAS!#REF!","v":{"$error":"#REF!"}},{"$error":"#REF!"}]
[{"$f":"basePAGAS!#REF!","v":{"$error":"#REF!"}},{"$error":"#REF!"}]
[{"$f":"basePAGAS!#REF!","v":{"$error":"#REF!"}},{"$error":"#REF!"}]
[{"$f":"basePAGAS!#REF!","v":{"$error":"#REF!"}},{"$error":"#REF!"}]
[{"$f":"basePAGAS!#REF!","v":{"$error":"#REF!"}},{"$error":"#REF!"}]
[{"$f":"basePAGAS!#REF!","v":{"$error":"#REF!"}},{"$error":"#REF!"}]
[{"$f":"basePAGAS!#REF!","v":{"$error":"#REF!"}},{"$error":"#REF!"}]
[{"$f":"basePAGAS!#REF!","v":{"$error":"#REF!"}},{"$error":"#REF!"}]
[{"$f":"basePAGAS!#REF!","v":{"$error":"#REF!"}},{"$error":"#REF!"}]
[{"$f":"basePAGAS!#REF!","v":{"$error":"#REF!"}},{"$error":"#REF!"}]
[{"$f":"basePAGAS!#REF!","v":{"$error":"#REF!"}},{"$error":"#REF!"}]
[{"$f":"basePAGAS!#REF!","v":{"$error":"#REF!"}},{"$error":"#REF!"}]
[{"$f":"basePAGAS!#REF!","v":{"$error":"#REF!"}},{"$error":"#REF!"}]
[{"$f":"basePAGAS!#REF!","v":{"$error":"#REF!"}},{"$error":"#REF!"}]
[{"$f":"basePAGAS!#REF!","v":{"$error":"#REF!"}},{"$error":"#REF!"}]
[{"$f":"basePAGAS!#REF!","v":{"$error":"#REF!"}},{"$error":"#REF!"}]
[{"$f":"basePAGAS!#REF!","v":{"$error":"#REF!"}},{"$error":"#REF!"}]
[{"$f":"basePAGAS!#REF!","v":{"$error":"#REF!"}},{"$error":"#REF!"}]
[{"$f":"basePAGAS!#REF!","v":{"$error":"#REF!"}},{"$error":"#REF!"}]
[{"$f":"basePAGAS!#REF!","v":{"$error":"#REF!"}},{"$error":"#REF!"}]
[{"$f":"basePAGAS!#REF!","v":{"$error":"#REF!"}},{"$error":"#REF!"}]
[{"$f":"basePAGAS!#REF!","v":{"$error":"#REF!"}},{"$error":"#REF!"}]
[{"$f":"basePAGAS!#REF!","v":{"$error":"#REF!"}},{"$error":"#REF!"}]
[{"$f":"basePAGAS!#REF!","v":{"$error":"#REF!"}},{"$error":"#REF!"}]
[{"$f":"basePAGAS!#REF!","v":{"$error":"#REF!"}},{"$error":"#REF!"}]
[{"$f":"basePAGAS!#REF!","v":{"$error":"#REF!"}},{"$error":"#REF!"}]
[{"$f":"basePAGAS!#REF!","v":{"$error":"#REF!"}},{"$error":"#REF!"}]
[{"$f":"basePAGAS!#REF!","v":{"$error":"#REF!"}},{"$f":"IF(A1295=\"\",\"\",IF(VLOOKUP(A1295,base_rpvs_pagas,2)=A$12,A1295,0))","v":{"$error":"#REF!"}}]
[{"$f":"basePAGAS!#REF!","v":{"$error":"#REF!"}},{"$error":"#REF!"}]
[{"$f":"basePAGAS!#REF!","v":{"$error":"#REF!"}},{"$error":"#REF!"}]
[{"$f":"basePAGAS!#REF!","v":{"$error":"#REF!"}},{"$error":"#REF!"}]
[{"$f":"basePAGAS!#REF!","v":{"$error":"#REF!"}},{"$error":"#REF!"}]
[{"$f":"basePAGAS!#REF!","v":{"$error":"#REF!"}},{"$error":"#REF!"}]
[{"$f":"basePAGAS!#REF!","v":{"$error":"#REF!"}},{"$error":"#REF!"}]
[{"$f":"basePAGAS!#REF!","v":{"$error":"#REF!"}},{"$error":"#REF!"}]
[{"$f":"basePAGAS!#REF!","v":{"$error":"#REF!"}},{"$error":"#REF!"}]
[{"$f":"basePAGAS!#REF!","v":{"$error":"#REF!"}},{"$error":"#REF!"}]
[{"$f":"basePAGAS!#REF!","v":{"$error":"#REF!"}},{"$error":"#REF!"}]
[{"$f":"basePAGAS!#REF!","v":{"$error":"#REF!"}},{"$error":"#REF!"}]
[{"$f":"basePAGAS!#REF!","v":{"$error":"#REF!"}},{"$error":"#REF!"}]
[{"$f":"basePAGAS!#REF!","v":{"$error":"#REF!"}},{"$error":"#REF!"}]
[{"$f":"basePAGAS!#REF!","v":{"$error":"#REF!"}},{"$error":"#REF!"}]
[{"$f":"basePAGAS!#REF!","v":{"$error":"#REF!"}},{"$error":"#REF!"}]
[{"$f":"basePAGAS!#REF!","v":{"$error":"#REF!"}},{"$error":"#REF!"}]
[{"$f":"basePAGAS!#REF!","v":{"$error":"#REF!"}},{"$error":"#REF!"}]
[{"$f":"basePAGAS!#REF!","v":{"$error":"#REF!"}},{"$error":"#REF!"}]
[{"$f":"basePAGAS!#REF!","v":{"$error":"#REF!"}},{"$error":"#REF!"}]
[{"$f":"basePAGAS!#REF!","v":{"$error":"#REF!"}},{"$error":"#REF!"}]
[{"$f":"basePAGAS!#REF!","v":{"$error":"#REF!"}},{"$error":"#REF!"}]
[{"$f":"basePAGAS!#REF!","v":{"$error":"#REF!"}},{"$error":"#REF!"}]
[{"$f":"basePAGAS!#REF!","v":{"$error":"#REF!"}},{"$error":"#REF!"}]
[{"$f":"basePAGAS!#REF!","v":{"$error":"#REF!"}},{"$error":"#REF!"}]
[{"$f":"basePAGAS!#REF!","v":{"$error":"#REF!"}},{"$error":"#REF!"}]
[{"$f":"basePAGAS!#REF!","v":{"$error":"#REF!"}},{"$error":"#REF!"}]
[{"$f":"basePAGAS!#REF!","v":{"$error":"#REF!"}},{"$error":"#REF!"}]
[{"$f":"basePAGAS!#REF!","v":{"$error":"#REF!"}},{"$error":"#REF!"}]
[{"$f":"basePAGAS!#REF!","v":{"$error":"#REF!"}},{"$error":"#REF!"}]
[{"$f":"basePAGAS!#REF!","v":{"$error":"#REF!"}},{"$error":"#REF!"}]
[{"$f":"basePAGAS!#REF!","v":{"$error":"#REF!"}},{"$error":"#REF!"}]
[{"$f":"basePAGAS!#REF!","v":{"$error":"#REF!"}},{"$error":"#REF!"}]
[{"$f":"basePAGAS!#REF!","v":{"$error":"#REF!"}},{"$error":"#REF!"}]
[{"$f":"basePAGAS!#REF!","v":{"$error":"#REF!"}},{"$error":"#REF!"}]
[{"$f":"basePAGAS!#REF!","v":{"$error":"#REF!"}},{"$error":"#REF!"}]
[{"$f":"basePAGAS!#REF!","v":{"$error":"#REF!"}},{"$error":"#REF!"}]
[{"$f":"basePAGAS!#REF!","v":{"$error":"#REF!"}},{"$error":"#REF!"}]
[{"$f":"basePAGAS!#REF!","v":{"$error":"#REF!"}},{"$error":"#REF!"}]
[{"$f":"basePAGAS!#REF!","v":{"$error":"#REF!"}},{"$error":"#REF!"}]
[{"$f":"basePAGAS!#REF!","v":{"$error":"#REF!"}},{"$error":"#REF!"}]
[{"$f":"basePAGAS!#REF!","v":{"$error":"#REF!"}},{"$error":"#REF!"}]
[{"$f":"basePAGAS!#REF!","v":{"$error":"#REF!"}},{"$error":"#REF!"}]
[{"$f":"basePAGAS!#REF!","v":{"$error":"#REF!"}},{"$error":"#REF!"}]
[{"$f":"basePAGAS!#REF!","v":{"$error":"#REF!"}},{"$error":"#REF!"}]
[{"$f":"basePAGAS!#REF!","v":{"$error":"#REF!"}},{"$error":"#REF!"}]
[{"$f":"basePAGAS!#REF!","v":{"$error":"#REF!"}},{"$error":"#REF!"}]
[{"$f":"basePAGAS!#REF!","v":{"$error":"#REF!"}},{"$error":"#REF!"}]
[{"$f":"basePAGAS!#REF!","v":{"$error":"#REF!"}},{"$error":"#REF!"}]
[{"$f":"basePAGAS!#REF!","v":{"$error":"#REF!"}},{"$error":"#REF!"}]
[{"$f":"basePAGAS!#REF!","v":{"$error":"#REF!"}},{"$error":"#REF!"}]
[{"$f":"basePAGAS!#REF!","v":{"$error":"#REF!"}},{"$error":"#REF!"}]
[{"$f":"basePAGAS!#REF!","v":{"$error":"#REF!"}},{"$error":"#REF!"}]
[{"$f":"basePAGAS!#REF!","v":{"$error":"#REF!"}},{"$error":"#REF!"}]
[{"$f":"basePAGAS!#REF!","v":{"$error":"#REF!"}},{"$error":"#REF!"}]
[{"$f":"basePAGAS!#REF!","v":{"$error":"#REF!"}},{"$error":"#REF!"}]
[{"$f":"basePAGAS!#REF!","v":{"$error":"#REF!"}},{"$error":"#REF!"}]
[{"$f":"basePAGAS!#REF!","v":{"$error":"#REF!"}},{"$error":"#REF!"}]
[{"$f":"basePAGAS!#REF!","v":{"$error":"#REF!"}},{"$error":"#REF!"}]
[{"$f":"basePAGAS!#REF!","v":{"$error":"#REF!"}},{"$error":"#REF!"}]
[{"$f":"basePAGAS!#REF!","v":{"$error":"#REF!"}},{"$error":"#REF!"}]
[{"$f":"basePAGAS!#REF!","v":{"$error":"#REF!"}},{"$error":"#REF!"}]
[{"$f":"basePAGAS!#REF!","v":{"$error":"#REF!"}},{"$error":"#REF!"}]
[{"$f":"basePAGAS!#REF!","v":{"$error":"#REF!"}},{"$error":"#REF!"}]
[{"$f":"basePAGAS!#REF!","v":{"$error":"#REF!"}},{"$f":"IF(A1359=\"\",\"\",IF(VLOOKUP(A1359,base_rpvs_pagas,2)=A$12,A1359,0))","v":{"$error":"#REF!"}}]
[{"$f":"basePAGAS!#REF!","v":{"$error":"#REF!"}},{"$error":"#REF!"}]
[{"$f":"basePAGAS!#REF!","v":{"$error":"#REF!"}},{"$error":"#REF!"}]
[{"$f":"basePAGAS!#REF!","v":{"$error":"#REF!"}},{"$error":"#REF!"}]
[{"$f":"basePAGAS!#REF!","v":{"$error":"#REF!"}},{"$error":"#REF!"}]
[{"$f":"basePAGAS!#REF!","v":{"$error":"#REF!"}},{"$error":"#REF!"}]
[{"$f":"basePAGAS!#REF!","v":{"$error":"#REF!"}},{"$error":"#REF!"}]
[{"$f":"basePAGAS!#REF!","v":{"$error":"#REF!"}},{"$error":"#REF!"}]
[{"$f":"basePAGAS!#REF!","v":{"$error":"#REF!"}},{"$error":"#REF!"}]
[{"$f":"basePAGAS!#REF!","v":{"$error":"#REF!"}},{"$error":"#REF!"}]
[{"$f":"basePAGAS!#REF!","v":{"$error":"#REF!"}},{"$error":"#REF!"}]
[{"$f":"basePAGAS!#REF!","v":{"$error":"#REF!"}},{"$error":"#REF!"}]
[{"$f":"basePAGAS!#REF!","v":{"$error":"#REF!"}},{"$error":"#REF!"}]
[{"$f":"basePAGAS!#REF!","v":{"$error":"#REF!"}},{"$error":"#REF!"}]
[{"$f":"basePAGAS!#REF!","v":{"$error":"#REF!"}},{"$error":"#REF!"}]
[{"$f":"basePAGAS!#REF!","v":{"$error":"#REF!"}},{"$error":"#REF!"}]
[{"$f":"basePAGAS!#REF!","v":{"$error":"#REF!"}},{"$error":"#REF!"}]
[{"$f":"basePAGAS!#REF!","v":{"$error":"#REF!"}},{"$error":"#REF!"}]
[{"$f":"basePAGAS!#REF!","v":{"$error":"#REF!"}},{"$error":"#REF!"}]
[{"$f":"basePAGAS!#REF!","v":{"$error":"#REF!"}},{"$error":"#REF!"}]
[{"$f":"basePAGAS!#REF!","v":{"$error":"#REF!"}},{"$error":"#REF!"}]
[{"$f":"basePAGAS!#REF!","v":{"$error":"#REF!"}},{"$error":"#REF!"}]
[{"$f":"basePAGAS!#REF!","v":{"$error":"#REF!"}},{"$error":"#REF!"}]
[{"$f":"basePAGAS!#REF!","v":{"$error":"#REF!"}},{"$error":"#REF!"}]
[{"$f":"basePAGAS!#REF!","v":{"$error":"#REF!"}},{"$error":"#REF!"}]
[{"$f":"basePAGAS!#REF!","v":{"$error":"#REF!"}},{"$error":"#REF!"}]
[{"$f":"basePAGAS!#REF!","v":{"$error":"#REF!"}},{"$error":"#REF!"}]
[{"$f":"basePAGAS!#REF!","v":{"$error":"#REF!"}},{"$error":"#REF!"}]
[{"$f":"basePAGAS!#REF!","v":{"$error":"#REF!"}},{"$error":"#REF!"}]
[{"$f":"basePAGAS!#REF!","v":{"$error":"#REF!"}},{"$error":"#REF!"}]
[{"$f":"basePAGAS!#REF!","v":{"$error":"#REF!"}},{"$error":"#REF!"}]
[{"$f":"basePAGAS!#REF!","v":{"$error":"#REF!"}},{"$error":"#REF!"}]
[{"$f":"basePAGAS!#REF!","v":{"$error":"#REF!"}},{"$error":"#REF!"}]
[{"$f":"basePAGAS!#REF!","v":{"$error":"#REF!"}},{"$error":"#REF!"}]
[{"$f":"basePAGAS!#REF!","v":{"$error":"#REF!"}},{"$error":"#REF!"}]
[{"$f":"basePAGAS!#REF!","v":{"$error":"#REF!"}},{"$error":"#REF!"}]
[{"$f":"basePAGAS!#REF!","v":{"$error":"#REF!"}},{"$error":"#REF!"}]
[{"$f":"basePAGAS!#REF!","v":{"$error":"#REF!"}},{"$error":"#REF!"}]
[{"$f":"basePAGAS!#REF!","v":{"$error":"#REF!"}},{"$error":"#REF!"}]
[{"$f":"basePAGAS!#REF!","v":{"$error":"#REF!"}},{"$error":"#REF!"}]
[{"$f":"basePAGAS!#REF!","v":{"$error":"#REF!"}},{"$error":"#REF!"}]
[{"$f":"basePAGAS!#REF!","v":{"$error":"#REF!"}},{"$error":"#REF!"}]
[{"$f":"basePAGAS!#REF!","v":{"$error":"#REF!"}},{"$error":"#REF!"}]
[{"$f":"basePAGAS!#REF!","v":{"$error":"#REF!"}},{"$error":"#REF!"}]
[{"$f":"basePAGAS!#REF!","v":{"$error":"#REF!"}},{"$error":"#REF!"}]
[{"$f":"basePAGAS!#REF!","v":{"$error":"#REF!"}},{"$error":"#REF!"}]
[{"$f":"basePAGAS!#REF!","v":{"$error":"#REF!"}},{"$error":"#REF!"}]
[{"$f":"basePAGAS!#REF!","v":{"$error":"#REF!"}},{"$error":"#REF!"}]
[{"$f":"basePAGAS!#REF!","v":{"$error":"#REF!"}},{"$error":"#REF!"}]
[{"$f":"basePAGAS!#REF!","v":{"$error":"#REF!"}},{"$error":"#REF!"}]
[{"$f":"basePAGAS!#REF!","v":{"$error":"#REF!"}},{"$error":"#REF!"}]
[{"$f":"basePAGAS!#REF!","v":{"$error":"#REF!"}},{"$error":"#REF!"}]
[{"$f":"basePAGAS!#REF!","v":{"$error":"#REF!"}},{"$error":"#REF!"}]
[{"$f":"basePAGAS!#REF!","v":{"$error":"#REF!"}},{"$error":"#REF!"}]
[{"$f":"basePAGAS!#REF!","v":{"$error":"#REF!"}},{"$error":"#REF!"}]
[{"$f":"basePAGAS!#REF!","v":{"$error":"#REF!"}},{"$error":"#REF!"}]
[{"$f":"basePAGAS!#REF!","v":{"$error":"#REF!"}},{"$error":"#REF!"}]
[{"$f":"basePAGAS!#REF!","v":{"$error":"#REF!"}},{"$error":"#REF!"}]
[{"$f":"basePAGAS!#REF!","v":{"$error":"#REF!"}},{"$error":"#REF!"}]
[{"$f":"basePAGAS!#REF!","v":{"$error":"#REF!"}},{"$error":"#REF!"}]
[{"$f":"basePAGAS!#REF!","v":{"$error":"#REF!"}},{"$error":"#REF!"}]
[{"$f":"basePAGAS!#REF!","v":{"$error":"#REF!"}},{"$error":"#REF!"}]
[{"$f":"basePAGAS!#REF!","v":{"$error":"#REF!"}},{"$error":"#REF!"}]
[{"$f":"basePAGAS!#REF!","v":{"$error":"#REF!"}},{"$error":"#REF!"}]
[{"$f":"basePAGAS!#REF!","v":{"$error":"#REF!"}},{"$f":"IF(A1423=\"\",\"\",IF(VLOOKUP(A1423,base_rpvs_pagas,2)=A$12,A1423,0))","v":{"$error":"#REF!"}}]
[{"$f":"basePAGAS!#REF!","v":{"$error":"#REF!"}},{"$error":"#REF!"}]
[{"$f":"basePAGAS!#REF!","v":{"$error":"#REF!"}},{"$error":"#REF!"}]
[{"$f":"basePAGAS!#REF!","v":{"$error":"#REF!"}},{"$error":"#REF!"}]
[{"$f":"basePAGAS!#REF!","v":{"$error":"#REF!"}},{"$error":"#REF!"}]
[{"$f":"basePAGAS!#REF!","v":{"$error":"#REF!"}},{"$error":"#REF!"}]
[{"$f":"basePAGAS!#REF!","v":{"$error":"#REF!"}},{"$error":"#REF!"}]
[{"$f":"basePAGAS!#REF!","v":{"$error":"#REF!"}},{"$error":"#REF!"}]
[{"$f":"basePAGAS!#REF!","v":{"$error":"#REF!"}},{"$error":"#REF!"}]
[{"$f":"basePAGAS!#REF!","v":{"$error":"#REF!"}},{"$error":"#REF!"}]
[{"$f":"basePAGAS!#REF!","v":{"$error":"#REF!"}},{"$error":"#REF!"}]
[{"$f":"basePAGAS!#REF!","v":{"$error":"#REF!"}},{"$error":"#REF!"}]
[{"$f":"basePAGAS!#REF!","v":{"$error":"#REF!"}},{"$error":"#REF!"}]
[{"$f":"basePAGAS!#REF!","v":{"$error":"#REF!"}},{"$error":"#REF!"}]
[{"$f":"basePAGAS!#REF!","v":{"$error":"#REF!"}},{"$error":"#REF!"}]
[{"$f":"basePAGAS!#REF!","v":{"$error":"#REF!"}},{"$error":"#REF!"}]
[{"$f":"basePAGAS!#REF!","v":{"$error":"#REF!"}},{"$error":"#REF!"}]
[{"$f":"basePAGAS!#REF!","v":{"$error":"#REF!"}},{"$error":"#REF!"}]
[{"$f":"basePAGAS!#REF!","v":{"$error":"#REF!"}},{"$error":"#REF!"}]
[{"$f":"basePAGAS!#REF!","v":{"$error":"#REF!"}},{"$error":"#REF!"}]
[{"$f":"basePAGAS!#REF!","v":{"$error":"#REF!"}},{"$error":"#REF!"}]
[{"$f":"basePAGAS!#REF!","v":{"$error":"#REF!"}},{"$error":"#REF!"}]
[{"$f":"basePAGAS!#REF!","v":{"$error":"#REF!"}},{"$error":"#REF!"}]
[{"$f":"basePAGAS!#REF!","v":{"$error":"#REF!"}},{"$error":"#REF!"}]
[{"$f":"basePAGAS!#REF!","v":{"$error":"#REF!"}},{"$error":"#REF!"}]
[{"$f":"basePAGAS!#REF!","v":{"$error":"#REF!"}},{"$error":"#REF!"}]
[{"$f":"basePAGAS!#REF!","v":{"$error":"#REF!"}},{"$error":"#REF!"}]
[{"$f":"basePAGAS!#REF!","v":{"$error":"#REF!"}},{"$error":"#REF!"}]
[{"$f":"basePAGAS!#REF!","v":{"$error":"#REF!"}},{"$error":"#REF!"}]
[{"$f":"basePAGAS!#REF!","v":{"$error":"#REF!"}},{"$error":"#REF!"}]
[{"$f":"basePAGAS!#REF!","v":{"$error":"#REF!"}},{"$error":"#REF!"}]
[{"$f":"basePAGAS!#REF!","v":{"$error":"#REF!"}},{"$error":"#REF!"}]
[{"$f":"basePAGAS!#REF!","v":{"$error":"#REF!"}},{"$error":"#REF!"}]
[{"$f":"basePAGAS!#REF!","v":{"$error":"#REF!"}},{"$error":"#REF!"}]
[{"$f":"basePAGAS!#REF!","v":{"$error":"#REF!"}},{"$error":"#REF!"}]
[{"$f":"basePAGAS!#REF!","v":{"$error":"#REF!"}},{"$error":"#REF!"}]
[{"$f":"basePAGAS!#REF!","v":{"$error":"#REF!"}},{"$error":"#REF!"}]
[{"$f":"basePAGAS!#REF!","v":{"$error":"#REF!"}},{"$error":"#REF!"}]
[{"$f":"basePAGAS!#REF!","v":{"$error":"#REF!"}},{"$error":"#REF!"}]
[{"$f":"basePAGAS!#REF!","v":{"$error":"#REF!"}},{"$error":"#REF!"}]
[{"$f":"basePAGAS!#REF!","v":{"$error":"#REF!"}},{"$error":"#REF!"}]
[{"$f":"basePAGAS!#REF!","v":{"$error":"#REF!"}},{"$error":"#REF!"}]
[{"$f":"basePAGAS!#REF!","v":{"$error":"#REF!"}},{"$error":"#REF!"}]
[{"$f":"basePAGAS!#REF!","v":{"$error":"#REF!"}},{"$error":"#REF!"}]
[{"$f":"basePAGAS!#REF!","v":{"$error":"#REF!"}},{"$error":"#REF!"}]
[{"$f":"basePAGAS!#REF!","v":{"$error":"#REF!"}},{"$error":"#REF!"}]
[{"$f":"basePAGAS!#REF!","v":{"$error":"#REF!"}},{"$error":"#REF!"}]
[{"$f":"basePAGAS!#REF!","v":{"$error":"#REF!"}},{"$error":"#REF!"}]
[{"$f":"basePAGAS!#REF!","v":{"$error":"#REF!"}},{"$error":"#REF!"}]
[{"$f":"basePAGAS!#REF!","v":{"$error":"#REF!"}},{"$error":"#REF!"}]
[{"$f":"basePAGAS!#REF!","v":{"$error":"#REF!"}},{"$error":"#REF!"}]
[{"$f":"basePAGAS!#REF!","v":{"$error":"#REF!"}},{"$error":"#REF!"}]
[{"$f":"basePAGAS!#REF!","v":{"$error":"#REF!"}},{"$error":"#REF!"}]
[{"$f":"basePAGAS!#REF!","v":{"$error":"#REF!"}},{"$error":"#REF!"}]
[{"$f":"basePAGAS!#REF!","v":{"$error":"#REF!"}},{"$error":"#REF!"}]
[{"$f":"basePAGAS!#REF!","v":{"$error":"#REF!"}},{"$error":"#REF!"}]
[{"$f":"basePAGAS!#REF!","v":{"$error":"#REF!"}},{"$error":"#REF!"}]
[{"$f":"basePAGAS!#REF!","v":{"$error":"#REF!"}},{"$error":"#REF!"}]
[{"$f":"basePAGAS!#REF!","v":{"$error":"#REF!"}},{"$error":"#REF!"}]
[{"$f":"basePAGAS!#REF!","v":{"$error":"#REF!"}},{"$error":"#REF!"}]
[{"$f":"basePAGAS!#REF!","v":{"$error":"#REF!"}},{"$error":"#REF!"}]
[{"$f":"basePAGAS!#REF!","v":{"$error":"#REF!"}},{"$error":"#REF!"}]
[{"$f":"basePAGAS!#REF!","v":{"$error":"#REF!"}},{"$error":"#REF!"}]
[{"$f":"basePAGAS!#REF!","v":{"$error":"#REF!"}},{"$error":"#REF!"}]
[{"$f":"basePAGAS!#REF!","v":{"$error":"#REF!"}},{"$f":"IF(A1487=\"\",\"\",IF(VLOOKUP(A1487,base_rpvs_pagas,2)=A$12,A1487,0))","v":{"$error":"#REF!"}}]
[{"$f":"basePAGAS!#REF!","v":{"$error":"#REF!"}},{"$error":"#REF!"}]
[{"$f":"basePAGAS!#REF!","v":{"$error":"#REF!"}},{"$error":"#REF!"}]
[{"$f":"basePAGAS!#REF!","v":{"$error":"#REF!"}},{"$error":"#REF!"}]
[{"$f":"basePAGAS!#REF!","v":{"$error":"#REF!"}},{"$error":"#REF!"}]
[{"$f":"basePAGAS!#REF!","v":{"$error":"#REF!"}},{"$error":"#REF!"}]
[{"$f":"basePAGAS!#REF!","v":{"$error":"#REF!"}},{"$error":"#REF!"}]
[{"$f":"basePAGAS!#REF!","v":{"$error":"#REF!"}},{"$error":"#REF!"}]
[{"$f":"basePAGAS!#REF!","v":{"$error":"#REF!"}},{"$error":"#REF!"}]
[{"$f":"basePAGAS!#REF!","v":{"$error":"#REF!"}},{"$error":"#REF!"}]
[{"$f":"basePAGAS!#REF!","v":{"$error":"#REF!"}},{"$error":"#REF!"}]
[{"$f":"basePAGAS!#REF!","v":{"$error":"#REF!"}},{"$error":"#REF!"}]
[{"$f":"basePAGAS!#REF!","v":{"$error":"#REF!"}},{"$error":"#REF!"}]
[{"$f":"basePAGAS!#REF!","v":{"$error":"#REF!"}},{"$error":"#REF!"}]
[{"$f":"basePAGAS!#REF!","v":{"$error":"#REF!"}},{"$error":"#REF!"}]
[{"$f":"basePAGAS!#REF!","v":{"$error":"#REF!"}},{"$error":"#REF!"}]
[{"$f":"basePAGAS!#REF!","v":{"$error":"#REF!"}},{"$error":"#REF!"}]
[{"$f":"basePAGAS!#REF!","v":{"$error":"#REF!"}},{"$error":"#REF!"}]
[{"$f":"basePAGAS!#REF!","v":{"$error":"#REF!"}},{"$error":"#REF!"}]
[{"$f":"basePAGAS!#REF!","v":{"$error":"#REF!"}},{"$error":"#REF!"}]
[{"$f":"basePAGAS!#REF!","v":{"$error":"#REF!"}},{"$error":"#REF!"}]
[{"$f":"basePAGAS!#REF!","v":{"$error":"#REF!"}},{"$error":"#REF!"}]
[{"$f":"basePAGAS!#REF!","v":{"$error":"#REF!"}},{"$error":"#REF!"}]
[{"$f":"basePAGAS!#REF!","v":{"$error":"#REF!"}},{"$error":"#REF!"}]
[{"$f":"basePAGAS!#REF!","v":{"$error":"#REF!"}},{"$error":"#REF!"}]
[{"$f":"basePAGAS!#REF!","v":{"$error":"#REF!"}},{"$error":"#REF!"}]
[{"$f":"basePAGAS!#REF!","v":{"$error":"#REF!"}},{"$error":"#REF!"}]
[{"$f":"basePAGAS!#REF!","v":{"$error":"#REF!"}},{"$error":"#REF!"}]
[{"$f":"basePAGAS!#REF!","v":{"$error":"#REF!"}},{"$error":"#REF!"}]
[{"$f":"basePAGAS!#REF!","v":{"$error":"#REF!"}},{"$error":"#REF!"}]
[{"$f":"basePAGAS!#REF!","v":{"$error":"#REF!"}},{"$error":"#REF!"}]
[{"$f":"basePAGAS!#REF!","v":{"$error":"#REF!"}},{"$error":"#REF!"}]
[{"$f":"basePAGAS!#REF!","v":{"$error":"#REF!"}},{"$error":"#REF!"}]
[{"$f":"basePAGAS!#REF!","v":{"$error":"#REF!"}},{"$error":"#REF!"}]
[{"$f":"basePAGAS!#REF!","v":{"$error":"#REF!"}},{"$error":"#REF!"}]
[{"$f":"basePAGAS!#REF!","v":{"$error":"#REF!"}},{"$error":"#REF!"}]
[{"$f":"basePAGAS!#REF!","v":{"$error":"#REF!"}},{"$error":"#REF!"}]
[{"$f":"basePAGAS!#REF!","v":{"$error":"#REF!"}},{"$error":"#REF!"}]
[{"$f":"basePAGAS!#REF!","v":{"$error":"#REF!"}},{"$error":"#REF!"}]
[{"$f":"basePAGAS!#REF!","v":{"$error":"#REF!"}},{"$error":"#REF!"}]
[{"$f":"basePAGAS!#REF!","v":{"$error":"#REF!"}},{"$error":"#REF!"}]
[{"$f":"basePAGAS!#REF!","v":{"$error":"#REF!"}},{"$error":"#REF!"}]
[{"$f":"basePAGAS!#REF!","v":{"$error":"#REF!"}},{"$error":"#REF!"}]
[{"$f":"basePAGAS!#REF!","v":{"$error":"#REF!"}},{"$error":"#REF!"}]
[{"$f":"basePAGAS!#REF!","v":{"$error":"#REF!"}},{"$error":"#REF!"}]
[{"$f":"basePAGAS!#REF!","v":{"$error":"#REF!"}},{"$error":"#REF!"}]
[{"$f":"basePAGAS!#REF!","v":{"$error":"#REF!"}},{"$error":"#REF!"}]
[{"$f":"basePAGAS!#REF!","v":{"$error":"#REF!"}},{"$error":"#REF!"}]
[{"$f":"basePAGAS!#REF!","v":{"$error":"#REF!"}},{"$error":"#REF!"}]
[{"$f":"basePAGAS!#REF!","v":{"$error":"#REF!"}},{"$error":"#REF!"}]
[{"$f":"basePAGAS!#REF!","v":{"$error":"#REF!"}},{"$error":"#REF!"}]
[{"$f":"basePAGAS!#REF!","v":{"$error":"#REF!"}},{"$error":"#REF!"}]
[{"$f":"basePAGAS!#REF!","v":{"$error":"#REF!"}},{"$error":"#REF!"}]
[{"$f":"basePAGAS!#REF!","v":{"$error":"#REF!"}},{"$error":"#REF!"}]
[{"$f":"basePAGAS!#REF!","v":{"$error":"#REF!"}},{"$error":"#REF!"}]
[{"$f":"basePAGAS!#REF!","v":{"$error":"#REF!"}},{"$error":"#REF!"}]
[{"$f":"basePAGAS!#REF!","v":{"$error":"#REF!"}},{"$error":"#REF!"}]
[{"$f":"basePAGAS!#REF!","v":{"$error":"#REF!"}},{"$error":"#REF!"}]
[{"$f":"basePAGAS!#REF!","v":{"$error":"#REF!"}},{"$error":"#REF!"}]
[{"$f":"basePAGAS!#REF!","v":{"$error":"#REF!"}},{"$error":"#REF!"}]
[{"$f":"basePAGAS!#REF!","v":{"$error":"#REF!"}},{"$error":"#REF!"}]
[{"$f":"basePAGAS!#REF!","v":{"$error":"#REF!"}},{"$error":"#REF!"}]
[{"$f":"basePAGAS!#REF!","v":{"$error":"#REF!"}},{"$error":"#REF!"}]
[{"$f":"basePAGAS!#REF!","v":{"$error":"#REF!"}},{"$error":"#REF!"}]
[{"$f":"basePAGAS!#REF!","v":{"$error":"#REF!"}},{"$f":"IF(A1551=\"\",\"\",IF(VLOOKUP(A1551,base_rpvs_pagas,2)=A$12,A1551,0))","v":{"$error":"#REF!"}}]
[{"$f":"basePAGAS!#REF!","v":{"$error":"#REF!"}},{"$error":"#REF!"}]
[{"$f":"basePAGAS!#REF!","v":{"$error":"#REF!"}},{"$error":"#REF!"}]
[{"$f":"basePAGAS!#REF!","v":{"$error":"#REF!"}},{"$error":"#REF!"}]
[{"$f":"basePAGAS!#REF!","v":{"$error":"#REF!"}},{"$error":"#REF!"}]
[{"$f":"basePAGAS!#REF!","v":{"$error":"#REF!"}},{"$error":"#REF!"}]
[{"$f":"basePAGAS!#REF!","v":{"$error":"#REF!"}},{"$error":"#REF!"}]
[{"$f":"basePAGAS!#REF!","v":{"$error":"#REF!"}},{"$error":"#REF!"}]
[{"$f":"basePAGAS!#REF!","v":{"$error":"#REF!"}},{"$error":"#REF!"}]
[{"$f":"basePAGAS!#REF!","v":{"$error":"#REF!"}},{"$error":"#REF!"}]
[{"$f":"basePAGAS!#REF!","v":{"$error":"#REF!"}},{"$error":"#REF!"}]
[{"$f":"basePAGAS!#REF!","v":{"$error":"#REF!"}},{"$error":"#REF!"}]
[{"$f":"basePAGAS!#REF!","v":{"$error":"#REF!"}},{"$error":"#REF!"}]
[{"$f":"basePAGAS!#REF!","v":{"$error":"#REF!"}},{"$error":"#REF!"}]
[{"$f":"basePAGAS!#REF!","v":{"$error":"#REF!"}},{"$error":"#REF!"}]
[{"$f":"basePAGAS!#REF!","v":{"$error":"#REF!"}},{"$error":"#REF!"}]
[{"$f":"basePAGAS!#REF!","v":{"$error":"#REF!"}},{"$error":"#REF!"}]
[{"$f":"basePAGAS!#REF!","v":{"$error":"#REF!"}},{"$error":"#REF!"}]
[{"$f":"basePAGAS!#REF!","v":{"$error":"#REF!"}},{"$error":"#REF!"}]
[{"$f":"basePAGAS!#REF!","v":{"$error":"#REF!"}},{"$error":"#REF!"}]
[{"$f":"basePAGAS!#REF!","v":{"$error":"#REF!"}},{"$error":"#REF!"}]
[{"$f":"basePAGAS!#REF!","v":{"$error":"#REF!"}},{"$error":"#REF!"}]
[{"$f":"basePAGAS!#REF!","v":{"$error":"#REF!"}},{"$error":"#REF!"}]
[{"$f":"basePAGAS!#REF!","v":{"$error":"#REF!"}},{"$error":"#REF!"}]
[{"$f":"basePAGAS!#REF!","v":{"$error":"#REF!"}},{"$error":"#REF!"}]
[{"$f":"basePAGAS!#REF!","v":{"$error":"#REF!"}},{"$error":"#REF!"}]
[{"$f":"basePAGAS!#REF!","v":{"$error":"#REF!"}},{"$error":"#REF!"}]
[{"$f":"basePAGAS!#REF!","v":{"$error":"#REF!"}},{"$error":"#REF!"}]
[{"$f":"basePAGAS!#REF!","v":{"$error":"#REF!"}},{"$error":"#REF!"}]
[{"$f":"basePAGAS!#REF!","v":{"$error":"#REF!"}},{"$error":"#REF!"}]
[{"$f":"basePAGAS!#REF!","v":{"$error":"#REF!"}},{"$error":"#REF!"}]
[{"$f":"basePAGAS!#REF!","v":{"$error":"#REF!"}},{"$error":"#REF!"}]
[{"$f":"basePAGAS!#REF!","v":{"$error":"#REF!"}},{"$error":"#REF!"}]
[{"$f":"basePAGAS!#REF!","v":{"$error":"#REF!"}},{"$error":"#REF!"}]
[{"$f":"basePAGAS!#REF!","v":{"$error":"#REF!"}},{"$error":"#REF!"}]
[{"$f":"basePAGAS!#REF!","v":{"$error":"#REF!"}},{"$error":"#REF!"}]
[{"$f":"basePAGAS!#REF!","v":{"$error":"#REF!"}},{"$error":"#REF!"}]
[{"$f":"basePAGAS!#REF!","v":{"$error":"#REF!"}},{"$error":"#REF!"}]
[{"$f":"basePAGAS!#REF!","v":{"$error":"#REF!"}},{"$error":"#REF!"}]
[{"$f":"basePAGAS!#REF!","v":{"$error":"#REF!"}},{"$error":"#REF!"}]
[{"$f":"basePAGAS!#REF!","v":{"$error":"#REF!"}},{"$error":"#REF!"}]
[{"$f":"basePAGAS!#REF!","v":{"$error":"#REF!"}},{"$error":"#REF!"}]
[{"$f":"basePAGAS!#REF!","v":{"$error":"#REF!"}},{"$error":"#REF!"}]
[{"$f":"basePAGAS!#REF!","v":{"$error":"#REF!"}},{"$error":"#REF!"}]
[{"$f":"basePAGAS!#REF!","v":{"$error":"#REF!"}},{"$error":"#REF!"}]
[{"$f":"basePAGAS!#REF!","v":{"$error":"#REF!"}},{"$error":"#REF!"}]
[{"$f":"basePAGAS!#REF!","v":{"$error":"#REF!"}},{"$error":"#REF!"}]
[{"$f":"basePAGAS!#REF!","v":{"$error":"#REF!"}},{"$error":"#REF!"}]
[{"$f":"basePAGAS!#REF!","v":{"$error":"#REF!"}},{"$error":"#REF!"}]
[{"$f":"basePAGAS!#REF!","v":{"$error":"#REF!"}},{"$error":"#REF!"}]
[{"$f":"basePAGAS!#REF!","v":{"$error":"#REF!"}},{"$error":"#REF!"}]
[{"$f":"basePAGAS!#REF!","v":{"$error":"#REF!"}},{"$error":"#REF!"}]
[{"$f":"basePAGAS!#REF!","v":{"$error":"#REF!"}},{"$error":"#REF!"}]
[{"$f":"basePAGAS!#REF!","v":{"$error":"#REF!"}},{"$error":"#REF!"}]
[{"$f":"basePAGAS!#REF!","v":{"$error":"#REF!"}},{"$error":"#REF!"}]
[{"$f":"basePAGAS!#REF!","v":{"$error":"#REF!"}},{"$error":"#REF!"}]
[{"$f":"basePAGAS!#REF!","v":{"$error":"#REF!"}},{"$error":"#REF!"}]
[{"$f":"basePAGAS!#REF!","v":{"$error":"#REF!"}},{"$error":"#REF!"}]
[{"$f":"basePAGAS!#REF!","v":{"$error":"#REF!"}},{"$error":"#REF!"}]
[{"$f":"basePAGAS!#REF!","v":{"$error":"#REF!"}},{"$error":"#REF!"}]
[{"$f":"basePAGAS!#REF!","v":{"$error":"#REF!"}},{"$error":"#REF!"}]
[{"$f":"basePAGAS!#REF!","v":{"$error":"#REF!"}},{"$error":"#REF!"}]
[{"$f":"basePAGAS!#REF!","v":{"$error":"#REF!"}},{"$error":"#REF!"}]
[{"$f":"basePAGAS!#REF!","v":{"$error":"#REF!"}},{"$error":"#REF!"}]
[{"$f":"basePAGAS!#REF!","v":{"$error":"#REF!"}},{"$f":"IF(A1615=\"\",\"\",IF(VLOOKUP(A1615,base_rpvs_pagas,2)=A$12,A1615,0))","v":{"$error":"#REF!"}}]
[{"$f":"basePAGAS!#REF!","v":{"$error":"#REF!"}},{"$error":"#REF!"}]
[{"$f":"basePAGAS!#REF!","v":{"$error":"#REF!"}},{"$error":"#REF!"}]
[{"$f":"basePAGAS!#REF!","v":{"$error":"#REF!"}},{"$error":"#REF!"}]
[{"$f":"basePAGAS!#REF!","v":{"$error":"#REF!"}},{"$error":"#REF!"}]
[{"$f":"basePAGAS!#REF!","v":{"$error":"#REF!"}},{"$error":"#REF!"}]
[{"$f":"basePAGAS!#REF!","v":{"$error":"#REF!"}},{"$error":"#REF!"}]
[{"$f":"basePAGAS!#REF!","v":{"$error":"#REF!"}},{"$error":"#REF!"}]
[{"$f":"basePAGAS!#REF!","v":{"$error":"#REF!"}},{"$error":"#REF!"}]
[{"$f":"basePAGAS!#REF!","v":{"$error":"#REF!"}},{"$error":"#REF!"}]
[{"$f":"basePAGAS!#REF!","v":{"$error":"#REF!"}},{"$error":"#REF!"}]
[{"$f":"basePAGAS!#REF!","v":{"$error":"#REF!"}},{"$error":"#REF!"}]
[{"$f":"basePAGAS!#REF!","v":{"$error":"#REF!"}},{"$error":"#REF!"}]
[{"$f":"basePAGAS!#REF!","v":{"$error":"#REF!"}},{"$error":"#REF!"}]
[{"$f":"basePAGAS!#REF!","v":{"$error":"#REF!"}},{"$error":"#REF!"}]
[{"$f":"basePAGAS!#REF!","v":{"$error":"#REF!"}},{"$error":"#REF!"}]
[{"$f":"basePAGAS!#REF!","v":{"$error":"#REF!"}},{"$error":"#REF!"}]
[{"$f":"basePAGAS!#REF!","v":{"$error":"#REF!"}},{"$error":"#REF!"}]
[{"$f":"basePAGAS!#REF!","v":{"$error":"#REF!"}},{"$error":"#REF!"}]
[{"$f":"basePAGAS!#REF!","v":{"$error":"#REF!"}},{"$error":"#REF!"}]
[{"$f":"basePAGAS!#REF!","v":{"$error":"#REF!"}},{"$error":"#REF!"}]
[{"$f":"basePAGAS!#REF!","v":{"$error":"#REF!"}},{"$error":"#REF!"}]
[{"$f":"basePAGAS!#REF!","v":{"$error":"#REF!"}},{"$error":"#REF!"}]
[{"$f":"basePAGAS!#REF!","v":{"$error":"#REF!"}},{"$error":"#REF!"}]
[{"$f":"basePAGAS!#REF!","v":{"$error":"#REF!"}},{"$error":"#REF!"}]
[{"$f":"basePAGAS!#REF!","v":{"$error":"#REF!"}},{"$error":"#REF!"}]
[{"$f":"basePAGAS!#REF!","v":{"$error":"#REF!"}},{"$error":"#REF!"}]
[{"$f":"basePAGAS!#REF!","v":{"$error":"#REF!"}},{"$error":"#REF!"}]
[{"$f":"basePAGAS!#REF!","v":{"$error":"#REF!"}},{"$error":"#REF!"}]
[{"$f":"basePAGAS!#REF!","v":{"$error":"#REF!"}},{"$error":"#REF!"}]
[{"$f":"basePAGAS!#REF!","v":{"$error":"#REF!"}},{"$error":"#REF!"}]
[{"$f":"basePAGAS!#REF!","v":{"$error":"#REF!"}},{"$error":"#REF!"}]
[{"$f":"basePAGAS!#REF!","v":{"$error":"#REF!"}},{"$error":"#REF!"}]
[{"$f":"basePAGAS!#REF!","v":{"$error":"#REF!"}},{"$error":"#REF!"}]
[{"$f":"basePAGAS!#REF!","v":{"$error":"#REF!"}},{"$error":"#REF!"}]
[{"$f":"basePAGAS!#REF!","v":{"$error":"#REF!"}},{"$error":"#REF!"}]
[{"$f":"basePAGAS!#REF!","v":{"$error":"#REF!"}},{"$error":"#REF!"}]
[{"$f":"basePAGAS!#REF!","v":{"$error":"#REF!"}},{"$error":"#REF!"}]
[{"$f":"basePAGAS!#REF!","v":{"$error":"#REF!"}},{"$error":"#REF!"}]
[{"$f":"basePAGAS!#REF!","v":{"$error":"#REF!"}},{"$error":"#REF!"}]
[{"$f":"basePAGAS!#REF!","v":{"$error":"#REF!"}},{"$error":"#REF!"}]
[{"$f":"basePAGAS!#REF!","v":{"$error":"#REF!"}},{"$error":"#REF!"}]
[{"$f":"basePAGAS!#REF!","v":{"$error":"#REF!"}},{"$error":"#REF!"}]
[{"$f":"basePAGAS!#REF!","v":{"$error":"#REF!"}},{"$error":"#REF!"}]
[{"$f":"basePAGAS!#REF!","v":{"$error":"#REF!"}},{"$error":"#REF!"}]
[{"$f":"basePAGAS!#REF!","v":{"$error":"#REF!"}},{"$error":"#REF!"}]
[{"$f":"basePAGAS!#REF!","v":{"$error":"#REF!"}},{"$error":"#REF!"}]
[{"$f":"basePAGAS!#REF!","v":{"$error":"#REF!"}},{"$error":"#REF!"}]
[{"$f":"basePAGAS!#REF!","v":{"$error":"#REF!"}},{"$error":"#REF!"}]
[{"$f":"basePAGAS!#REF!","v":{"$error":"#REF!"}},{"$error":"#REF!"}]
[{"$f":"basePAGAS!#REF!","v":{"$error":"#REF!"}},{"$error":"#REF!"}]
[{"$f":"basePAGAS!#REF!","v":{"$error":"#REF!"}},{"$error":"#REF!"}]
[{"$f":"basePAGAS!#REF!","v":{"$error":"#REF!"}},{"$error":"#REF!"}]
[{"$f":"basePAGAS!#REF!","v":{"$error":"#REF!"}},{"$error":"#REF!"}]
[{"$f":"basePAGAS!#REF!","v":{"$error":"#REF!"}},{"$error":"#REF!"}]
[{"$f":"basePAGAS!#REF!","v":{"$error":"#REF!"}},{"$error":"#REF!"}]
[{"$f":"basePAGAS!#REF!","v":{"$error":"#REF!"}},{"$error":"#REF!"}]
[{"$f":"basePAGAS!#REF!","v":{"$error":"#REF!"}},{"$error":"#REF!"}]
[{"$f":"basePAGAS!#REF!","v":{"$error":"#REF!"}},{"$error":"#REF!"}]
[{"$f":"basePAGAS!#REF!","v":{"$error":"#REF!"}},{"$error":"#REF!"}]
[{"$f":"basePAGAS!#REF!","v":{"$error":"#REF!"}},{"$error":"#REF!"}]
[{"$f":"basePAGAS!#REF!","v":{"$error":"#REF!"}},{"$error":"#REF!"}]
[{"$f":"basePAGAS!#REF!","v":{"$error":"#REF!"}},{"$error":"#REF!"}]
[{"$f":"basePAGAS!#REF!","v":{"$error":"#REF!"}},{"$error":"#REF!"}]
[{"$f":"basePAGAS!#REF!","v":{"$error":"#REF!"}},{"$f":"IF(A1679=\"\",\"\",IF(VLOOKUP(A1679,base_rpvs_pagas,2)=A$12,A1679,0))","v":{"$error":"#REF!"}}]
[{"$f":"basePAGAS!#REF!","v":{"$error":"#REF!"}},{"$error":"#REF!"}]
[{"$f":"basePAGAS!#REF!","v":{"$error":"#REF!"}},{"$error":"#REF!"}]
[{"$f":"basePAGAS!#REF!","v":{"$error":"#REF!"}},{"$error":"#REF!"}]
[{"$f":"basePAGAS!#REF!","v":{"$error":"#REF!"}},{"$error":"#REF!"}]
[{"$f":"basePAGAS!#REF!","v":{"$error":"#REF!"}},{"$error":"#REF!"}]
[{"$f":"basePAGAS!#REF!","v":{"$error":"#REF!"}},{"$error":"#REF!"}]
[{"$f":"basePAGAS!#REF!","v":{"$error":"#REF!"}},{"$error":"#REF!"}]
[{"$f":"basePAGAS!#REF!","v":{"$error":"#REF!"}},{"$error":"#REF!"}]
[{"$f":"basePAGAS!#REF!","v":{"$error":"#REF!"}},{"$error":"#REF!"}]
[{"$f":"basePAGAS!#REF!","v":{"$error":"#REF!"}},{"$error":"#REF!"}]
[{"$f":"basePAGAS!#REF!","v":{"$error":"#REF!"}},{"$error":"#REF!"}]
[{"$f":"basePAGAS!#REF!","v":{"$error":"#REF!"}},{"$error":"#REF!"}]
[{"$f":"basePAGAS!#REF!","v":{"$error":"#REF!"}},{"$error":"#REF!"}]
[{"$f":"basePAGAS!#REF!","v":{"$error":"#REF!"}},{"$error":"#REF!"}]
[{"$f":"basePAGAS!#REF!","v":{"$error":"#REF!"}},{"$error":"#REF!"}]
[{"$f":"basePAGAS!#REF!","v":{"$error":"#REF!"}},{"$error":"#REF!"}]
[{"$f":"basePAGAS!#REF!","v":{"$error":"#REF!"}},{"$error":"#REF!"}]
[{"$f":"basePAGAS!#REF!","v":{"$error":"#REF!"}},{"$error":"#REF!"}]
[{"$f":"basePAGAS!#REF!","v":{"$error":"#REF!"}},{"$error":"#REF!"}]
[{"$f":"basePAGAS!#REF!","v":{"$error":"#REF!"}},{"$error":"#REF!"}]
[{"$f":"basePAGAS!#REF!","v":{"$error":"#REF!"}},{"$error":"#REF!"}]
[{"$f":"basePAGAS!#REF!","v":{"$error":"#REF!"}},{"$error":"#REF!"}]
[{"$f":"basePAGAS!#REF!","v":{"$error":"#REF!"}},{"$error":"#REF!"}]
[{"$f":"basePAGAS!#REF!","v":{"$error":"#REF!"}},{"$error":"#REF!"}]
[{"$f":"basePAGAS!#REF!","v":{"$error":"#REF!"}},{"$error":"#REF!"}]
[{"$f":"basePAGAS!#REF!","v":{"$error":"#REF!"}},{"$error":"#REF!"}]
[{"$f":"basePAGAS!#REF!","v":{"$error":"#REF!"}},{"$error":"#REF!"}]
[{"$f":"basePAGAS!#REF!","v":{"$error":"#REF!"}},{"$error":"#REF!"}]
[{"$f":"basePAGAS!#REF!","v":{"$error":"#REF!"}},{"$error":"#REF!"}]
[{"$f":"basePAGAS!#REF!","v":{"$error":"#REF!"}},{"$error":"#REF!"}]
[{"$f":"basePAGAS!#REF!","v":{"$error":"#REF!"}},{"$error":"#REF!"}]
[{"$f":"basePAGAS!#REF!","v":{"$error":"#REF!"}},{"$error":"#REF!"}]
[{"$f":"basePAGAS!#REF!","v":{"$error":"#REF!"}},{"$error":"#REF!"}]
[{"$f":"basePAGAS!#REF!","v":{"$error":"#REF!"}},{"$error":"#REF!"}]
[{"$f":"basePAGAS!#REF!","v":{"$error":"#REF!"}},{"$error":"#REF!"}]
[{"$f":"basePAGAS!#REF!","v":{"$error":"#REF!"}},{"$error":"#REF!"}]
[{"$f":"basePAGAS!#REF!","v":{"$error":"#REF!"}},{"$error":"#REF!"}]
[{"$f":"basePAGAS!#REF!","v":{"$error":"#REF!"}},{"$error":"#REF!"}]
[{"$f":"basePAGAS!#REF!","v":{"$error":"#REF!"}},{"$error":"#REF!"}]
[{"$f":"basePAGAS!#REF!","v":{"$error":"#REF!"}},{"$error":"#REF!"}]
[{"$f":"basePAGAS!#REF!","v":{"$error":"#REF!"}},{"$error":"#REF!"}]
[{"$f":"basePAGAS!#REF!","v":{"$error":"#REF!"}},{"$error":"#REF!"}]
[{"$f":"basePAGAS!#REF!","v":{"$error":"#REF!"}},{"$error":"#REF!"}]
[{"$f":"basePAGAS!#REF!","v":{"$error":"#REF!"}},{"$error":"#REF!"}]
[{"$f":"basePAGAS!#REF!","v":{"$error":"#REF!"}},{"$error":"#REF!"}]
[{"$f":"basePAGAS!#REF!","v":{"$error":"#REF!"}},{"$error":"#REF!"}]
[{"$f":"basePAGAS!#REF!","v":{"$error":"#REF!"}},{"$error":"#REF!"}]
[{"$f":"basePAGAS!#REF!","v":{"$error":"#REF!"}},{"$error":"#REF!"}]
[{"$f":"basePAGAS!#REF!","v":{"$error":"#REF!"}},{"$error":"#REF!"}]
[{"$f":"basePAGAS!#REF!","v":{"$error":"#REF!"}},{"$error":"#REF!"}]
[{"$f":"basePAGAS!#REF!","v":{"$error":"#REF!"}},{"$error":"#REF!"}]
[{"$f":"basePAGAS!#REF!","v":{"$error":"#REF!"}},{"$error":"#REF!"}]
[{"$f":"basePAGAS!#REF!","v":{"$error":"#REF!"}},{"$error":"#REF!"}]
[{"$f":"basePAGAS!#REF!","v":{"$error":"#REF!"}},{"$error":"#REF!"}]
[{"$f":"basePAGAS!#REF!","v":{"$error":"#REF!"}},{"$error":"#REF!"}]
[{"$f":"basePAGAS!#REF!","v":{"$error":"#REF!"}},{"$error":"#REF!"}]
[{"$f":"basePAGAS!#REF!","v":{"$error":"#REF!"}},{"$error":"#REF!"}]
[{"$f":"basePAGAS!#REF!","v":{"$error":"#REF!"}},{"$error":"#REF!"}]
[{"$f":"basePAGAS!#REF!","v":{"$error":"#REF!"}},{"$error":"#REF!"}]
[{"$f":"basePAGAS!#REF!","v":{"$error":"#REF!"}},{"$error":"#REF!"}]
[{"$f":"basePAGAS!#REF!","v":{"$error":"#REF!"}},{"$error":"#REF!"}]
[{"$f":"basePAGAS!#REF!","v":{"$error":"#REF!"}},{"$error":"#REF!"}]
[{"$f":"basePAGAS!#REF!","v":{"$error":"#REF!"}},{"$error":"#REF!"}]
[{"$f":"basePAGAS!#REF!","v":{"$error":"#REF!"}},{"$f":"IF(A1743=\"\",\"\",IF(VLOOKUP(A1743,base_rpvs_pagas,2)=A$12,A1743,0))","v":{"$error":"#REF!"}}]
[{"$f":"basePAGAS!#REF!","v":{"$error":"#REF!"}},{"$error":"#REF!"}]
[{"$f":"basePAGAS!#REF!","v":{"$error":"#REF!"}},{"$error":"#REF!"}]
[{"$f":"basePAGAS!#REF!","v":{"$error":"#REF!"}},{"$error":"#REF!"}]
[{"$f":"basePAGAS!#REF!","v":{"$error":"#REF!"}},{"$error":"#REF!"}]
[{"$f":"basePAGAS!#REF!","v":{"$error":"#REF!"}},{"$error":"#REF!"}]
[{"$f":"basePAGAS!#REF!","v":{"$error":"#REF!"}},{"$error":"#REF!"}]
[{"$f":"basePAGAS!#REF!","v":{"$error":"#REF!"}},{"$error":"#REF!"}]
[{"$f":"basePAGAS!#REF!","v":{"$error":"#REF!"}},{"$error":"#REF!"}]
[{"$f":"basePAGAS!#REF!","v":{"$error":"#REF!"}},{"$error":"#REF!"}]
[{"$f":"basePAGAS!#REF!","v":{"$error":"#REF!"}},{"$error":"#REF!"}]
[{"$f":"basePAGAS!#REF!","v":{"$error":"#REF!"}},{"$error":"#REF!"}]
[{"$f":"basePAGAS!#REF!","v":{"$error":"#REF!"}},{"$error":"#REF!"}]
[{"$f":"basePAGAS!#REF!","v":{"$error":"#REF!"}},{"$error":"#REF!"}]
[{"$f":"basePAGAS!#REF!","v":{"$error":"#REF!"}},{"$error":"#REF!"}]
[{"$f":"basePAGAS!#REF!","v":{"$error":"#REF!"}},{"$error":"#REF!"}]
[{"$f":"basePAGAS!#REF!","v":{"$error":"#REF!"}},{"$error":"#REF!"}]
[{"$f":"basePAGAS!#REF!","v":{"$error":"#REF!"}},{"$error":"#REF!"}]
[{"$f":"basePAGAS!#REF!","v":{"$error":"#REF!"}},{"$error":"#REF!"}]
[{"$f":"basePAGAS!#REF!","v":{"$error":"#REF!"}},{"$error":"#REF!"}]
[{"$f":"basePAGAS!#REF!","v":{"$error":"#REF!"}},{"$error":"#REF!"}]
[{"$f":"basePAGAS!#REF!","v":{"$error":"#REF!"}},{"$error":"#REF!"}]
[{"$f":"basePAGAS!#REF!","v":{"$error":"#REF!"}},{"$error":"#REF!"}]
[{"$f":"basePAGAS!#REF!","v":{"$error":"#REF!"}},{"$error":"#REF!"}]
[{"$f":"basePAGAS!#REF!","v":{"$error":"#REF!"}},{"$error":"#REF!"}]
[{"$f":"basePAGAS!#REF!","v":{"$error":"#REF!"}},{"$error":"#REF!"}]
[{"$f":"basePAGAS!#REF!","v":{"$error":"#REF!"}},{"$error":"#REF!"}]
[{"$f":"basePAGAS!#REF!","v":{"$error":"#REF!"}},{"$error":"#REF!"}]
[{"$f":"basePAGAS!#REF!","v":{"$error":"#REF!"}},{"$error":"#REF!"}]
[{"$f":"basePAGAS!#REF!","v":{"$error":"#REF!"}},{"$error":"#REF!"}]
[{"$f":"basePAGAS!#REF!","v":{"$error":"#REF!"}},{"$error":"#REF!"}]
[{"$f":"basePAGAS!#REF!","v":{"$error":"#REF!"}},{"$error":"#REF!"}]
[{"$f":"basePAGAS!#REF!","v":{"$error":"#REF!"}},{"$error":"#REF!"}]
[{"$f":"basePAGAS!#REF!","v":{"$error":"#REF!"}},{"$error":"#REF!"}]
[{"$f":"basePAGAS!#REF!","v":{"$error":"#REF!"}},{"$error":"#REF!"}]
[{"$f":"basePAGAS!#REF!","v":{"$error":"#REF!"}},{"$error":"#REF!"}]
[{"$f":"basePAGAS!#REF!","v":{"$error":"#REF!"}},{"$error":"#REF!"}]
[{"$f":"basePAGAS!#REF!","v":{"$error":"#REF!"}},{"$error":"#REF!"}]
[{"$f":"basePAGAS!#REF!","v":{"$error":"#REF!"}},{"$error":"#REF!"}]
[{"$f":"basePAGAS!#REF!","v":{"$error":"#REF!"}},{"$error":"#REF!"}]
[{"$f":"basePAGAS!#REF!","v":{"$error":"#REF!"}},{"$error":"#REF!"}]
[{"$f":"basePAGAS!#REF!","v":{"$error":"#REF!"}},{"$error":"#REF!"}]
[{"$f":"basePAGAS!#REF!","v":{"$error":"#REF!"}},{"$error":"#REF!"}]
[{"$f":"basePAGAS!#REF!","v":{"$error":"#REF!"}},{"$error":"#REF!"}]
[{"$f":"basePAGAS!#REF!","v":{"$error":"#REF!"}},{"$error":"#REF!"}]
[{"$f":"basePAGAS!#REF!","v":{"$error":"#REF!"}},{"$error":"#REF!"}]
[{"$f":"basePAGAS!#REF!","v":{"$error":"#REF!"}},{"$error":"#REF!"}]
[{"$f":"basePAGAS!#REF!","v":{"$error":"#REF!"}},{"$error":"#REF!"}]
[{"$f":"basePAGAS!#REF!","v":{"$error":"#REF!"}},{"$error":"#REF!"}]
[{"$f":"basePAGAS!#REF!","v":{"$error":"#REF!"}},{"$error":"#REF!"}]
[{"$f":"basePAGAS!#REF!","v":{"$error":"#REF!"}},{"$error":"#REF!"}]
[{"$f":"basePAGAS!#REF!","v":{"$error":"#REF!"}},{"$error":"#REF!"}]
[{"$f":"basePAGAS!#REF!","v":{"$error":"#REF!"}},{"$error":"#REF!"}]
[{"$f":"basePAGAS!#REF!","v":{"$error":"#REF!"}},{"$error":"#REF!"}]
[{"$f":"basePAGAS!#REF!","v":{"$error":"#REF!"}},{"$error":"#REF!"}]
[{"$f":"basePAGAS!#REF!","v":{"$error":"#REF!"}},{"$error":"#REF!"}]
[{"$f":"basePAGAS!#REF!","v":{"$error":"#REF!"}},{"$error":"#REF!"}]
[{"$f":"basePAGAS!#REF!","v":{"$error":"#REF!"}},{"$error":"#REF!"}]
[{"$f":"basePAGAS!#REF!","v":{"$error":"#REF!"}},{"$error":"#REF!"}]
[{"$f":"basePAGAS!#REF!","v":{"$error":"#REF!"}},{"$error":"#REF!"}]
[{"$f":"basePAGAS!#REF!","v":{"$error":"#REF!"}},{"$error":"#REF!"}]
[{"$f":"basePAGAS!#REF!","v":{"$error":"#REF!"}},{"$error":"#REF!"}]
[{"$f":"basePAGAS!#REF!","v":{"$error":"#REF!"}},{"$error":"#REF!"}]
[{"$f":"basePAGAS!#REF!","v":{"$error":"#REF!"}},{"$error":"#REF!"}]
[{"$f":"basePAGAS!#REF!","v":{"$error":"#REF!"}},{"$f":"IF(A1807=\"\",\"\",IF(VLOOKUP(A1807,base_rpvs_pagas,2)=A$12,A1807,0))","v":{"$error":"#REF!"}}]
[{"$f":"basePAGAS!#REF!","v":{"$error":"#REF!"}},{"$error":"#REF!"}]
[{"$f":"basePAGAS!#REF!","v":{"$error":"#REF!"}},{"$error":"#REF!"}]
[{"$f":"basePAGAS!#REF!","v":{"$error":"#REF!"}},{"$error":"#REF!"}]
[{"$f":"basePAGAS!#REF!","v":{"$error":"#REF!"}},{"$error":"#REF!"}]
[{"$f":"basePAGAS!#REF!","v":{"$error":"#REF!"}},{"$error":"#REF!"}]
[{"$f":"basePAGAS!#REF!","v":{"$error":"#REF!"}},{"$error":"#REF!"}]
[{"$f":"basePAGAS!#REF!","v":{"$error":"#REF!"}},{"$error":"#REF!"}]
[{"$f":"basePAGAS!#REF!","v":{"$error":"#REF!"}},{"$error":"#REF!"}]
[{"$f":"basePAGAS!#REF!","v":{"$error":"#REF!"}},{"$error":"#REF!"}]
[{"$f":"basePAGAS!#REF!","v":{"$error":"#REF!"}},{"$error":"#REF!"}]
[{"$f":"basePAGAS!#REF!","v":{"$error":"#REF!"}},{"$error":"#REF!"}]
[{"$f":"basePAGAS!#REF!","v":{"$error":"#REF!"}},{"$error":"#REF!"}]
[{"$f":"basePAGAS!#REF!","v":{"$error":"#REF!"}},{"$error":"#REF!"}]
[{"$f":"basePAGAS!#REF!","v":{"$error":"#REF!"}},{"$error":"#REF!"}]
[{"$f":"basePAGAS!#REF!","v":{"$error":"#REF!"}},{"$error":"#REF!"}]
[{"$f":"basePAGAS!#REF!","v":{"$error":"#REF!"}},{"$error":"#REF!"}]
[{"$f":"basePAGAS!#REF!","v":{"$error":"#REF!"}},{"$error":"#REF!"}]
[{"$f":"basePAGAS!#REF!","v":{"$error":"#REF!"}},{"$error":"#REF!"}]
[{"$f":"basePAGAS!#REF!","v":{"$error":"#REF!"}},{"$error":"#REF!"}]
[{"$f":"basePAGAS!#REF!","v":{"$error":"#REF!"}},{"$error":"#REF!"}]
[{"$f":"basePAGAS!#REF!","v":{"$error":"#REF!"}},{"$error":"#REF!"}]
[{"$f":"basePAGAS!#REF!","v":{"$error":"#REF!"}},{"$error":"#REF!"}]
[{"$f":"basePAGAS!#REF!","v":{"$error":"#REF!"}},{"$error":"#REF!"}]
[{"$f":"basePAGAS!#REF!","v":{"$error":"#REF!"}},{"$error":"#REF!"}]
[{"$f":"basePAGAS!#REF!","v":{"$error":"#REF!"}},{"$error":"#REF!"}]
[{"$f":"basePAGAS!#REF!","v":{"$error":"#REF!"}},{"$error":"#REF!"}]
[{"$f":"basePAGAS!#REF!","v":{"$error":"#REF!"}},{"$error":"#REF!"}]
[{"$f":"basePAGAS!#REF!","v":{"$error":"#REF!"}},{"$error":"#REF!"}]
[{"$f":"basePAGAS!#REF!","v":{"$error":"#REF!"}},{"$error":"#REF!"}]
[{"$f":"basePAGAS!#REF!","v":{"$error":"#REF!"}},{"$error":"#REF!"}]
[{"$f":"basePAGAS!#REF!","v":{"$error":"#REF!"}},{"$error":"#REF!"}]
[{"$f":"basePAGAS!#REF!","v":{"$error":"#REF!"}},{"$error":"#REF!"}]
[{"$f":"basePAGAS!#REF!","v":{"$error":"#REF!"}},{"$error":"#REF!"}]
[{"$f":"basePAGAS!#REF!","v":{"$error":"#REF!"}},{"$error":"#REF!"}]
[{"$f":"basePAGAS!#REF!","v":{"$error":"#REF!"}},{"$error":"#REF!"}]
[{"$f":"basePAGAS!#REF!","v":{"$error":"#REF!"}},{"$error":"#REF!"}]
[{"$f":"basePAGAS!#REF!","v":{"$error":"#REF!"}},{"$error":"#REF!"}]
[{"$f":"basePAGAS!#REF!","v":{"$error":"#REF!"}},{"$error":"#REF!"}]
[{"$f":"basePAGAS!#REF!","v":{"$error":"#REF!"}},{"$error":"#REF!"}]
[{"$f":"basePAGAS!#REF!","v":{"$error":"#REF!"}},{"$error":"#REF!"}]
[{"$f":"basePAGAS!#REF!","v":{"$error":"#REF!"}},{"$error":"#REF!"}]
[{"$f":"basePAGAS!#REF!","v":{"$error":"#REF!"}},{"$error":"#REF!"}]
[{"$f":"basePAGAS!#REF!","v":{"$error":"#REF!"}},{"$error":"#REF!"}]
[{"$f":"basePAGAS!#REF!","v":{"$error":"#REF!"}},{"$error":"#REF!"}]
[{"$f":"basePAGAS!#REF!","v":{"$error":"#REF!"}},{"$error":"#REF!"}]
[{"$f":"basePAGAS!#REF!","v":{"$error":"#REF!"}},{"$error":"#REF!"}]
[{"$f":"basePAGAS!#REF!","v":{"$error":"#REF!"}},{"$error":"#REF!"}]
[{"$f":"basePAGAS!#REF!","v":{"$error":"#REF!"}},{"$error":"#REF!"}]
[{"$f":"basePAGAS!#REF!","v":{"$error":"#REF!"}},{"$error":"#REF!"}]
[{"$f":"basePAGAS!#REF!","v":{"$error":"#REF!"}},{"$error":"#REF!"}]
[{"$f":"basePAGAS!#REF!","v":{"$error":"#REF!"}},{"$error":"#REF!"}]
[{"$f":"basePAGAS!#REF!","v":{"$error":"#REF!"}},{"$error":"#REF!"}]
[{"$f":"basePAGAS!#REF!","v":{"$error":"#REF!"}},{"$error":"#REF!"}]
[{"$f":"basePAGAS!#REF!","v":{"$error":"#REF!"}},{"$error":"#REF!"}]
[{"$f":"basePAGAS!#REF!","v":{"$error":"#REF!"}},{"$error":"#REF!"}]
[{"$f":"basePAGAS!#REF!","v":{"$error":"#REF!"}},{"$error":"#REF!"}]
[{"$f":"basePAGAS!#REF!","v":{"$error":"#REF!"}},{"$error":"#REF!"}]
[{"$f":"basePAGAS!#REF!","v":{"$error":"#REF!"}},{"$error":"#REF!"}]
[{"$f":"basePAGAS!#REF!","v":{"$error":"#REF!"}},{"$error":"#REF!"}]
[{"$f":"basePAGAS!#REF!","v":{"$error":"#REF!"}},{"$error":"#REF!"}]
[{"$f":"basePAGAS!#REF!","v":{"$error":"#REF!"}},{"$error":"#REF!"}]
[{"$f":"basePAGAS!#REF!","v":{"$error":"#REF!"}},{"$error":"#REF!"}]
[{"$f":"basePAGAS!#REF!","v":{"$error":"#REF!"}},{"$error":"#REF!"}]
[{"$f":"basePAGAS!#REF!","v":{"$error":"#REF!"}},{"$f":"IF(A1871=\"\",\"\",IF(VLOOKUP(A1871,base_rpvs_pagas,2)=A$12,A1871,0))","v":{"$error":"#REF!"}}]
[{"$f":"basePAGAS!#REF!","v":{"$error":"#REF!"}},{"$error":"#REF!"}]
[{"$f":"basePAGAS!#REF!","v":{"$error":"#REF!"}},{"$error":"#REF!"}]
[{"$f":"basePAGAS!#REF!","v":{"$error":"#REF!"}},{"$error":"#REF!"}]
[{"$f":"basePAGAS!#REF!","v":{"$error":"#REF!"}},{"$error":"#REF!"}]
[{"$f":"basePAGAS!#REF!","v":{"$error":"#REF!"}},{"$error":"#REF!"}]
[{"$f":"basePAGAS!#REF!","v":{"$error":"#REF!"}},{"$error":"#REF!"}]
[{"$f":"basePAGAS!#REF!","v":{"$error":"#REF!"}},{"$error":"#REF!"}]
[{"$f":"basePAGAS!#REF!","v":{"$error":"#REF!"}},{"$error":"#REF!"}]
[{"$f":"basePAGAS!#REF!","v":{"$error":"#REF!"}},{"$error":"#REF!"}]
[{"$f":"basePAGAS!#REF!","v":{"$error":"#REF!"}},{"$error":"#REF!"}]
[{"$f":"basePAGAS!#REF!","v":{"$error":"#REF!"}},{"$error":"#REF!"}]
[{"$f":"basePAGAS!#REF!","v":{"$error":"#REF!"}},{"$error":"#REF!"}]
[{"$f":"basePAGAS!#REF!","v":{"$error":"#REF!"}},{"$error":"#REF!"}]
[{"$f":"basePAGAS!#REF!","v":{"$error":"#REF!"}},{"$error":"#REF!"}]
[{"$f":"basePAGAS!#REF!","v":{"$error":"#REF!"}},{"$error":"#REF!"}]
[{"$f":"basePAGAS!#REF!","v":{"$error":"#REF!"}},{"$error":"#REF!"}]
[{"$f":"basePAGAS!#REF!","v":{"$error":"#REF!"}},{"$error":"#REF!"}]
[{"$f":"basePAGAS!#REF!","v":{"$error":"#REF!"}},{"$error":"#REF!"}]
[{"$f":"basePAGAS!#REF!","v":{"$error":"#REF!"}},{"$error":"#REF!"}]
[{"$f":"basePAGAS!#REF!","v":{"$error":"#REF!"}},{"$error":"#REF!"}]
[{"$f":"basePAGAS!#REF!","v":{"$error":"#REF!"}},{"$error":"#REF!"}]
[{"$f":"basePAGAS!#REF!","v":{"$error":"#REF!"}},{"$error":"#REF!"}]
[{"$f":"basePAGAS!#REF!","v":{"$error":"#REF!"}},{"$error":"#REF!"}]
[{"$f":"basePAGAS!#REF!","v":{"$error":"#REF!"}},{"$error":"#REF!"}]
[{"$f":"basePAGAS!#REF!","v":{"$error":"#REF!"}},{"$error":"#REF!"}]
[{"$f":"basePAGAS!#REF!","v":{"$error":"#REF!"}},{"$error":"#REF!"}]
[{"$f":"basePAGAS!#REF!","v":{"$error":"#REF!"}},{"$error":"#REF!"}]
[{"$f":"basePAGAS!#REF!","v":{"$error":"#REF!"}},{"$error":"#REF!"}]
[{"$f":"basePAGAS!#REF!","v":{"$error":"#REF!"}},{"$error":"#REF!"}]
[{"$f":"basePAGAS!#REF!","v":{"$error":"#REF!"}},{"$error":"#REF!"}]
[{"$f":"basePAGAS!#REF!","v":{"$error":"#REF!"}},{"$error":"#REF!"}]
[{"$f":"basePAGAS!#REF!","v":{"$error":"#REF!"}},{"$error":"#REF!"}]
[{"$f":"basePAGAS!#REF!","v":{"$error":"#REF!"}},{"$error":"#REF!"}]
[{"$f":"basePAGAS!#REF!","v":{"$error":"#REF!"}},{"$error":"#REF!"}]
[{"$f":"basePAGAS!#REF!","v":{"$error":"#REF!"}},{"$error":"#REF!"}]
[{"$f":"basePAGAS!#REF!","v":{"$error":"#REF!"}},{"$error":"#REF!"}]
[{"$f":"basePAGAS!#REF!","v":{"$error":"#REF!"}},{"$error":"#REF!"}]
[{"$f":"basePAGAS!#REF!","v":{"$error":"#REF!"}},{"$error":"#REF!"}]
[{"$f":"basePAGAS!#REF!","v":{"$error":"#REF!"}},{"$error":"#REF!"}]
[{"$f":"basePAGAS!#REF!","v":{"$error":"#REF!"}},{"$error":"#REF!"}]
[{"$f":"basePAGAS!#REF!","v":{"$error":"#REF!"}},{"$error":"#REF!"}]
[{"$f":"basePAGAS!#REF!","v":{"$error":"#REF!"}},{"$error":"#REF!"}]
[{"$f":"basePAGAS!#REF!","v":{"$error":"#REF!"}},{"$error":"#REF!"}]
[{"$f":"basePAGAS!#REF!","v":{"$error":"#REF!"}},{"$error":"#REF!"}]
[{"$f":"basePAGAS!#REF!","v":{"$error":"#REF!"}},{"$error":"#REF!"}]
[{"$f":"basePAGAS!#REF!","v":{"$error":"#REF!"}},{"$error":"#REF!"}]
[{"$f":"basePAGAS!#REF!","v":{"$error":"#REF!"}},{"$error":"#REF!"}]
[{"$f":"basePAGAS!#REF!","v":{"$error":"#REF!"}},{"$error":"#REF!"}]
[{"$f":"basePAGAS!#REF!","v":{"$error":"#REF!"}},{"$error":"#REF!"}]
[{"$f":"basePAGAS!#REF!","v":{"$error":"#REF!"}},{"$error":"#REF!"}]
[{"$f":"basePAGAS!#REF!","v":{"$error":"#REF!"}},{"$error":"#REF!"}]
[{"$f":"basePAGAS!#REF!","v":{"$error":"#REF!"}},{"$error":"#REF!"}]
[{"$f":"basePAGAS!#REF!","v":{"$error":"#REF!"}},{"$error":"#REF!"}]
[{"$f":"basePAGAS!#REF!","v":{"$error":"#REF!"}},{"$error":"#REF!"}]
[{"$f":"basePAGAS!#REF!","v":{"$error":"#REF!"}},{"$error":"#REF!"}]
[{"$f":"basePAGAS!#REF!","v":{"$error":"#REF!"}},{"$error":"#REF!"}]
[{"$f":"basePAGAS!#REF!","v":{"$error":"#REF!"}},{"$error":"#REF!"}]
[{"$f":"basePAGAS!#REF!","v":{"$error":"#REF!"}},{"$error":"#REF!"}]
[{"$f":"basePAGAS!#REF!","v":{"$error":"#REF!"}},{"$error":"#REF!"}]
[{"$f":"basePAGAS!#REF!","v":{"$error":"#REF!"}},{"$error":"#REF!"}]
[{"$f":"basePAGAS!#REF!","v":{"$error":"#REF!"}},{"$error":"#REF!"}]
[{"$f":"basePAGAS!#REF!","v":{"$error":"#REF!"}},{"$error":"#REF!"}]
[{"$f":"basePAGAS!#REF!","v":{"$error":"#REF!"}},{"$error":"#REF!"}]
[{"$f":"basePAGAS!#REF!","v":{"$error":"#REF!"}},{"$f":"IF(A1935=\"\",\"\",IF(VLOOKUP(A1935,base_rpvs_pagas,2)=A$12,A1935,0))","v":{"$error":"#REF!"}}]
[{"$f":"basePAGAS!#REF!","v":{"$error":"#REF!"}},{"$error":"#REF!"}]
[{"$f":"basePAGAS!#REF!","v":{"$error":"#REF!"}},{"$error":"#REF!"}]
[{"$f":"basePAGAS!#REF!","v":{"$error":"#REF!"}},{"$error":"#REF!"}]
[{"$f":"basePAGAS!#REF!","v":{"$error":"#REF!"}},{"$error":"#REF!"}]
[{"$f":"basePAGAS!#REF!","v":{"$error":"#REF!"}},{"$error":"#REF!"}]
[{"$f":"basePAGAS!#REF!","v":{"$error":"#REF!"}},{"$error":"#REF!"}]
[{"$f":"basePAGAS!#REF!","v":{"$error":"#REF!"}},{"$error":"#REF!"}]
[{"$f":"basePAGAS!#REF!","v":{"$error":"#REF!"}},{"$error":"#REF!"}]
[{"$f":"basePAGAS!#REF!","v":{"$error":"#REF!"}},{"$error":"#REF!"}]
[{"$f":"basePAGAS!#REF!","v":{"$error":"#REF!"}},{"$error":"#REF!"}]
[{"$f":"basePAGAS!#REF!","v":{"$error":"#REF!"}},{"$error":"#REF!"}]
[{"$f":"basePAGAS!#REF!","v":{"$error":"#REF!"}},{"$error":"#REF!"}]
[{"$f":"basePAGAS!#REF!","v":{"$error":"#REF!"}},{"$error":"#REF!"}]
[{"$f":"basePAGAS!#REF!","v":{"$error":"#REF!"}},{"$error":"#REF!"}]
[{"$f":"basePAGAS!#REF!","v":{"$error":"#REF!"}},{"$error":"#REF!"}]
[{"$f":"basePAGAS!#REF!","v":{"$error":"#REF!"}},{"$error":"#REF!"}]
[{"$f":"basePAGAS!#REF!","v":{"$error":"#REF!"}},{"$error":"#REF!"}]
[{"$f":"basePAGAS!#REF!","v":{"$error":"#REF!"}},{"$error":"#REF!"}]
[{"$f":"basePAGAS!#REF!","v":{"$error":"#REF!"}},{"$error":"#REF!"}]
[{"$f":"basePAGAS!#REF!","v":{"$error":"#REF!"}},{"$error":"#REF!"}]
[{"$f":"basePAGAS!#REF!","v":{"$error":"#REF!"}},{"$error":"#REF!"}]
[{"$f":"basePAGAS!#REF!","v":{"$error":"#REF!"}},{"$error":"#REF!"}]
[{"$f":"basePAGAS!#REF!","v":{"$error":"#REF!"}},{"$error":"#REF!"}]
[{"$f":"basePAGAS!#REF!","v":{"$error":"#REF!"}},{"$error":"#REF!"}]
[{"$f":"basePAGAS!#REF!","v":{"$error":"#REF!"}},{"$error":"#REF!"}]
[{"$f":"basePAGAS!#REF!","v":{"$error":"#REF!"}},{"$error":"#REF!"}]
[{"$f":"basePAGAS!#REF!","v":{"$error":"#REF!"}},{"$error":"#REF!"}]
[{"$f":"basePAGAS!#REF!","v":{"$error":"#REF!"}},{"$error":"#REF!"}]
[{"$f":"basePAGAS!#REF!","v":{"$error":"#REF!"}},{"$error":"#REF!"}]
[{"$f":"basePAGAS!#REF!","v":{"$error":"#REF!"}},{"$error":"#REF!"}]
[{"$f":"basePAGAS!#REF!","v":{"$error":"#REF!"}},{"$error":"#REF!"}]
[{"$f":"basePAGAS!#REF!","v":{"$error":"#REF!"}},{"$error":"#REF!"}]
[{"$f":"basePAGAS!#REF!","v":{"$error":"#REF!"}},{"$error":"#REF!"}]
[{"$f":"basePAGAS!#REF!","v":{"$error":"#REF!"}},{"$error":"#REF!"}]
[{"$f":"basePAGAS!#REF!","v":{"$error":"#REF!"}},{"$error":"#REF!"}]
[{"$f":"basePAGAS!#REF!","v":{"$error":"#REF!"}},{"$error":"#REF!"}]
[{"$f":"basePAGAS!#REF!","v":{"$error":"#REF!"}},{"$error":"#REF!"}]
[{"$f":"basePAGAS!#REF!","v":{"$error":"#REF!"}},{"$error":"#REF!"}]
[{"$f":"basePAGAS!#REF!","v":{"$error":"#REF!"}},{"$error":"#REF!"}]
[{"$f":"basePAGAS!#REF!","v":{"$error":"#REF!"}},{"$error":"#REF!"}]
[{"$f":"basePAGAS!#REF!","v":{"$error":"#REF!"}},{"$error":"#REF!"}]
[{"$f":"basePAGAS!#REF!","v":{"$error":"#REF!"}},{"$error":"#REF!"}]
[{"$f":"basePAGAS!#REF!","v":{"$error":"#REF!"}},{"$error":"#REF!"}]
[{"$f":"basePAGAS!#REF!","v":{"$error":"#REF!"}},{"$error":"#REF!"}]
[{"$f":"basePAGAS!#REF!","v":{"$error":"#REF!"}},{"$error":"#REF!"}]
[{"$f":"basePAGAS!#REF!","v":{"$error":"#REF!"}},{"$error":"#REF!"}]
[{"$f":"basePAGAS!#REF!","v":{"$error":"#REF!"}},{"$error":"#REF!"}]
[{"$f":"basePAGAS!#REF!","v":{"$error":"#REF!"}},{"$error":"#REF!"}]
[{"$f":"basePAGAS!#REF!","v":{"$error":"#REF!"}},{"$error":"#REF!"}]
[{"$f":"basePAGAS!#REF!","v":{"$error":"#REF!"}},{"$error":"#REF!"}]
[{"$f":"basePAGAS!#REF!","v":{"$error":"#REF!"}},{"$error":"#REF!"}]
[{"$f":"basePAGAS!#REF!","v":{"$error":"#REF!"}},{"$error":"#REF!"}]
[{"$f":"basePAGAS!#REF!","v":{"$error":"#REF!"}},{"$error":"#REF!"}]
[{"$f":"basePAGAS!#REF!","v":{"$error":"#REF!"}},{"$error":"#REF!"}]
[{"$f":"basePAGAS!#REF!","v":{"$error":"#REF!"}},{"$error":"#REF!"}]
[{"$f":"basePAGAS!#REF!","v":{"$error":"#REF!"}},{"$error":"#REF!"}]
[{"$f":"basePAGAS!#REF!","v":{"$error":"#REF!"}},{"$error":"#REF!"}]
[{"$f":"basePAGAS!#REF!","v":{"$error":"#REF!"}},{"$error":"#REF!"}]
[{"$f":"basePAGAS!#REF!","v":{"$error":"#REF!"}},{"$error":"#REF!"}]
[{"$f":"basePAGAS!#REF!","v":{"$error":"#REF!"}},{"$error":"#REF!"}]
[{"$f":"basePAGAS!#REF!","v":{"$error":"#REF!"}},{"$error":"#REF!"}]
[{"$f":"basePAGAS!#REF!","v":{"$error":"#REF!"}},{"$error":"#REF!"}]
[{"$f":"basePAGAS!#REF!","v":{"$error":"#REF!"}},{"$error":"#REF!"}]
[{"$f":"basePAGAS!#REF!","v":{"$error":"#REF!"}},{"$f":"IF(A1999=\"\",\"\",IF(VLOOKUP(A1999,base_rpvs_pagas,2)=A$12,A1999,0))","v":{"$error":"#REF!"}}]
[{"$f":"basePAGAS!#REF!","v":{"$error":"#REF!"}},{"$error":"#REF!"}]
[{"$f":"basePAGAS!#REF!","v":{"$error":"#REF!"}},{"$error":"#REF!"}]
[{"$f":"basePAGAS!#REF!","v":{"$error":"#REF!"}},{"$error":"#REF!"}]
[{"$f":"basePAGAS!#REF!","v":{"$error":"#REF!"}},{"$error":"#REF!"}]
[{"$f":"basePAGAS!#REF!","v":{"$error":"#REF!"}},{"$error":"#REF!"}]
[{"$f":"basePAGAS!#REF!","v":{"$error":"#REF!"}},{"$error":"#REF!"}]
[{"$f":"basePAGAS!#REF!","v":{"$error":"#REF!"}},{"$error":"#REF!"}]
[{"$f":"basePAGAS!#REF!","v":{"$error":"#REF!"}},{"$error":"#REF!"}]
[{"$f":"basePAGAS!#REF!","v":{"$error":"#REF!"}},{"$error":"#REF!"}]
[{"$f":"basePAGAS!#REF!","v":{"$error":"#REF!"}},{"$error":"#REF!"}]
[{"$f":"basePAGAS!#REF!","v":{"$error":"#REF!"}},{"$error":"#REF!"}]
[{"$f":"basePAGAS!#REF!","v":{"$error":"#REF!"}},{"$error":"#REF!"}]
[{"$f":"basePAGAS!#REF!","v":{"$error":"#REF!"}},{"$error":"#REF!"}]
[{"$f":"basePAGAS!#REF!","v":{"$error":"#REF!"}},{"$error":"#REF!"}]
[{"$f":"basePAGAS!#REF!","v":{"$error":"#REF!"}},{"$error":"#REF!"}]
[{"$f":"basePAGAS!#REF!","v":{"$error":"#REF!"}},{"$error":"#REF!"}]
[{"$f":"basePAGAS!#REF!","v":{"$error":"#REF!"}},{"$error":"#REF!"}]
[{"$f":"basePAGAS!#REF!","v":{"$error":"#REF!"}},{"$error":"#REF!"}]
[{"$f":"basePAGAS!#REF!","v":{"$error":"#REF!"}},{"$error":"#REF!"}]
[{"$f":"basePAGAS!#REF!","v":{"$error":"#REF!"}},{"$error":"#REF!"}]
[{"$f":"basePAGAS!#REF!","v":{"$error":"#REF!"}},{"$error":"#REF!"}]
[{"$f":"basePAGAS!#REF!","v":{"$error":"#REF!"}},{"$error":"#REF!"}]
[{"$f":"basePAGAS!#REF!","v":{"$error":"#REF!"}},{"$error":"#REF!"}]
[{"$f":"basePAGAS!#REF!","v":{"$error":"#REF!"}},{"$error":"#REF!"}]
[{"$f":"basePAGAS!#REF!","v":{"$error":"#REF!"}},{"$error":"#REF!"}]
[{"$f":"basePAGAS!#REF!","v":{"$error":"#REF!"}},{"$error":"#REF!"}]
[{"$f":"basePAGAS!#REF!","v":{"$error":"#REF!"}},{"$error":"#REF!"}]
[{"$f":"basePAGAS!#REF!","v":{"$error":"#REF!"}},{"$error":"#REF!"}]
[{"$f":"basePAGAS!#REF!","v":{"$error":"#REF!"}},{"$error":"#REF!"}]
[{"$f":"basePAGAS!#REF!","v":{"$error":"#REF!"}},{"$error":"#REF!"}]
[{"$f":"basePAGAS!#REF!","v":{"$error":"#REF!"}},{"$error":"#REF!"}]
[{"$f":"basePAGAS!#REF!","v":{"$error":"#REF!"}},{"$error":"#REF!"}]
[{"$f":"basePAGAS!#REF!","v":{"$error":"#REF!"}},{"$error":"#REF!"}]
[{"$f":"basePAGAS!#REF!","v":{"$error":"#REF!"}},{"$error":"#REF!"}]
[{"$f":"basePAGAS!#REF!","v":{"$error":"#REF!"}},{"$error":"#REF!"}]
[{"$f":"basePAGAS!#REF!","v":{"$error":"#REF!"}},{"$error":"#REF!"}]
[{"$f":"basePAGAS!#REF!","v":{"$error":"#REF!"}},{"$error":"#REF!"}]
[{"$f":"basePAGAS!#REF!","v":{"$error":"#REF!"}},{"$error":"#REF!"}]
[{"$f":"basePAGAS!#REF!","v":{"$error":"#REF!"}},{"$error":"#REF!"}]
[{"$f":"basePAGAS!#REF!","v":{"$error":"#REF!"}},{"$error":"#REF!"}]
[{"$f":"basePAGAS!#REF!","v":{"$error":"#REF!"}},{"$error":"#REF!"}]
[{"$f":"basePAGAS!#REF!","v":{"$error":"#REF!"}},{"$error":"#REF!"}]
[{"$f":"basePAGAS!#REF!","v":{"$error":"#REF!"}},{"$error":"#REF!"}]
[{"$f":"basePAGAS!#REF!","v":{"$error":"#REF!"}},{"$error":"#REF!"}]
[{"$f":"basePAGAS!#REF!","v":{"$error":"#REF!"}},{"$error":"#REF!"}]
[{"$f":"basePAGAS!#REF!","v":{"$error":"#REF!"}},{"$error":"#REF!"}]
[{"$f":"basePAGAS!#REF!","v":{"$error":"#REF!"}},{"$error":"#REF!"}]
[{"$f":"basePAGAS!#REF!","v":{"$error":"#REF!"}},{"$error":"#REF!"}]
[{"$f":"basePAGAS!#REF!","v":{"$error":"#REF!"}},{"$error":"#REF!"}]
[{"$f":"basePAGAS!#REF!","v":{"$error":"#REF!"}},{"$error":"#REF!"}]
[{"$f":"basePAGAS!#REF!","v":{"$error":"#REF!"}},{"$error":"#REF!"}]
[{"$f":"basePAGAS!#REF!","v":{"$error":"#REF!"}},{"$error":"#REF!"}]
[{"$f":"basePAGAS!#REF!","v":{"$error":"#REF!"}},{"$error":"#REF!"}]
[{"$f":"basePAGAS!#REF!","v":{"$error":"#REF!"}},{"$error":"#REF!"}]
[{"$f":"basePAGAS!#REF!","v":{"$error":"#REF!"}},{"$error":"#REF!"}]
[{"$f":"basePAGAS!#REF!","v":{"$error":"#REF!"}},{"$error":"#REF!"}]
[{"$f":"basePAGAS!#REF!","v":{"$error":"#REF!"}},{"$error":"#REF!"}]
[{"$f":"basePAGAS!#REF!","v":{"$error":"#REF!"}},{"$error":"#REF!"}]
[{"$f":"basePAGAS!#REF!","v":{"$error":"#REF!"}},{"$error":"#REF!"}]
[{"$f":"basePAGAS!#REF!","v":{"$error":"#REF!"}},{"$error":"#REF!"}]
[{"$f":"basePAGAS!#REF!","v":{"$error":"#REF!"}},{"$error":"#REF!"}]
[{"$f":"basePAGAS!#REF!","v":{"$error":"#REF!"}},{"$error":"#REF!"}]
[{"$f":"basePAGAS!#REF!","v":{"$error":"#REF!"}},{"$error":"#REF!"}]
[{"$f":"basePAGAS!#REF!","v":{"$error":"#REF!"}},{"$f":"IF(A2063=\"\",\"\",IF(VLOOKUP(A2063,base_rpvs_pagas,2)=A$12,A2063,0))","v":{"$error":"#REF!"}}]
[{"$f":"basePAGAS!#REF!","v":{"$error":"#REF!"}},{"$error":"#REF!"}]
[{"$f":"basePAGAS!#REF!","v":{"$error":"#REF!"}},{"$error":"#REF!"}]
[{"$f":"basePAGAS!#REF!","v":{"$error":"#REF!"}},{"$error":"#REF!"}]
[{"$f":"basePAGAS!#REF!","v":{"$error":"#REF!"}},{"$error":"#REF!"}]
[{"$f":"basePAGAS!#REF!","v":{"$error":"#REF!"}},{"$error":"#REF!"}]
[{"$f":"basePAGAS!#REF!","v":{"$error":"#REF!"}},{"$error":"#REF!"}]
[{"$f":"basePAGAS!#REF!","v":{"$error":"#REF!"}},{"$error":"#REF!"}]
[{"$f":"basePAGAS!#REF!","v":{"$error":"#REF!"}},{"$error":"#REF!"}]
[{"$f":"basePAGAS!#REF!","v":{"$error":"#REF!"}},{"$error":"#REF!"}]
[{"$f":"basePAGAS!#REF!","v":{"$error":"#REF!"}},{"$error":"#REF!"}]
[{"$f":"basePAGAS!#REF!","v":{"$error":"#REF!"}},{"$error":"#REF!"}]
[{"$f":"basePAGAS!#REF!","v":{"$error":"#REF!"}},{"$error":"#REF!"}]
[{"$f":"basePAGAS!#REF!","v":{"$error":"#REF!"}},{"$error":"#REF!"}]
[{"$f":"basePAGAS!#REF!","v":{"$error":"#REF!"}},{"$error":"#REF!"}]
[{"$f":"basePAGAS!#REF!","v":{"$error":"#REF!"}},{"$error":"#REF!"}]
[{"$f":"basePAGAS!#REF!","v":{"$error":"#REF!"}},{"$error":"#REF!"}]
[{"$f":"basePAGAS!#REF!","v":{"$error":"#REF!"}},{"$error":"#REF!"}]
[{"$f":"basePAGAS!#REF!","v":{"$error":"#REF!"}},{"$error":"#REF!"}]
[{"$f":"basePAGAS!#REF!","v":{"$error":"#REF!"}},{"$error":"#REF!"}]
[{"$f":"basePAGAS!#REF!","v":{"$error":"#REF!"}},{"$error":"#REF!"}]
[{"$f":"basePAGAS!#REF!","v":{"$error":"#REF!"}},{"$error":"#REF!"}]
[{"$f":"basePAGAS!#REF!","v":{"$error":"#REF!"}},{"$error":"#REF!"}]
[{"$f":"basePAGAS!#REF!","v":{"$error":"#REF!"}},{"$error":"#REF!"}]
[{"$f":"basePAGAS!#REF!","v":{"$error":"#REF!"}},{"$error":"#REF!"}]
[{"$f":"basePAGAS!#REF!","v":{"$error":"#REF!"}},{"$error":"#REF!"}]
[{"$f":"basePAGAS!#REF!","v":{"$error":"#REF!"}},{"$error":"#REF!"}]
[{"$f":"basePAGAS!#REF!","v":{"$error":"#REF!"}},{"$error":"#REF!"}]
[{"$f":"basePAGAS!#REF!","v":{"$error":"#REF!"}},{"$error":"#REF!"}]
[{"$f":"basePAGAS!#REF!","v":{"$error":"#REF!"}},{"$error":"#REF!"}]
[{"$f":"basePAGAS!#REF!","v":{"$error":"#REF!"}},{"$error":"#REF!"}]
[{"$f":"basePAGAS!#REF!","v":{"$error":"#REF!"}},{"$error":"#REF!"}]
[{"$f":"basePAGAS!#REF!","v":{"$error":"#REF!"}},{"$error":"#REF!"}]
[{"$f":"basePAGAS!#REF!","v":{"$error":"#REF!"}},{"$error":"#REF!"}]
[{"$f":"basePAGAS!#REF!","v":{"$error":"#REF!"}},{"$error":"#REF!"}]
[{"$f":"basePAGAS!#REF!","v":{"$error":"#REF!"}},{"$error":"#REF!"}]
[{"$f":"basePAGAS!#REF!","v":{"$error":"#REF!"}},{"$error":"#REF!"}]
[{"$f":"basePAGAS!#REF!","v":{"$error":"#REF!"}},{"$error":"#REF!"}]
[{"$f":"basePAGAS!#REF!","v":{"$error":"#REF!"}},{"$error":"#REF!"}]
[{"$f":"basePAGAS!#REF!","v":{"$error":"#REF!"}},{"$error":"#REF!"}]
[{"$f":"basePAGAS!#REF!","v":{"$error":"#REF!"}},{"$error":"#REF!"}]
[{"$f":"basePAGAS!#REF!","v":{"$error":"#REF!"}},{"$error":"#REF!"}]
[{"$f":"basePAGAS!#REF!","v":{"$error":"#REF!"}},{"$error":"#REF!"}]
[{"$f":"basePAGAS!#REF!","v":{"$error":"#REF!"}},{"$error":"#REF!"}]
[{"$f":"basePAGAS!#REF!","v":{"$error":"#REF!"}},{"$error":"#REF!"}]
[{"$f":"basePAGAS!#REF!","v":{"$error":"#REF!"}},{"$error":"#REF!"}]
[{"$f":"basePAGAS!#REF!","v":{"$error":"#REF!"}},{"$error":"#REF!"}]
[{"$f":"basePAGAS!#REF!","v":{"$error":"#REF!"}},{"$error":"#REF!"}]
[{"$f":"basePAGAS!#REF!","v":{"$error":"#REF!"}},{"$error":"#REF!"}]
[{"$f":"basePAGAS!#REF!","v":{"$error":"#REF!"}},{"$error":"#REF!"}]
[{"$f":"basePAGAS!#REF!","v":{"$error":"#REF!"}},{"$error":"#REF!"}]
[{"$f":"basePAGAS!#REF!","v":{"$error":"#REF!"}},{"$error":"#REF!"}]
[{"$f":"basePAGAS!#REF!","v":{"$error":"#REF!"}},{"$error":"#REF!"}]
[{"$f":"basePAGAS!#REF!","v":{"$error":"#REF!"}},{"$error":"#REF!"}]
[{"$f":"basePAGAS!#REF!","v":{"$error":"#REF!"}},{"$error":"#REF!"}]
[{"$f":"basePAGAS!#REF!","v":{"$error":"#REF!"}},{"$error":"#REF!"}]
[{"$f":"basePAGAS!#REF!","v":{"$error":"#REF!"}},{"$error":"#REF!"}]
[{"$f":"basePAGAS!#REF!","v":{"$error":"#REF!"}},{"$error":"#REF!"}]
[{"$f":"basePAGAS!#REF!","v":{"$error":"#REF!"}},{"$error":"#REF!"}]
[{"$f":"basePAGAS!#REF!","v":{"$error":"#REF!"}},{"$error":"#REF!"}]
[{"$f":"basePAGAS!#REF!","v":{"$error":"#REF!"}},{"$error":"#REF!"}]
[{"$f":"basePAGAS!#REF!","v":{"$error":"#REF!"}},{"$error":"#REF!"}]
[{"$f":"basePAGAS!#REF!","v":{"$error":"#REF!"}},{"$error":"#REF!"}]
[{"$f":"basePAGAS!#REF!","v":{"$error":"#REF!"}},{"$error":"#REF!"}]
[{"$f":"basePAGAS!#REF!","v":{"$error":"#REF!"}},{"$f":"IF(A2127=\"\",\"\",IF(VLOOKUP(A2127,base_rpvs_pagas,2)=A$12,A2127,0))","v":{"$error":"#REF!"}}]
[{"$f":"basePAGAS!#REF!","v":{"$error":"#REF!"}},{"$error":"#REF!"}]
[{"$f":"basePAGAS!#REF!","v":{"$error":"#REF!"}},{"$error":"#REF!"}]
[{"$f":"basePAGAS!#REF!","v":{"$error":"#REF!"}},{"$error":"#REF!"}]
[{"$f":"basePAGAS!#REF!","v":{"$error":"#REF!"}},{"$error":"#REF!"}]
[{"$f":"basePAGAS!#REF!","v":{"$error":"#REF!"}},{"$error":"#REF!"}]
[{"$f":"basePAGAS!#REF!","v":{"$error":"#REF!"}},{"$error":"#REF!"}]
[{"$f":"basePAGAS!#REF!","v":{"$error":"#REF!"}},{"$error":"#REF!"}]
[{"$f":"basePAGAS!#REF!","v":{"$error":"#REF!"}},{"$error":"#REF!"}]
[{"$f":"basePAGAS!#REF!","v":{"$error":"#REF!"}},{"$error":"#REF!"}]
[{"$f":"basePAGAS!#REF!","v":{"$error":"#REF!"}},{"$error":"#REF!"}]
[{"$f":"basePAGAS!#REF!","v":{"$error":"#REF!"}},{"$error":"#REF!"}]
[{"$f":"basePAGAS!#REF!","v":{"$error":"#REF!"}},{"$error":"#REF!"}]
[{"$f":"basePAGAS!#REF!","v":{"$error":"#REF!"}},{"$error":"#REF!"}]
[{"$f":"basePAGAS!#REF!","v":{"$error":"#REF!"}},{"$error":"#REF!"}]
[{"$f":"basePAGAS!#REF!","v":{"$error":"#REF!"}},{"$error":"#REF!"}]
[{"$f":"basePAGAS!#REF!","v":{"$error":"#REF!"}},{"$error":"#REF!"}]
[{"$f":"basePAGAS!#REF!","v":{"$error":"#REF!"}},{"$error":"#REF!"}]
[{"$f":"basePAGAS!#REF!","v":{"$error":"#REF!"}},{"$error":"#REF!"}]
[{"$f":"basePAGAS!#REF!","v":{"$error":"#REF!"}},{"$error":"#REF!"}]
[{"$f":"basePAGAS!#REF!","v":{"$error":"#REF!"}},{"$error":"#REF!"}]
[{"$f":"basePAGAS!#REF!","v":{"$error":"#REF!"}},{"$error":"#REF!"}]
[{"$f":"basePAGAS!#REF!","v":{"$error":"#REF!"}},{"$error":"#REF!"}]
[{"$f":"basePAGAS!#REF!","v":{"$error":"#REF!"}},{"$error":"#REF!"}]
[{"$f":"basePAGAS!#REF!","v":{"$error":"#REF!"}},{"$error":"#REF!"}]
[{"$f":"basePAGAS!#REF!","v":{"$error":"#REF!"}},{"$error":"#REF!"}]
[{"$f":"basePAGAS!#REF!","v":{"$error":"#REF!"}},{"$error":"#REF!"}]
[{"$f":"basePAGAS!#REF!","v":{"$error":"#REF!"}},{"$error":"#REF!"}]
[{"$f":"basePAGAS!#REF!","v":{"$error":"#REF!"}},{"$error":"#REF!"}]
[{"$f":"basePAGAS!#REF!","v":{"$error":"#REF!"}},{"$error":"#REF!"}]
[{"$f":"basePAGAS!#REF!","v":{"$error":"#REF!"}},{"$error":"#REF!"}]
[{"$f":"basePAGAS!#REF!","v":{"$error":"#REF!"}},{"$error":"#REF!"}]
[{"$f":"basePAGAS!#REF!","v":{"$error":"#REF!"}},{"$error":"#REF!"}]
[{"$f":"basePAGAS!#REF!","v":{"$error":"#REF!"}},{"$error":"#REF!"}]
[{"$f":"basePAGAS!#REF!","v":{"$error":"#REF!"}},{"$error":"#REF!"}]
[{"$f":"basePAGAS!#REF!","v":{"$error":"#REF!"}},{"$error":"#REF!"}]
[{"$f":"basePAGAS!#REF!","v":{"$error":"#REF!"}},{"$error":"#REF!"}]
[{"$f":"basePAGAS!#REF!","v":{"$error":"#REF!"}},{"$error":"#REF!"}]
[{"$f":"basePAGAS!#REF!","v":{"$error":"#REF!"}},{"$error":"#REF!"}]
[{"$f":"basePAGAS!#REF!","v":{"$error":"#REF!"}},{"$error":"#REF!"}]
[{"$f":"basePAGAS!#REF!","v":{"$error":"#REF!"}},{"$error":"#REF!"}]
[{"$f":"basePAGAS!#REF!","v":{"$error":"#REF!"}},{"$error":"#REF!"}]
[{"$f":"basePAGAS!#REF!","v":{"$error":"#REF!"}},{"$error":"#REF!"}]
[{"$f":"basePAGAS!#REF!","v":{"$error":"#REF!"}},{"$error":"#REF!"}]
[{"$f":"basePAGAS!#REF!","v":{"$error":"#REF!"}},{"$error":"#REF!"}]
[{"$f":"basePAGAS!#REF!","v":{"$error":"#REF!"}},{"$error":"#REF!"}]
[{"$f":"basePAGAS!#REF!","v":{"$error":"#REF!"}},{"$error":"#REF!"}]
[{"$f":"basePAGAS!#REF!","v":{"$error":"#REF!"}},{"$error":"#REF!"}]
[{"$f":"basePAGAS!#REF!","v":{"$error":"#REF!"}},{"$error":"#REF!"}]
[{"$f":"basePAGAS!#REF!","v":{"$error":"#REF!"}},{"$error":"#REF!"}]
[{"$f":"basePAGAS!#REF!","v":{"$error":"#REF!"}},{"$error":"#REF!"}]
[{"$f":"basePAGAS!#REF!","v":{"$error":"#REF!"}},{"$error":"#REF!"}]
[{"$f":"basePAGAS!#REF!","v":{"$error":"#REF!"}},{"$error":"#REF!"}]
[{"$f":"basePAGAS!#REF!","v":{"$error":"#REF!"}},{"$error":"#REF!"}]
[{"$f":"basePAGAS!#REF!","v":{"$error":"#REF!"}},{"$error":"#REF!"}]
[{"$f":"basePAGAS!#REF!","v":{"$error":"#REF!"}},{"$error":"#REF!"}]
[{"$f":"basePAGAS!#REF!","v":{"$error":"#REF!"}},{"$error":"#REF!"}]
[{"$f":"basePAGAS!#REF!","v":{"$error":"#REF!"}},{"$error":"#REF!"}]
[{"$f":"basePAGAS!#REF!","v":{"$error":"#REF!"}},{"$error":"#REF!"}]
[{"$f":"basePAGAS!#REF!","v":{"$error":"#REF!"}},{"$error":"#REF!"}]
[{"$f":"basePAGAS!#REF!","v":{"$error":"#REF!"}},{"$error":"#REF!"}]
[{"$f":"basePAGAS!#REF!","v":{"$error":"#REF!"}},{"$error":"#REF!"}]
[{"$f":"basePAGAS!#REF!","v":{"$error":"#REF!"}},{"$error":"#REF!"}]
[{"$f":"basePAGAS!#REF!","v":{"$error":"#REF!"}},{"$error":"#REF!"}]
[{"$f":"basePAGAS!#REF!","v":{"$error":"#REF!"}},{"$f":"IF(A2191=\"\",\"\",IF(VLOOKUP(A2191,base_rpvs_pagas,2)=A$12,A2191,0))","v":{"$error":"#REF!"}}]
[{"$f":"basePAGAS!#REF!","v":{"$error":"#REF!"}},{"$error":"#REF!"}]
[{"$f":"basePAGAS!#REF!","v":{"$error":"#REF!"}},{"$error":"#REF!"}]
[{"$f":"basePAGAS!#REF!","v":{"$error":"#REF!"}},{"$error":"#REF!"}]
[{"$f":"basePAGAS!#REF!","v":{"$error":"#REF!"}},{"$error":"#REF!"}]
[{"$f":"basePAGAS!#REF!","v":{"$error":"#REF!"}},{"$error":"#REF!"}]
[{"$f":"basePAGAS!#REF!","v":{"$error":"#REF!"}},{"$error":"#REF!"}]
[{"$f":"basePAGAS!#REF!","v":{"$error":"#REF!"}},{"$error":"#REF!"}]
[{"$f":"basePAGAS!#REF!","v":{"$error":"#REF!"}},{"$error":"#REF!"}]
[{"$f":"basePAGAS!#REF!","v":{"$error":"#REF!"}},{"$error":"#REF!"}]
[{"$f":"basePAGAS!#REF!","v":{"$error":"#REF!"}},{"$error":"#REF!"}]
[{"$f":"basePAGAS!#REF!","v":{"$error":"#REF!"}},{"$error":"#REF!"}]
[{"$f":"basePAGAS!#REF!","v":{"$error":"#REF!"}},{"$error":"#REF!"}]
[{"$f":"basePAGAS!#REF!","v":{"$error":"#REF!"}},{"$error":"#REF!"}]
[{"$f":"basePAGAS!#REF!","v":{"$error":"#REF!"}},{"$error":"#REF!"}]
[{"$f":"basePAGAS!#REF!","v":{"$error":"#REF!"}},{"$error":"#REF!"}]
[{"$f":"basePAGAS!#REF!","v":{"$error":"#REF!"}},{"$error":"#REF!"}]
[{"$f":"basePAGAS!#REF!","v":{"$error":"#REF!"}},{"$error":"#REF!"}]
[{"$f":"basePAGAS!#REF!","v":{"$error":"#REF!"}},{"$error":"#REF!"}]
[{"$f":"basePAGAS!#REF!","v":{"$error":"#REF!"}},{"$error":"#REF!"}]
[{"$f":"basePAGAS!#REF!","v":{"$error":"#REF!"}},{"$error":"#REF!"}]
[{"$f":"basePAGAS!#REF!","v":{"$error":"#REF!"}},{"$error":"#REF!"}]
[{"$f":"basePAGAS!#REF!","v":{"$error":"#REF!"}},{"$error":"#REF!"}]
[{"$f":"basePAGAS!#REF!","v":{"$error":"#REF!"}},{"$error":"#REF!"}]
[{"$f":"basePAGAS!#REF!","v":{"$error":"#REF!"}},{"$error":"#REF!"}]
[{"$f":"basePAGAS!#REF!","v":{"$error":"#REF!"}},{"$error":"#REF!"}]
[{"$f":"basePAGAS!#REF!","v":{"$error":"#REF!"}},{"$error":"#REF!"}]
[{"$f":"basePAGAS!#REF!","v":{"$error":"#REF!"}},{"$error":"#REF!"}]
[{"$f":"basePAGAS!#REF!","v":{"$error":"#REF!"}},{"$error":"#REF!"}]
[{"$f":"basePAGAS!#REF!","v":{"$error":"#REF!"}},{"$error":"#REF!"}]
[{"$f":"basePAGAS!#REF!","v":{"$error":"#REF!"}},{"$error":"#REF!"}]
[{"$f":"basePAGAS!#REF!","v":{"$error":"#REF!"}},{"$error":"#REF!"}]
[{"$f":"basePAGAS!#REF!","v":{"$error":"#REF!"}},{"$error":"#REF!"}]
[{"$f":"basePAGAS!#REF!","v":{"$error":"#REF!"}},{"$error":"#REF!"}]
[{"$f":"basePAGAS!#REF!","v":{"$error":"#REF!"}},{"$error":"#REF!"}]
[{"$f":"basePAGAS!#REF!","v":{"$error":"#REF!"}},{"$error":"#REF!"}]
[{"$f":"basePAGAS!#REF!","v":{"$error":"#REF!"}},{"$error":"#REF!"}]
[{"$f":"basePAGAS!#REF!","v":{"$error":"#REF!"}},{"$error":"#REF!"}]
[{"$f":"basePAGAS!#REF!","v":{"$error":"#REF!"}},{"$error":"#REF!"}]
[{"$f":"basePAGAS!#REF!","v":{"$error":"#REF!"}},{"$error":"#REF!"}]
[{"$f":"basePAGAS!#REF!","v":{"$error":"#REF!"}},{"$error":"#REF!"}]
[{"$f":"basePAGAS!#REF!","v":{"$error":"#REF!"}},{"$error":"#REF!"}]
[{"$f":"basePAGAS!#REF!","v":{"$error":"#REF!"}},{"$error":"#REF!"}]
[{"$f":"basePAGAS!#REF!","v":{"$error":"#REF!"}},{"$error":"#REF!"}]
[{"$f":"basePAGAS!#REF!","v":{"$error":"#REF!"}},{"$error":"#REF!"}]
[{"$f":"basePAGAS!#REF!","v":{"$error":"#REF!"}},{"$error":"#REF!"}]
[{"$f":"basePAGAS!#REF!","v":{"$error":"#REF!"}},{"$error":"#REF!"}]
[{"$f":"basePAGAS!#REF!","v":{"$error":"#REF!"}},{"$error":"#REF!"}]
[{"$f":"basePAGAS!#REF!","v":{"$error":"#REF!"}},{"$error":"#REF!"}]
[{"$f":"basePAGAS!#REF!","v":{"$error":"#REF!"}},{"$error":"#REF!"}]
[{"$f":"basePAGAS!#REF!","v":{"$error":"#REF!"}},{"$error":"#REF!"}]
[{"$f":"basePAGAS!#REF!","v":{"$error":"#REF!"}},{"$error":"#REF!"}]
[{"$f":"basePAGAS!#REF!","v":{"$error":"#REF!"}},{"$error":"#REF!"}]
[{"$f":"basePAGAS!#REF!","v":{"$error":"#REF!"}},{"$error":"#REF!"}]
[{"$f":"basePAGAS!#REF!","v":{"$error":"#REF!"}},{"$error":"#REF!"}]
[{"$f":"basePAGAS!#REF!","v":{"$error":"#REF!"}},{"$error":"#REF!"}]
[{"$f":"basePAGAS!#REF!","v":{"$error":"#REF!"}},{"$error":"#REF!"}]
[{"$f":"basePAGAS!#REF!","v":{"$error":"#REF!"}},{"$error":"#REF!"}]
[{"$f":"basePAGAS!#REF!","v":{"$error":"#REF!"}},{"$error":"#REF!"}]
[{"$f":"basePAGAS!#REF!","v":{"$error":"#REF!"}},{"$error":"#REF!"}]
[{"$f":"basePAGAS!#REF!","v":{"$error":"#REF!"}},{"$error":"#REF!"}]
[{"$f":"basePAGAS!#REF!","v":{"$error":"#REF!"}},{"$error":"#REF!"}]
[{"$f":"basePAGAS!#REF!","v":{"$error":"#REF!"}},{"$error":"#REF!"}]
[{"$f":"basePAGAS!#REF!","v":{"$error":"#REF!"}},{"$error":"#REF!"}]
[{"$f":"basePAGAS!#REF!","v":{"$error":"#REF!"}},{"$f":"IF(A2255=\"\",\"\",IF(VLOOKUP(A2255,base_rpvs_pagas,2)=A$12,A2255,0))","v":{"$error":"#REF!"}}]
[{"$f":"basePAGAS!#REF!","v":{"$error":"#REF!"}},{"$error":"#REF!"}]
[{"$f":"basePAGAS!#REF!","v":{"$error":"#REF!"}},{"$error":"#REF!"}]
[{"$f":"basePAGAS!#REF!","v":{"$error":"#REF!"}},{"$error":"#REF!"}]
[{"$f":"basePAGAS!#REF!","v":{"$error":"#REF!"}},{"$error":"#REF!"}]
[{"$f":"basePAGAS!#REF!","v":{"$error":"#REF!"}},{"$error":"#REF!"}]
[{"$f":"basePAGAS!#REF!","v":{"$error":"#REF!"}},{"$error":"#REF!"}]
[{"$f":"basePAGAS!#REF!","v":{"$error":"#REF!"}},{"$error":"#REF!"}]
[{"$f":"basePAGAS!#REF!","v":{"$error":"#REF!"}},{"$error":"#REF!"}]
[{"$f":"basePAGAS!#REF!","v":{"$error":"#REF!"}},{"$error":"#REF!"}]
[{"$f":"basePAGAS!#REF!","v":{"$error":"#REF!"}},{"$error":"#REF!"}]
[{"$f":"basePAGAS!#REF!","v":{"$error":"#REF!"}},{"$error":"#REF!"}]
[{"$f":"basePAGAS!#REF!","v":{"$error":"#REF!"}},{"$error":"#REF!"}]
[{"$f":"basePAGAS!#REF!","v":{"$error":"#REF!"}},{"$error":"#REF!"}]
[{"$f":"basePAGAS!#REF!","v":{"$error":"#REF!"}},{"$error":"#REF!"}]
[{"$f":"basePAGAS!#REF!","v":{"$error":"#REF!"}},{"$error":"#REF!"}]
[{"$f":"basePAGAS!#REF!","v":{"$error":"#REF!"}},{"$error":"#REF!"}]
[{"$f":"basePAGAS!#REF!","v":{"$error":"#REF!"}},{"$error":"#REF!"}]
[{"$f":"basePAGAS!#REF!","v":{"$error":"#REF!"}},{"$error":"#REF!"}]
[{"$f":"basePAGAS!#REF!","v":{"$error":"#REF!"}},{"$error":"#REF!"}]
[{"$f":"basePAGAS!#REF!","v":{"$error":"#REF!"}},{"$error":"#REF!"}]
[{"$f":"basePAGAS!#REF!","v":{"$error":"#REF!"}},{"$error":"#REF!"}]
[{"$f":"basePAGAS!#REF!","v":{"$error":"#REF!"}},{"$error":"#REF!"}]
[{"$f":"basePAGAS!#REF!","v":{"$error":"#REF!"}},{"$error":"#REF!"}]
[{"$f":"basePAGAS!#REF!","v":{"$error":"#REF!"}},{"$error":"#REF!"}]
[{"$f":"basePAGAS!#REF!","v":{"$error":"#REF!"}},{"$error":"#REF!"}]
[{"$f":"basePAGAS!#REF!","v":{"$error":"#REF!"}},{"$error":"#REF!"}]
[{"$f":"basePAGAS!#REF!","v":{"$error":"#REF!"}},{"$error":"#REF!"}]
[{"$f":"basePAGAS!#REF!","v":{"$error":"#REF!"}},{"$error":"#REF!"}]
[{"$f":"basePAGAS!#REF!","v":{"$error":"#REF!"}},{"$error":"#REF!"}]
[{"$f":"basePAGAS!#REF!","v":{"$error":"#REF!"}},{"$error":"#REF!"}]
[{"$f":"basePAGAS!#REF!","v":{"$error":"#REF!"}},{"$error":"#REF!"}]
[{"$f":"basePAGAS!#REF!","v":{"$error":"#REF!"}},{"$error":"#REF!"}]
[{"$f":"basePAGAS!#REF!","v":{"$error":"#REF!"}},{"$error":"#REF!"}]
[{"$f":"basePAGAS!#REF!","v":{"$error":"#REF!"}},{"$error":"#REF!"}]
[{"$f":"basePAGAS!#REF!","v":{"$error":"#REF!"}},{"$error":"#REF!"}]
[{"$f":"basePAGAS!#REF!","v":{"$error":"#REF!"}},{"$error":"#REF!"}]
[{"$f":"basePAGAS!#REF!","v":{"$error":"#REF!"}},{"$error":"#REF!"}]
[{"$f":"basePAGAS!#REF!","v":{"$error":"#REF!"}},{"$error":"#REF!"}]
[{"$f":"basePAGAS!#REF!","v":{"$error":"#REF!"}},{"$error":"#REF!"}]
[{"$f":"basePAGAS!#REF!","v":{"$error":"#REF!"}},{"$error":"#REF!"}]
[{"$f":"basePAGAS!#REF!","v":{"$error":"#REF!"}},{"$error":"#REF!"}]
[{"$f":"basePAGAS!#REF!","v":{"$error":"#REF!"}},{"$error":"#REF!"}]
[{"$f":"basePAGAS!#REF!","v":{"$error":"#REF!"}},{"$error":"#REF!"}]
[{"$f":"basePAGAS!#REF!","v":{"$error":"#REF!"}},{"$error":"#REF!"}]
[{"$f":"basePAGAS!#REF!","v":{"$error":"#REF!"}},{"$error":"#REF!"}]
[{"$f":"basePAGAS!#REF!","v":{"$error":"#REF!"}},{"$error":"#REF!"}]
[{"$f":"basePAGAS!#REF!","v":{"$error":"#REF!"}},{"$error":"#REF!"}]
[{"$f":"basePAGAS!#REF!","v":{"$error":"#REF!"}},{"$error":"#REF!"}]
[{"$f":"basePAGAS!#REF!","v":{"$error":"#REF!"}},{"$error":"#REF!"}]
[{"$f":"basePAGAS!#REF!","v":{"$error":"#REF!"}},{"$error":"#REF!"}]
[{"$f":"basePAGAS!#REF!","v":{"$error":"#REF!"}},{"$error":"#REF!"}]
[{"$f":"basePAGAS!#REF!","v":{"$error":"#REF!"}},{"$error":"#REF!"}]
[{"$f":"basePAGAS!#REF!","v":{"$error":"#REF!"}},{"$error":"#REF!"}]
[{"$f":"basePAGAS!#REF!","v":{"$error":"#REF!"}},{"$error":"#REF!"}]
[{"$f":"basePAGAS!#REF!","v":{"$error":"#REF!"}},{"$error":"#REF!"}]
[{"$f":"basePAGAS!#REF!","v":{"$error":"#REF!"}},{"$error":"#REF!"}]
[{"$f":"basePAGAS!#REF!","v":{"$error":"#REF!"}},{"$error":"#REF!"}]
[{"$f":"basePAGAS!#REF!","v":{"$error":"#REF!"}},{"$error":"#REF!"}]
[{"$f":"basePAGAS!#REF!","v":{"$error":"#REF!"}},{"$error":"#REF!"}]
[{"$f":"basePAGAS!#REF!","v":{"$error":"#REF!"}},{"$error":"#REF!"}]
[{"$f":"basePAGAS!#REF!","v":{"$error":"#REF!"}},{"$error":"#REF!"}]
[{"$f":"basePAGAS!#REF!","v":{"$error":"#REF!"}},{"$error":"#REF!"}]
[{"$f":"basePAGAS!#REF!","v":{"$error":"#REF!"}},{"$error":"#REF!"}]
[{"$f":"basePAGAS!#REF!","v":{"$error":"#REF!"}},{"$f":"IF(A2319=\"\",\"\",IF(VLOOKUP(A2319,base_rpvs_pagas,2)=A$12,A2319,0))","v":{"$error":"#REF!"}}]
[{"$f":"basePAGAS!#REF!","v":{"$error":"#REF!"}},{"$error":"#REF!"}]
[{"$f":"basePAGAS!#REF!","v":{"$error":"#REF!"}},{"$error":"#REF!"}]
[{"$f":"basePAGAS!#REF!","v":{"$error":"#REF!"}},{"$error":"#REF!"}]
[{"$f":"basePAGAS!#REF!","v":{"$error":"#REF!"}},{"$error":"#REF!"}]
[{"$f":"basePAGAS!#REF!","v":{"$error":"#REF!"}},{"$error":"#REF!"}]
[{"$f":"basePAGAS!#REF!","v":{"$error":"#REF!"}},{"$error":"#REF!"}]
[{"$f":"basePAGAS!#REF!","v":{"$error":"#REF!"}},{"$error":"#REF!"}]
[{"$f":"basePAGAS!#REF!","v":{"$error":"#REF!"}},{"$error":"#REF!"}]
[{"$f":"basePAGAS!#REF!","v":{"$error":"#REF!"}},{"$error":"#REF!"}]
[{"$f":"basePAGAS!#REF!","v":{"$error":"#REF!"}},{"$error":"#REF!"}]
[{"$f":"basePAGAS!#REF!","v":{"$error":"#REF!"}},{"$error":"#REF!"}]
[{"$f":"basePAGAS!#REF!","v":{"$error":"#REF!"}},{"$error":"#REF!"}]
[{"$f":"basePAGAS!#REF!","v":{"$error":"#REF!"}},{"$error":"#REF!"}]
[{"$f":"basePAGAS!#REF!","v":{"$error":"#REF!"}},{"$error":"#REF!"}]
[{"$f":"basePAGAS!#REF!","v":{"$error":"#REF!"}},{"$error":"#REF!"}]
[{"$f":"basePAGAS!#REF!","v":{"$error":"#REF!"}},{"$error":"#REF!"}]
[{"$f":"basePAGAS!#REF!","v":{"$error":"#REF!"}},{"$error":"#REF!"}]
[{"$f":"basePAGAS!#REF!","v":{"$error":"#REF!"}},{"$error":"#REF!"}]
[{"$f":"basePAGAS!#REF!","v":{"$error":"#REF!"}},{"$error":"#REF!"}]
[{"$f":"basePAGAS!#REF!","v":{"$error":"#REF!"}},{"$error":"#REF!"}]
[{"$f":"basePAGAS!#REF!","v":{"$error":"#REF!"}},{"$error":"#REF!"}]
[{"$f":"basePAGAS!#REF!","v":{"$error":"#REF!"}},{"$error":"#REF!"}]
[{"$f":"basePAGAS!#REF!","v":{"$error":"#REF!"}},{"$error":"#REF!"}]
[{"$f":"basePAGAS!#REF!","v":{"$error":"#REF!"}},{"$error":"#REF!"}]
[{"$f":"basePAGAS!#REF!","v":{"$error":"#REF!"}},{"$error":"#REF!"}]
[{"$f":"basePAGAS!#REF!","v":{"$error":"#REF!"}},{"$error":"#REF!"}]
[{"$f":"basePAGAS!#REF!","v":{"$error":"#REF!"}},{"$error":"#REF!"}]
[{"$f":"basePAGAS!#REF!","v":{"$error":"#REF!"}},{"$error":"#REF!"}]
[{"$f":"basePAGAS!#REF!","v":{"$error":"#REF!"}},{"$error":"#REF!"}]
[{"$f":"basePAGAS!#REF!","v":{"$error":"#REF!"}},{"$error":"#REF!"}]
[{"$f":"basePAGAS!#REF!","v":{"$error":"#REF!"}},{"$error":"#REF!"}]
[{"$f":"basePAGAS!#REF!","v":{"$error":"#REF!"}},{"$error":"#REF!"}]
[{"$f":"basePAGAS!#REF!","v":{"$error":"#REF!"}},{"$error":"#REF!"}]
[{"$f":"basePAGAS!#REF!","v":{"$error":"#REF!"}},{"$error":"#REF!"}]
[{"$f":"basePAGAS!#REF!","v":{"$error":"#REF!"}},{"$error":"#REF!"}]
[{"$f":"basePAGAS!#REF!","v":{"$error":"#REF!"}},{"$error":"#REF!"}]
[{"$f":"basePAGAS!#REF!","v":{"$error":"#REF!"}},{"$error":"#REF!"}]
[{"$f":"basePAGAS!#REF!","v":{"$error":"#REF!"}},{"$error":"#REF!"}]
[{"$f":"basePAGAS!#REF!","v":{"$error":"#REF!"}},{"$error":"#REF!"}]
[{"$f":"basePAGAS!#REF!","v":{"$error":"#REF!"}},{"$error":"#REF!"}]
[{"$f":"basePAGAS!#REF!","v":{"$error":"#REF!"}},{"$error":"#REF!"}]
[{"$f":"basePAGAS!#REF!","v":{"$error":"#REF!"}},{"$error":"#REF!"}]
[{"$f":"basePAGAS!#REF!","v":{"$error":"#REF!"}},{"$error":"#REF!"}]
[{"$f":"basePAGAS!#REF!","v":{"$error":"#REF!"}},{"$error":"#REF!"}]
[{"$f":"basePAGAS!#REF!","v":{"$error":"#REF!"}},{"$error":"#REF!"}]
[{"$f":"basePAGAS!#REF!","v":{"$error":"#REF!"}},{"$error":"#REF!"}]
[{"$f":"basePAGAS!#REF!","v":{"$error":"#REF!"}},{"$error":"#REF!"}]
[{"$f":"basePAGAS!#REF!","v":{"$error":"#REF!"}},{"$error":"#REF!"}]
[{"$f":"basePAGAS!#REF!","v":{"$error":"#REF!"}},{"$error":"#REF!"}]
[{"$f":"basePAGAS!#REF!","v":{"$error":"#REF!"}},{"$error":"#REF!"}]
[{"$f":"basePAGAS!#REF!","v":{"$error":"#REF!"}},{"$error":"#REF!"}]
[{"$f":"basePAGAS!#REF!","v":{"$error":"#REF!"}},{"$error":"#REF!"}]
[{"$f":"basePAGAS!#REF!","v":{"$error":"#REF!"}},{"$error":"#REF!"}]
[{"$f":"basePAGAS!#REF!","v":{"$error":"#REF!"}},{"$error":"#REF!"}]
[{"$f":"basePAGAS!#REF!","v":{"$error":"#REF!"}},{"$error":"#REF!"}]
[{"$f":"basePAGAS!#REF!","v":{"$error":"#REF!"}},{"$error":"#REF!"}]
[{"$f":"basePAGAS!#REF!","v":{"$error":"#REF!"}},{"$error":"#REF!"}]
[{"$f":"basePAGAS!#REF!","v":{"$error":"#REF!"}},{"$error":"#REF!"}]
[{"$f":"basePAGAS!#REF!","v":{"$error":"#REF!"}},{"$error":"#REF!"}]
[{"$f":"basePAGAS!#REF!","v":{"$error":"#REF!"}},{"$error":"#REF!"}]
[{"$f":"basePAGAS!#REF!","v":{"$error":"#REF!"}},{"$error":"#REF!"}]
[{"$f":"basePAGAS!#REF!","v":{"$error":"#REF!"}},{"$error":"#REF!"}]
[{"$f":"basePAGAS!#REF!","v":{"$error":"#REF!"}},{"$error":"#REF!"}]
[{"$f":"basePAGAS!#REF!","v":{"$error":"#REF!"}},{"$f":"IF(A2383=\"\",\"\",IF(VLOOKUP(A2383,base_rpvs_pagas,2)=A$12,A2383,0))","v":{"$error":"#REF!"}}]
[{"$f":"basePAGAS!#REF!","v":{"$error":"#REF!"}},{"$error":"#REF!"}]
[{"$f":"basePAGAS!#REF!","v":{"$error":"#REF!"}},{"$error":"#REF!"}]
[{"$f":"basePAGAS!#REF!","v":{"$error":"#REF!"}},{"$error":"#REF!"}]
[{"$f":"basePAGAS!#REF!","v":{"$error":"#REF!"}},{"$error":"#REF!"}]
[{"$f":"basePAGAS!#REF!","v":{"$error":"#REF!"}},{"$error":"#REF!"}]
[{"$f":"basePAGAS!#REF!","v":{"$error":"#REF!"}},{"$error":"#REF!"}]
[{"$f":"basePAGAS!#REF!","v":{"$error":"#REF!"}},{"$error":"#REF!"}]
[{"$f":"basePAGAS!#REF!","v":{"$error":"#REF!"}},{"$error":"#REF!"}]
[{"$f":"basePAGAS!#REF!","v":{"$error":"#REF!"}},{"$error":"#REF!"}]
[{"$f":"basePAGAS!#REF!","v":{"$error":"#REF!"}},{"$error":"#REF!"}]
[{"$f":"basePAGAS!#REF!","v":{"$error":"#REF!"}},{"$error":"#REF!"}]
[{"$f":"basePAGAS!#REF!","v":{"$error":"#REF!"}},{"$error":"#REF!"}]
[{"$f":"basePAGAS!#REF!","v":{"$error":"#REF!"}},{"$error":"#REF!"}]
[{"$f":"basePAGAS!#REF!","v":{"$error":"#REF!"}},{"$error":"#REF!"}]
[{"$f":"basePAGAS!#REF!","v":{"$error":"#REF!"}},{"$error":"#REF!"}]
[{"$f":"basePAGAS!#REF!","v":{"$error":"#REF!"}},{"$error":"#REF!"}]
[{"$f":"basePAGAS!#REF!","v":{"$error":"#REF!"}},{"$error":"#REF!"}]
[{"$f":"basePAGAS!#REF!","v":{"$error":"#REF!"}},{"$error":"#REF!"}]
[{"$f":"basePAGAS!#REF!","v":{"$error":"#REF!"}},{"$error":"#REF!"}]
[{"$f":"basePAGAS!#REF!","v":{"$error":"#REF!"}},{"$error":"#REF!"}]
[{"$f":"basePAGAS!#REF!","v":{"$error":"#REF!"}},{"$error":"#REF!"}]
[{"$f":"basePAGAS!#REF!","v":{"$error":"#REF!"}},{"$error":"#REF!"}]
[{"$f":"basePAGAS!#REF!","v":{"$error":"#REF!"}},{"$error":"#REF!"}]
[{"$f":"basePAGAS!#REF!","v":{"$error":"#REF!"}},{"$error":"#REF!"}]
[{"$f":"basePAGAS!#REF!","v":{"$error":"#REF!"}},{"$error":"#REF!"}]
[{"$f":"basePAGAS!#REF!","v":{"$error":"#REF!"}},{"$error":"#REF!"}]
[{"$f":"basePAGAS!#REF!","v":{"$error":"#REF!"}},{"$error":"#REF!"}]
[{"$f":"basePAGAS!#REF!","v":{"$error":"#REF!"}},{"$error":"#REF!"}]
[{"$f":"basePAGAS!#REF!","v":{"$error":"#REF!"}},{"$error":"#REF!"}]
[{"$f":"basePAGAS!#REF!","v":{"$error":"#REF!"}},{"$error":"#REF!"}]
[{"$f":"basePAGAS!#REF!","v":{"$error":"#REF!"}},{"$error":"#REF!"}]
[{"$f":"basePAGAS!#REF!","v":{"$error":"#REF!"}},{"$error":"#REF!"}]
[{"$f":"basePAGAS!#REF!","v":{"$error":"#REF!"}},{"$error":"#REF!"}]
[{"$f":"basePAGAS!#REF!","v":{"$error":"#REF!"}},{"$error":"#REF!"}]
[{"$f":"basePAGAS!#REF!","v":{"$error":"#REF!"}},{"$error":"#REF!"}]
[{"$f":"basePAGAS!#REF!","v":{"$error":"#REF!"}},{"$error":"#REF!"}]
[{"$f":"basePAGAS!#REF!","v":{"$error":"#REF!"}},{"$error":"#REF!"}]
[{"$f":"basePAGAS!#REF!","v":{"$error":"#REF!"}},{"$error":"#REF!"}]
[{"$f":"basePAGAS!#REF!","v":{"$error":"#REF!"}},{"$error":"#REF!"}]
[{"$f":"basePAGAS!#REF!","v":{"$error":"#REF!"}},{"$error":"#REF!"}]
[{"$f":"basePAGAS!#REF!","v":{"$error":"#REF!"}},{"$error":"#REF!"}]
[{"$f":"basePAGAS!#REF!","v":{"$error":"#REF!"}},{"$error":"#REF!"}]
[{"$f":"basePAGAS!#REF!","v":{"$error":"#REF!"}},{"$error":"#REF!"}]
[{"$f":"basePAGAS!#REF!","v":{"$error":"#REF!"}},{"$error":"#REF!"}]
[{"$f":"basePAGAS!#REF!","v":{"$error":"#REF!"}},{"$error":"#REF!"}]
[{"$f":"basePAGAS!#REF!","v":{"$error":"#REF!"}},{"$error":"#REF!"}]
[{"$f":"basePAGAS!#REF!","v":{"$error":"#REF!"}},{"$error":"#REF!"}]
[{"$f":"basePAGAS!#REF!","v":{"$error":"#REF!"}},{"$error":"#REF!"}]
[{"$f":"basePAGAS!#REF!","v":{"$error":"#REF!"}},{"$error":"#REF!"}]
[{"$f":"basePAGAS!#REF!","v":{"$error":"#REF!"}},{"$error":"#REF!"}]
[{"$f":"basePAGAS!#REF!","v":{"$error":"#REF!"}},{"$error":"#REF!"}]
[{"$f":"basePAGAS!#REF!","v":{"$error":"#REF!"}},{"$error":"#REF!"}]
[{"$f":"basePAGAS!#REF!","v":{"$error":"#REF!"}},{"$error":"#REF!"}]
[{"$f":"basePAGAS!#REF!","v":{"$error":"#REF!"}},{"$error":"#REF!"}]
[{"$f":"basePAGAS!#REF!","v":{"$error":"#REF!"}},{"$error":"#REF!"}]
[{"$f":"basePAGAS!#REF!","v":{"$error":"#REF!"}},{"$error":"#REF!"}]
[{"$f":"basePAGAS!#REF!","v":{"$error":"#REF!"}},{"$error":"#REF!"}]
[{"$f":"basePAGAS!#REF!","v":{"$error":"#REF!"}},{"$error":"#REF!"}]
[{"$f":"basePAGAS!#REF!","v":{"$error":"#REF!"}},{"$error":"#REF!"}]
[{"$f":"basePAGAS!#REF!","v":{"$error":"#REF!"}},{"$error":"#REF!"}]
[{"$f":"basePAGAS!#REF!","v":{"$error":"#REF!"}},{"$error":"#REF!"}]
[{"$f":"basePAGAS!#REF!","v":{"$error":"#REF!"}},{"$error":"#REF!"}]
[{"$f":"basePAGAS!#REF!","v":{"$error":"#REF!"}},{"$error":"#REF!"}]
[{"$f":"basePAGAS!#REF!","v":{"$error":"#REF!"}},{"$f":"IF(A2447=\"\",\"\",IF(VLOOKUP(A2447,base_rpvs_pagas,2)=A$12,A2447,0))","v":{"$error":"#REF!"}}]
[{"$f":"basePAGAS!#REF!","v":{"$error":"#REF!"}},{"$error":"#REF!"}]
[{"$f":"basePAGAS!#REF!","v":{"$error":"#REF!"}},{"$error":"#REF!"}]
[{"$f":"basePAGAS!#REF!","v":{"$error":"#REF!"}},{"$error":"#REF!"}]
[{"$f":"basePAGAS!#REF!","v":{"$error":"#REF!"}},{"$error":"#REF!"}]
[{"$f":"basePAGAS!#REF!","v":{"$error":"#REF!"}},{"$error":"#REF!"}]
[{"$f":"basePAGAS!#REF!","v":{"$error":"#REF!"}},{"$error":"#REF!"}]
[{"$f":"basePAGAS!#REF!","v":{"$error":"#REF!"}},{"$error":"#REF!"}]
[{"$f":"basePAGAS!#REF!","v":{"$error":"#REF!"}},{"$error":"#REF!"}]
[{"$f":"basePAGAS!#REF!","v":{"$error":"#REF!"}},{"$error":"#REF!"}]
[{"$f":"basePAGAS!#REF!","v":{"$error":"#REF!"}},{"$error":"#REF!"}]
[{"$f":"basePAGAS!#REF!","v":{"$error":"#REF!"}},{"$error":"#REF!"}]
[{"$f":"basePAGAS!#REF!","v":{"$error":"#REF!"}},{"$error":"#REF!"}]
[{"$f":"basePAGAS!#REF!","v":{"$error":"#REF!"}},{"$error":"#REF!"}]
[{"$f":"basePAGAS!#REF!","v":{"$error":"#REF!"}},{"$error":"#REF!"}]
[{"$f":"basePAGAS!#REF!","v":{"$error":"#REF!"}},{"$error":"#REF!"}]
[{"$f":"basePAGAS!#REF!","v":{"$error":"#REF!"}},{"$error":"#REF!"}]
[{"$f":"basePAGAS!#REF!","v":{"$error":"#REF!"}},{"$error":"#REF!"}]
[{"$f":"basePAGAS!#REF!","v":{"$error":"#REF!"}},{"$error":"#REF!"}]
[{"$f":"basePAGAS!#REF!","v":{"$error":"#REF!"}},{"$error":"#REF!"}]
[{"$f":"basePAGAS!#REF!","v":{"$error":"#REF!"}},{"$error":"#REF!"}]
[{"$f":"basePAGAS!#REF!","v":{"$error":"#REF!"}},{"$error":"#REF!"}]
[{"$f":"basePAGAS!#REF!","v":{"$error":"#REF!"}},{"$error":"#REF!"}]
[{"$f":"basePAGAS!#REF!","v":{"$error":"#REF!"}},{"$error":"#REF!"}]
[{"$f":"basePAGAS!#REF!","v":{"$error":"#REF!"}},{"$error":"#REF!"}]
[{"$f":"basePAGAS!#REF!","v":{"$error":"#REF!"}},{"$error":"#REF!"}]
[{"$f":"basePAGAS!#REF!","v":{"$error":"#REF!"}},{"$error":"#REF!"}]
[{"$f":"basePAGAS!#REF!","v":{"$error":"#REF!"}},{"$error":"#REF!"}]
[{"$f":"basePAGAS!#REF!","v":{"$error":"#REF!"}},{"$error":"#REF!"}]
[{"$f":"basePAGAS!#REF!","v":{"$error":"#REF!"}},{"$error":"#REF!"}]
[{"$f":"basePAGAS!#REF!","v":{"$error":"#REF!"}},{"$error":"#REF!"}]
[{"$f":"basePAGAS!#REF!","v":{"$error":"#REF!"}},{"$error":"#REF!"}]
[{"$f":"basePAGAS!#REF!","v":{"$error":"#REF!"}},{"$error":"#REF!"}]
[{"$f":"basePAGAS!#REF!","v":{"$error":"#REF!"}},{"$error":"#REF!"}]
[{"$f":"basePAGAS!#REF!","v":{"$error":"#REF!"}},{"$error":"#REF!"}]
[{"$f":"basePAGAS!#REF!","v":{"$error":"#REF!"}},{"$error":"#REF!"}]
[{"$f":"basePAGAS!#REF!","v":{"$error":"#REF!"}},{"$error":"#REF!"}]
[{"$f":"basePAGAS!#REF!","v":{"$error":"#REF!"}},{"$error":"#REF!"}]
[{"$f":"basePAGAS!#REF!","v":{"$error":"#REF!"}},{"$error":"#REF!"}]
[{"$f":"basePAGAS!#REF!","v":{"$error":"#REF!"}},{"$error":"#REF!"}]
[{"$f":"basePAGAS!#REF!","v":{"$error":"#REF!"}},{"$error":"#REF!"}]
[{"$f":"basePAGAS!#REF!","v":{"$error":"#REF!"}},{"$error":"#REF!"}]
[{"$f":"basePAGAS!#REF!","v":{"$error":"#REF!"}},{"$error":"#REF!"}]
[{"$f":"basePAGAS!#REF!","v":{"$error":"#REF!"}},{"$error":"#REF!"}]
[{"$f":"basePAGAS!#REF!","v":{"$error":"#REF!"}},{"$error":"#REF!"}]
[{"$f":"basePAGAS!#REF!","v":{"$error":"#REF!"}},{"$error":"#REF!"}]
[{"$f":"basePAGAS!#REF!","v":{"$error":"#REF!"}},{"$error":"#REF!"}]
[{"$f":"basePAGAS!#REF!","v":{"$error":"#REF!"}},{"$error":"#REF!"}]
[{"$f":"basePAGAS!#REF!","v":{"$error":"#REF!"}},{"$error":"#REF!"}]
[{"$f":"basePAGAS!#REF!","v":{"$error":"#REF!"}},{"$error":"#REF!"}]
[{"$f":"basePAGAS!#REF!","v":{"$error":"#REF!"}},{"$error":"#REF!"}]
[{"$f":"basePAGAS!#REF!","v":{"$error":"#REF!"}},{"$error":"#REF!"}]
[{"$f":"basePAGAS!#REF!","v":{"$error":"#REF!"}},{"$error":"#REF!"}]
[{"$f":"basePAGAS!#REF!","v":{"$error":"#REF!"}},{"$error":"#REF!"}]
[{"$f":"basePAGAS!#REF!","v":{"$error":"#REF!"}},{"$error":"#REF!"}]
[{"$f":"basePAGAS!#REF!","v":{"$error":"#REF!"}},{"$error":"#REF!"}]
[{"$f":"basePAGAS!#REF!","v":{"$error":"#REF!"}},{"$error":"#REF!"}]
[{"$f":"basePAGAS!#REF!","v":{"$error":"#REF!"}},{"$error":"#REF!"}]
[{"$f":"basePAGAS!#REF!","v":{"$error":"#REF!"}},{"$error":"#REF!"}]
[{"$f":"basePAGAS!#REF!","v":{"$error":"#REF!"}},{"$error":"#REF!"}]
[{"$f":"basePAGAS!#REF!","v":{"$error":"#REF!"}},{"$error":"#REF!"}]
[{"$f":"basePAGAS!#REF!","v":{"$error":"#REF!"}},{"$error":"#REF!"}]
[{"$f":"basePAGAS!#REF!","v":{"$error":"#REF!"}},{"$error":"#REF!"}]
[{"$f":"basePAGAS!#REF!","v":{"$error":"#REF!"}},{"$error":"#REF!"}]
[{"$f":"basePAGAS!#REF!","v":{"$error":"#REF!"}},{"$f":"IF(A2511=\"\",\"\",IF(VLOOKUP(A2511,base_rpvs_pagas,2)=A$12,A2511,0))","v":{"$error":"#REF!"}}]
[{"$f":"basePAGAS!#REF!","v":{"$error":"#REF!"}},{"$error":"#REF!"}]
[{"$f":"basePAGAS!#REF!","v":{"$error":"#REF!"}},{"$error":"#REF!"}]
[{"$f":"basePAGAS!#REF!","v":{"$error":"#REF!"}},{"$error":"#REF!"}]
[{"$f":"basePAGAS!#REF!","v":{"$error":"#REF!"}},{"$error":"#REF!"}]
[{"$f":"basePAGAS!#REF!","v":{"$error":"#REF!"}},{"$error":"#REF!"}]
[{"$f":"basePAGAS!#REF!","v":{"$error":"#REF!"}},{"$error":"#REF!"}]
[{"$f":"basePAGAS!#REF!","v":{"$error":"#REF!"}},{"$error":"#REF!"}]
[{"$f":"basePAGAS!#REF!","v":{"$error":"#REF!"}},{"$error":"#REF!"}]
[{"$f":"basePAGAS!#REF!","v":{"$error":"#REF!"}},{"$error":"#REF!"}]
[{"$f":"basePAGAS!#REF!","v":{"$error":"#REF!"}},{"$error":"#REF!"}]
[{"$f":"basePAGAS!#REF!","v":{"$error":"#REF!"}},{"$error":"#REF!"}]
[{"$f":"basePAGAS!#REF!","v":{"$error":"#REF!"}},{"$error":"#REF!"}]
[{"$f":"basePAGAS!#REF!","v":{"$error":"#REF!"}},{"$error":"#REF!"}]
[{"$f":"basePAGAS!#REF!","v":{"$error":"#REF!"}},{"$error":"#REF!"}]
[{"$f":"basePAGAS!#REF!","v":{"$error":"#REF!"}},{"$error":"#REF!"}]
[{"$f":"basePAGAS!#REF!","v":{"$error":"#REF!"}},{"$error":"#REF!"}]
[{"$f":"basePAGAS!#REF!","v":{"$error":"#REF!"}},{"$error":"#REF!"}]
[{"$f":"basePAGAS!#REF!","v":{"$error":"#REF!"}},{"$error":"#REF!"}]
[{"$f":"basePAGAS!#REF!","v":{"$error":"#REF!"}},{"$error":"#REF!"}]
[{"$f":"basePAGAS!#REF!","v":{"$error":"#REF!"}},{"$error":"#REF!"}]
[{"$f":"basePAGAS!#REF!","v":{"$error":"#REF!"}},{"$error":"#REF!"}]
[{"$f":"basePAGAS!#REF!","v":{"$error":"#REF!"}},{"$error":"#REF!"}]
[{"$f":"basePAGAS!#REF!","v":{"$error":"#REF!"}},{"$error":"#REF!"}]
[{"$f":"basePAGAS!#REF!","v":{"$error":"#REF!"}},{"$error":"#REF!"}]
[{"$f":"basePAGAS!#REF!","v":{"$error":"#REF!"}},{"$error":"#REF!"}]
[{"$f":"basePAGAS!#REF!","v":{"$error":"#REF!"}},{"$error":"#REF!"}]
[{"$f":"basePAGAS!#REF!","v":{"$error":"#REF!"}},{"$error":"#REF!"}]
[{"$f":"basePAGAS!#REF!","v":{"$error":"#REF!"}},{"$error":"#REF!"}]
[{"$f":"basePAGAS!#REF!","v":{"$error":"#REF!"}},{"$error":"#REF!"}]
[{"$f":"basePAGAS!#REF!","v":{"$error":"#REF!"}},{"$error":"#REF!"}]
[{"$f":"basePAGAS!#REF!","v":{"$error":"#REF!"}},{"$error":"#REF!"}]
[{"$f":"basePAGAS!#REF!","v":{"$error":"#REF!"}},{"$error":"#REF!"}]
[{"$f":"basePAGAS!#REF!","v":{"$error":"#REF!"}},{"$error":"#REF!"}]
[{"$f":"basePAGAS!#REF!","v":{"$error":"#REF!"}},{"$error":"#REF!"}]
[{"$f":"basePAGAS!#REF!","v":{"$error":"#REF!"}},{"$error":"#REF!"}]
[{"$f":"basePAGAS!#REF!","v":{"$error":"#REF!"}},{"$error":"#REF!"}]
[{"$f":"basePAGAS!#REF!","v":{"$error":"#REF!"}},{"$error":"#REF!"}]
[{"$f":"basePAGAS!#REF!","v":{"$error":"#REF!"}},{"$error":"#REF!"}]
[{"$f":"basePAGAS!#REF!","v":{"$error":"#REF!"}},{"$error":"#REF!"}]
[{"$f":"basePAGAS!#REF!","v":{"$error":"#REF!"}},{"$error":"#REF!"}]
[{"$f":"basePAGAS!#REF!","v":{"$error":"#REF!"}},{"$error":"#REF!"}]
[{"$f":"basePAGAS!#REF!","v":{"$error":"#REF!"}},{"$error":"#REF!"}]
[{"$f":"basePAGAS!#REF!","v":{"$error":"#REF!"}},{"$error":"#REF!"}]
[{"$f":"basePAGAS!#REF!","v":{"$error":"#REF!"}},{"$error":"#REF!"}]
[{"$f":"basePAGAS!#REF!","v":{"$error":"#REF!"}},{"$error":"#REF!"}]
[{"$f":"basePAGAS!#REF!","v":{"$error":"#REF!"}},{"$error":"#REF!"}]
[{"$f":"basePAGAS!#REF!","v":{"$error":"#REF!"}},{"$error":"#REF!"}]
[{"$f":"basePAGAS!#REF!","v":{"$error":"#REF!"}},{"$error":"#REF!"}]
[{"$f":"basePAGAS!#REF!","v":{"$error":"#REF!"}},{"$error":"#REF!"}]
[{"$f":"basePAGAS!#REF!","v":{"$error":"#REF!"}},{"$error":"#REF!"}]
[{"$f":"basePAGAS!#REF!","v":{"$error":"#REF!"}},{"$error":"#REF!"}]
[{"$f":"basePAGAS!#REF!","v":{"$error":"#REF!"}},{"$error":"#REF!"}]
[{"$f":"basePAGAS!#REF!","v":{"$error":"#REF!"}},{"$error":"#REF!"}]
[{"$f":"basePAGAS!#REF!","v":{"$error":"#REF!"}},{"$error":"#REF!"}]
[{"$f":"basePAGAS!#REF!","v":{"$error":"#REF!"}},{"$error":"#REF!"}]
[{"$f":"basePAGAS!#REF!","v":{"$error":"#REF!"}},{"$error":"#REF!"}]
[{"$f":"basePAGAS!#REF!","v":{"$error":"#REF!"}},{"$error":"#REF!"}]
[{"$f":"basePAGAS!#REF!","v":{"$error":"#REF!"}},{"$error":"#REF!"}]
[{"$f":"basePAGAS!#REF!","v":{"$error":"#REF!"}},{"$error":"#REF!"}]
[{"$f":"basePAGAS!#REF!","v":{"$error":"#REF!"}},{"$error":"#REF!"}]
[{"$f":"basePAGAS!#REF!","v":{"$error":"#REF!"}},{"$error":"#REF!"}]
[{"$f":"basePAGAS!#REF!","v":{"$error":"#REF!"}},{"$error":"#REF!"}]
[{"$f":"basePAGAS!#REF!","v":{"$error":"#REF!"}},{"$error":"#REF!"}]
[{"$f":"basePAGAS!#REF!","v":{"$error":"#REF!"}},{"$f":"IF(A2575=\"\",\"\",IF(VLOOKUP(A2575,base_rpvs_pagas,2)=A$12,A2575,0))","v":{"$error":"#REF!"}}]
[{"$f":"basePAGAS!#REF!","v":{"$error":"#REF!"}},{"$error":"#REF!"}]
[{"$f":"basePAGAS!#REF!","v":{"$error":"#REF!"}},{"$error":"#REF!"}]
[{"$f":"basePAGAS!#REF!","v":{"$error":"#REF!"}},{"$error":"#REF!"}]
[{"$f":"basePAGAS!#REF!","v":{"$error":"#REF!"}},{"$error":"#REF!"}]
[{"$f":"basePAGAS!#REF!","v":{"$error":"#REF!"}},{"$error":"#REF!"}]
[{"$f":"basePAGAS!#REF!","v":{"$error":"#REF!"}},{"$error":"#REF!"}]
[{"$f":"basePAGAS!#REF!","v":{"$error":"#REF!"}},{"$error":"#REF!"}]
[{"$f":"basePAGAS!#REF!","v":{"$error":"#REF!"}},{"$error":"#REF!"}]
[{"$f":"basePAGAS!#REF!","v":{"$error":"#REF!"}},{"$error":"#REF!"}]
[{"$f":"basePAGAS!#REF!","v":{"$error":"#REF!"}},{"$error":"#REF!"}]
[{"$f":"basePAGAS!#REF!","v":{"$error":"#REF!"}},{"$error":"#REF!"}]
[{"$f":"basePAGAS!#REF!","v":{"$error":"#REF!"}},{"$error":"#REF!"}]
[{"$f":"basePAGAS!#REF!","v":{"$error":"#REF!"}},{"$error":"#REF!"}]
[{"$f":"basePAGAS!#REF!","v":{"$error":"#REF!"}},{"$error":"#REF!"}]
[{"$f":"basePAGAS!#REF!","v":{"$error":"#REF!"}},{"$error":"#REF!"}]
[{"$f":"basePAGAS!#REF!","v":{"$error":"#REF!"}},{"$error":"#REF!"}]
[{"$f":"basePAGAS!#REF!","v":{"$error":"#REF!"}},{"$error":"#REF!"}]
[{"$f":"basePAGAS!#REF!","v":{"$error":"#REF!"}},{"$error":"#REF!"}]
[{"$f":"basePAGAS!#REF!","v":{"$error":"#REF!"}},{"$error":"#REF!"}]
[{"$f":"basePAGAS!#REF!","v":{"$error":"#REF!"}},{"$error":"#REF!"}]
[{"$f":"basePAGAS!#REF!","v":{"$error":"#REF!"}},{"$error":"#REF!"}]
[{"$f":"basePAGAS!#REF!","v":{"$error":"#REF!"}},{"$error":"#REF!"}]
[{"$f":"basePAGAS!#REF!","v":{"$error":"#REF!"}},{"$error":"#REF!"}]
[{"$f":"basePAGAS!#REF!","v":{"$error":"#REF!"}},{"$error":"#REF!"}]
[{"$f":"basePAGAS!#REF!","v":{"$error":"#REF!"}},{"$error":"#REF!"}]
[{"$f":"basePAGAS!#REF!","v":{"$error":"#REF!"}},{"$error":"#REF!"}]
[{"$f":"basePAGAS!#REF!","v":{"$error":"#REF!"}},{"$error":"#REF!"}]
[{"$f":"basePAGAS!#REF!","v":{"$error":"#REF!"}},{"$error":"#REF!"}]
[{"$f":"basePAGAS!#REF!","v":{"$error":"#REF!"}},{"$error":"#REF!"}]
[{"$f":"basePAGAS!#REF!","v":{"$error":"#REF!"}},{"$error":"#REF!"}]
[{"$f":"basePAGAS!#REF!","v":{"$error":"#REF!"}},{"$error":"#REF!"}]
[{"$f":"basePAGAS!#REF!","v":{"$error":"#REF!"}},{"$error":"#REF!"}]
[{"$f":"basePAGAS!#REF!","v":{"$error":"#REF!"}},{"$error":"#REF!"}]
[{"$f":"basePAGAS!#REF!","v":{"$error":"#REF!"}},{"$error":"#REF!"}]
[{"$f":"basePAGAS!#REF!","v":{"$error":"#REF!"}},{"$error":"#REF!"}]
[{"$f":"basePAGAS!#REF!","v":{"$error":"#REF!"}},{"$error":"#REF!"}]
[{"$f":"basePAGAS!#REF!","v":{"$error":"#REF!"}},{"$error":"#REF!"}]
[{"$f":"basePAGAS!#REF!","v":{"$error":"#REF!"}},{"$error":"#REF!"}]
[{"$f":"basePAGAS!#REF!","v":{"$error":"#REF!"}},{"$error":"#REF!"}]
[{"$f":"basePAGAS!#REF!","v":{"$error":"#REF!"}},{"$error":"#REF!"}]
[{"$f":"basePAGAS!#REF!","v":{"$error":"#REF!"}},{"$error":"#REF!"}]
[{"$f":"basePAGAS!#REF!","v":{"$error":"#REF!"}},{"$error":"#REF!"}]
[{"$f":"basePAGAS!#REF!","v":{"$error":"#REF!"}},{"$error":"#REF!"}]
[{"$f":"basePAGAS!#REF!","v":{"$error":"#REF!"}},{"$error":"#REF!"}]
[{"$f":"basePAGAS!#REF!","v":{"$error":"#REF!"}},{"$error":"#REF!"}]
[{"$f":"basePAGAS!#REF!","v":{"$error":"#REF!"}},{"$error":"#REF!"}]
[{"$f":"basePAGAS!#REF!","v":{"$error":"#REF!"}},{"$error":"#REF!"}]
[{"$f":"basePAGAS!#REF!","v":{"$error":"#REF!"}},{"$error":"#REF!"}]
[{"$f":"basePAGAS!#REF!","v":{"$error":"#REF!"}},{"$error":"#REF!"}]
[{"$f":"basePAGAS!#REF!","v":{"$error":"#REF!"}},{"$error":"#REF!"}]
[{"$f":"basePAGAS!#REF!","v":{"$error":"#REF!"}},{"$error":"#REF!"}]
[{"$f":"basePAGAS!#REF!","v":{"$error":"#REF!"}},{"$error":"#REF!"}]
[{"$f":"basePAGAS!#REF!","v":{"$error":"#REF!"}},{"$error":"#REF!"}]
[{"$f":"basePAGAS!#REF!","v":{"$error":"#REF!"}},{"$error":"#REF!"}]
[{"$f":"basePAGAS!#REF!","v":{"$error":"#REF!"}},{"$error":"#REF!"}]
[{"$f":"basePAGAS!#REF!","v":{"$error":"#REF!"}},{"$error":"#REF!"}]
[{"$f":"basePAGAS!#REF!","v":{"$error":"#REF!"}},{"$error":"#REF!"}]
[{"$f":"basePAGAS!#REF!","v":{"$error":"#REF!"}},{"$error":"#REF!"}]
[{"$f":"basePAGAS!#REF!","v":{"$error":"#REF!"}},{"$error":"#REF!"}]
[{"$f":"basePAGAS!#REF!","v":{"$error":"#REF!"}},{"$error":"#REF!"}]
[{"$f":"basePAGAS!#REF!","v":{"$error":"#REF!"}},{"$error":"#REF!"}]
[{"$f":"basePAGAS!#REF!","v":{"$error":"#REF!"}},{"$error":"#REF!"}]
[{"$f":"basePAGAS!#REF!","v":{"$error":"#REF!"}},{"$error":"#REF!"}]
[{"$f":"basePAGAS!#REF!","v":{"$error":"#REF!"}},{"$f":"IF(A2639=\"\",\"\",IF(VLOOKUP(A2639,base_rpvs_pagas,2)=A$12,A2639,0))","v":{"$error":"#REF!"}}]
[{"$f":"basePAGAS!#REF!","v":{"$error":"#REF!"}},{"$error":"#REF!"}]
[{"$f":"basePAGAS!#REF!","v":{"$error":"#REF!"}},{"$error":"#REF!"}]
[{"$f":"basePAGAS!#REF!","v":{"$error":"#REF!"}},{"$error":"#REF!"}]
[{"$f":"basePAGAS!#REF!","v":{"$error":"#REF!"}},{"$error":"#REF!"}]
[{"$f":"basePAGAS!#REF!","v":{"$error":"#REF!"}},{"$error":"#REF!"}]
[{"$f":"basePAGAS!#REF!","v":{"$error":"#REF!"}},{"$error":"#REF!"}]
[{"$f":"basePAGAS!#REF!","v":{"$error":"#REF!"}},{"$error":"#REF!"}]
[{"$f":"basePAGAS!#REF!","v":{"$error":"#REF!"}},{"$error":"#REF!"}]
[{"$f":"basePAGAS!#REF!","v":{"$error":"#REF!"}},{"$error":"#REF!"}]
[{"$f":"basePAGAS!#REF!","v":{"$error":"#REF!"}},{"$error":"#REF!"}]
[{"$f":"basePAGAS!#REF!","v":{"$error":"#REF!"}},{"$error":"#REF!"}]
[{"$f":"basePAGAS!#REF!","v":{"$error":"#REF!"}},{"$error":"#REF!"}]
[{"$f":"basePAGAS!#REF!","v":{"$error":"#REF!"}},{"$error":"#REF!"}]
[{"$f":"basePAGAS!#REF!","v":{"$error":"#REF!"}},{"$error":"#REF!"}]
[{"$f":"basePAGAS!#REF!","v":{"$error":"#REF!"}},{"$error":"#REF!"}]
[{"$f":"basePAGAS!#REF!","v":{"$error":"#REF!"}},{"$error":"#REF!"}]
[{"$f":"basePAGAS!#REF!","v":{"$error":"#REF!"}},{"$error":"#REF!"}]
[{"$f":"basePAGAS!#REF!","v":{"$error":"#REF!"}},{"$error":"#REF!"}]
[{"$f":"basePAGAS!#REF!","v":{"$error":"#REF!"}},{"$error":"#REF!"}]
[{"$f":"basePAGAS!#REF!","v":{"$error":"#REF!"}},{"$error":"#REF!"}]
[{"$f":"basePAGAS!#REF!","v":{"$error":"#REF!"}},{"$error":"#REF!"}]
[{"$f":"basePAGAS!#REF!","v":{"$error":"#REF!"}},{"$error":"#REF!"}]
[{"$f":"basePAGAS!#REF!","v":{"$error":"#REF!"}},{"$error":"#REF!"}]
[{"$f":"basePAGAS!#REF!","v":{"$error":"#REF!"}},{"$error":"#REF!"}]
[{"$f":"basePAGAS!#REF!","v":{"$error":"#REF!"}},{"$error":"#REF!"}]
[{"$f":"basePAGAS!#REF!","v":{"$error":"#REF!"}},{"$error":"#REF!"}]
[{"$f":"basePAGAS!#REF!","v":{"$error":"#REF!"}},{"$error":"#REF!"}]
[{"$f":"basePAGAS!#REF!","v":{"$error":"#REF!"}},{"$error":"#REF!"}]
[{"$f":"basePAGAS!#REF!","v":{"$error":"#REF!"}},{"$error":"#REF!"}]
[{"$f":"basePAGAS!#REF!","v":{"$error":"#REF!"}},{"$error":"#REF!"}]
[{"$f":"basePAGAS!#REF!","v":{"$error":"#REF!"}},{"$error":"#REF!"}]
[{"$f":"basePAGAS!#REF!","v":{"$error":"#REF!"}},{"$error":"#REF!"}]
[{"$f":"basePAGAS!#REF!","v":{"$error":"#REF!"}},{"$error":"#REF!"}]
[{"$f":"basePAGAS!#REF!","v":{"$error":"#REF!"}},{"$error":"#REF!"}]
[{"$f":"basePAGAS!#REF!","v":{"$error":"#REF!"}},{"$error":"#REF!"}]
[{"$f":"basePAGAS!#REF!","v":{"$error":"#REF!"}},{"$error":"#REF!"}]
[{"$f":"basePAGAS!#REF!","v":{"$error":"#REF!"}},{"$error":"#REF!"}]
[{"$f":"basePAGAS!#REF!","v":{"$error":"#REF!"}},{"$error":"#REF!"}]
[{"$f":"basePAGAS!#REF!","v":{"$error":"#REF!"}},{"$error":"#REF!"}]
[{"$f":"basePAGAS!#REF!","v":{"$error":"#REF!"}},{"$error":"#REF!"}]
[{"$f":"basePAGAS!#REF!","v":{"$error":"#REF!"}},{"$error":"#REF!"}]
[{"$f":"basePAGAS!#REF!","v":{"$error":"#REF!"}},{"$error":"#REF!"}]
[{"$f":"basePAGAS!#REF!","v":{"$error":"#REF!"}},{"$error":"#REF!"}]
[{"$f":"basePAGAS!#REF!","v":{"$error":"#REF!"}},{"$error":"#REF!"}]
[{"$f":"basePAGAS!#REF!","v":{"$error":"#REF!"}},{"$error":"#REF!"}]
[{"$f":"basePAGAS!#REF!","v":{"$error":"#REF!"}},{"$error":"#REF!"}]
[{"$f":"basePAGAS!#REF!","v":{"$error":"#REF!"}},{"$error":"#REF!"}]
[{"$f":"basePAGAS!#REF!","v":{"$error":"#REF!"}},{"$error":"#REF!"}]
[{"$f":"basePAGAS!#REF!","v":{"$error":"#REF!"}},{"$error":"#REF!"}]
[{"$f":"basePAGAS!#REF!","v":{"$error":"#REF!"}},{"$error":"#REF!"}]
[{"$f":"basePAGAS!#REF!","v":{"$error":"#REF!"}},{"$error":"#REF!"}]
[{"$f":"basePAGAS!#REF!","v":{"$error":"#REF!"}},{"$error":"#REF!"}]
[{"$f":"basePAGAS!#REF!","v":{"$error":"#REF!"}},{"$error":"#REF!"}]
[{"$f":"basePAGAS!#REF!","v":{"$error":"#REF!"}},{"$error":"#REF!"}]
[{"$f":"basePAGAS!#REF!","v":{"$error":"#REF!"}},{"$error":"#REF!"}]
[{"$f":"basePAGAS!#REF!","v":{"$error":"#REF!"}},{"$error":"#REF!"}]
[{"$f":"basePAGAS!#REF!","v":{"$error":"#REF!"}},{"$error":"#REF!"}]
[{"$f":"basePAGAS!#REF!","v":{"$error":"#REF!"}},{"$error":"#REF!"}]
[{"$f":"basePAGAS!#REF!","v":{"$error":"#REF!"}},{"$error":"#REF!"}]
[{"$f":"basePAGAS!#REF!","v":{"$error":"#REF!"}},{"$error":"#REF!"}]
[{"$f":"basePAGAS!#REF!","v":{"$error":"#REF!"}},{"$error":"#REF!"}]
[{"$f":"basePAGAS!#REF!","v":{"$error":"#REF!"}},{"$error":"#REF!"}]
[{"$f":"basePAGAS!#REF!","v":{"$error":"#REF!"}},{"$error":"#REF!"}]
[{"$f":"basePAGAS!#REF!","v":{"$error":"#REF!"}},{"$f":"IF(A2703=\"\",\"\",IF(VLOOKUP(A2703,base_rpvs_pagas,2)=A$12,A2703,0))","v":{"$error":"#REF!"}}]
[{"$f":"basePAGAS!#REF!","v":{"$error":"#REF!"}},{"$error":"#REF!"}]
[{"$f":"basePAGAS!#REF!","v":{"$error":"#REF!"}},{"$error":"#REF!"}]
[{"$f":"basePAGAS!#REF!","v":{"$error":"#REF!"}},{"$error":"#REF!"}]
[{"$f":"basePAGAS!#REF!","v":{"$error":"#REF!"}},{"$error":"#REF!"}]
[{"$f":"basePAGAS!#REF!","v":{"$error":"#REF!"}},{"$error":"#REF!"}]
[{"$f":"basePAGAS!#REF!","v":{"$error":"#REF!"}},{"$error":"#REF!"}]
[{"$f":"basePAGAS!#REF!","v":{"$error":"#REF!"}},{"$error":"#REF!"}]
[{"$f":"basePAGAS!#REF!","v":{"$error":"#REF!"}},{"$error":"#REF!"}]
[{"$f":"basePAGAS!#REF!","v":{"$error":"#REF!"}},{"$error":"#REF!"}]
[{"$f":"basePAGAS!#REF!","v":{"$error":"#REF!"}},{"$error":"#REF!"}]
[{"$f":"basePAGAS!#REF!","v":{"$error":"#REF!"}},{"$error":"#REF!"}]
[{"$f":"basePAGAS!#REF!","v":{"$error":"#REF!"}},{"$error":"#REF!"}]
[{"$f":"basePAGAS!#REF!","v":{"$error":"#REF!"}},{"$error":"#REF!"}]
[{"$f":"basePAGAS!#REF!","v":{"$error":"#REF!"}},{"$error":"#REF!"}]
[{"$f":"basePAGAS!#REF!","v":{"$error":"#REF!"}},{"$error":"#REF!"}]
[{"$f":"basePAGAS!#REF!","v":{"$error":"#REF!"}},{"$error":"#REF!"}]
[{"$f":"basePAGAS!#REF!","v":{"$error":"#REF!"}},{"$error":"#REF!"}]
[{"$f":"basePAGAS!#REF!","v":{"$error":"#REF!"}},{"$error":"#REF!"}]
[{"$f":"basePAGAS!#REF!","v":{"$error":"#REF!"}},{"$error":"#REF!"}]
[{"$f":"basePAGAS!#REF!","v":{"$error":"#REF!"}},{"$error":"#REF!"}]
[{"$f":"basePAGAS!#REF!","v":{"$error":"#REF!"}},{"$error":"#REF!"}]
[{"$f":"basePAGAS!#REF!","v":{"$error":"#REF!"}},{"$error":"#REF!"}]
[{"$f":"basePAGAS!#REF!","v":{"$error":"#REF!"}},{"$error":"#REF!"}]
[{"$f":"basePAGAS!#REF!","v":{"$error":"#REF!"}},{"$error":"#REF!"}]
[{"$f":"basePAGAS!#REF!","v":{"$error":"#REF!"}},{"$error":"#REF!"}]
[{"$f":"basePAGAS!#REF!","v":{"$error":"#REF!"}},{"$error":"#REF!"}]
[{"$f":"basePAGAS!#REF!","v":{"$error":"#REF!"}},{"$error":"#REF!"}]
[{"$f":"basePAGAS!#REF!","v":{"$error":"#REF!"}},{"$error":"#REF!"}]
[{"$f":"basePAGAS!#REF!","v":{"$error":"#REF!"}},{"$error":"#REF!"}]
[{"$f":"basePAGAS!#REF!","v":{"$error":"#REF!"}},{"$error":"#REF!"}]
[{"$f":"basePAGAS!#REF!","v":{"$error":"#REF!"}},{"$error":"#REF!"}]
[{"$f":"basePAGAS!#REF!","v":{"$error":"#REF!"}},{"$error":"#REF!"}]
[{"$f":"basePAGAS!#REF!","v":{"$error":"#REF!"}},{"$error":"#REF!"}]
[{"$f":"basePAGAS!#REF!","v":{"$error":"#REF!"}},{"$error":"#REF!"}]
[{"$f":"basePAGAS!#REF!","v":{"$error":"#REF!"}},{"$error":"#REF!"}]
[{"$f":"basePAGAS!#REF!","v":{"$error":"#REF!"}},{"$error":"#REF!"}]
[{"$f":"basePAGAS!#REF!","v":{"$error":"#REF!"}},{"$error":"#REF!"}]
[{"$f":"basePAGAS!#REF!","v":{"$error":"#REF!"}},{"$error":"#REF!"}]
[{"$f":"basePAGAS!#REF!","v":{"$error":"#REF!"}},{"$error":"#REF!"}]
[{"$f":"basePAGAS!#REF!","v":{"$error":"#REF!"}},{"$error":"#REF!"}]
[{"$f":"basePAGAS!#REF!","v":{"$error":"#REF!"}},{"$error":"#REF!"}]
[{"$f":"basePAGAS!#REF!","v":{"$error":"#REF!"}},{"$error":"#REF!"}]
[{"$f":"basePAGAS!#REF!","v":{"$error":"#REF!"}},{"$error":"#REF!"}]
[{"$f":"basePAGAS!#REF!","v":{"$error":"#REF!"}},{"$error":"#REF!"}]
[{"$f":"basePAGAS!#REF!","v":{"$error":"#REF!"}},{"$error":"#REF!"}]
[{"$f":"basePAGAS!#REF!","v":{"$error":"#REF!"}},{"$error":"#REF!"}]
[{"$f":"basePAGAS!#REF!","v":{"$error":"#REF!"}},{"$error":"#REF!"}]
[{"$f":"basePAGAS!#REF!","v":{"$error":"#REF!"}},{"$error":"#REF!"}]
[{"$f":"basePAGAS!#REF!","v":{"$error":"#REF!"}},{"$error":"#REF!"}]
[{"$f":"basePAGAS!#REF!","v":{"$error":"#REF!"}},{"$error":"#REF!"}]
[{"$f":"basePAGAS!#REF!","v":{"$error":"#REF!"}},{"$error":"#REF!"}]
[{"$f":"basePAGAS!#REF!","v":{"$error":"#REF!"}},{"$error":"#REF!"}]
[{"$f":"basePAGAS!#REF!","v":{"$error":"#REF!"}},{"$error":"#REF!"}]
[{"$f":"basePAGAS!#REF!","v":{"$error":"#REF!"}},{"$error":"#REF!"}]
[{"$f":"basePAGAS!#REF!","v":{"$error":"#REF!"}},{"$error":"#REF!"}]
[{"$f":"basePAGAS!#REF!","v":{"$error":"#REF!"}},{"$error":"#REF!"}]
[{"$f":"basePAGAS!#REF!","v":{"$error":"#REF!"}},{"$error":"#REF!"}]
[{"$f":"basePAGAS!#REF!","v":{"$error":"#REF!"}},{"$error":"#REF!"}]
[{"$f":"basePAGAS!#REF!","v":{"$error":"#REF!"}},{"$error":"#REF!"}]
[{"$f":"basePAGAS!#REF!","v":{"$error":"#REF!"}},{"$error":"#REF!"}]
[{"$f":"basePAGAS!#REF!","v":{"$error":"#REF!"}},{"$error":"#REF!"}]
[{"$f":"basePAGAS!#REF!","v":{"$error":"#REF!"}},{"$error":"#REF!"}]
[{"$f":"basePAGAS!#REF!","v":{"$error":"#REF!"}},{"$error":"#REF!"}]
[{"$f":"basePAGAS!#REF!","v":{"$error":"#REF!"}},{"$f":"IF(A2767=\"\",\"\",IF(VLOOKUP(A2767,base_rpvs_pagas,2)=A$12,A2767,0))","v":{"$error":"#REF!"}}]
[{"$f":"basePAGAS!#REF!","v":{"$error":"#REF!"}},{"$error":"#REF!"}]
[{"$f":"basePAGAS!#REF!","v":{"$error":"#REF!"}},{"$error":"#REF!"}]
[{"$f":"basePAGAS!#REF!","v":{"$error":"#REF!"}},{"$error":"#REF!"}]
[{"$f":"basePAGAS!#REF!","v":{"$error":"#REF!"}},{"$error":"#REF!"}]
[{"$f":"basePAGAS!#REF!","v":{"$error":"#REF!"}},{"$error":"#REF!"}]
[{"$f":"basePAGAS!#REF!","v":{"$error":"#REF!"}},{"$error":"#REF!"}]
[{"$f":"basePAGAS!#REF!","v":{"$error":"#REF!"}},{"$error":"#REF!"}]
[{"$f":"basePAGAS!#REF!","v":{"$error":"#REF!"}},{"$error":"#REF!"}]
[{"$f":"basePAGAS!#REF!","v":{"$error":"#REF!"}},{"$error":"#REF!"}]
[{"$f":"basePAGAS!#REF!","v":{"$error":"#REF!"}},{"$error":"#REF!"}]
[{"$f":"basePAGAS!#REF!","v":{"$error":"#REF!"}},{"$error":"#REF!"}]
[{"$f":"basePAGAS!#REF!","v":{"$error":"#REF!"}},{"$error":"#REF!"}]
[{"$f":"basePAGAS!#REF!","v":{"$error":"#REF!"}},{"$error":"#REF!"}]
[{"$f":"basePAGAS!#REF!","v":{"$error":"#REF!"}},{"$error":"#REF!"}]
[{"$f":"basePAGAS!#REF!","v":{"$error":"#REF!"}},{"$error":"#REF!"}]
[{"$f":"basePAGAS!#REF!","v":{"$error":"#REF!"}},{"$error":"#REF!"}]
[{"$f":"basePAGAS!#REF!","v":{"$error":"#REF!"}},{"$error":"#REF!"}]
[{"$f":"basePAGAS!#REF!","v":{"$error":"#REF!"}},{"$error":"#REF!"}]
[{"$f":"basePAGAS!#REF!","v":{"$error":"#REF!"}},{"$error":"#REF!"}]
[{"$f":"basePAGAS!#REF!","v":{"$error":"#REF!"}},{"$error":"#REF!"}]
[{"$f":"basePAGAS!#REF!","v":{"$error":"#REF!"}},{"$error":"#REF!"}]
[{"$f":"basePAGAS!#REF!","v":{"$error":"#REF!"}},{"$error":"#REF!"}]
[{"$f":"basePAGAS!#REF!","v":{"$error":"#REF!"}},{"$error":"#REF!"}]
[{"$f":"basePAGAS!#REF!","v":{"$error":"#REF!"}},{"$error":"#REF!"}]
[{"$f":"basePAGAS!#REF!","v":{"$error":"#REF!"}},{"$error":"#REF!"}]
[{"$f":"basePAGAS!#REF!","v":{"$error":"#REF!"}},{"$error":"#REF!"}]
[{"$f":"basePAGAS!#REF!","v":{"$error":"#REF!"}},{"$error":"#REF!"}]
[{"$f":"basePAGAS!#REF!","v":{"$error":"#REF!"}},{"$error":"#REF!"}]
[{"$f":"basePAGAS!#REF!","v":{"$error":"#REF!"}},{"$error":"#REF!"}]
[{"$f":"basePAGAS!#REF!","v":{"$error":"#REF!"}},{"$error":"#REF!"}]
[{"$f":"basePAGAS!#REF!","v":{"$error":"#REF!"}},{"$error":"#REF!"}]
[{"$f":"basePAGAS!#REF!","v":{"$error":"#REF!"}},{"$error":"#REF!"}]
[{"$f":"basePAGAS!#REF!","v":{"$error":"#REF!"}},{"$error":"#REF!"}]
[{"$f":"basePAGAS!#REF!","v":{"$error":"#REF!"}},{"$error":"#REF!"}]
[{"$f":"basePAGAS!#REF!","v":{"$error":"#REF!"}},{"$error":"#REF!"}]
[{"$f":"basePAGAS!#REF!","v":{"$error":"#REF!"}},{"$error":"#REF!"}]
[{"$f":"basePAGAS!#REF!","v":{"$error":"#REF!"}},{"$error":"#REF!"}]
[{"$f":"basePAGAS!#REF!","v":{"$error":"#REF!"}},{"$error":"#REF!"}]
[{"$f":"basePAGAS!#REF!","v":{"$error":"#REF!"}},{"$error":"#REF!"}]
[{"$f":"basePAGAS!#REF!","v":{"$error":"#REF!"}},{"$error":"#REF!"}]
[{"$f":"basePAGAS!#REF!","v":{"$error":"#REF!"}},{"$error":"#REF!"}]
[{"$f":"basePAGAS!#REF!","v":{"$error":"#REF!"}},{"$error":"#REF!"}]
[{"$f":"basePAGAS!#REF!","v":{"$error":"#REF!"}},{"$error":"#REF!"}]
[{"$f":"basePAGAS!#REF!","v":{"$error":"#REF!"}},{"$error":"#REF!"}]
[{"$f":"basePAGAS!#REF!","v":{"$error":"#REF!"}},{"$error":"#REF!"}]
[{"$f":"basePAGAS!#REF!","v":{"$error":"#REF!"}},{"$error":"#REF!"}]
[{"$f":"basePAGAS!#REF!","v":{"$error":"#REF!"}},{"$error":"#REF!"}]
[{"$f":"basePAGAS!#REF!","v":{"$error":"#REF!"}},{"$error":"#REF!"}]
[{"$f":"basePAGAS!#REF!","v":{"$error":"#REF!"}},{"$error":"#REF!"}]
[{"$f":"basePAGAS!#REF!","v":{"$error":"#REF!"}},{"$error":"#REF!"}]
[{"$f":"basePAGAS!#REF!","v":{"$error":"#REF!"}},{"$error":"#REF!"}]
[{"$f":"basePAGAS!#REF!","v":{"$error":"#REF!"}},{"$error":"#REF!"}]
[{"$f":"basePAGAS!#REF!","v":{"$error":"#REF!"}},{"$error":"#REF!"}]
[{"$f":"basePAGAS!#REF!","v":{"$error":"#REF!"}},{"$error":"#REF!"}]
[{"$f":"basePAGAS!#REF!","v":{"$error":"#REF!"}},{"$error":"#REF!"}]
[{"$f":"basePAGAS!#REF!","v":{"$error":"#REF!"}},{"$error":"#REF!"}]
[{"$f":"basePAGAS!#REF!","v":{"$error":"#REF!"}},{"$error":"#REF!"}]
[{"$f":"basePAGAS!#REF!","v":{"$error":"#REF!"}},{"$error":"#REF!"}]
[{"$f":"basePAGAS!#REF!","v":{"$error":"#REF!"}},{"$error":"#REF!"}]
[{"$f":"basePAGAS!#REF!","v":{"$error":"#REF!"}},{"$error":"#REF!"}]
[{"$f":"basePAGAS!#REF!","v":{"$error":"#REF!"}},{"$error":"#REF!"}]
[{"$f":"basePAGAS!#REF!","v":{"$error":"#REF!"}},{"$error":"#REF!"}]
[{"$f":"basePAGAS!#REF!","v":{"$error":"#REF!"}},{"$error":"#REF!"}]
[{"$f":"basePAGAS!#REF!","v":{"$error":"#REF!"}},{"$f":"IF(A2831=\"\",\"\",IF(VLOOKUP(A2831,base_rpvs_pagas,2)=A$12,A2831,0))","v":{"$error":"#REF!"}}]
[{"$f":"basePAGAS!#REF!","v":{"$error":"#REF!"}},{"$error":"#REF!"}]
[{"$f":"basePAGAS!#REF!","v":{"$error":"#REF!"}},{"$error":"#REF!"}]
[{"$f":"basePAGAS!#REF!","v":{"$error":"#REF!"}},{"$error":"#REF!"}]
[{"$f":"basePAGAS!#REF!","v":{"$error":"#REF!"}},{"$error":"#REF!"}]
[{"$f":"basePAGAS!#REF!","v":{"$error":"#REF!"}},{"$error":"#REF!"}]
[{"$f":"basePAGAS!#REF!","v":{"$error":"#REF!"}},{"$error":"#REF!"}]
[{"$f":"basePAGAS!#REF!","v":{"$error":"#REF!"}},{"$error":"#REF!"}]
[{"$f":"basePAGAS!#REF!","v":{"$error":"#REF!"}},{"$error":"#REF!"}]
[{"$f":"basePAGAS!#REF!","v":{"$error":"#REF!"}},{"$error":"#REF!"}]
[{"$f":"basePAGAS!#REF!","v":{"$error":"#REF!"}},{"$error":"#REF!"}]
[{"$f":"basePAGAS!#REF!","v":{"$error":"#REF!"}},{"$error":"#REF!"}]
[{"$f":"basePAGAS!#REF!","v":{"$error":"#REF!"}},{"$error":"#REF!"}]
[{"$f":"basePAGAS!#REF!","v":{"$error":"#REF!"}},{"$error":"#REF!"}]
[{"$f":"basePAGAS!#REF!","v":{"$error":"#REF!"}},{"$error":"#REF!"}]
[{"$f":"basePAGAS!#REF!","v":{"$error":"#REF!"}},{"$error":"#REF!"}]
[{"$f":"basePAGAS!#REF!","v":{"$error":"#REF!"}},{"$error":"#REF!"}]
[{"$f":"basePAGAS!#REF!","v":{"$error":"#REF!"}},{"$error":"#REF!"}]
[{"$f":"basePAGAS!#REF!","v":{"$error":"#REF!"}},{"$error":"#REF!"}]
[{"$f":"basePAGAS!#REF!","v":{"$error":"#REF!"}},{"$error":"#REF!"}]
[{"$f":"basePAGAS!#REF!","v":{"$error":"#REF!"}},{"$error":"#REF!"}]
[{"$f":"basePAGAS!#REF!","v":{"$error":"#REF!"}},{"$error":"#REF!"}]
[{"$f":"basePAGAS!#REF!","v":{"$error":"#REF!"}},{"$error":"#REF!"}]
[{"$f":"basePAGAS!#REF!","v":{"$error":"#REF!"}},{"$error":"#REF!"}]
[{"$f":"basePAGAS!#REF!","v":{"$error":"#REF!"}},{"$error":"#REF!"}]
[{"$f":"basePAGAS!#REF!","v":{"$error":"#REF!"}},{"$error":"#REF!"}]
[{"$f":"basePAGAS!#REF!","v":{"$error":"#REF!"}},{"$error":"#REF!"}]
[{"$f":"basePAGAS!#REF!","v":{"$error":"#REF!"}},{"$error":"#REF!"}]
[{"$f":"basePAGAS!#REF!","v":{"$error":"#REF!"}},{"$error":"#REF!"}]
[{"$f":"basePAGAS!#REF!","v":{"$error":"#REF!"}},{"$error":"#REF!"}]
[{"$f":"basePAGAS!#REF!","v":{"$error":"#REF!"}},{"$error":"#REF!"}]
[{"$f":"basePAGAS!#REF!","v":{"$error":"#REF!"}},{"$error":"#REF!"}]
[{"$f":"basePAGAS!#REF!","v":{"$error":"#REF!"}},{"$error":"#REF!"}]
[{"$f":"basePAGAS!#REF!","v":{"$error":"#REF!"}},{"$error":"#REF!"}]
[{"$f":"basePAGAS!#REF!","v":{"$error":"#REF!"}},{"$error":"#REF!"}]
[{"$f":"basePAGAS!#REF!","v":{"$error":"#REF!"}},{"$error":"#REF!"}]
[{"$f":"basePAGAS!#REF!","v":{"$error":"#REF!"}},{"$error":"#REF!"}]
[{"$f":"basePAGAS!#REF!","v":{"$error":"#REF!"}},{"$error":"#REF!"}]
[{"$f":"basePAGAS!#REF!","v":{"$error":"#REF!"}},{"$error":"#REF!"}]
[{"$f":"basePAGAS!#REF!","v":{"$error":"#REF!"}},{"$error":"#REF!"}]
[{"$f":"basePAGAS!#REF!","v":{"$error":"#REF!"}},{"$error":"#REF!"}]
[{"$f":"basePAGAS!#REF!","v":{"$error":"#REF!"}},{"$error":"#REF!"}]
[{"$f":"basePAGAS!#REF!","v":{"$error":"#REF!"}},{"$error":"#REF!"}]
[{"$f":"basePAGAS!#REF!","v":{"$error":"#REF!"}},{"$error":"#REF!"}]
[{"$f":"basePAGAS!#REF!","v":{"$error":"#REF!"}},{"$error":"#REF!"}]
[{"$f":"basePAGAS!#REF!","v":{"$error":"#REF!"}},{"$error":"#REF!"}]
[{"$f":"basePAGAS!#REF!","v":{"$error":"#REF!"}},{"$error":"#REF!"}]
[{"$f":"basePAGAS!#REF!","v":{"$error":"#REF!"}},{"$error":"#REF!"}]
[{"$f":"basePAGAS!#REF!","v":{"$error":"#REF!"}},{"$error":"#REF!"}]
[{"$f":"basePAGAS!#REF!","v":{"$error":"#REF!"}},{"$error":"#REF!"}]
[{"$f":"basePAGAS!#REF!","v":{"$error":"#REF!"}},{"$error":"#REF!"}]
[{"$f":"basePAGAS!#REF!","v":{"$error":"#REF!"}},{"$error":"#REF!"}]
[{"$f":"basePAGAS!#REF!","v":{"$error":"#REF!"}},{"$error":"#REF!"}]
[{"$f":"basePAGAS!#REF!","v":{"$error":"#REF!"}},{"$error":"#REF!"}]
[{"$f":"basePAGAS!#REF!","v":{"$error":"#REF!"}},{"$error":"#REF!"}]
[{"$f":"basePAGAS!#REF!","v":{"$error":"#REF!"}},{"$error":"#REF!"}]
[{"$f":"basePAGAS!#REF!","v":{"$error":"#REF!"}},{"$error":"#REF!"}]
[{"$f":"basePAGAS!#REF!","v":{"$error":"#REF!"}},{"$error":"#REF!"}]
[{"$f":"basePAGAS!#REF!","v":{"$error":"#REF!"}},{"$error":"#REF!"}]
[{"$f":"basePAGAS!#REF!","v":{"$error":"#REF!"}},{"$error":"#REF!"}]
[{"$f":"basePAGAS!#REF!","v":{"$error":"#REF!"}},{"$error":"#REF!"}]
[{"$f":"basePAGAS!#REF!","v":{"$error":"#REF!"}},{"$error":"#REF!"}]
[{"$f":"basePAGAS!#REF!","v":{"$error":"#REF!"}},{"$error":"#REF!"}]
[{"$f":"basePAGAS!#REF!","v":{"$error":"#REF!"}},{"$error":"#REF!"}]
[{"$f":"basePAGAS!#REF!","v":{"$error":"#REF!"}},{"$f":"IF(A2895=\"\",\"\",IF(VLOOKUP(A2895,base_rpvs_pagas,2)=A$12,A2895,0))","v":{"$error":"#REF!"}}]
[{"$f":"basePAGAS!#REF!","v":{"$error":"#REF!"}},{"$error":"#REF!"}]
[{"$f":"basePAGAS!#REF!","v":{"$error":"#REF!"}},{"$error":"#REF!"}]
[{"$f":"basePAGAS!#REF!","v":{"$error":"#REF!"}},{"$error":"#REF!"}]
[{"$f":"basePAGAS!#REF!","v":{"$error":"#REF!"}},{"$error":"#REF!"}]
[{"$f":"basePAGAS!#REF!","v":{"$error":"#REF!"}},{"$error":"#REF!"}]
[{"$f":"basePAGAS!#REF!","v":{"$error":"#REF!"}},{"$error":"#REF!"}]
[{"$f":"basePAGAS!#REF!","v":{"$error":"#REF!"}},{"$error":"#REF!"}]
[{"$f":"basePAGAS!#REF!","v":{"$error":"#REF!"}},{"$error":"#REF!"}]
[{"$f":"basePAGAS!#REF!","v":{"$error":"#REF!"}},{"$error":"#REF!"}]
[{"$f":"basePAGAS!#REF!","v":{"$error":"#REF!"}},{"$error":"#REF!"}]
[{"$f":"basePAGAS!#REF!","v":{"$error":"#REF!"}},{"$error":"#REF!"}]
[{"$f":"basePAGAS!#REF!","v":{"$error":"#REF!"}},{"$error":"#REF!"}]
[{"$f":"basePAGAS!#REF!","v":{"$error":"#REF!"}},{"$error":"#REF!"}]
[{"$f":"basePAGAS!#REF!","v":{"$error":"#REF!"}},{"$error":"#REF!"}]
[{"$f":"basePAGAS!#REF!","v":{"$error":"#REF!"}},{"$error":"#REF!"}]
[{"$f":"basePAGAS!#REF!","v":{"$error":"#REF!"}},{"$error":"#REF!"}]
[{"$f":"basePAGAS!#REF!","v":{"$error":"#REF!"}},{"$error":"#REF!"}]
[{"$f":"basePAGAS!#REF!","v":{"$error":"#REF!"}},{"$error":"#REF!"}]
[{"$f":"basePAGAS!#REF!","v":{"$error":"#REF!"}},{"$error":"#REF!"}]
[{"$f":"basePAGAS!#REF!","v":{"$error":"#REF!"}},{"$error":"#REF!"}]
[{"$f":"basePAGAS!#REF!","v":{"$error":"#REF!"}},{"$error":"#REF!"}]
[{"$f":"basePAGAS!#REF!","v":{"$error":"#REF!"}},{"$error":"#REF!"}]
[{"$f":"basePAGAS!#REF!","v":{"$error":"#REF!"}},{"$error":"#REF!"}]
[{"$f":"basePAGAS!#REF!","v":{"$error":"#REF!"}},{"$error":"#REF!"}]
[{"$f":"basePAGAS!#REF!","v":{"$error":"#REF!"}},{"$error":"#REF!"}]
[{"$f":"basePAGAS!#REF!","v":{"$error":"#REF!"}},{"$error":"#REF!"}]
[{"$f":"basePAGAS!#REF!","v":{"$error":"#REF!"}},{"$error":"#REF!"}]
[{"$f":"basePAGAS!#REF!","v":{"$error":"#REF!"}},{"$error":"#REF!"}]
[{"$f":"basePAGAS!#REF!","v":{"$error":"#REF!"}},{"$error":"#REF!"}]
[{"$f":"basePAGAS!#REF!","v":{"$error":"#REF!"}},{"$error":"#REF!"}]
[{"$f":"basePAGAS!#REF!","v":{"$error":"#REF!"}},{"$error":"#REF!"}]
[{"$f":"basePAGAS!#REF!","v":{"$error":"#REF!"}},{"$error":"#REF!"}]
[{"$f":"basePAGAS!#REF!","v":{"$error":"#REF!"}},{"$error":"#REF!"}]
[{"$f":"basePAGAS!#REF!","v":{"$error":"#REF!"}},{"$error":"#REF!"}]
[{"$f":"basePAGAS!#REF!","v":{"$error":"#REF!"}},{"$error":"#REF!"}]
[{"$f":"basePAGAS!#REF!","v":{"$error":"#REF!"}},{"$error":"#REF!"}]
[{"$f":"basePAGAS!#REF!","v":{"$error":"#REF!"}},{"$error":"#REF!"}]
[{"$f":"basePAGAS!#REF!","v":{"$error":"#REF!"}},{"$error":"#REF!"}]
[{"$f":"basePAGAS!#REF!","v":{"$error":"#REF!"}},{"$error":"#REF!"}]
[{"$f":"basePAGAS!#REF!","v":{"$error":"#REF!"}},{"$error":"#REF!"}]
[{"$f":"basePAGAS!#REF!","v":{"$error":"#REF!"}},{"$error":"#REF!"}]
[{"$f":"basePAGAS!#REF!","v":{"$error":"#REF!"}},{"$error":"#REF!"}]
[{"$f":"basePAGAS!#REF!","v":{"$error":"#REF!"}},{"$error":"#REF!"}]
[{"$f":"basePAGAS!#REF!","v":{"$error":"#REF!"}},{"$error":"#REF!"}]
[{"$f":"basePAGAS!#REF!","v":{"$error":"#REF!"}},{"$error":"#REF!"}]
[{"$f":"basePAGAS!#REF!","v":{"$error":"#REF!"}},{"$error":"#REF!"}]
[{"$f":"basePAGAS!#REF!","v":{"$error":"#REF!"}},{"$error":"#REF!"}]
[{"$f":"basePAGAS!#REF!","v":{"$error":"#REF!"}},{"$error":"#REF!"}]
[{"$f":"basePAGAS!#REF!","v":{"$error":"#REF!"}},{"$error":"#REF!"}]
[{"$f":"basePAGAS!#REF!","v":{"$error":"#REF!"}},{"$error":"#REF!"}]
[{"$f":"basePAGAS!#REF!","v":{"$error":"#REF!"}},{"$error":"#REF!"}]
[{"$f":"basePAGAS!#REF!","v":{"$error":"#REF!"}},{"$error":"#REF!"}]
[{"$f":"basePAGAS!#REF!","v":{"$error":"#REF!"}},{"$error":"#REF!"}]
[{"$f":"basePAGAS!#REF!","v":{"$error":"#REF!"}},{"$error":"#REF!"}]
[{"$f":"basePAGAS!#REF!","v":{"$error":"#REF!"}},{"$error":"#REF!"}]
[{"$f":"basePAGAS!#REF!","v":{"$error":"#REF!"}},{"$error":"#REF!"}]
[{"$f":"basePAGAS!#REF!","v":{"$error":"#REF!"}},{"$error":"#REF!"}]
[{"$f":"basePAGAS!#REF!","v":{"$error":"#REF!"}},{"$error":"#REF!"}]
[{"$f":"basePAGAS!#REF!","v":{"$error":"#REF!"}},{"$error":"#REF!"}]
[{"$f":"basePAGAS!#REF!","v":{"$error":"#REF!"}},{"$error":"#REF!"}]
[{"$f":"basePAGAS!#REF!","v":{"$error":"#REF!"}},{"$error":"#REF!"}]
[{"$f":"basePAGAS!#REF!","v":{"$error":"#REF!"}},{"$error":"#REF!"}]
[{"$f":"basePAGAS!#REF!","v":{"$error":"#REF!"}},{"$error":"#REF!"}]
[{"$f":"basePAGAS!#REF!","v":{"$error":"#REF!"}},{"$f":"IF(A2959=\"\",\"\",IF(VLOOKUP(A2959,base_rpvs_pagas,2)=A$12,A2959,0))","v":{"$error":"#REF!"}}]
[{"$f":"basePAGAS!#REF!","v":{"$error":"#REF!"}},{"$error":"#REF!"}]
[{"$f":"basePAGAS!#REF!","v":{"$error":"#REF!"}},{"$error":"#REF!"}]
[{"$f":"basePAGAS!#REF!","v":{"$error":"#REF!"}},{"$error":"#REF!"}]
[{"$f":"basePAGAS!#REF!","v":{"$error":"#REF!"}},{"$error":"#REF!"}]
[{"$f":"basePAGAS!#REF!","v":{"$error":"#REF!"}},{"$error":"#REF!"}]
[{"$f":"basePAGAS!#REF!","v":{"$error":"#REF!"}},{"$error":"#REF!"}]
[{"$f":"basePAGAS!#REF!","v":{"$error":"#REF!"}},{"$error":"#REF!"}]
[{"$f":"basePAGAS!#REF!","v":{"$error":"#REF!"}},{"$error":"#REF!"}]
[{"$f":"basePAGAS!#REF!","v":{"$error":"#REF!"}},{"$error":"#REF!"}]
[{"$f":"basePAGAS!#REF!","v":{"$error":"#REF!"}},{"$error":"#REF!"}]
[{"$f":"basePAGAS!#REF!","v":{"$error":"#REF!"}},{"$error":"#REF!"}]
[{"$f":"basePAGAS!#REF!","v":{"$error":"#REF!"}},{"$error":"#REF!"}]
[{"$f":"basePAGAS!#REF!","v":{"$error":"#REF!"}},{"$error":"#REF!"}]
[{"$f":"basePAGAS!#REF!","v":{"$error":"#REF!"}},{"$error":"#REF!"}]
[{"$f":"basePAGAS!#REF!","v":{"$error":"#REF!"}},{"$error":"#REF!"}]
[{"$f":"basePAGAS!#REF!","v":{"$error":"#REF!"}},{"$error":"#REF!"}]
[{"$f":"basePAGAS!#REF!","v":{"$error":"#REF!"}},{"$error":"#REF!"}]
[{"$f":"basePAGAS!#REF!","v":{"$error":"#REF!"}},{"$error":"#REF!"}]
[{"$f":"basePAGAS!#REF!","v":{"$error":"#REF!"}},{"$error":"#REF!"}]
[{"$f":"basePAGAS!#REF!","v":{"$error":"#REF!"}},{"$error":"#REF!"}]
[{"$f":"basePAGAS!#REF!","v":{"$error":"#REF!"}},{"$error":"#REF!"}]
[{"$f":"basePAGAS!#REF!","v":{"$error":"#REF!"}},{"$error":"#REF!"}]
[{"$f":"basePAGAS!#REF!","v":{"$error":"#REF!"}},{"$error":"#REF!"}]
[{"$f":"basePAGAS!#REF!","v":{"$error":"#REF!"}},{"$error":"#REF!"}]
[{"$f":"basePAGAS!#REF!","v":{"$error":"#REF!"}},{"$error":"#REF!"}]
[{"$f":"basePAGAS!#REF!","v":{"$error":"#REF!"}},{"$error":"#REF!"}]
[{"$f":"basePAGAS!#REF!","v":{"$error":"#REF!"}},{"$error":"#REF!"}]
[{"$f":"basePAGAS!#REF!","v":{"$error":"#REF!"}},{"$error":"#REF!"}]
[{"$f":"basePAGAS!#REF!","v":{"$error":"#REF!"}},{"$error":"#REF!"}]
[{"$f":"basePAGAS!#REF!","v":{"$error":"#REF!"}},{"$error":"#REF!"}]
[{"$f":"basePAGAS!#REF!","v":{"$error":"#REF!"}},{"$error":"#REF!"}]
[{"$f":"basePAGAS!#REF!","v":{"$error":"#REF!"}},{"$error":"#REF!"}]
[{"$f":"basePAGAS!#REF!","v":{"$error":"#REF!"}},{"$error":"#REF!"}]
[{"$f":"basePAGAS!#REF!","v":{"$error":"#REF!"}},{"$error":"#REF!"}]
[{"$f":"basePAGAS!#REF!","v":{"$error":"#REF!"}},{"$error":"#REF!"}]
[{"$f":"basePAGAS!#REF!","v":{"$error":"#REF!"}},{"$error":"#REF!"}]
[{"$f":"basePAGAS!#REF!","v":{"$error":"#REF!"}},{"$error":"#REF!"}]
[{"$f":"basePAGAS!#REF!","v":{"$error":"#REF!"}},{"$error":"#REF!"}]
[{"$f":"basePAGAS!#REF!","v":{"$error":"#REF!"}},{"$error":"#REF!"}]
[{"$f":"basePAGAS!#REF!","v":{"$error":"#REF!"}},{"$error":"#REF!"}]
[{"$f":"basePAGAS!#REF!","v":{"$error":"#REF!"}},{"$error":"#REF!"}]
[{"$f":"basePAGAS!#REF!","v":{"$error":"#REF!"}},{"$error":"#REF!"}]
[{"$f":"basePAGAS!#REF!","v":{"$error":"#REF!"}},{"$error":"#REF!"}]
[{"$f":"basePAGAS!#REF!","v":{"$error":"#REF!"}},{"$error":"#REF!"}]
[{"$f":"basePAGAS!#REF!","v":{"$error":"#REF!"}},{"$error":"#REF!"}]
[{"$f":"basePAGAS!#REF!","v":{"$error":"#REF!"}},{"$error":"#REF!"}]
[{"$f":"basePAGAS!#REF!","v":{"$error":"#REF!"}},{"$error":"#REF!"}]
[{"$f":"basePAGAS!#REF!","v":{"$error":"#REF!"}},{"$error":"#REF!"}]
[{"$f":"basePAGAS!#REF!","v":{"$error":"#REF!"}},{"$error":"#REF!"}]
[{"$f":"basePAGAS!#REF!","v":{"$error":"#REF!"}},{"$error":"#REF!"}]
[{"$f":"basePAGAS!#REF!","v":{"$error":"#REF!"}},{"$error":"#REF!"}]
[{"$f":"basePAGAS!#REF!","v":{"$error":"#REF!"}},{"$error":"#REF!"}]
[{"$f":"basePAGAS!#REF!","v":{"$error":"#REF!"}},{"$error":"#REF!"}]
[{"$f":"basePAGAS!#REF!","v":{"$error":"#REF!"}},{"$error":"#REF!"}]
[{"$f":"basePAGAS!#REF!","v":{"$error":"#REF!"}},{"$error":"#REF!"}]
[{"$f":"basePAGAS!#REF!","v":{"$error":"#REF!"}},{"$error":"#REF!"}]
[{"$f":"basePAGAS!#REF!","v":{"$error":"#REF!"}},{"$error":"#REF!"}]
[{"$f":"basePAGAS!#REF!","v":{"$error":"#REF!"}},{"$error":"#REF!"}]
[{"$f":"basePAGAS!#REF!","v":{"$error":"#REF!"}},{"$error":"#REF!"}]
[{"$f":"basePAGAS!#REF!","v":{"$error":"#REF!"}},{"$error":"#REF!"}]
[{"$f":"basePAGAS!#REF!","v":{"$error":"#REF!"}},{"$error":"#REF!"}]
[{"$f":"basePAGAS!#REF!","v":{"$error":"#REF!"}},{"$error":"#REF!"}]
[{"$f":"basePAGAS!#REF!","v":{"$error":"#REF!"}},{"$error":"#REF!"}]
[{"$f":"basePAGAS!#REF!","v":{"$error":"#REF!"}},{"$f":"IF(A3023=\"\",\"\",IF(VLOOKUP(A3023,base_rpvs_pagas,2)=A$12,A3023,0))","v":{"$error":"#REF!"}}]
[{"$f":"basePAGAS!#REF!","v":{"$error":"#REF!"}},{"$error":"#REF!"}]
[{"$f":"basePAGAS!#REF!","v":{"$error":"#REF!"}},{"$error":"#REF!"}]
[{"$f":"basePAGAS!#REF!","v":{"$error":"#REF!"}},{"$error":"#REF!"}]
[{"$f":"basePAGAS!#REF!","v":{"$error":"#REF!"}},{"$error":"#REF!"}]
[{"$f":"basePAGAS!#REF!","v":{"$error":"#REF!"}},{"$error":"#REF!"}]
[{"$f":"basePAGAS!#REF!","v":{"$error":"#REF!"}},{"$error":"#REF!"}]
[{"$f":"basePAGAS!#REF!","v":{"$error":"#REF!"}},{"$error":"#REF!"}]
[{"$f":"basePAGAS!#REF!","v":{"$error":"#REF!"}},{"$error":"#REF!"}]
[{"$f":"basePAGAS!#REF!","v":{"$error":"#REF!"}},{"$error":"#REF!"}]
[{"$f":"basePAGAS!#REF!","v":{"$error":"#REF!"}},{"$error":"#REF!"}]
[{"$f":"basePAGAS!#REF!","v":{"$error":"#REF!"}},{"$error":"#REF!"}]
[{"$f":"basePAGAS!#REF!","v":{"$error":"#REF!"}},{"$error":"#REF!"}]
[{"$f":"basePAGAS!#REF!","v":{"$error":"#REF!"}},{"$error":"#REF!"}]
[{"$f":"basePAGAS!#REF!","v":{"$error":"#REF!"}},{"$error":"#REF!"}]
[{"$f":"basePAGAS!#REF!","v":{"$error":"#REF!"}},{"$error":"#REF!"}]
[{"$f":"basePAGAS!#REF!","v":{"$error":"#REF!"}},{"$error":"#REF!"}]
[{"$f":"basePAGAS!#REF!","v":{"$error":"#REF!"}},{"$error":"#REF!"}]
[{"$f":"basePAGAS!#REF!","v":{"$error":"#REF!"}},{"$error":"#REF!"}]
[{"$f":"basePAGAS!#REF!","v":{"$error":"#REF!"}},{"$error":"#REF!"}]
[{"$f":"basePAGAS!#REF!","v":{"$error":"#REF!"}},{"$error":"#REF!"}]
[{"$f":"basePAGAS!#REF!","v":{"$error":"#REF!"}},{"$error":"#REF!"}]
[{"$f":"basePAGAS!#REF!","v":{"$error":"#REF!"}},{"$error":"#REF!"}]
[{"$f":"basePAGAS!#REF!","v":{"$error":"#REF!"}},{"$error":"#REF!"}]
[{"$f":"basePAGAS!#REF!","v":{"$error":"#REF!"}},{"$error":"#REF!"}]
[{"$f":"basePAGAS!#REF!","v":{"$error":"#REF!"}},{"$error":"#REF!"}]
[{"$f":"basePAGAS!#REF!","v":{"$error":"#REF!"}},{"$error":"#REF!"}]
[{"$f":"basePAGAS!#REF!","v":{"$error":"#REF!"}},{"$error":"#REF!"}]
[{"$f":"basePAGAS!#REF!","v":{"$error":"#REF!"}},{"$error":"#REF!"}]
[{"$f":"basePAGAS!#REF!","v":{"$error":"#REF!"}},{"$error":"#REF!"}]
[{"$f":"basePAGAS!#REF!","v":{"$error":"#REF!"}},{"$error":"#REF!"}]
[{"$f":"basePAGAS!#REF!","v":{"$error":"#REF!"}},{"$error":"#REF!"}]
[{"$f":"basePAGAS!#REF!","v":{"$error":"#REF!"}},{"$error":"#REF!"}]
[{"$f":"basePAGAS!#REF!","v":{"$error":"#REF!"}},{"$error":"#REF!"}]
[{"$f":"basePAGAS!#REF!","v":{"$error":"#REF!"}},{"$error":"#REF!"}]
[{"$f":"basePAGAS!#REF!","v":{"$error":"#REF!"}},{"$error":"#REF!"}]
[{"$f":"basePAGAS!#REF!","v":{"$error":"#REF!"}},{"$error":"#REF!"}]
[{"$f":"basePAGAS!#REF!","v":{"$error":"#REF!"}},{"$error":"#REF!"}]
[{"$f":"basePAGAS!#REF!","v":{"$error":"#REF!"}},{"$error":"#REF!"}]
[{"$f":"basePAGAS!#REF!","v":{"$error":"#REF!"}},{"$error":"#REF!"}]
[{"$f":"basePAGAS!#REF!","v":{"$error":"#REF!"}},{"$error":"#REF!"}]
[{"$f":"basePAGAS!#REF!","v":{"$error":"#REF!"}},{"$error":"#REF!"}]
[{"$f":"basePAGAS!#REF!","v":{"$error":"#REF!"}},{"$error":"#REF!"}]
[{"$f":"basePAGAS!#REF!","v":{"$error":"#REF!"}},{"$error":"#REF!"}]
[{"$f":"basePAGAS!#REF!","v":{"$error":"#REF!"}},{"$error":"#REF!"}]
[{"$f":"basePAGAS!#REF!","v":{"$error":"#REF!"}},{"$error":"#REF!"}]
[{"$f":"basePAGAS!#REF!","v":{"$error":"#REF!"}},{"$error":"#REF!"}]
[{"$f":"basePAGAS!#REF!","v":{"$error":"#REF!"}},{"$error":"#REF!"}]
[{"$f":"basePAGAS!#REF!","v":{"$error":"#REF!"}},{"$error":"#REF!"}]
[{"$f":"basePAGAS!#REF!","v":{"$error":"#REF!"}},{"$error":"#REF!"}]
[{"$f":"basePAGAS!#REF!","v":{"$error":"#REF!"}},{"$error":"#REF!"}]
[{"$f":"basePAGAS!#REF!","v":{"$error":"#REF!"}},{"$error":"#REF!"}]
[{"$f":"basePAGAS!#REF!","v":{"$error":"#REF!"}},{"$error":"#REF!"}]
[{"$f":"basePAGAS!#REF!","v":{"$error":"#REF!"}},{"$error":"#REF!"}]
[{"$f":"basePAGAS!#REF!","v":{"$error":"#REF!"}},{"$error":"#REF!"}]
[{"$f":"basePAGAS!#REF!","v":{"$error":"#REF!"}},{"$error":"#REF!"}]
[{"$f":"basePAGAS!#REF!","v":{"$error":"#REF!"}},{"$error":"#REF!"}]
[{"$f":"basePAGAS!#REF!","v":{"$error":"#REF!"}},{"$error":"#REF!"}]
[{"$f":"basePAGAS!#REF!","v":{"$error":"#REF!"}},{"$error":"#REF!"}]
[{"$f":"basePAGAS!#REF!","v":{"$error":"#REF!"}},{"$error":"#REF!"}]
[{"$f":"basePAGAS!#REF!","v":{"$error":"#REF!"}},{"$error":"#REF!"}]
[{"$f":"basePAGAS!#REF!","v":{"$error":"#REF!"}},{"$error":"#REF!"}]
[{"$f":"basePAGAS!#REF!","v":{"$error":"#REF!"}},{"$error":"#REF!"}]
[{"$f":"basePAGAS!#REF!","v":{"$error":"#REF!"}},{"$error":"#REF!"}]
[{"$f":"basePAGAS!#REF!","v":{"$error":"#REF!"}},{"$f":"IF(A3087=\"\",\"\",IF(VLOOKUP(A3087,base_rpvs_pagas,2)=A$12,A3087,0))","v":{"$error":"#REF!"}}]
[{"$f":"basePAGAS!#REF!","v":{"$error":"#REF!"}},{"$error":"#REF!"}]
[{"$f":"basePAGAS!#REF!","v":{"$error":"#REF!"}},{"$error":"#REF!"}]
[{"$f":"basePAGAS!#REF!","v":{"$error":"#REF!"}},{"$error":"#REF!"}]
[{"$f":"basePAGAS!#REF!","v":{"$error":"#REF!"}},{"$error":"#REF!"}]
[{"$f":"basePAGAS!#REF!","v":{"$error":"#REF!"}},{"$error":"#REF!"}]
[{"$f":"basePAGAS!#REF!","v":{"$error":"#REF!"}},{"$error":"#REF!"}]
[{"$f":"basePAGAS!#REF!","v":{"$error":"#REF!"}},{"$error":"#REF!"}]
[{"$f":"basePAGAS!#REF!","v":{"$error":"#REF!"}},{"$error":"#REF!"}]
[{"$f":"basePAGAS!#REF!","v":{"$error":"#REF!"}},{"$error":"#REF!"}]
[{"$f":"basePAGAS!#REF!","v":{"$error":"#REF!"}},{"$error":"#REF!"}]
[{"$f":"basePAGAS!#REF!","v":{"$error":"#REF!"}},{"$error":"#REF!"}]
[{"$f":"basePAGAS!#REF!","v":{"$error":"#REF!"}},{"$error":"#REF!"}]
[{"$f":"basePAGAS!#REF!","v":{"$error":"#REF!"}},{"$error":"#REF!"}]
[{"$f":"basePAGAS!#REF!","v":{"$error":"#REF!"}},{"$error":"#REF!"}]
[{"$f":"basePAGAS!#REF!","v":{"$error":"#REF!"}},{"$error":"#REF!"}]
[{"$f":"basePAGAS!#REF!","v":{"$error":"#REF!"}},{"$error":"#REF!"}]
[{"$f":"basePAGAS!#REF!","v":{"$error":"#REF!"}},{"$error":"#REF!"}]
[{"$f":"basePAGAS!#REF!","v":{"$error":"#REF!"}},{"$error":"#REF!"}]
[{"$f":"basePAGAS!#REF!","v":{"$error":"#REF!"}},{"$error":"#REF!"}]
[{"$f":"basePAGAS!#REF!","v":{"$error":"#REF!"}},{"$error":"#REF!"}]
[{"$f":"basePAGAS!#REF!","v":{"$error":"#REF!"}},{"$error":"#REF!"}]
[{"$f":"basePAGAS!#REF!","v":{"$error":"#REF!"}},{"$error":"#REF!"}]
[{"$f":"basePAGAS!#REF!","v":{"$error":"#REF!"}},{"$error":"#REF!"}]
[{"$f":"basePAGAS!#REF!","v":{"$error":"#REF!"}},{"$error":"#REF!"}]
[{"$f":"basePAGAS!#REF!","v":{"$error":"#REF!"}},{"$error":"#REF!"}]
[{"$f":"basePAGAS!#REF!","v":{"$error":"#REF!"}},{"$error":"#REF!"}]
[{"$f":"basePAGAS!#REF!","v":{"$error":"#REF!"}},{"$error":"#REF!"}]
[{"$f":"basePAGAS!#REF!","v":{"$error":"#REF!"}},{"$error":"#REF!"}]
[{"$f":"basePAGAS!#REF!","v":{"$error":"#REF!"}},{"$error":"#REF!"}]
[{"$f":"basePAGAS!#REF!","v":{"$error":"#REF!"}},{"$error":"#REF!"}]
[{"$f":"basePAGAS!#REF!","v":{"$error":"#REF!"}},{"$error":"#REF!"}]
[{"$f":"basePAGAS!#REF!","v":{"$error":"#REF!"}},{"$error":"#REF!"}]
[{"$f":"basePAGAS!#REF!","v":{"$error":"#REF!"}},{"$error":"#REF!"}]
[{"$f":"basePAGAS!#REF!","v":{"$error":"#REF!"}},{"$error":"#REF!"}]
[{"$f":"basePAGAS!#REF!","v":{"$error":"#REF!"}},{"$error":"#REF!"}]
[{"$f":"basePAGAS!#REF!","v":{"$error":"#REF!"}},{"$error":"#REF!"}]
[{"$f":"basePAGAS!#REF!","v":{"$error":"#REF!"}},{"$error":"#REF!"}]
[{"$f":"basePAGAS!#REF!","v":{"$error":"#REF!"}},{"$error":"#REF!"}]
[{"$f":"basePAGAS!#REF!","v":{"$error":"#REF!"}},{"$error":"#REF!"}]
[{"$f":"basePAGAS!#REF!","v":{"$error":"#REF!"}},{"$error":"#REF!"}]
[{"$f":"basePAGAS!#REF!","v":{"$error":"#REF!"}},{"$error":"#REF!"}]
[{"$f":"basePAGAS!#REF!","v":{"$error":"#REF!"}},{"$error":"#REF!"}]
[{"$f":"basePAGAS!#REF!","v":{"$error":"#REF!"}},{"$error":"#REF!"}]
[{"$f":"basePAGAS!#REF!","v":{"$error":"#REF!"}},{"$error":"#REF!"}]
[{"$f":"basePAGAS!#REF!","v":{"$error":"#REF!"}},{"$error":"#REF!"}]
[{"$f":"basePAGAS!#REF!","v":{"$error":"#REF!"}},{"$error":"#REF!"}]
[{"$f":"basePAGAS!#REF!","v":{"$error":"#REF!"}},{"$error":"#REF!"}]
[{"$f":"basePAGAS!#REF!","v":{"$error":"#REF!"}},{"$error":"#REF!"}]
[{"$f":"basePAGAS!#REF!","v":{"$error":"#REF!"}},{"$error":"#REF!"}]
[{"$f":"basePAGAS!#REF!","v":{"$error":"#REF!"}},{"$error":"#REF!"}]
[{"$f":"basePAGAS!#REF!","v":{"$error":"#REF!"}},{"$error":"#REF!"}]
[{"$f":"basePAGAS!#REF!","v":{"$error":"#REF!"}},{"$error":"#REF!"}]
[{"$f":"basePAGAS!#REF!","v":{"$error":"#REF!"}},{"$error":"#REF!"}]
[{"$f":"basePAGAS!#REF!","v":{"$error":"#REF!"}},{"$error":"#REF!"}]
[{"$f":"basePAGAS!#REF!","v":{"$error":"#REF!"}},{"$error":"#REF!"}]
[{"$f":"basePAGAS!#REF!","v":{"$error":"#REF!"}},{"$error":"#REF!"}]
[{"$f":"basePAGAS!#REF!","v":{"$error":"#REF!"}},{"$error":"#REF!"}]
[{"$f":"basePAGAS!#REF!","v":{"$error":"#REF!"}},{"$error":"#REF!"}]
[{"$f":"basePAGAS!#REF!","v":{"$error":"#REF!"}},{"$error":"#REF!"}]
[{"$f":"basePAGAS!#REF!","v":{"$error":"#REF!"}},{"$error":"#REF!"}]
[{"$f":"basePAGAS!#REF!","v":{"$error":"#REF!"}},{"$error":"#REF!"}]
[{"$f":"basePAGAS!#REF!","v":{"$error":"#REF!"}},{"$error":"#REF!"}]
[{"$f":"basePAGAS!#REF!","v":{"$error":"#REF!"}},{"$error":"#REF!"}]
[{"$f":"basePAGAS!#REF!","v":{"$error":"#REF!"}},{"$f":"IF(A3151=\"\",\"\",IF(VLOOKUP(A3151,base_rpvs_pagas,2)=A$12,A3151,0))","v":{"$error":"#REF!"}}]
[{"$f":"basePAGAS!#REF!","v":{"$error":"#REF!"}},{"$error":"#REF!"}]
[{"$f":"basePAGAS!#REF!","v":{"$error":"#REF!"}},{"$error":"#REF!"}]
[{"$f":"basePAGAS!#REF!","v":{"$error":"#REF!"}},{"$error":"#REF!"}]
[{"$f":"basePAGAS!#REF!","v":{"$error":"#REF!"}},{"$error":"#REF!"}]
[{"$f":"basePAGAS!#REF!","v":{"$error":"#REF!"}},{"$error":"#REF!"}]
[{"$f":"basePAGAS!#REF!","v":{"$error":"#REF!"}},{"$error":"#REF!"}]
[{"$f":"basePAGAS!#REF!","v":{"$error":"#REF!"}},{"$error":"#REF!"}]
[{"$f":"basePAGAS!#REF!","v":{"$error":"#REF!"}},{"$error":"#REF!"}]
[{"$f":"basePAGAS!#REF!","v":{"$error":"#REF!"}},{"$error":"#REF!"}]
[{"$f":"basePAGAS!#REF!","v":{"$error":"#REF!"}},{"$error":"#REF!"}]
[{"$f":"basePAGAS!#REF!","v":{"$error":"#REF!"}},{"$error":"#REF!"}]
[{"$f":"basePAGAS!#REF!","v":{"$error":"#REF!"}},{"$error":"#REF!"}]
[{"$f":"basePAGAS!#REF!","v":{"$error":"#REF!"}},{"$error":"#REF!"}]
[{"$f":"basePAGAS!#REF!","v":{"$error":"#REF!"}},{"$error":"#REF!"}]
[{"$f":"basePAGAS!#REF!","v":{"$error":"#REF!"}},{"$error":"#REF!"}]
[{"$f":"basePAGAS!#REF!","v":{"$error":"#REF!"}},{"$error":"#REF!"}]
[{"$f":"basePAGAS!#REF!","v":{"$error":"#REF!"}},{"$error":"#REF!"}]
[{"$f":"basePAGAS!#REF!","v":{"$error":"#REF!"}},{"$error":"#REF!"}]
[{"$f":"basePAGAS!#REF!","v":{"$error":"#REF!"}},{"$error":"#REF!"}]
[{"$f":"basePAGAS!#REF!","v":{"$error":"#REF!"}},{"$error":"#REF!"}]
[{"$f":"basePAGAS!#REF!","v":{"$error":"#REF!"}},{"$error":"#REF!"}]
[{"$f":"basePAGAS!#REF!","v":{"$error":"#REF!"}},{"$error":"#REF!"}]
[{"$f":"basePAGAS!#REF!","v":{"$error":"#REF!"}},{"$error":"#REF!"}]
[{"$f":"basePAGAS!#REF!","v":{"$error":"#REF!"}},{"$error":"#REF!"}]
[{"$f":"basePAGAS!#REF!","v":{"$error":"#REF!"}},{"$error":"#REF!"}]
[{"$f":"basePAGAS!#REF!","v":{"$error":"#REF!"}},{"$error":"#REF!"}]
[{"$f":"basePAGAS!#REF!","v":{"$error":"#REF!"}},{"$error":"#REF!"}]
[{"$f":"basePAGAS!#REF!","v":{"$error":"#REF!"}},{"$error":"#REF!"}]
[{"$f":"basePAGAS!#REF!","v":{"$error":"#REF!"}},{"$error":"#REF!"}]
[{"$f":"basePAGAS!#REF!","v":{"$error":"#REF!"}},{"$error":"#REF!"}]
[{"$f":"basePAGAS!#REF!","v":{"$error":"#REF!"}},{"$error":"#REF!"}]
[{"$f":"basePAGAS!#REF!","v":{"$error":"#REF!"}},{"$error":"#REF!"}]
[{"$f":"basePAGAS!#REF!","v":{"$error":"#REF!"}},{"$error":"#REF!"}]
[{"$f":"basePAGAS!#REF!","v":{"$error":"#REF!"}},{"$error":"#REF!"}]
[{"$f":"basePAGAS!#REF!","v":{"$error":"#REF!"}},{"$error":"#REF!"}]
[{"$f":"basePAGAS!#REF!","v":{"$error":"#REF!"}},{"$error":"#REF!"}]
[{"$f":"basePAGAS!#REF!","v":{"$error":"#REF!"}},{"$error":"#REF!"}]
[{"$f":"basePAGAS!#REF!","v":{"$error":"#REF!"}},{"$error":"#REF!"}]
[{"$f":"basePAGAS!#REF!","v":{"$error":"#REF!"}},{"$error":"#REF!"}]
[{"$f":"basePAGAS!#REF!","v":{"$error":"#REF!"}},{"$error":"#REF!"}]
[{"$f":"basePAGAS!#REF!","v":{"$error":"#REF!"}},{"$error":"#REF!"}]
[{"$f":"basePAGAS!#REF!","v":{"$error":"#REF!"}},{"$error":"#REF!"}]
[{"$f":"basePAGAS!#REF!","v":{"$error":"#REF!"}},{"$error":"#REF!"}]
[{"$f":"basePAGAS!#REF!","v":{"$error":"#REF!"}},{"$error":"#REF!"}]
[{"$f":"basePAGAS!#REF!","v":{"$error":"#REF!"}},{"$error":"#REF!"}]
[{"$f":"basePAGAS!#REF!","v":{"$error":"#REF!"}},{"$error":"#REF!"}]
[{"$f":"basePAGAS!#REF!","v":{"$error":"#REF!"}},{"$error":"#REF!"}]
[{"$f":"basePAGAS!#REF!","v":{"$error":"#REF!"}},{"$error":"#REF!"}]
[{"$f":"basePAGAS!#REF!","v":{"$error":"#REF!"}},{"$error":"#REF!"}]
[{"$f":"basePAGAS!#REF!","v":{"$error":"#REF!"}},{"$error":"#REF!"}]
[{"$f":"basePAGAS!#REF!","v":{"$error":"#REF!"}},{"$error":"#REF!"}]
[{"$f":"basePAGAS!#REF!","v":{"$error":"#REF!"}},{"$error":"#REF!"}]
[{"$f":"basePAGAS!#REF!","v":{"$error":"#REF!"}},{"$error":"#REF!"}]
[{"$f":"basePAGAS!#REF!","v":{"$error":"#REF!"}},{"$error":"#REF!"}]
[{"$f":"basePAGAS!#REF!","v":{"$error":"#REF!"}},{"$error":"#REF!"}]
[{"$f":"basePAGAS!#REF!","v":{"$error":"#REF!"}},{"$error":"#REF!"}]
[{"$f":"basePAGAS!#REF!","v":{"$error":"#REF!"}},{"$error":"#REF!"}]
[{"$f":"basePAGAS!#REF!","v":{"$error":"#REF!"}},{"$error":"#REF!"}]
[{"$f":"basePAGAS!#REF!","v":{"$error":"#REF!"}},{"$error":"#REF!"}]
[{"$f":"basePAGAS!#REF!","v":{"$error":"#REF!"}},{"$error":"#REF!"}]
[{"$f":"basePAGAS!#REF!","v":{"$error":"#REF!"}},{"$error":"#REF!"}]
[{"$f":"basePAGAS!#REF!","v":{"$error":"#REF!"}},{"$error":"#REF!"}]
[{"$f":"basePAGAS!#REF!","v":{"$error":"#REF!"}},{"$error":"#REF!"}]
[{"$f":"basePAGAS!#REF!","v":{"$error":"#REF!"}},{"$f":"IF(A3215=\"\",\"\",IF(VLOOKUP(A3215,base_rpvs_pagas,2)=A$12,A3215,0))","v":{"$error":"#REF!"}}]
[{"$f":"basePAGAS!#REF!","v":{"$error":"#REF!"}},{"$error":"#REF!"}]
[{"$f":"basePAGAS!#REF!","v":{"$error":"#REF!"}},{"$error":"#REF!"}]
[{"$f":"basePAGAS!#REF!","v":{"$error":"#REF!"}},{"$error":"#REF!"}]
[{"$f":"basePAGAS!#REF!","v":{"$error":"#REF!"}},{"$error":"#REF!"}]
[{"$f":"basePAGAS!#REF!","v":{"$error":"#REF!"}},{"$error":"#REF!"}]
[{"$f":"basePAGAS!#REF!","v":{"$error":"#REF!"}},{"$error":"#REF!"}]
[{"$f":"basePAGAS!#REF!","v":{"$error":"#REF!"}},{"$error":"#REF!"}]
[{"$f":"basePAGAS!#REF!","v":{"$error":"#REF!"}},{"$error":"#REF!"}]
[{"$f":"basePAGAS!#REF!","v":{"$error":"#REF!"}},{"$error":"#REF!"}]
[{"$f":"basePAGAS!#REF!","v":{"$error":"#REF!"}},{"$error":"#REF!"}]
[{"$f":"basePAGAS!#REF!","v":{"$error":"#REF!"}},{"$error":"#REF!"}]
[{"$f":"basePAGAS!#REF!","v":{"$error":"#REF!"}},{"$error":"#REF!"}]
[{"$f":"basePAGAS!#REF!","v":{"$error":"#REF!"}},{"$error":"#REF!"}]
[{"$f":"basePAGAS!#REF!","v":{"$error":"#REF!"}},{"$error":"#REF!"}]
[{"$f":"basePAGAS!#REF!","v":{"$error":"#REF!"}},{"$error":"#REF!"}]
[{"$f":"basePAGAS!#REF!","v":{"$error":"#REF!"}},{"$error":"#REF!"}]
[{"$f":"basePAGAS!#REF!","v":{"$error":"#REF!"}},{"$error":"#REF!"}]
[{"$f":"basePAGAS!#REF!","v":{"$error":"#REF!"}},{"$error":"#REF!"}]
[{"$f":"basePAGAS!#REF!","v":{"$error":"#REF!"}},{"$error":"#REF!"}]
[{"$f":"basePAGAS!#REF!","v":{"$error":"#REF!"}},{"$error":"#REF!"}]
[{"$f":"basePAGAS!#REF!","v":{"$error":"#REF!"}},{"$error":"#REF!"}]
[{"$f":"basePAGAS!#REF!","v":{"$error":"#REF!"}},{"$error":"#REF!"}]
[{"$f":"basePAGAS!#REF!","v":{"$error":"#REF!"}},{"$error":"#REF!"}]
[{"$f":"basePAGAS!#REF!","v":{"$error":"#REF!"}},{"$error":"#REF!"}]
[{"$f":"basePAGAS!#REF!","v":{"$error":"#REF!"}},{"$error":"#REF!"}]
[{"$f":"basePAGAS!#REF!","v":{"$error":"#REF!"}},{"$error":"#REF!"}]
[{"$f":"basePAGAS!#REF!","v":{"$error":"#REF!"}},{"$error":"#REF!"}]
[{"$f":"basePAGAS!#REF!","v":{"$error":"#REF!"}},{"$error":"#REF!"}]
[{"$f":"basePAGAS!#REF!","v":{"$error":"#REF!"}},{"$error":"#REF!"}]
[{"$f":"basePAGAS!#REF!","v":{"$error":"#REF!"}},{"$error":"#REF!"}]
[{"$f":"basePAGAS!#REF!","v":{"$error":"#REF!"}},{"$error":"#REF!"}]
[{"$f":"basePAGAS!#REF!","v":{"$error":"#REF!"}},{"$error":"#REF!"}]
[{"$f":"basePAGAS!#REF!","v":{"$error":"#REF!"}},{"$error":"#REF!"}]
[{"$f":"basePAGAS!#REF!","v":{"$error":"#REF!"}},{"$error":"#REF!"}]
[{"$f":"basePAGAS!#REF!","v":{"$error":"#REF!"}},{"$error":"#REF!"}]
[{"$f":"basePAGAS!#REF!","v":{"$error":"#REF!"}},{"$error":"#REF!"}]
[{"$f":"basePAGAS!#REF!","v":{"$error":"#REF!"}},{"$error":"#REF!"}]
[{"$f":"basePAGAS!#REF!","v":{"$error":"#REF!"}},{"$error":"#REF!"}]
[{"$f":"basePAGAS!#REF!","v":{"$error":"#REF!"}},{"$error":"#REF!"}]
[{"$f":"basePAGAS!#REF!","v":{"$error":"#REF!"}},{"$error":"#REF!"}]
[{"$f":"basePAGAS!#REF!","v":{"$error":"#REF!"}},{"$error":"#REF!"}]
[{"$f":"basePAGAS!#REF!","v":{"$error":"#REF!"}},{"$error":"#REF!"}]
[{"$f":"basePAGAS!#REF!","v":{"$error":"#REF!"}},{"$error":"#REF!"}]
[{"$f":"basePAGAS!#REF!","v":{"$error":"#REF!"}},{"$error":"#REF!"}]
[{"$f":"basePAGAS!#REF!","v":{"$error":"#REF!"}},{"$error":"#REF!"}]
[{"$f":"basePAGAS!#REF!","v":{"$error":"#REF!"}},{"$error":"#REF!"}]
[{"$f":"basePAGAS!#REF!","v":{"$error":"#REF!"}},{"$error":"#REF!"}]
[{"$f":"basePAGAS!#REF!","v":{"$error":"#REF!"}},{"$error":"#REF!"}]
[{"$f":"basePAGAS!#REF!","v":{"$error":"#REF!"}},{"$error":"#REF!"}]
[{"$f":"basePAGAS!#REF!","v":{"$error":"#REF!"}},{"$error":"#REF!"}]
[{"$f":"basePAGAS!#REF!","v":{"$error":"#REF!"}},{"$error":"#REF!"}]
[{"$f":"basePAGAS!#REF!","v":{"$error":"#REF!"}},{"$error":"#REF!"}]
[{"$f":"basePAGAS!#REF!","v":{"$error":"#REF!"}},{"$error":"#REF!"}]
[{"$f":"basePAGAS!#REF!","v":{"$error":"#REF!"}},{"$error":"#REF!"}]
[{"$f":"basePAGAS!#REF!","v":{"$error":"#REF!"}},{"$error":"#REF!"}]
[{"$f":"basePAGAS!#REF!","v":{"$error":"#REF!"}},{"$error":"#REF!"}]
[{"$f":"basePAGAS!#REF!","v":{"$error":"#REF!"}},{"$error":"#REF!"}]
[{"$f":"basePAGAS!#REF!","v":{"$error":"#REF!"}},{"$error":"#REF!"}]
[{"$f":"basePAGAS!#REF!","v":{"$error":"#REF!"}},{"$error":"#REF!"}]
[{"$f":"basePAGAS!#REF!","v":{"$error":"#REF!"}},{"$error":"#REF!"}]
[{"$f":"basePAGAS!#REF!","v":{"$error":"#REF!"}},{"$error":"#REF!"}]
[{"$f":"basePAGAS!#REF!","v":{"$error":"#REF!"}},{"$error":"#REF!"}]
[{"$f":"basePAGAS!#REF!","v":{"$error":"#REF!"}},{"$error":"#REF!"}]
[{"$f":"basePAGAS!#REF!","v":{"$error":"#REF!"}},{"$f":"IF(A3279=\"\",\"\",IF(VLOOKUP(A3279,base_rpvs_pagas,2)=A$12,A3279,0))","v":{"$error":"#REF!"}}]
[{"$f":"basePAGAS!#REF!","v":{"$error":"#REF!"}},{"$error":"#REF!"}]
[{"$f":"basePAGAS!#REF!","v":{"$error":"#REF!"}},{"$error":"#REF!"}]
[{"$f":"basePAGAS!#REF!","v":{"$error":"#REF!"}},{"$error":"#REF!"}]
[{"$f":"basePAGAS!#REF!","v":{"$error":"#REF!"}},{"$error":"#REF!"}]
[{"$f":"basePAGAS!#REF!","v":{"$error":"#REF!"}},{"$error":"#REF!"}]
[{"$f":"basePAGAS!#REF!","v":{"$error":"#REF!"}},{"$error":"#REF!"}]
[{"$f":"basePAGAS!#REF!","v":{"$error":"#REF!"}},{"$error":"#REF!"}]
[{"$f":"basePAGAS!#REF!","v":{"$error":"#REF!"}},{"$error":"#REF!"}]
[{"$f":"basePAGAS!#REF!","v":{"$error":"#REF!"}},{"$error":"#REF!"}]
[{"$f":"basePAGAS!#REF!","v":{"$error":"#REF!"}},{"$error":"#REF!"}]
[{"$f":"basePAGAS!#REF!","v":{"$error":"#REF!"}},{"$error":"#REF!"}]
[{"$f":"basePAGAS!#REF!","v":{"$error":"#REF!"}},{"$error":"#REF!"}]
[{"$f":"basePAGAS!#REF!","v":{"$error":"#REF!"}},{"$error":"#REF!"}]
[{"$f":"basePAGAS!#REF!","v":{"$error":"#REF!"}},{"$error":"#REF!"}]
[{"$f":"basePAGAS!#REF!","v":{"$error":"#REF!"}},{"$error":"#REF!"}]
[{"$f":"basePAGAS!#REF!","v":{"$error":"#REF!"}},{"$error":"#REF!"}]
[{"$f":"basePAGAS!#REF!","v":{"$error":"#REF!"}},{"$error":"#REF!"}]
[{"$f":"basePAGAS!#REF!","v":{"$error":"#REF!"}},{"$error":"#REF!"}]
[{"$f":"basePAGAS!#REF!","v":{"$error":"#REF!"}},{"$error":"#REF!"}]
[{"$f":"basePAGAS!#REF!","v":{"$error":"#REF!"}},{"$error":"#REF!"}]
[{"$f":"basePAGAS!#REF!","v":{"$error":"#REF!"}},{"$error":"#REF!"}]
[{"$f":"basePAGAS!#REF!","v":{"$error":"#REF!"}},{"$error":"#REF!"}]
[{"$f":"basePAGAS!#REF!","v":{"$error":"#REF!"}},{"$error":"#REF!"}]
[{"$f":"basePAGAS!#REF!","v":{"$error":"#REF!"}},{"$error":"#REF!"}]
[{"$f":"basePAGAS!#REF!","v":{"$error":"#REF!"}},{"$error":"#REF!"}]
[{"$f":"basePAGAS!#REF!","v":{"$error":"#REF!"}},{"$error":"#REF!"}]
[{"$f":"basePAGAS!#REF!","v":{"$error":"#REF!"}},{"$error":"#REF!"}]
[{"$f":"basePAGAS!#REF!","v":{"$error":"#REF!"}},{"$error":"#REF!"}]
[{"$f":"basePAGAS!#REF!","v":{"$error":"#REF!"}},{"$error":"#REF!"}]
[{"$f":"basePAGAS!#REF!","v":{"$error":"#REF!"}},{"$error":"#REF!"}]
[{"$f":"basePAGAS!#REF!","v":{"$error":"#REF!"}},{"$error":"#REF!"}]
[{"$f":"basePAGAS!#REF!","v":{"$error":"#REF!"}},{"$error":"#REF!"}]
[{"$f":"basePAGAS!#REF!","v":{"$error":"#REF!"}},{"$error":"#REF!"}]
[{"$f":"basePAGAS!#REF!","v":{"$error":"#REF!"}},{"$error":"#REF!"}]
[{"$f":"basePAGAS!#REF!","v":{"$error":"#REF!"}},{"$error":"#REF!"}]
[{"$f":"basePAGAS!#REF!","v":{"$error":"#REF!"}},{"$error":"#REF!"}]
[{"$f":"basePAGAS!#REF!","v":{"$error":"#REF!"}},{"$error":"#REF!"}]
[{"$f":"basePAGAS!#REF!","v":{"$error":"#REF!"}},{"$error":"#REF!"}]
[{"$f":"basePAGAS!#REF!","v":{"$error":"#REF!"}},{"$error":"#REF!"}]
[{"$f":"basePAGAS!#REF!","v":{"$error":"#REF!"}},{"$error":"#REF!"}]
[{"$f":"basePAGAS!#REF!","v":{"$error":"#REF!"}},{"$error":"#REF!"}]
[{"$f":"basePAGAS!#REF!","v":{"$error":"#REF!"}},{"$error":"#REF!"}]
[{"$f":"basePAGAS!#REF!","v":{"$error":"#REF!"}},{"$error":"#REF!"}]
[{"$f":"basePAGAS!#REF!","v":{"$error":"#REF!"}},{"$error":"#REF!"}]
[{"$f":"basePAGAS!#REF!","v":{"$error":"#REF!"}},{"$error":"#REF!"}]
[{"$f":"basePAGAS!#REF!","v":{"$error":"#REF!"}},{"$error":"#REF!"}]
[{"$f":"basePAGAS!#REF!","v":{"$error":"#REF!"}},{"$error":"#REF!"}]
[{"$f":"basePAGAS!#REF!","v":{"$error":"#REF!"}},{"$error":"#REF!"}]
[{"$f":"basePAGAS!#REF!","v":{"$error":"#REF!"}},{"$error":"#REF!"}]
[{"$f":"basePAGAS!#REF!","v":{"$error":"#REF!"}},{"$error":"#REF!"}]
[{"$f":"basePAGAS!#REF!","v":{"$error":"#REF!"}},{"$error":"#REF!"}]
[{"$f":"basePAGAS!#REF!","v":{"$error":"#REF!"}},{"$error":"#REF!"}]
[{"$f":"basePAGAS!#REF!","v":{"$error":"#REF!"}},{"$error":"#REF!"}]
[{"$f":"basePAGAS!#REF!","v":{"$error":"#REF!"}},{"$error":"#REF!"}]
[{"$f":"basePAGAS!#REF!","v":{"$error":"#REF!"}},{"$error":"#REF!"}]
[{"$f":"basePAGAS!#REF!","v":{"$error":"#REF!"}},{"$error":"#REF!"}]
[{"$f":"basePAGAS!#REF!","v":{"$error":"#REF!"}},{"$error":"#REF!"}]
[{"$f":"basePAGAS!#REF!","v":{"$error":"#REF!"}},{"$error":"#REF!"}]
[{"$f":"basePAGAS!#REF!","v":{"$error":"#REF!"}},{"$error":"#REF!"}]
[{"$f":"basePAGAS!#REF!","v":{"$error":"#REF!"}},{"$error":"#REF!"}]
[{"$f":"basePAGAS!#REF!","v":{"$error":"#REF!"}},{"$error":"#REF!"}]
[{"$f":"basePAGAS!#REF!","v":{"$error":"#REF!"}},{"$error":"#REF!"}]
[{"$f":"basePAGAS!#REF!","v":{"$error":"#REF!"}},{"$error":"#REF!"}]
[{"$f":"basePAGAS!#REF!","v":{"$error":"#REF!"}},{"$f":"IF(A3343=\"\",\"\",IF(VLOOKUP(A3343,base_rpvs_pagas,2)=A$12,A3343,0))","v":{"$error":"#REF!"}}]
[{"$f":"basePAGAS!#REF!","v":{"$error":"#REF!"}},{"$error":"#REF!"}]
[{"$f":"basePAGAS!#REF!","v":{"$error":"#REF!"}},{"$error":"#REF!"}]
[{"$f":"basePAGAS!#REF!","v":{"$error":"#REF!"}},{"$error":"#REF!"}]
[{"$f":"basePAGAS!#REF!","v":{"$error":"#REF!"}},{"$error":"#REF!"}]
[{"$f":"basePAGAS!#REF!","v":{"$error":"#REF!"}},{"$error":"#REF!"}]
[{"$f":"basePAGAS!#REF!","v":{"$error":"#REF!"}},{"$error":"#REF!"}]
[{"$f":"basePAGAS!#REF!","v":{"$error":"#REF!"}},{"$error":"#REF!"}]
[{"$f":"basePAGAS!#REF!","v":{"$error":"#REF!"}},{"$error":"#REF!"}]
[{"$f":"basePAGAS!#REF!","v":{"$error":"#REF!"}},{"$error":"#REF!"}]
[{"$f":"basePAGAS!#REF!","v":{"$error":"#REF!"}},{"$error":"#REF!"}]
[{"$f":"basePAGAS!#REF!","v":{"$error":"#REF!"}},{"$error":"#REF!"}]
[{"$f":"basePAGAS!#REF!","v":{"$error":"#REF!"}},{"$error":"#REF!"}]
[{"$f":"basePAGAS!#REF!","v":{"$error":"#REF!"}},{"$error":"#REF!"}]
[{"$f":"basePAGAS!#REF!","v":{"$error":"#REF!"}},{"$error":"#REF!"}]
[{"$f":"basePAGAS!#REF!","v":{"$error":"#REF!"}},{"$error":"#REF!"}]
[{"$f":"basePAGAS!#REF!","v":{"$error":"#REF!"}},{"$error":"#REF!"}]
[{"$f":"basePAGAS!#REF!","v":{"$error":"#REF!"}},{"$error":"#REF!"}]
[{"$f":"basePAGAS!#REF!","v":{"$error":"#REF!"}},{"$error":"#REF!"}]
[{"$f":"basePAGAS!#REF!","v":{"$error":"#REF!"}},{"$error":"#REF!"}]
[{"$f":"basePAGAS!#REF!","v":{"$error":"#REF!"}},{"$error":"#REF!"}]
[{"$f":"basePAGAS!#REF!","v":{"$error":"#REF!"}},{"$error":"#REF!"}]
[{"$f":"basePAGAS!#REF!","v":{"$error":"#REF!"}},{"$error":"#REF!"}]
[{"$f":"basePAGAS!#REF!","v":{"$error":"#REF!"}},{"$error":"#REF!"}]
[{"$f":"basePAGAS!#REF!","v":{"$error":"#REF!"}},{"$error":"#REF!"}]
[{"$f":"basePAGAS!#REF!","v":{"$error":"#REF!"}},{"$error":"#REF!"}]
[{"$f":"basePAGAS!#REF!","v":{"$error":"#REF!"}},{"$error":"#REF!"}]
[{"$f":"basePAGAS!#REF!","v":{"$error":"#REF!"}},{"$error":"#REF!"}]
[{"$f":"basePAGAS!#REF!","v":{"$error":"#REF!"}},{"$error":"#REF!"}]
[{"$f":"basePAGAS!#REF!","v":{"$error":"#REF!"}},{"$error":"#REF!"}]
[{"$f":"basePAGAS!#REF!","v":{"$error":"#REF!"}},{"$error":"#REF!"}]
[{"$f":"basePAGAS!#REF!","v":{"$error":"#REF!"}},{"$error":"#REF!"}]
[{"$f":"basePAGAS!#REF!","v":{"$error":"#REF!"}},{"$error":"#REF!"}]
[{"$f":"basePAGAS!#REF!","v":{"$error":"#REF!"}},{"$error":"#REF!"}]
[{"$f":"basePAGAS!#REF!","v":{"$error":"#REF!"}},{"$error":"#REF!"}]
[{"$f":"basePAGAS!#REF!","v":{"$error":"#REF!"}},{"$error":"#REF!"}]
[{"$f":"basePAGAS!#REF!","v":{"$error":"#REF!"}},{"$error":"#REF!"}]
[{"$f":"basePAGAS!#REF!","v":{"$error":"#REF!"}},{"$error":"#REF!"}]
[{"$f":"basePAGAS!#REF!","v":{"$error":"#REF!"}},{"$error":"#REF!"}]
[{"$f":"basePAGAS!#REF!","v":{"$error":"#REF!"}},{"$error":"#REF!"}]
[{"$f":"basePAGAS!#REF!","v":{"$error":"#REF!"}},{"$error":"#REF!"}]
[{"$f":"basePAGAS!#REF!","v":{"$error":"#REF!"}},{"$error":"#REF!"}]
[{"$f":"basePAGAS!#REF!","v":{"$error":"#REF!"}},{"$error":"#REF!"}]
[{"$f":"basePAGAS!#REF!","v":{"$error":"#REF!"}},{"$error":"#REF!"}]
[{"$f":"basePAGAS!#REF!","v":{"$error":"#REF!"}},{"$error":"#REF!"}]
[{"$f":"basePAGAS!#REF!","v":{"$error":"#REF!"}},{"$error":"#REF!"}]
[{"$f":"basePAGAS!#REF!","v":{"$error":"#REF!"}},{"$error":"#REF!"}]
[{"$f":"basePAGAS!#REF!","v":{"$error":"#REF!"}},{"$error":"#REF!"}]
[{"$f":"basePAGAS!#REF!","v":{"$error":"#REF!"}},{"$error":"#REF!"}]
[{"$f":"basePAGAS!#REF!","v":{"$error":"#REF!"}},{"$error":"#REF!"}]
[{"$f":"basePAGAS!#REF!","v":{"$error":"#REF!"}},{"$error":"#REF!"}]
[{"$f":"basePAGAS!#REF!","v":{"$error":"#REF!"}},{"$error":"#REF!"}]
[{"$f":"basePAGAS!#REF!","v":{"$error":"#REF!"}},{"$error":"#REF!"}]
[{"$f":"basePAGAS!#REF!","v":{"$error":"#REF!"}},{"$error":"#REF!"}]
[{"$f":"basePAGAS!#REF!","v":{"$error":"#REF!"}},{"$error":"#REF!"}]
[{"$f":"basePAGAS!#REF!","v":{"$error":"#REF!"}},{"$error":"#REF!"}]
[{"$f":"basePAGAS!#REF!","v":{"$error":"#REF!"}},{"$error":"#REF!"}]
[{"$f":"basePAGAS!#REF!","v":{"$error":"#REF!"}},{"$error":"#REF!"}]
[{"$f":"basePAGAS!#REF!","v":{"$error":"#REF!"}},{"$error":"#REF!"}]
[{"$f":"basePAGAS!#REF!","v":{"$error":"#REF!"}},{"$error":"#REF!"}]
[{"$f":"basePAGAS!#REF!","v":{"$error":"#REF!"}},{"$error":"#REF!"}]
[{"$f":"basePAGAS!#REF!","v":{"$error":"#REF!"}},{"$error":"#REF!"}]
[{"$f":"basePAGAS!#REF!","v":{"$error":"#REF!"}},{"$error":"#REF!"}]
[{"$f":"basePAGAS!#REF!","v":{"$error":"#REF!"}},{"$error":"#REF!"}]
[{"$f":"basePAGAS!#REF!","v":{"$error":"#REF!"}},{"$f":"IF(A3407=\"\",\"\",IF(VLOOKUP(A3407,base_rpvs_pagas,2)=A$12,A3407,0))","v":{"$error":"#REF!"}}]
[{"$f":"basePAGAS!#REF!","v":{"$error":"#REF!"}},{"$error":"#REF!"}]
[{"$f":"basePAGAS!#REF!","v":{"$error":"#REF!"}},{"$error":"#REF!"}]
[{"$f":"basePAGAS!#REF!","v":{"$error":"#REF!"}},{"$error":"#REF!"}]
[{"$f":"basePAGAS!#REF!","v":{"$error":"#REF!"}},{"$error":"#REF!"}]
[{"$f":"basePAGAS!#REF!","v":{"$error":"#REF!"}},{"$error":"#REF!"}]
[{"$f":"basePAGAS!#REF!","v":{"$error":"#REF!"}},{"$error":"#REF!"}]
[{"$f":"basePAGAS!#REF!","v":{"$error":"#REF!"}},{"$error":"#REF!"}]
[{"$f":"basePAGAS!#REF!","v":{"$error":"#REF!"}},{"$error":"#REF!"}]
[{"$f":"basePAGAS!#REF!","v":{"$error":"#REF!"}},{"$error":"#REF!"}]
[{"$f":"basePAGAS!#REF!","v":{"$error":"#REF!"}},{"$error":"#REF!"}]
[{"$f":"basePAGAS!#REF!","v":{"$error":"#REF!"}},{"$error":"#REF!"}]
[{"$f":"basePAGAS!#REF!","v":{"$error":"#REF!"}},{"$error":"#REF!"}]
[{"$f":"basePAGAS!#REF!","v":{"$error":"#REF!"}},{"$error":"#REF!"}]
[{"$f":"basePAGAS!#REF!","v":{"$error":"#REF!"}},{"$error":"#REF!"}]
[{"$f":"basePAGAS!#REF!","v":{"$error":"#REF!"}},{"$error":"#REF!"}]
[{"$f":"basePAGAS!#REF!","v":{"$error":"#REF!"}},{"$error":"#REF!"}]
[{"$f":"basePAGAS!#REF!","v":{"$error":"#REF!"}},{"$error":"#REF!"}]
[{"$f":"basePAGAS!#REF!","v":{"$error":"#REF!"}},{"$error":"#REF!"}]
[{"$f":"basePAGAS!#REF!","v":{"$error":"#REF!"}},{"$error":"#REF!"}]
[{"$f":"basePAGAS!#REF!","v":{"$error":"#REF!"}},{"$error":"#REF!"}]
[{"$f":"basePAGAS!#REF!","v":{"$error":"#REF!"}},{"$error":"#REF!"}]
[{"$f":"basePAGAS!#REF!","v":{"$error":"#REF!"}},{"$error":"#REF!"}]
[{"$f":"basePAGAS!#REF!","v":{"$error":"#REF!"}},{"$error":"#REF!"}]
[{"$f":"basePAGAS!#REF!","v":{"$error":"#REF!"}},{"$error":"#REF!"}]
[{"$f":"basePAGAS!#REF!","v":{"$error":"#REF!"}},{"$error":"#REF!"}]
[{"$f":"basePAGAS!#REF!","v":{"$error":"#REF!"}},{"$error":"#REF!"}]
[{"$f":"basePAGAS!#REF!","v":{"$error":"#REF!"}},{"$error":"#REF!"}]
[{"$f":"basePAGAS!#REF!","v":{"$error":"#REF!"}},{"$error":"#REF!"}]
[{"$f":"basePAGAS!#REF!","v":{"$error":"#REF!"}},{"$error":"#REF!"}]
[{"$f":"basePAGAS!#REF!","v":{"$error":"#REF!"}},{"$error":"#REF!"}]
[{"$f":"basePAGAS!#REF!","v":{"$error":"#REF!"}},{"$error":"#REF!"}]
[{"$f":"basePAGAS!#REF!","v":{"$error":"#REF!"}},{"$error":"#REF!"}]
[{"$f":"basePAGAS!#REF!","v":{"$error":"#REF!"}},{"$error":"#REF!"}]
[{"$f":"basePAGAS!#REF!","v":{"$error":"#REF!"}},{"$error":"#REF!"}]
[{"$f":"basePAGAS!#REF!","v":{"$error":"#REF!"}},{"$error":"#REF!"}]
[{"$f":"basePAGAS!#REF!","v":{"$error":"#REF!"}},{"$error":"#REF!"}]
[{"$f":"basePAGAS!#REF!","v":{"$error":"#REF!"}},{"$error":"#REF!"}]
[{"$f":"basePAGAS!#REF!","v":{"$error":"#REF!"}},{"$error":"#REF!"}]
[{"$f":"basePAGAS!#REF!","v":{"$error":"#REF!"}},{"$error":"#REF!"}]
[{"$f":"basePAGAS!#REF!","v":{"$error":"#REF!"}},{"$error":"#REF!"}]
[{"$f":"basePAGAS!#REF!","v":{"$error":"#REF!"}},{"$error":"#REF!"}]
[{"$f":"basePAGAS!#REF!","v":{"$error":"#REF!"}},{"$error":"#REF!"}]
[{"$f":"basePAGAS!#REF!","v":{"$error":"#REF!"}},{"$error":"#REF!"}]
[{"$f":"basePAGAS!#REF!","v":{"$error":"#REF!"}},{"$error":"#REF!"}]
[{"$f":"basePAGAS!#REF!","v":{"$error":"#REF!"}},{"$error":"#REF!"}]
[{"$f":"basePAGAS!#REF!","v":{"$error":"#REF!"}},{"$error":"#REF!"}]
[{"$f":"basePAGAS!#REF!","v":{"$error":"#REF!"}},{"$error":"#REF!"}]
[{"$f":"basePAGAS!#REF!","v":{"$error":"#REF!"}},{"$error":"#REF!"}]
[{"$f":"basePAGAS!#REF!","v":{"$error":"#REF!"}},{"$error":"#REF!"}]
[{"$f":"basePAGAS!#REF!","v":{"$error":"#REF!"}},{"$error":"#REF!"}]
[{"$f":"basePAGAS!#REF!","v":{"$error":"#REF!"}},{"$error":"#REF!"}]
[{"$f":"basePAGAS!#REF!","v":{"$error":"#REF!"}},{"$error":"#REF!"}]
[{"$f":"basePAGAS!#REF!","v":{"$error":"#REF!"}},{"$error":"#REF!"}]
[{"$f":"basePAGAS!#REF!","v":{"$error":"#REF!"}},{"$error":"#REF!"}]
[{"$f":"basePAGAS!#REF!","v":{"$error":"#REF!"}},{"$error":"#REF!"}]
[{"$f":"basePAGAS!#REF!","v":{"$error":"#REF!"}},{"$error":"#REF!"}]
[{"$f":"basePAGAS!#REF!","v":{"$error":"#REF!"}},{"$error":"#REF!"}]
[{"$f":"basePAGAS!#REF!","v":{"$error":"#REF!"}},{"$error":"#REF!"}]
[{"$f":"basePAGAS!#REF!","v":{"$error":"#REF!"}},{"$error":"#REF!"}]
[{"$f":"basePAGAS!#REF!","v":{"$error":"#REF!"}},{"$error":"#REF!"}]
[{"$f":"basePAGAS!#REF!","v":{"$error":"#REF!"}},{"$error":"#REF!"}]
[{"$f":"basePAGAS!#REF!","v":{"$error":"#REF!"}},{"$error":"#REF!"}]
[{"$f":"basePAGAS!#REF!","v":{"$error":"#REF!"}},{"$error":"#REF!"}]
[{"$f":"basePAGAS!#REF!","v":{"$error":"#REF!"}},{"$f":"IF(A3471=\"\",\"\",IF(VLOOKUP(A3471,base_rpvs_pagas,2)=A$12,A3471,0))","v":{"$error":"#REF!"}}]
[{"$f":"basePAGAS!#REF!","v":{"$error":"#REF!"}},{"$error":"#REF!"}]
[{"$f":"basePAGAS!#REF!","v":{"$error":"#REF!"}},{"$error":"#REF!"}]
[{"$f":"basePAGAS!#REF!","v":{"$error":"#REF!"}},{"$error":"#REF!"}]
[{"$f":"basePAGAS!#REF!","v":{"$error":"#REF!"}},{"$error":"#REF!"}]
[{"$f":"basePAGAS!#REF!","v":{"$error":"#REF!"}},{"$error":"#REF!"}]
[{"$f":"basePAGAS!#REF!","v":{"$error":"#REF!"}},{"$error":"#REF!"}]
[{"$f":"basePAGAS!#REF!","v":{"$error":"#REF!"}},{"$error":"#REF!"}]
[{"$f":"basePAGAS!#REF!","v":{"$error":"#REF!"}},{"$error":"#REF!"}]
[{"$f":"basePAGAS!#REF!","v":{"$error":"#REF!"}},{"$error":"#REF!"}]
[{"$f":"basePAGAS!#REF!","v":{"$error":"#REF!"}},{"$error":"#REF!"}]
[{"$f":"basePAGAS!#REF!","v":{"$error":"#REF!"}},{"$error":"#REF!"}]
[{"$f":"basePAGAS!#REF!","v":{"$error":"#REF!"}},{"$error":"#REF!"}]
[{"$f":"basePAGAS!#REF!","v":{"$error":"#REF!"}},{"$error":"#REF!"}]
[{"$f":"basePAGAS!#REF!","v":{"$error":"#REF!"}},{"$error":"#REF!"}]
[{"$f":"basePAGAS!#REF!","v":{"$error":"#REF!"}},{"$error":"#REF!"}]
[{"$f":"basePAGAS!#REF!","v":{"$error":"#REF!"}},{"$error":"#REF!"}]
[{"$f":"basePAGAS!#REF!","v":{"$error":"#REF!"}},{"$error":"#REF!"}]
[{"$f":"basePAGAS!#REF!","v":{"$error":"#REF!"}},{"$error":"#REF!"}]
[{"$f":"basePAGAS!#REF!","v":{"$error":"#REF!"}},{"$error":"#REF!"}]
[{"$f":"basePAGAS!#REF!","v":{"$error":"#REF!"}},{"$error":"#REF!"}]
[{"$f":"basePAGAS!#REF!","v":{"$error":"#REF!"}},{"$error":"#REF!"}]
[{"$f":"basePAGAS!#REF!","v":{"$error":"#REF!"}},{"$error":"#REF!"}]
[{"$f":"basePAGAS!#REF!","v":{"$error":"#REF!"}},{"$error":"#REF!"}]
[{"$f":"basePAGAS!#REF!","v":{"$error":"#REF!"}},{"$error":"#REF!"}]
[{"$f":"basePAGAS!#REF!","v":{"$error":"#REF!"}},{"$error":"#REF!"}]
[{"$f":"basePAGAS!#REF!","v":{"$error":"#REF!"}},{"$error":"#REF!"}]
[{"$f":"basePAGAS!#REF!","v":{"$error":"#REF!"}},{"$error":"#REF!"}]
[{"$f":"basePAGAS!#REF!","v":{"$error":"#REF!"}},{"$error":"#REF!"}]
[{"$f":"basePAGAS!#REF!","v":{"$error":"#REF!"}},{"$error":"#REF!"}]
[{"$f":"basePAGAS!#REF!","v":{"$error":"#REF!"}},{"$error":"#REF!"}]
[{"$f":"basePAGAS!#REF!","v":{"$error":"#REF!"}},{"$error":"#REF!"}]
[{"$f":"basePAGAS!#REF!","v":{"$error":"#REF!"}},{"$error":"#REF!"}]
[{"$f":"basePAGAS!#REF!","v":{"$error":"#REF!"}},{"$error":"#REF!"}]
[{"$f":"basePAGAS!#REF!","v":{"$error":"#REF!"}},{"$error":"#REF!"}]
[{"$f":"basePAGAS!#REF!","v":{"$error":"#REF!"}},{"$error":"#REF!"}]
[{"$f":"basePAGAS!#REF!","v":{"$error":"#REF!"}},{"$error":"#REF!"}]
[{"$f":"basePAGAS!#REF!","v":{"$error":"#REF!"}},{"$error":"#REF!"}]
[{"$f":"basePAGAS!#REF!","v":{"$error":"#REF!"}},{"$error":"#REF!"}]
[{"$f":"basePAGAS!#REF!","v":{"$error":"#REF!"}},{"$error":"#REF!"}]
[{"$f":"basePAGAS!#REF!","v":{"$error":"#REF!"}},{"$error":"#REF!"}]
[{"$f":"basePAGAS!#REF!","v":{"$error":"#REF!"}},{"$error":"#REF!"}]
[{"$f":"basePAGAS!#REF!","v":{"$error":"#REF!"}},{"$error":"#REF!"}]
[{"$f":"basePAGAS!#REF!","v":{"$error":"#REF!"}},{"$error":"#REF!"}]
[{"$f":"basePAGAS!#REF!","v":{"$error":"#REF!"}},{"$error":"#REF!"}]
[{"$f":"basePAGAS!#REF!","v":{"$error":"#REF!"}},{"$error":"#REF!"}]
[{"$f":"basePAGAS!#REF!","v":{"$error":"#REF!"}},{"$error":"#REF!"}]
[{"$f":"basePAGAS!#REF!","v":{"$error":"#REF!"}},{"$error":"#REF!"}]
[{"$f":"basePAGAS!#REF!","v":{"$error":"#REF!"}},{"$error":"#REF!"}]
[{"$f":"basePAGAS!#REF!","v":{"$error":"#REF!"}},{"$error":"#REF!"}]
[{"$f":"basePAGAS!#REF!","v":{"$error":"#REF!"}},{"$error":"#REF!"}]
[{"$f":"basePAGAS!#REF!","v":{"$error":"#REF!"}},{"$error":"#REF!"}]
[{"$f":"basePAGAS!#REF!","v":{"$error":"#REF!"}},{"$error":"#REF!"}]
[{"$f":"basePAGAS!#REF!","v":{"$error":"#REF!"}},{"$error":"#REF!"}]
[{"$f":"basePAGAS!#REF!","v":{"$error":"#REF!"}},{"$error":"#REF!"}]
[{"$f":"basePAGAS!#REF!","v":{"$error":"#REF!"}},{"$error":"#REF!"}]
[{"$f":"basePAGAS!#REF!","v":{"$error":"#REF!"}},{"$error":"#REF!"}]
[{"$f":"basePAGAS!#REF!","v":{"$error":"#REF!"}},{"$error":"#REF!"}]
[{"$f":"basePAGAS!#REF!","v":{"$error":"#REF!"}},{"$error":"#REF!"}]
[{"$f":"basePAGAS!#REF!","v":{"$error":"#REF!"}},{"$error":"#REF!"}]
[{"$f":"basePAGAS!#REF!","v":{"$error":"#REF!"}},{"$error":"#REF!"}]
[{"$f":"basePAGAS!#REF!","v":{"$error":"#REF!"}},{"$error":"#REF!"}]
[{"$f":"basePAGAS!#REF!","v":{"$error":"#REF!"}},{"$error":"#REF!"}]
[{"$f":"basePAGAS!#REF!","v":{"$error":"#REF!"}},{"$error":"#REF!"}]
[{"$f":"basePAGAS!#REF!","v":{"$error":"#REF!"}},{"$f":"IF(A3535=\"\",\"\",IF(VLOOKUP(A3535,base_rpvs_pagas,2)=A$12,A3535,0))","v":{"$error":"#REF!"}}]
[{"$f":"basePAGAS!#REF!","v":{"$error":"#REF!"}},{"$error":"#REF!"}]
[{"$f":"basePAGAS!#REF!","v":{"$error":"#REF!"}},{"$error":"#REF!"}]
[{"$f":"basePAGAS!#REF!","v":{"$error":"#REF!"}},{"$error":"#REF!"}]
[{"$f":"basePAGAS!#REF!","v":{"$error":"#REF!"}},{"$error":"#REF!"}]
[{"$f":"basePAGAS!#REF!","v":{"$error":"#REF!"}},{"$error":"#REF!"}]
[{"$f":"basePAGAS!#REF!","v":{"$error":"#REF!"}},{"$error":"#REF!"}]
[{"$f":"basePAGAS!#REF!","v":{"$error":"#REF!"}},{"$error":"#REF!"}]
[{"$f":"basePAGAS!#REF!","v":{"$error":"#REF!"}},{"$error":"#REF!"}]
[{"$f":"basePAGAS!#REF!","v":{"$error":"#REF!"}},{"$error":"#REF!"}]
[{"$f":"basePAGAS!#REF!","v":{"$error":"#REF!"}},{"$error":"#REF!"}]
[{"$f":"basePAGAS!#REF!","v":{"$error":"#REF!"}},{"$error":"#REF!"}]
[{"$f":"basePAGAS!#REF!","v":{"$error":"#REF!"}},{"$error":"#REF!"}]
[{"$f":"basePAGAS!#REF!","v":{"$error":"#REF!"}},{"$error":"#REF!"}]
[{"$f":"basePAGAS!#REF!","v":{"$error":"#REF!"}},{"$error":"#REF!"}]
[{"$f":"basePAGAS!#REF!","v":{"$error":"#REF!"}},{"$error":"#REF!"}]
[{"$f":"basePAGAS!#REF!","v":{"$error":"#REF!"}},{"$error":"#REF!"}]
[{"$f":"basePAGAS!#REF!","v":{"$error":"#REF!"}},{"$error":"#REF!"}]
[{"$f":"basePAGAS!#REF!","v":{"$error":"#REF!"}},{"$error":"#REF!"}]
[{"$f":"basePAGAS!#REF!","v":{"$error":"#REF!"}},{"$error":"#REF!"}]
[{"$f":"basePAGAS!#REF!","v":{"$error":"#REF!"}},{"$error":"#REF!"}]
[{"$f":"basePAGAS!#REF!","v":{"$error":"#REF!"}},{"$error":"#REF!"}]
[{"$f":"basePAGAS!#REF!","v":{"$error":"#REF!"}},{"$error":"#REF!"}]
[{"$f":"basePAGAS!#REF!","v":{"$error":"#REF!"}},{"$error":"#REF!"}]
[{"$f":"basePAGAS!#REF!","v":{"$error":"#REF!"}},{"$error":"#REF!"}]
[{"$f":"basePAGAS!#REF!","v":{"$error":"#REF!"}},{"$error":"#REF!"}]
[{"$f":"basePAGAS!#REF!","v":{"$error":"#REF!"}},{"$error":"#REF!"}]
[{"$f":"basePAGAS!#REF!","v":{"$error":"#REF!"}},{"$error":"#REF!"}]
[{"$f":"basePAGAS!#REF!","v":{"$error":"#REF!"}},{"$error":"#REF!"}]
[{"$f":"basePAGAS!#REF!","v":{"$error":"#REF!"}},{"$error":"#REF!"}]
[{"$f":"basePAGAS!#REF!","v":{"$error":"#REF!"}},{"$error":"#REF!"}]
[{"$f":"basePAGAS!#REF!","v":{"$error":"#REF!"}},{"$error":"#REF!"}]
[{"$f":"basePAGAS!#REF!","v":{"$error":"#REF!"}},{"$error":"#REF!"}]
[{"$f":"basePAGAS!#REF!","v":{"$error":"#REF!"}},{"$error":"#REF!"}]
[{"$f":"basePAGAS!#REF!","v":{"$error":"#REF!"}},{"$error":"#REF!"}]
[{"$f":"basePAGAS!#REF!","v":{"$error":"#REF!"}},{"$error":"#REF!"}]
[{"$f":"basePAGAS!#REF!","v":{"$error":"#REF!"}},{"$error":"#REF!"}]
[{"$f":"basePAGAS!#REF!","v":{"$error":"#REF!"}},{"$error":"#REF!"}]
[{"$f":"basePAGAS!#REF!","v":{"$error":"#REF!"}},{"$error":"#REF!"}]
[{"$f":"basePAGAS!#REF!","v":{"$error":"#REF!"}},{"$error":"#REF!"}]
[{"$f":"basePAGAS!#REF!","v":{"$error":"#REF!"}},{"$error":"#REF!"}]
[{"$f":"basePAGAS!#REF!","v":{"$error":"#REF!"}},{"$error":"#REF!"}]
[{"$f":"basePAGAS!#REF!","v":{"$error":"#REF!"}},{"$error":"#REF!"}]
[{"$f":"basePAGAS!#REF!","v":{"$error":"#REF!"}},{"$error":"#REF!"}]
[{"$f":"basePAGAS!#REF!","v":{"$error":"#REF!"}},{"$error":"#REF!"}]
[{"$f":"basePAGAS!#REF!","v":{"$error":"#REF!"}},{"$error":"#REF!"}]
[{"$f":"basePAGAS!#REF!","v":{"$error":"#REF!"}},{"$error":"#REF!"}]
[{"$f":"basePAGAS!#REF!","v":{"$error":"#REF!"}},{"$error":"#REF!"}]
[{"$f":"basePAGAS!#REF!","v":{"$error":"#REF!"}},{"$error":"#REF!"}]
[{"$f":"basePAGAS!#REF!","v":{"$error":"#REF!"}},{"$error":"#REF!"}]
[{"$f":"basePAGAS!#REF!","v":{"$error":"#REF!"}},{"$error":"#REF!"}]
[{"$f":"basePAGAS!#REF!","v":{"$error":"#REF!"}},{"$error":"#REF!"}]
[{"$f":"basePAGAS!#REF!","v":{"$error":"#REF!"}},{"$error":"#REF!"}]
[{"$f":"basePAGAS!#REF!","v":{"$error":"#REF!"}},{"$error":"#REF!"}]
[{"$f":"basePAGAS!#REF!","v":{"$error":"#REF!"}},{"$error":"#REF!"}]
[{"$f":"basePAGAS!#REF!","v":{"$error":"#REF!"}},{"$error":"#REF!"}]
[{"$f":"basePAGAS!#REF!","v":{"$error":"#REF!"}},{"$error":"#REF!"}]
[{"$f":"basePAGAS!#REF!","v":{"$error":"#REF!"}},{"$error":"#REF!"}]
[{"$f":"basePAGAS!#REF!","v":{"$error":"#REF!"}},{"$error":"#REF!"}]
[{"$f":"basePAGAS!#REF!","v":{"$error":"#REF!"}},{"$error":"#REF!"}]
[{"$f":"basePAGAS!#REF!","v":{"$error":"#REF!"}},{"$error":"#REF!"}]
[{"$f":"basePAGAS!#REF!","v":{"$error":"#REF!"}},{"$error":"#REF!"}]
[{"$f":"basePAGAS!#REF!","v":{"$error":"#REF!"}},{"$error":"#REF!"}]
[{"$f":"basePAGAS!#REF!","v":{"$error":"#REF!"}},{"$error":"#REF!"}]
[{"$f":"basePAGAS!#REF!","v":{"$error":"#REF!"}},{"$f":"IF(A3599=\"\",\"\",IF(VLOOKUP(A3599,base_rpvs_pagas,2)=A$12,A3599,0))","v":{"$error":"#REF!"}}]
[{"$f":"basePAGAS!#REF!","v":{"$error":"#REF!"}},{"$error":"#REF!"}]
[{"$f":"basePAGAS!#REF!","v":{"$error":"#REF!"}},{"$error":"#REF!"}]
[{"$f":"basePAGAS!#REF!","v":{"$error":"#REF!"}},{"$error":"#REF!"}]
[{"$f":"basePAGAS!#REF!","v":{"$error":"#REF!"}},{"$error":"#REF!"}]
[{"$f":"basePAGAS!#REF!","v":{"$error":"#REF!"}},{"$error":"#REF!"}]
[{"$f":"basePAGAS!#REF!","v":{"$error":"#REF!"}},{"$error":"#REF!"}]
[{"$f":"basePAGAS!#REF!","v":{"$error":"#REF!"}},{"$error":"#REF!"}]
[{"$f":"basePAGAS!#REF!","v":{"$error":"#REF!"}},{"$error":"#REF!"}]
[{"$f":"basePAGAS!#REF!","v":{"$error":"#REF!"}},{"$error":"#REF!"}]
[{"$f":"basePAGAS!#REF!","v":{"$error":"#REF!"}},{"$error":"#REF!"}]
[{"$f":"basePAGAS!#REF!","v":{"$error":"#REF!"}},{"$error":"#REF!"}]
[{"$f":"basePAGAS!#REF!","v":{"$error":"#REF!"}},{"$error":"#REF!"}]
[{"$f":"basePAGAS!#REF!","v":{"$error":"#REF!"}},{"$error":"#REF!"}]
[{"$f":"basePAGAS!#REF!","v":{"$error":"#REF!"}},{"$error":"#REF!"}]
[{"$f":"basePAGAS!#REF!","v":{"$error":"#REF!"}},{"$error":"#REF!"}]
[{"$f":"basePAGAS!#REF!","v":{"$error":"#REF!"}},{"$error":"#REF!"}]
[{"$f":"basePAGAS!#REF!","v":{"$error":"#REF!"}},{"$error":"#REF!"}]
[{"$f":"basePAGAS!#REF!","v":{"$error":"#REF!"}},{"$error":"#REF!"}]
[{"$f":"basePAGAS!#REF!","v":{"$error":"#REF!"}},{"$error":"#REF!"}]
[{"$f":"basePAGAS!#REF!","v":{"$error":"#REF!"}},{"$error":"#REF!"}]
[{"$f":"basePAGAS!#REF!","v":{"$error":"#REF!"}},{"$error":"#REF!"}]
[{"$f":"basePAGAS!#REF!","v":{"$error":"#REF!"}},{"$error":"#REF!"}]
[{"$f":"basePAGAS!#REF!","v":{"$error":"#REF!"}},{"$error":"#REF!"}]
[{"$f":"basePAGAS!#REF!","v":{"$error":"#REF!"}},{"$error":"#REF!"}]
[{"$f":"basePAGAS!#REF!","v":{"$error":"#REF!"}},{"$error":"#REF!"}]
[{"$f":"basePAGAS!#REF!","v":{"$error":"#REF!"}},{"$error":"#REF!"}]
[{"$f":"basePAGAS!#REF!","v":{"$error":"#REF!"}},{"$error":"#REF!"}]
[{"$f":"basePAGAS!#REF!","v":{"$error":"#REF!"}},{"$error":"#REF!"}]
[{"$f":"basePAGAS!#REF!","v":{"$error":"#REF!"}},{"$error":"#REF!"}]
[{"$f":"basePAGAS!#REF!","v":{"$error":"#REF!"}},{"$error":"#REF!"}]
[{"$f":"basePAGAS!#REF!","v":{"$error":"#REF!"}},{"$error":"#REF!"}]
[{"$f":"basePAGAS!#REF!","v":{"$error":"#REF!"}},{"$error":"#REF!"}]
[{"$f":"basePAGAS!#REF!","v":{"$error":"#REF!"}},{"$error":"#REF!"}]
[{"$f":"basePAGAS!#REF!","v":{"$error":"#REF!"}},{"$error":"#REF!"}]
[{"$f":"basePAGAS!#REF!","v":{"$error":"#REF!"}},{"$error":"#REF!"}]
[{"$f":"basePAGAS!#REF!","v":{"$error":"#REF!"}},{"$error":"#REF!"}]
[{"$f":"basePAGAS!#REF!","v":{"$error":"#REF!"}},{"$error":"#REF!"}]
[{"$f":"basePAGAS!#REF!","v":{"$error":"#REF!"}},{"$error":"#REF!"}]
[{"$f":"basePAGAS!#REF!","v":{"$error":"#REF!"}},{"$error":"#REF!"}]
[{"$f":"basePAGAS!#REF!","v":{"$error":"#REF!"}},{"$error":"#REF!"}]
[{"$f":"basePAGAS!#REF!","v":{"$error":"#REF!"}},{"$error":"#REF!"}]
[{"$f":"basePAGAS!#REF!","v":{"$error":"#REF!"}},{"$error":"#REF!"}]
[{"$f":"basePAGAS!#REF!","v":{"$error":"#REF!"}},{"$error":"#REF!"}]
[{"$f":"basePAGAS!#REF!","v":{"$error":"#REF!"}},{"$error":"#REF!"}]
[{"$f":"basePAGAS!#REF!","v":{"$error":"#REF!"}},{"$error":"#REF!"}]
[{"$f":"basePAGAS!#REF!","v":{"$error":"#REF!"}},{"$error":"#REF!"}]
[{"$f":"basePAGAS!#REF!","v":{"$error":"#REF!"}},{"$error":"#REF!"}]
[{"$f":"basePAGAS!#REF!","v":{"$error":"#REF!"}},{"$error":"#REF!"}]
[{"$f":"basePAGAS!#REF!","v":{"$error":"#REF!"}},{"$error":"#REF!"}]
[{"$f":"basePAGAS!#REF!","v":{"$error":"#REF!"}},{"$error":"#REF!"}]
[{"$f":"basePAGAS!#REF!","v":{"$error":"#REF!"}},{"$error":"#REF!"}]
[{"$f":"basePAGAS!#REF!","v":{"$error":"#REF!"}},{"$error":"#REF!"}]
[{"$f":"basePAGAS!#REF!","v":{"$error":"#REF!"}},{"$error":"#REF!"}]
[{"$f":"basePAGAS!#REF!","v":{"$error":"#REF!"}},{"$error":"#REF!"}]
[{"$f":"basePAGAS!#REF!","v":{"$error":"#REF!"}},{"$error":"#REF!"}]
[{"$f":"basePAGAS!#REF!","v":{"$error":"#REF!"}},{"$error":"#REF!"}]
[{"$f":"basePAGAS!#REF!","v":{"$error":"#REF!"}},{"$error":"#REF!"}]
[{"$f":"basePAGAS!#REF!","v":{"$error":"#REF!"}},{"$error":"#REF!"}]
[{"$f":"basePAGAS!#REF!","v":{"$error":"#REF!"}},{"$error":"#REF!"}]
[{"$f":"basePAGAS!#REF!","v":{"$error":"#REF!"}},{"$error":"#REF!"}]
[{"$f":"basePAGAS!#REF!","v":{"$error":"#REF!"}},{"$error":"#REF!"}]
[{"$f":"basePAGAS!#REF!","v":{"$error":"#REF!"}},{"$error":"#REF!"}]
[{"$f":"basePAGAS!#REF!","v":{"$error":"#REF!"}},{"$error":"#REF!"}]
[{"$f":"basePAGAS!#REF!","v":{"$error":"#REF!"}},{"$f":"IF(A3663=\"\",\"\",IF(VLOOKUP(A3663,base_rpvs_pagas,2)=A$12,A3663,0))","v":{"$error":"#REF!"}}]
[{"$f":"basePAGAS!#REF!","v":{"$error":"#REF!"}},{"$error":"#REF!"}]
[{"$f":"basePAGAS!#REF!","v":{"$error":"#REF!"}},{"$error":"#REF!"}]
[{"$f":"basePAGAS!#REF!","v":{"$error":"#REF!"}},{"$error":"#REF!"}]
[{"$f":"basePAGAS!#REF!","v":{"$error":"#REF!"}},{"$error":"#REF!"}]
[{"$f":"basePAGAS!#REF!","v":{"$error":"#REF!"}},{"$error":"#REF!"}]
[{"$f":"basePAGAS!#REF!","v":{"$error":"#REF!"}},{"$error":"#REF!"}]
[{"$f":"basePAGAS!#REF!","v":{"$error":"#REF!"}},{"$error":"#REF!"}]
[{"$f":"basePAGAS!#REF!","v":{"$error":"#REF!"}},{"$error":"#REF!"}]
[{"$f":"basePAGAS!#REF!","v":{"$error":"#REF!"}},{"$error":"#REF!"}]
[{"$f":"basePAGAS!#REF!","v":{"$error":"#REF!"}},{"$error":"#REF!"}]
[{"$f":"basePAGAS!#REF!","v":{"$error":"#REF!"}},{"$error":"#REF!"}]
[{"$f":"basePAGAS!#REF!","v":{"$error":"#REF!"}},{"$error":"#REF!"}]
[{"$f":"basePAGAS!#REF!","v":{"$error":"#REF!"}},{"$error":"#REF!"}]
[{"$f":"basePAGAS!#REF!","v":{"$error":"#REF!"}},{"$error":"#REF!"}]
[{"$f":"basePAGAS!#REF!","v":{"$error":"#REF!"}},{"$error":"#REF!"}]
[{"$f":"basePAGAS!#REF!","v":{"$error":"#REF!"}},{"$error":"#REF!"}]
[{"$f":"basePAGAS!#REF!","v":{"$error":"#REF!"}},{"$error":"#REF!"}]
[{"$f":"basePAGAS!#REF!","v":{"$error":"#REF!"}},{"$error":"#REF!"}]
[{"$f":"basePAGAS!#REF!","v":{"$error":"#REF!"}},{"$error":"#REF!"}]
[{"$f":"basePAGAS!#REF!","v":{"$error":"#REF!"}},{"$error":"#REF!"}]
[{"$f":"basePAGAS!#REF!","v":{"$error":"#REF!"}},{"$error":"#REF!"}]
[{"$f":"basePAGAS!#REF!","v":{"$error":"#REF!"}},{"$error":"#REF!"}]
[{"$f":"basePAGAS!#REF!","v":{"$error":"#REF!"}},{"$error":"#REF!"}]
[{"$f":"basePAGAS!#REF!","v":{"$error":"#REF!"}},{"$error":"#REF!"}]
[{"$f":"basePAGAS!#REF!","v":{"$error":"#REF!"}},{"$error":"#REF!"}]
[{"$f":"basePAGAS!#REF!","v":{"$error":"#REF!"}},{"$error":"#REF!"}]
[{"$f":"basePAGAS!#REF!","v":{"$error":"#REF!"}},{"$error":"#REF!"}]
[{"$f":"basePAGAS!#REF!","v":{"$error":"#REF!"}},{"$error":"#REF!"}]
[{"$f":"basePAGAS!#REF!","v":{"$error":"#REF!"}},{"$error":"#REF!"}]
[{"$f":"basePAGAS!#REF!","v":{"$error":"#REF!"}},{"$error":"#REF!"}]
[{"$f":"basePAGAS!#REF!","v":{"$error":"#REF!"}},{"$error":"#REF!"}]
[{"$f":"basePAGAS!#REF!","v":{"$error":"#REF!"}},{"$error":"#REF!"}]
[{"$f":"basePAGAS!#REF!","v":{"$error":"#REF!"}},{"$error":"#REF!"}]
[{"$f":"basePAGAS!#REF!","v":{"$error":"#REF!"}},{"$error":"#REF!"}]
[{"$f":"basePAGAS!#REF!","v":{"$error":"#REF!"}},{"$error":"#REF!"}]
[{"$f":"basePAGAS!#REF!","v":{"$error":"#REF!"}},{"$error":"#REF!"}]
[{"$f":"basePAGAS!#REF!","v":{"$error":"#REF!"}},{"$error":"#REF!"}]
[{"$f":"basePAGAS!#REF!","v":{"$error":"#REF!"}},{"$error":"#REF!"}]
[{"$f":"basePAGAS!#REF!","v":{"$error":"#REF!"}},{"$error":"#REF!"}]
[{"$f":"basePAGAS!#REF!","v":{"$error":"#REF!"}},{"$error":"#REF!"}]
[{"$f":"basePAGAS!#REF!","v":{"$error":"#REF!"}},{"$error":"#REF!"}]
[{"$f":"basePAGAS!#REF!","v":{"$error":"#REF!"}},{"$error":"#REF!"}]
[{"$f":"basePAGAS!#REF!","v":{"$error":"#REF!"}},{"$error":"#REF!"}]
[{"$f":"basePAGAS!#REF!","v":{"$error":"#REF!"}},{"$error":"#REF!"}]
[{"$f":"basePAGAS!#REF!","v":{"$error":"#REF!"}},{"$error":"#REF!"}]
[{"$f":"basePAGAS!#REF!","v":{"$error":"#REF!"}},{"$error":"#REF!"}]
[{"$f":"basePAGAS!#REF!","v":{"$error":"#REF!"}},{"$error":"#REF!"}]
[{"$f":"basePAGAS!#REF!","v":{"$error":"#REF!"}},{"$error":"#REF!"}]
[{"$f":"basePAGAS!#REF!","v":{"$error":"#REF!"}},{"$error":"#REF!"}]
[{"$f":"basePAGAS!#REF!","v":{"$error":"#REF!"}},{"$error":"#REF!"}]
[{"$f":"basePAGAS!#REF!","v":{"$error":"#REF!"}},{"$error":"#REF!"}]
[{"$f":"basePAGAS!#REF!","v":{"$error":"#REF!"}},{"$error":"#REF!"}]
[{"$f":"basePAGAS!#REF!","v":{"$error":"#REF!"}},{"$error":"#REF!"}]
[{"$f":"basePAGAS!#REF!","v":{"$error":"#REF!"}},{"$error":"#REF!"}]
[{"$f":"basePAGAS!#REF!","v":{"$error":"#REF!"}},{"$error":"#REF!"}]
[{"$f":"basePAGAS!#REF!","v":{"$error":"#REF!"}},{"$error":"#REF!"}]
[{"$f":"basePAGAS!#REF!","v":{"$error":"#REF!"}},{"$error":"#REF!"}]
[{"$f":"basePAGAS!#REF!","v":{"$error":"#REF!"}},{"$error":"#REF!"}]
[{"$f":"basePAGAS!#REF!","v":{"$error":"#REF!"}},{"$error":"#REF!"}]
[{"$f":"basePAGAS!#REF!","v":{"$error":"#REF!"}},{"$error":"#REF!"}]
[{"$f":"basePAGAS!#REF!","v":{"$error":"#REF!"}},{"$error":"#REF!"}]
[{"$f":"basePAGAS!#REF!","v":{"$error":"#REF!"}},{"$error":"#REF!"}]
[{"$f":"basePAGAS!#REF!","v":{"$error":"#REF!"}},{"$error":"#REF!"}]
[{"$f":"basePAGAS!#REF!","v":{"$error":"#REF!"}},{"$f":"IF(A3727=\"\",\"\",IF(VLOOKUP(A3727,base_rpvs_pagas,2)=A$12,A3727,0))","v":{"$error":"#REF!"}}]
[{"$f":"basePAGAS!#REF!","v":{"$error":"#REF!"}},{"$error":"#REF!"}]
[{"$f":"basePAGAS!#REF!","v":{"$error":"#REF!"}},{"$error":"#REF!"}]
[{"$f":"basePAGAS!#REF!","v":{"$error":"#REF!"}},{"$error":"#REF!"}]
[{"$f":"basePAGAS!#REF!","v":{"$error":"#REF!"}},{"$error":"#REF!"}]
[{"$f":"basePAGAS!#REF!","v":{"$error":"#REF!"}},{"$error":"#REF!"}]
[{"$f":"basePAGAS!#REF!","v":{"$error":"#REF!"}},{"$error":"#REF!"}]
[{"$f":"basePAGAS!#REF!","v":{"$error":"#REF!"}},{"$error":"#REF!"}]
[{"$f":"basePAGAS!#REF!","v":{"$error":"#REF!"}},{"$error":"#REF!"}]
[{"$f":"basePAGAS!#REF!","v":{"$error":"#REF!"}},{"$error":"#REF!"}]
[{"$f":"basePAGAS!#REF!","v":{"$error":"#REF!"}},{"$error":"#REF!"}]
[{"$f":"basePAGAS!#REF!","v":{"$error":"#REF!"}},{"$error":"#REF!"}]
[{"$f":"basePAGAS!#REF!","v":{"$error":"#REF!"}},{"$error":"#REF!"}]
[{"$f":"basePAGAS!#REF!","v":{"$error":"#REF!"}},{"$error":"#REF!"}]
[{"$f":"basePAGAS!#REF!","v":{"$error":"#REF!"}},{"$error":"#REF!"}]
[{"$f":"basePAGAS!#REF!","v":{"$error":"#REF!"}},{"$error":"#REF!"}]
[{"$f":"basePAGAS!#REF!","v":{"$error":"#REF!"}},{"$error":"#REF!"}]
[{"$f":"basePAGAS!#REF!","v":{"$error":"#REF!"}},{"$error":"#REF!"}]
[{"$f":"basePAGAS!#REF!","v":{"$error":"#REF!"}},{"$error":"#REF!"}]
[{"$f":"basePAGAS!#REF!","v":{"$error":"#REF!"}},{"$error":"#REF!"}]
[{"$f":"basePAGAS!#REF!","v":{"$error":"#REF!"}},{"$error":"#REF!"}]
[{"$f":"basePAGAS!#REF!","v":{"$error":"#REF!"}},{"$error":"#REF!"}]
[{"$f":"basePAGAS!#REF!","v":{"$error":"#REF!"}},{"$error":"#REF!"}]
[{"$f":"basePAGAS!#REF!","v":{"$error":"#REF!"}},{"$error":"#REF!"}]
[{"$f":"basePAGAS!#REF!","v":{"$error":"#REF!"}},{"$error":"#REF!"}]
[{"$f":"basePAGAS!#REF!","v":{"$error":"#REF!"}},{"$error":"#REF!"}]
[{"$f":"basePAGAS!#REF!","v":{"$error":"#REF!"}},{"$error":"#REF!"}]
[{"$f":"basePAGAS!#REF!","v":{"$error":"#REF!"}},{"$error":"#REF!"}]
[{"$f":"basePAGAS!#REF!","v":{"$error":"#REF!"}},{"$error":"#REF!"}]
[{"$f":"basePAGAS!#REF!","v":{"$error":"#REF!"}},{"$error":"#REF!"}]
[{"$f":"basePAGAS!#REF!","v":{"$error":"#REF!"}},{"$error":"#REF!"}]
[{"$f":"basePAGAS!#REF!","v":{"$error":"#REF!"}},{"$error":"#REF!"}]
[{"$f":"basePAGAS!#REF!","v":{"$error":"#REF!"}},{"$error":"#REF!"}]
[{"$f":"basePAGAS!#REF!","v":{"$error":"#REF!"}},{"$error":"#REF!"}]
[{"$f":"basePAGAS!#REF!","v":{"$error":"#REF!"}},{"$error":"#REF!"}]
[{"$f":"basePAGAS!#REF!","v":{"$error":"#REF!"}},{"$error":"#REF!"}]
[{"$f":"basePAGAS!#REF!","v":{"$error":"#REF!"}},{"$error":"#REF!"}]
[{"$f":"basePAGAS!#REF!","v":{"$error":"#REF!"}},{"$error":"#REF!"}]
[{"$f":"basePAGAS!#REF!","v":{"$error":"#REF!"}},{"$error":"#REF!"}]
[{"$f":"basePAGAS!#REF!","v":{"$error":"#REF!"}},{"$error":"#REF!"}]
[{"$f":"basePAGAS!#REF!","v":{"$error":"#REF!"}},{"$error":"#REF!"}]
[{"$f":"basePAGAS!#REF!","v":{"$error":"#REF!"}},{"$error":"#REF!"}]
[{"$f":"basePAGAS!#REF!","v":{"$error":"#REF!"}},{"$error":"#REF!"}]
[{"$f":"basePAGAS!#REF!","v":{"$error":"#REF!"}},{"$error":"#REF!"}]
[{"$f":"basePAGAS!#REF!","v":{"$error":"#REF!"}},{"$error":"#REF!"}]
[{"$f":"basePAGAS!#REF!","v":{"$error":"#REF!"}},{"$error":"#REF!"}]
[{"$f":"basePAGAS!#REF!","v":{"$error":"#REF!"}},{"$error":"#REF!"}]
[{"$f":"basePAGAS!#REF!","v":{"$error":"#REF!"}},{"$error":"#REF!"}]
[{"$f":"basePAGAS!#REF!","v":{"$error":"#REF!"}},{"$error":"#REF!"}]
[{"$f":"basePAGAS!#REF!","v":{"$error":"#REF!"}},{"$error":"#REF!"}]
[{"$f":"basePAGAS!#REF!","v":{"$error":"#REF!"}},{"$error":"#REF!"}]
[{"$f":"basePAGAS!#REF!","v":{"$error":"#REF!"}},{"$error":"#REF!"}]
[{"$f":"basePAGAS!#REF!","v":{"$error":"#REF!"}},{"$error":"#REF!"}]
[{"$f":"basePAGAS!#REF!","v":{"$error":"#REF!"}},{"$error":"#REF!"}]
[{"$f":"basePAGAS!#REF!","v":{"$error":"#REF!"}},{"$error":"#REF!"}]
[{"$f":"basePAGAS!#REF!","v":{"$error":"#REF!"}},{"$error":"#REF!"}]
[{"$f":"basePAGAS!#REF!","v":{"$error":"#REF!"}},{"$error":"#REF!"}]
[{"$f":"basePAGAS!#REF!","v":{"$error":"#REF!"}},{"$error":"#REF!"}]
[{"$f":"basePAGAS!#REF!","v":{"$error":"#REF!"}},{"$error":"#REF!"}]
[{"$f":"basePAGAS!#REF!","v":{"$error":"#REF!"}},{"$error":"#REF!"}]
[{"$f":"basePAGAS!#REF!","v":{"$error":"#REF!"}},{"$error":"#REF!"}]
[{"$f":"basePAGAS!#REF!","v":{"$error":"#REF!"}},{"$error":"#REF!"}]
[{"$f":"basePAGAS!#REF!","v":{"$error":"#REF!"}},{"$error":"#REF!"}]
[{"$f":"basePAGAS!#REF!","v":{"$error":"#REF!"}},{"$error":"#REF!"}]
[{"$f":"basePAGAS!#REF!","v":{"$error":"#REF!"}},{"$f":"IF(A3791=\"\",\"\",IF(VLOOKUP(A3791,base_rpvs_pagas,2)=A$12,A3791,0))","v":{"$error":"#REF!"}}]
[{"$f":"basePAGAS!#REF!","v":{"$error":"#REF!"}},{"$error":"#REF!"}]
[{"$f":"basePAGAS!#REF!","v":{"$error":"#REF!"}},{"$error":"#REF!"}]
[{"$f":"basePAGAS!#REF!","v":{"$error":"#REF!"}},{"$error":"#REF!"}]
[{"$f":"basePAGAS!#REF!","v":{"$error":"#REF!"}},{"$error":"#REF!"}]
[{"$f":"basePAGAS!#REF!","v":{"$error":"#REF!"}},{"$error":"#REF!"}]
[{"$f":"basePAGAS!#REF!","v":{"$error":"#REF!"}},{"$error":"#REF!"}]
[{"$f":"basePAGAS!#REF!","v":{"$error":"#REF!"}},{"$error":"#REF!"}]
[{"$f":"basePAGAS!#REF!","v":{"$error":"#REF!"}},{"$error":"#REF!"}]
[{"$f":"basePAGAS!#REF!","v":{"$error":"#REF!"}},{"$error":"#REF!"}]
[{"$f":"basePAGAS!#REF!","v":{"$error":"#REF!"}},{"$error":"#REF!"}]
[{"$f":"basePAGAS!#REF!","v":{"$error":"#REF!"}},{"$error":"#REF!"}]
[{"$f":"basePAGAS!#REF!","v":{"$error":"#REF!"}},{"$error":"#REF!"}]
[{"$f":"basePAGAS!#REF!","v":{"$error":"#REF!"}},{"$error":"#REF!"}]
[{"$f":"basePAGAS!#REF!","v":{"$error":"#REF!"}},{"$error":"#REF!"}]
[{"$f":"basePAGAS!#REF!","v":{"$error":"#REF!"}},{"$error":"#REF!"}]
[{"$f":"basePAGAS!#REF!","v":{"$error":"#REF!"}},{"$error":"#REF!"}]
[{"$f":"basePAGAS!#REF!","v":{"$error":"#REF!"}},{"$error":"#REF!"}]
[{"$f":"basePAGAS!#REF!","v":{"$error":"#REF!"}},{"$error":"#REF!"}]
[{"$f":"basePAGAS!#REF!","v":{"$error":"#REF!"}},{"$error":"#REF!"}]
[{"$f":"basePAGAS!#REF!","v":{"$error":"#REF!"}},{"$error":"#REF!"}]
[{"$f":"basePAGAS!#REF!","v":{"$error":"#REF!"}},{"$error":"#REF!"}]
[{"$f":"basePAGAS!#REF!","v":{"$error":"#REF!"}},{"$error":"#REF!"}]
[{"$f":"basePAGAS!#REF!","v":{"$error":"#REF!"}},{"$error":"#REF!"}]
[{"$f":"basePAGAS!#REF!","v":{"$error":"#REF!"}},{"$error":"#REF!"}]
[{"$f":"basePAGAS!#REF!","v":{"$error":"#REF!"}},{"$error":"#REF!"}]
[{"$f":"basePAGAS!#REF!","v":{"$error":"#REF!"}},{"$error":"#REF!"}]
[{"$f":"basePAGAS!#REF!","v":{"$error":"#REF!"}},{"$error":"#REF!"}]
[{"$f":"basePAGAS!#REF!","v":{"$error":"#REF!"}},{"$error":"#REF!"}]
[{"$f":"basePAGAS!#REF!","v":{"$error":"#REF!"}},{"$error":"#REF!"}]
[{"$f":"basePAGAS!#REF!","v":{"$error":"#REF!"}},{"$error":"#REF!"}]
[{"$f":"basePAGAS!#REF!","v":{"$error":"#REF!"}},{"$error":"#REF!"}]
[{"$f":"basePAGAS!#REF!","v":{"$error":"#REF!"}},{"$error":"#REF!"}]
[{"$f":"basePAGAS!#REF!","v":{"$error":"#REF!"}},{"$error":"#REF!"}]
[{"$f":"basePAGAS!#REF!","v":{"$error":"#REF!"}},{"$error":"#REF!"}]
[{"$f":"basePAGAS!#REF!","v":{"$error":"#REF!"}},{"$error":"#REF!"}]
[{"$f":"basePAGAS!#REF!","v":{"$error":"#REF!"}},{"$error":"#REF!"}]
[{"$f":"basePAGAS!#REF!","v":{"$error":"#REF!"}},{"$error":"#REF!"}]
[{"$f":"basePAGAS!#REF!","v":{"$error":"#REF!"}},{"$error":"#REF!"}]
[{"$f":"basePAGAS!#REF!","v":{"$error":"#REF!"}},{"$error":"#REF!"}]
[{"$f":"basePAGAS!#REF!","v":{"$error":"#REF!"}},{"$error":"#REF!"}]
[{"$f":"basePAGAS!#REF!","v":{"$error":"#REF!"}},{"$error":"#REF!"}]
[{"$f":"basePAGAS!#REF!","v":{"$error":"#REF!"}},{"$error":"#REF!"}]
[{"$f":"basePAGAS!#REF!","v":{"$error":"#REF!"}},{"$error":"#REF!"}]
[{"$f":"basePAGAS!#REF!","v":{"$error":"#REF!"}},{"$error":"#REF!"}]
[{"$f":"basePAGAS!#REF!","v":{"$error":"#REF!"}},{"$error":"#REF!"}]
[{"$f":"basePAGAS!#REF!","v":{"$error":"#REF!"}},{"$error":"#REF!"}]
[{"$f":"basePAGAS!#REF!","v":{"$error":"#REF!"}},{"$error":"#REF!"}]
[{"$f":"basePAGAS!#REF!","v":{"$error":"#REF!"}},{"$error":"#REF!"}]
[{"$f":"basePAGAS!#REF!","v":{"$error":"#REF!"}},{"$error":"#REF!"}]
[{"$f":"basePAGAS!#REF!","v":{"$error":"#REF!"}},{"$error":"#REF!"}]
[{"$f":"basePAGAS!#REF!","v":{"$error":"#REF!"}},{"$error":"#REF!"}]
[{"$f":"basePAGAS!#REF!","v":{"$error":"#REF!"}},{"$error":"#REF!"}]
[{"$f":"basePAGAS!#REF!","v":{"$error":"#REF!"}},{"$error":"#REF!"}]
[{"$f":"basePAGAS!#REF!","v":{"$error":"#REF!"}},{"$error":"#REF!"}]
[{"$f":"basePAGAS!#REF!","v":{"$error":"#REF!"}},{"$error":"#REF!"}]
[{"$f":"basePAGAS!#REF!","v":{"$error":"#REF!"}},{"$error":"#REF!"}]
[{"$f":"basePAGAS!#REF!","v":{"$error":"#REF!"}},{"$error":"#REF!"}]
[{"$f":"basePAGAS!#REF!","v":{"$error":"#REF!"}},{"$error":"#REF!"}]
[{"$f":"basePAGAS!#REF!","v":{"$error":"#REF!"}},{"$error":"#REF!"}]
[{"$f":"basePAGAS!#REF!","v":{"$error":"#REF!"}},{"$error":"#REF!"}]
[{"$f":"basePAGAS!#REF!","v":{"$error":"#REF!"}},{"$error":"#REF!"}]
[{"$f":"basePAGAS!#REF!","v":{"$error":"#REF!"}},{"$error":"#REF!"}]
[{"$f":"basePAGAS!#REF!","v":{"$error":"#REF!"}},{"$error":"#REF!"}]
[{"$f":"basePAGAS!#REF!","v":{"$error":"#REF!"}},{"$f":"IF(A3855=\"\",\"\",IF(VLOOKUP(A3855,base_rpvs_pagas,2)=A$12,A3855,0))","v":{"$error":"#REF!"}}]
[{"$f":"basePAGAS!#REF!","v":{"$error":"#REF!"}},{"$error":"#REF!"}]
[{"$f":"basePAGAS!#REF!","v":{"$error":"#REF!"}},{"$error":"#REF!"}]
[{"$f":"basePAGAS!#REF!","v":{"$error":"#REF!"}},{"$error":"#REF!"}]
[{"$f":"basePAGAS!#REF!","v":{"$error":"#REF!"}},{"$error":"#REF!"}]
[{"$f":"basePAGAS!#REF!","v":{"$error":"#REF!"}},{"$error":"#REF!"}]
[{"$f":"basePAGAS!#REF!","v":{"$error":"#REF!"}},{"$error":"#REF!"}]
[{"$f":"basePAGAS!#REF!","v":{"$error":"#REF!"}},{"$error":"#REF!"}]
[{"$f":"basePAGAS!#REF!","v":{"$error":"#REF!"}},{"$error":"#REF!"}]
[{"$f":"basePAGAS!#REF!","v":{"$error":"#REF!"}},{"$error":"#REF!"}]
[{"$f":"basePAGAS!#REF!","v":{"$error":"#REF!"}},{"$error":"#REF!"}]
[{"$f":"basePAGAS!#REF!","v":{"$error":"#REF!"}},{"$error":"#REF!"}]
[{"$f":"basePAGAS!#REF!","v":{"$error":"#REF!"}},{"$error":"#REF!"}]
[{"$f":"basePAGAS!#REF!","v":{"$error":"#REF!"}},{"$error":"#REF!"}]
[{"$f":"basePAGAS!#REF!","v":{"$error":"#REF!"}},{"$error":"#REF!"}]
[{"$f":"basePAGAS!#REF!","v":{"$error":"#REF!"}},{"$error":"#REF!"}]
[{"$f":"basePAGAS!#REF!","v":{"$error":"#REF!"}},{"$error":"#REF!"}]
[{"$f":"basePAGAS!#REF!","v":{"$error":"#REF!"}},{"$error":"#REF!"}]
[{"$f":"basePAGAS!#REF!","v":{"$error":"#REF!"}},{"$error":"#REF!"}]
[{"$f":"basePAGAS!#REF!","v":{"$error":"#REF!"}},{"$error":"#REF!"}]
[{"$f":"basePAGAS!#REF!","v":{"$error":"#REF!"}},{"$error":"#REF!"}]
[{"$f":"basePAGAS!#REF!","v":{"$error":"#REF!"}},{"$error":"#REF!"}]
[{"$f":"basePAGAS!#REF!","v":{"$error":"#REF!"}},{"$error":"#REF!"}]
[{"$f":"basePAGAS!#REF!","v":{"$error":"#REF!"}},{"$error":"#REF!"}]
[{"$f":"basePAGAS!#REF!","v":{"$error":"#REF!"}},{"$error":"#REF!"}]
[{"$f":"basePAGAS!#REF!","v":{"$error":"#REF!"}},{"$error":"#REF!"}]
[{"$f":"basePAGAS!#REF!","v":{"$error":"#REF!"}},{"$error":"#REF!"}]
[{"$f":"basePAGAS!#REF!","v":{"$error":"#REF!"}},{"$error":"#REF!"}]
[{"$f":"basePAGAS!#REF!","v":{"$error":"#REF!"}},{"$error":"#REF!"}]
[{"$f":"basePAGAS!#REF!","v":{"$error":"#REF!"}},{"$error":"#REF!"}]
[{"$f":"basePAGAS!#REF!","v":{"$error":"#REF!"}},{"$error":"#REF!"}]
[{"$f":"basePAGAS!#REF!","v":{"$error":"#REF!"}},{"$error":"#REF!"}]
[{"$f":"basePAGAS!#REF!","v":{"$error":"#REF!"}},{"$error":"#REF!"}]
[{"$f":"basePAGAS!#REF!","v":{"$error":"#REF!"}},{"$error":"#REF!"}]
[{"$f":"basePAGAS!#REF!","v":{"$error":"#REF!"}},{"$error":"#REF!"}]
[{"$f":"basePAGAS!#REF!","v":{"$error":"#REF!"}},{"$error":"#REF!"}]
[{"$f":"basePAGAS!#REF!","v":{"$error":"#REF!"}},{"$error":"#REF!"}]
[{"$f":"basePAGAS!#REF!","v":{"$error":"#REF!"}},{"$error":"#REF!"}]
[{"$f":"basePAGAS!#REF!","v":{"$error":"#REF!"}},{"$error":"#REF!"}]
[{"$f":"basePAGAS!#REF!","v":{"$error":"#REF!"}},{"$error":"#REF!"}]
[{"$f":"basePAGAS!#REF!","v":{"$error":"#REF!"}},{"$error":"#REF!"}]
[{"$f":"basePAGAS!#REF!","v":{"$error":"#REF!"}},{"$error":"#REF!"}]
[{"$f":"basePAGAS!#REF!","v":{"$error":"#REF!"}},{"$error":"#REF!"}]
[{"$f":"basePAGAS!#REF!","v":{"$error":"#REF!"}},{"$error":"#REF!"}]
[{"$f":"basePAGAS!#REF!","v":{"$error":"#REF!"}},{"$error":"#REF!"}]
[{"$f":"basePAGAS!#REF!","v":{"$error":"#REF!"}},{"$error":"#REF!"}]
[{"$f":"basePAGAS!#REF!","v":{"$error":"#REF!"}},{"$error":"#REF!"}]
[{"$f":"basePAGAS!#REF!","v":{"$error":"#REF!"}},{"$error":"#REF!"}]
[{"$f":"basePAGAS!#REF!","v":{"$error":"#REF!"}},{"$error":"#REF!"}]
[{"$f":"basePAGAS!#REF!","v":{"$error":"#REF!"}},{"$error":"#REF!"}]
[{"$f":"basePAGAS!#REF!","v":{"$error":"#REF!"}},{"$error":"#REF!"}]
[{"$f":"basePAGAS!#REF!","v":{"$error":"#REF!"}},{"$error":"#REF!"}]
[{"$f":"basePAGAS!#REF!","v":{"$error":"#REF!"}},{"$error":"#REF!"}]
[{"$f":"basePAGAS!#REF!","v":{"$error":"#REF!"}},{"$error":"#REF!"}]
[{"$f":"basePAGAS!#REF!","v":{"$error":"#REF!"}},{"$error":"#REF!"}]
[{"$f":"basePAGAS!#REF!","v":{"$error":"#REF!"}},{"$error":"#REF!"}]
[{"$f":"basePAGAS!#REF!","v":{"$error":"#REF!"}},{"$error":"#REF!"}]
[{"$f":"basePAGAS!#REF!","v":{"$error":"#REF!"}},{"$error":"#REF!"}]
[{"$f":"basePAGAS!#REF!","v":{"$error":"#REF!"}},{"$error":"#REF!"}]
[{"$f":"basePAGAS!#REF!","v":{"$error":"#REF!"}},{"$error":"#REF!"}]
[{"$f":"basePAGAS!#REF!","v":{"$error":"#REF!"}},{"$error":"#REF!"}]
[{"$f":"basePAGAS!#REF!","v":{"$error":"#REF!"}},{"$error":"#REF!"}]
[{"$f":"basePAGAS!#REF!","v":{"$error":"#REF!"}},{"$error":"#REF!"}]
[{"$f":"basePAGAS!#REF!","v":{"$error":"#REF!"}},{"$error":"#REF!"}]
[{"$f":"basePAGAS!#REF!","v":{"$error":"#REF!"}},{"$f":"IF(A3919=\"\",\"\",IF(VLOOKUP(A3919,base_rpvs_pagas,2)=A$12,A3919,0))","v":{"$error":"#REF!"}}]
[{"$f":"basePAGAS!#REF!","v":{"$error":"#REF!"}},{"$error":"#REF!"}]
[{"$f":"basePAGAS!#REF!","v":{"$error":"#REF!"}},{"$error":"#REF!"}]
[{"$f":"basePAGAS!#REF!","v":{"$error":"#REF!"}},{"$error":"#REF!"}]
[{"$f":"basePAGAS!#REF!","v":{"$error":"#REF!"}},{"$error":"#REF!"}]
[{"$f":"basePAGAS!#REF!","v":{"$error":"#REF!"}},{"$error":"#REF!"}]
[{"$f":"basePAGAS!#REF!","v":{"$error":"#REF!"}},{"$error":"#REF!"}]
[{"$f":"basePAGAS!#REF!","v":{"$error":"#REF!"}},{"$error":"#REF!"}]
[{"$f":"basePAGAS!#REF!","v":{"$error":"#REF!"}},{"$error":"#REF!"}]
[{"$f":"basePAGAS!#REF!","v":{"$error":"#REF!"}},{"$error":"#REF!"}]
[{"$f":"basePAGAS!#REF!","v":{"$error":"#REF!"}},{"$error":"#REF!"}]
[{"$f":"basePAGAS!#REF!","v":{"$error":"#REF!"}},{"$error":"#REF!"}]
[{"$f":"basePAGAS!#REF!","v":{"$error":"#REF!"}},{"$error":"#REF!"}]
[{"$f":"basePAGAS!#REF!","v":{"$error":"#REF!"}},{"$error":"#REF!"}]
[{"$f":"basePAGAS!#REF!","v":{"$error":"#REF!"}},{"$error":"#REF!"}]
[{"$f":"basePAGAS!#REF!","v":{"$error":"#REF!"}},{"$error":"#REF!"}]
[{"$f":"basePAGAS!#REF!","v":{"$error":"#REF!"}},{"$error":"#REF!"}]
[{"$f":"basePAGAS!#REF!","v":{"$error":"#REF!"}},{"$error":"#REF!"}]
[{"$f":"basePAGAS!#REF!","v":{"$error":"#REF!"}},{"$error":"#REF!"}]
[{"$f":"basePAGAS!#REF!","v":{"$error":"#REF!"}},{"$error":"#REF!"}]
[{"$f":"basePAGAS!#REF!","v":{"$error":"#REF!"}},{"$error":"#REF!"}]
[{"$f":"basePAGAS!#REF!","v":{"$error":"#REF!"}},{"$error":"#REF!"}]
[{"$f":"basePAGAS!#REF!","v":{"$error":"#REF!"}},{"$error":"#REF!"}]
[{"$f":"basePAGAS!#REF!","v":{"$error":"#REF!"}},{"$error":"#REF!"}]
[{"$f":"basePAGAS!#REF!","v":{"$error":"#REF!"}},{"$error":"#REF!"}]
[{"$f":"basePAGAS!#REF!","v":{"$error":"#REF!"}},{"$error":"#REF!"}]
[{"$f":"basePAGAS!#REF!","v":{"$error":"#REF!"}},{"$error":"#REF!"}]
[{"$f":"basePAGAS!#REF!","v":{"$error":"#REF!"}},{"$error":"#REF!"}]
[{"$f":"basePAGAS!#REF!","v":{"$error":"#REF!"}},{"$error":"#REF!"}]
[{"$f":"basePAGAS!#REF!","v":{"$error":"#REF!"}},{"$error":"#REF!"}]
[{"$f":"basePAGAS!#REF!","v":{"$error":"#REF!"}},{"$error":"#REF!"}]
[{"$f":"basePAGAS!#REF!","v":{"$error":"#REF!"}},{"$error":"#REF!"}]
[{"$f":"basePAGAS!#REF!","v":{"$error":"#REF!"}},{"$error":"#REF!"}]
[{"$f":"basePAGAS!#REF!","v":{"$error":"#REF!"}},{"$error":"#REF!"}]
[{"$f":"basePAGAS!#REF!","v":{"$error":"#REF!"}},{"$error":"#REF!"}]
[{"$f":"basePAGAS!#REF!","v":{"$error":"#REF!"}},{"$error":"#REF!"}]
[{"$f":"basePAGAS!#REF!","v":{"$error":"#REF!"}},{"$error":"#REF!"}]
[{"$f":"basePAGAS!#REF!","v":{"$error":"#REF!"}},{"$error":"#REF!"}]
[{"$f":"basePAGAS!#REF!","v":{"$error":"#REF!"}},{"$error":"#REF!"}]
[{"$f":"basePAGAS!#REF!","v":{"$error":"#REF!"}},{"$error":"#REF!"}]
[{"$f":"basePAGAS!#REF!","v":{"$error":"#REF!"}},{"$error":"#REF!"}]
[{"$f":"basePAGAS!#REF!","v":{"$error":"#REF!"}},{"$error":"#REF!"}]
[{"$f":"basePAGAS!#REF!","v":{"$error":"#REF!"}},{"$error":"#REF!"}]
[{"$f":"basePAGAS!#REF!","v":{"$error":"#REF!"}},{"$error":"#REF!"}]
[{"$f":"basePAGAS!#REF!","v":{"$error":"#REF!"}},{"$error":"#REF!"}]
[{"$f":"basePAGAS!#REF!","v":{"$error":"#REF!"}},{"$error":"#REF!"}]
[{"$f":"basePAGAS!#REF!","v":{"$error":"#REF!"}},{"$error":"#REF!"}]
[{"$f":"basePAGAS!#REF!","v":{"$error":"#REF!"}},{"$error":"#REF!"}]
[{"$f":"basePAGAS!#REF!","v":{"$error":"#REF!"}},{"$error":"#REF!"}]
[{"$f":"basePAGAS!#REF!","v":{"$error":"#REF!"}},{"$error":"#REF!"}]
[{"$f":"basePAGAS!#REF!","v":{"$error":"#REF!"}},{"$error":"#REF!"}]
[{"$f":"basePAGAS!#REF!","v":{"$error":"#REF!"}},{"$error":"#REF!"}]
[{"$f":"basePAGAS!#REF!","v":{"$error":"#REF!"}},{"$error":"#REF!"}]
[{"$f":"basePAGAS!#REF!","v":{"$error":"#REF!"}},{"$error":"#REF!"}]
[{"$f":"basePAGAS!#REF!","v":{"$error":"#REF!"}},{"$error":"#REF!"}]
[{"$f":"basePAGAS!#REF!","v":{"$error":"#REF!"}},{"$error":"#REF!"}]
[{"$f":"basePAGAS!#REF!","v":{"$error":"#REF!"}},{"$error":"#REF!"}]
[{"$f":"basePAGAS!#REF!","v":{"$error":"#REF!"}},{"$error":"#REF!"}]
[{"$f":"basePAGAS!#REF!","v":{"$error":"#REF!"}},{"$error":"#REF!"}]
[{"$f":"basePAGAS!#REF!","v":{"$error":"#REF!"}},{"$error":"#REF!"}]
[{"$f":"basePAGAS!#REF!","v":{"$error":"#REF!"}},{"$error":"#REF!"}]
[{"$f":"basePAGAS!#REF!","v":{"$error":"#REF!"}},{"$error":"#REF!"}]
[{"$f":"basePAGAS!#REF!","v":{"$error":"#REF!"}},{"$error":"#REF!"}]
[{"$f":"basePAGAS!#REF!","v":{"$error":"#REF!"}},{"$error":"#REF!"}]
[{"$f":"basePAGAS!#REF!","v":{"$error":"#REF!"}},{"$f":"IF(A3983=\"\",\"\",IF(VLOOKUP(A3983,base_rpvs_pagas,2)=A$12,A3983,0))","v":{"$error":"#REF!"}}]
[{"$f":"basePAGAS!#REF!","v":{"$error":"#REF!"}},{"$error":"#REF!"}]
[{"$f":"basePAGAS!#REF!","v":{"$error":"#REF!"}},{"$error":"#REF!"}]
[{"$f":"basePAGAS!#REF!","v":{"$error":"#REF!"}},{"$error":"#REF!"}]
[{"$f":"basePAGAS!#REF!","v":{"$error":"#REF!"}},{"$error":"#REF!"}]
[{"$f":"basePAGAS!#REF!","v":{"$error":"#REF!"}},{"$error":"#REF!"}]
[{"$f":"basePAGAS!#REF!","v":{"$error":"#REF!"}},{"$error":"#REF!"}]
[{"$f":"basePAGAS!#REF!","v":{"$error":"#REF!"}},{"$error":"#REF!"}]
[{"$f":"basePAGAS!#REF!","v":{"$error":"#REF!"}},{"$error":"#REF!"}]
[{"$f":"basePAGAS!#REF!","v":{"$error":"#REF!"}},{"$error":"#REF!"}]
[{"$f":"basePAGAS!#REF!","v":{"$error":"#REF!"}},{"$error":"#REF!"}]
[{"$f":"basePAGAS!#REF!","v":{"$error":"#REF!"}},{"$error":"#REF!"}]
[{"$f":"basePAGAS!#REF!","v":{"$error":"#REF!"}},{"$error":"#REF!"}]
[{"$f":"basePAGAS!#REF!","v":{"$error":"#REF!"}},{"$error":"#REF!"}]
[{"$f":"basePAGAS!#REF!","v":{"$error":"#REF!"}},{"$error":"#REF!"}]
[{"$f":"basePAGAS!#REF!","v":{"$error":"#REF!"}},{"$error":"#REF!"}]
[{"$f":"basePAGAS!#REF!","v":{"$error":"#REF!"}},{"$error":"#REF!"}]
[{"$f":"basePAGAS!#REF!","v":{"$error":"#REF!"}},{"$error":"#REF!"}]
[{"$f":"basePAGAS!#REF!","v":{"$error":"#REF!"}},{"$error":"#REF!"}]
[{"$f":"basePAGAS!#REF!","v":{"$error":"#REF!"}},{"$error":"#REF!"}]
[{"$f":"basePAGAS!#REF!","v":{"$error":"#REF!"}},{"$error":"#REF!"}]
[{"$f":"basePAGAS!#REF!","v":{"$error":"#REF!"}},{"$error":"#REF!"}]
[{"$f":"basePAGAS!#REF!","v":{"$error":"#REF!"}},{"$error":"#REF!"}]
[{"$f":"basePAGAS!#REF!","v":{"$error":"#REF!"}},{"$error":"#REF!"}]
[{"$f":"basePAGAS!#REF!","v":{"$error":"#REF!"}},{"$error":"#REF!"}]
[{"$f":"basePAGAS!#REF!","v":{"$error":"#REF!"}},{"$error":"#REF!"}]
[{"$f":"basePAGAS!#REF!","v":{"$error":"#REF!"}},{"$error":"#REF!"}]
[{"$f":"basePAGAS!#REF!","v":{"$error":"#REF!"}},{"$error":"#REF!"}]
[{"$f":"basePAGAS!#REF!","v":{"$error":"#REF!"}},{"$error":"#REF!"}]
[{"$f":"basePAGAS!#REF!","v":{"$error":"#REF!"}},{"$error":"#REF!"}]
[{"$f":"basePAGAS!#REF!","v":{"$error":"#REF!"}},{"$error":"#REF!"}]
[{"$f":"basePAGAS!#REF!","v":{"$error":"#REF!"}},{"$error":"#REF!"}]
[{"$f":"basePAGAS!#REF!","v":{"$error":"#REF!"}},{"$error":"#REF!"}]
[{"$f":"basePAGAS!#REF!","v":{"$error":"#REF!"}},{"$error":"#REF!"}]
[{"$f":"basePAGAS!#REF!","v":{"$error":"#REF!"}},{"$error":"#REF!"}]
[{"$f":"basePAGAS!#REF!","v":{"$error":"#REF!"}},{"$error":"#REF!"}]
[{"$f":"basePAGAS!#REF!","v":{"$error":"#REF!"}},{"$error":"#REF!"}]
[{"$f":"basePAGAS!#REF!","v":{"$error":"#REF!"}},{"$error":"#REF!"}]
[{"$f":"basePAGAS!#REF!","v":{"$error":"#REF!"}},{"$error":"#REF!"}]
[{"$f":"basePAGAS!#REF!","v":{"$error":"#REF!"}},{"$error":"#REF!"}]
[{"$f":"basePAGAS!#REF!","v":{"$error":"#REF!"}},{"$error":"#REF!"}]
[{"$f":"basePAGAS!#REF!","v":{"$error":"#REF!"}},{"$error":"#REF!"}]
[{"$f":"basePAGAS!#REF!","v":{"$error":"#REF!"}},{"$error":"#REF!"}]
[{"$f":"basePAGAS!#REF!","v":{"$error":"#REF!"}},{"$error":"#REF!"}]
[{"$f":"basePAGAS!#REF!","v":{"$error":"#REF!"}},{"$error":"#REF!"}]
[{"$f":"basePAGAS!#REF!","v":{"$error":"#REF!"}},{"$error":"#REF!"}]
[{"$f":"basePAGAS!#REF!","v":{"$error":"#REF!"}},{"$error":"#REF!"}]
[{"$f":"basePAGAS!#REF!","v":{"$error":"#REF!"}},{"$error":"#REF!"}]
[{"$f":"basePAGAS!#REF!","v":{"$error":"#REF!"}},{"$error":"#REF!"}]
[{"$f":"basePAGAS!#REF!","v":{"$error":"#REF!"}},{"$error":"#REF!"}]
[{"$f":"basePAGAS!#REF!","v":{"$error":"#REF!"}},{"$error":"#REF!"}]
[{"$f":"basePAGAS!#REF!","v":{"$error":"#REF!"}},{"$error":"#REF!"}]
[{"$f":"basePAGAS!#REF!","v":{"$error":"#REF!"}},{"$error":"#REF!"}]
[{"$f":"basePAGAS!#REF!","v":{"$error":"#REF!"}},{"$error":"#REF!"}]
[{"$f":"basePAGAS!#REF!","v":{"$error":"#REF!"}},{"$error":"#REF!"}]
[{"$f":"basePAGAS!#REF!","v":{"$error":"#REF!"}},{"$error":"#REF!"}]
[{"$f":"basePAGAS!#REF!","v":{"$error":"#REF!"}},{"$error":"#REF!"}]
[{"$f":"basePAGAS!#REF!","v":{"$error":"#REF!"}},{"$error":"#REF!"}]
[{"$f":"basePAGAS!#REF!","v":{"$error":"#REF!"}},{"$error":"#REF!"}]
[{"$f":"basePAGAS!#REF!","v":{"$error":"#REF!"}},{"$error":"#REF!"}]
[{"$f":"basePAGAS!#REF!","v":{"$error":"#REF!"}},{"$error":"#REF!"}]
[{"$f":"basePAGAS!#REF!","v":{"$error":"#REF!"}},{"$error":"#REF!"}]
[{"$f":"basePAGAS!#REF!","v":{"$error":"#REF!"}},{"$error":"#REF!"}]
[{"$f":"basePAGAS!#REF!","v":{"$error":"#REF!"}},{"$error":"#REF!"}]
[{"$f":"basePAGAS!#REF!","v":{"$error":"#REF!"}},{"$f":"IF(A4047=\"\",\"\",IF(VLOOKUP(A4047,base_rpvs_pagas,2)=A$12,A4047,0))","v":{"$error":"#REF!"}}]
[{"$f":"basePAGAS!#REF!","v":{"$error":"#REF!"}},{"$error":"#REF!"}]
[{"$f":"basePAGAS!#REF!","v":{"$error":"#REF!"}},{"$error":"#REF!"}]
[{"$f":"basePAGAS!#REF!","v":{"$error":"#REF!"}},{"$error":"#REF!"}]
[{"$f":"basePAGAS!#REF!","v":{"$error":"#REF!"}},{"$error":"#REF!"}]
[{"$f":"basePAGAS!#REF!","v":{"$error":"#REF!"}},{"$error":"#REF!"}]
[{"$f":"basePAGAS!#REF!","v":{"$error":"#REF!"}},{"$error":"#REF!"}]
[{"$f":"basePAGAS!#REF!","v":{"$error":"#REF!"}},{"$error":"#REF!"}]
[{"$f":"basePAGAS!#REF!","v":{"$error":"#REF!"}},{"$error":"#REF!"}]
[{"$f":"basePAGAS!#REF!","v":{"$error":"#REF!"}},{"$error":"#REF!"}]
[{"$f":"basePAGAS!#REF!","v":{"$error":"#REF!"}},{"$error":"#REF!"}]
[{"$f":"basePAGAS!#REF!","v":{"$error":"#REF!"}},{"$error":"#REF!"}]
[{"$f":"basePAGAS!#REF!","v":{"$error":"#REF!"}},{"$error":"#REF!"}]
[{"$f":"basePAGAS!#REF!","v":{"$error":"#REF!"}},{"$error":"#REF!"}]
[{"$f":"basePAGAS!#REF!","v":{"$error":"#REF!"}},{"$error":"#REF!"}]
[{"$f":"basePAGAS!#REF!","v":{"$error":"#REF!"}},{"$error":"#REF!"}]
[{"$f":"basePAGAS!#REF!","v":{"$error":"#REF!"}},{"$error":"#REF!"}]
[{"$f":"basePAGAS!#REF!","v":{"$error":"#REF!"}},{"$error":"#REF!"}]
[{"$f":"basePAGAS!#REF!","v":{"$error":"#REF!"}},{"$error":"#REF!"}]
[{"$f":"basePAGAS!#REF!","v":{"$error":"#REF!"}},{"$error":"#REF!"}]
[{"$f":"basePAGAS!#REF!","v":{"$error":"#REF!"}},{"$error":"#REF!"}]
[{"$f":"basePAGAS!#REF!","v":{"$error":"#REF!"}},{"$error":"#REF!"}]
[{"$f":"basePAGAS!#REF!","v":{"$error":"#REF!"}},{"$error":"#REF!"}]
[{"$f":"basePAGAS!#REF!","v":{"$error":"#REF!"}},{"$error":"#REF!"}]
[{"$f":"basePAGAS!#REF!","v":{"$error":"#REF!"}},{"$error":"#REF!"}]
[{"$f":"basePAGAS!#REF!","v":{"$error":"#REF!"}},{"$error":"#REF!"}]
[{"$f":"basePAGAS!#REF!","v":{"$error":"#REF!"}},{"$error":"#REF!"}]
[{"$f":"basePAGAS!#REF!","v":{"$error":"#REF!"}},{"$error":"#REF!"}]
[{"$f":"basePAGAS!#REF!","v":{"$error":"#REF!"}},{"$error":"#REF!"}]
[{"$f":"basePAGAS!#REF!","v":{"$error":"#REF!"}},{"$error":"#REF!"}]
[{"$f":"basePAGAS!#REF!","v":{"$error":"#REF!"}},{"$error":"#REF!"}]
[{"$f":"basePAGAS!#REF!","v":{"$error":"#REF!"}},{"$error":"#REF!"}]
[{"$f":"basePAGAS!#REF!","v":{"$error":"#REF!"}},{"$error":"#REF!"}]
[{"$f":"basePAGAS!#REF!","v":{"$error":"#REF!"}},{"$error":"#REF!"}]
[{"$f":"basePAGAS!#REF!","v":{"$error":"#REF!"}},{"$error":"#REF!"}]
[{"$f":"basePAGAS!#REF!","v":{"$error":"#REF!"}},{"$error":"#REF!"}]
[{"$f":"basePAGAS!#REF!","v":{"$error":"#REF!"}},{"$error":"#REF!"}]
[{"$f":"basePAGAS!#REF!","v":{"$error":"#REF!"}},{"$error":"#REF!"}]
[{"$f":"basePAGAS!#REF!","v":{"$error":"#REF!"}},{"$error":"#REF!"}]
[{"$f":"basePAGAS!#REF!","v":{"$error":"#REF!"}},{"$error":"#REF!"}]
[{"$f":"basePAGAS!#REF!","v":{"$error":"#REF!"}},{"$error":"#REF!"}]
[{"$f":"basePAGAS!#REF!","v":{"$error":"#REF!"}},{"$error":"#REF!"}]
[{"$f":"basePAGAS!#REF!","v":{"$error":"#REF!"}},{"$error":"#REF!"}]
[{"$f":"basePAGAS!#REF!","v":{"$error":"#REF!"}},{"$error":"#REF!"}]
[{"$f":"basePAGAS!#REF!","v":{"$error":"#REF!"}},{"$error":"#REF!"}]
[{"$f":"basePAGAS!#REF!","v":{"$error":"#REF!"}},{"$error":"#REF!"}]
[{"$f":"basePAGAS!#REF!","v":{"$error":"#REF!"}},{"$error":"#REF!"}]
[{"$f":"basePAGAS!#REF!","v":{"$error":"#REF!"}},{"$error":"#REF!"}]
[{"$f":"basePAGAS!#REF!","v":{"$error":"#REF!"}},{"$error":"#REF!"}]
[{"$f":"basePAGAS!#REF!","v":{"$error":"#REF!"}},{"$error":"#REF!"}]
[{"$f":"basePAGAS!#REF!","v":{"$error":"#REF!"}},{"$error":"#REF!"}]
[{"$f":"basePAGAS!#REF!","v":{"$error":"#REF!"}},{"$error":"#REF!"}]
[{"$f":"basePAGAS!#REF!","v":{"$error":"#REF!"}},{"$error":"#REF!"}]
[{"$f":"basePAGAS!#REF!","v":{"$error":"#REF!"}},{"$error":"#REF!"}]
[{"$f":"basePAGAS!#REF!","v":{"$error":"#REF!"}},{"$error":"#REF!"}]
[{"$f":"basePAGAS!#REF!","v":{"$error":"#REF!"}},{"$error":"#REF!"}]
[{"$f":"basePAGAS!#REF!","v":{"$error":"#REF!"}},{"$error":"#REF!"}]
[{"$f":"basePAGAS!#REF!","v":{"$error":"#REF!"}},{"$error":"#REF!"}]
[{"$f":"basePAGAS!#REF!","v":{"$error":"#REF!"}},{"$error":"#REF!"}]
[{"$f":"basePAGAS!#REF!","v":{"$error":"#REF!"}},{"$error":"#REF!"}]
[{"$f":"basePAGAS!#REF!","v":{"$error":"#REF!"}},{"$error":"#REF!"}]
[{"$f":"basePAGAS!#REF!","v":{"$error":"#REF!"}},{"$error":"#REF!"}]
[{"$f":"basePAGAS!#REF!","v":{"$error":"#REF!"}},{"$error":"#REF!"}]
[{"$f":"basePAGAS!#REF!","v":{"$error":"#REF!"}},{"$error":"#REF!"}]
[{"$f":"basePAGAS!#REF!","v":{"$error":"#REF!"}},{"$f":"IF(A4111=\"\",\"\",IF(VLOOKUP(A4111,base_rpvs_pagas,2)=A$12,A4111,0))","v":{"$error":"#REF!"}}]
[{"$f":"basePAGAS!#REF!","v":{"$error":"#REF!"}},{"$error":"#REF!"}]
[{"$f":"basePAGAS!#REF!","v":{"$error":"#REF!"}},{"$error":"#REF!"}]
[{"$f":"basePAGAS!#REF!","v":{"$error":"#REF!"}},{"$error":"#REF!"}]
[{"$f":"basePAGAS!#REF!","v":{"$error":"#REF!"}},{"$error":"#REF!"}]
[{"$f":"basePAGAS!#REF!","v":{"$error":"#REF!"}},{"$error":"#REF!"}]
[{"$f":"basePAGAS!#REF!","v":{"$error":"#REF!"}},{"$error":"#REF!"}]
[{"$f":"basePAGAS!#REF!","v":{"$error":"#REF!"}},{"$error":"#REF!"}]
[{"$f":"basePAGAS!#REF!","v":{"$error":"#REF!"}},{"$error":"#REF!"}]
[{"$f":"basePAGAS!#REF!","v":{"$error":"#REF!"}},{"$error":"#REF!"}]
[{"$f":"basePAGAS!#REF!","v":{"$error":"#REF!"}},{"$error":"#REF!"}]
[{"$f":"basePAGAS!#REF!","v":{"$error":"#REF!"}},{"$error":"#REF!"}]
[{"$f":"basePAGAS!#REF!","v":{"$error":"#REF!"}},{"$error":"#REF!"}]
[{"$f":"basePAGAS!#REF!","v":{"$error":"#REF!"}},{"$error":"#REF!"}]
[{"$f":"basePAGAS!#REF!","v":{"$error":"#REF!"}},{"$error":"#REF!"}]
[{"$f":"basePAGAS!#REF!","v":{"$error":"#REF!"}},{"$error":"#REF!"}]
[{"$f":"basePAGAS!#REF!","v":{"$error":"#REF!"}},{"$error":"#REF!"}]
[{"$f":"basePAGAS!#REF!","v":{"$error":"#REF!"}},{"$error":"#REF!"}]
[{"$f":"basePAGAS!#REF!","v":{"$error":"#REF!"}},{"$error":"#REF!"}]
[{"$f":"basePAGAS!#REF!","v":{"$error":"#REF!"}},{"$error":"#REF!"}]
[{"$f":"basePAGAS!#REF!","v":{"$error":"#REF!"}},{"$error":"#REF!"}]
[{"$f":"basePAGAS!#REF!","v":{"$error":"#REF!"}},{"$error":"#REF!"}]
[{"$f":"basePAGAS!#REF!","v":{"$error":"#REF!"}},{"$error":"#REF!"}]
[{"$f":"basePAGAS!#REF!","v":{"$error":"#REF!"}},{"$error":"#REF!"}]
[{"$f":"basePAGAS!#REF!","v":{"$error":"#REF!"}},{"$error":"#REF!"}]
[{"$f":"basePAGAS!#REF!","v":{"$error":"#REF!"}},{"$error":"#REF!"}]
[{"$f":"basePAGAS!#REF!","v":{"$error":"#REF!"}},{"$error":"#REF!"}]
[{"$f":"basePAGAS!#REF!","v":{"$error":"#REF!"}},{"$error":"#REF!"}]
[{"$f":"basePAGAS!#REF!","v":{"$error":"#REF!"}},{"$error":"#REF!"}]
[{"$f":"basePAGAS!#REF!","v":{"$error":"#REF!"}},{"$error":"#REF!"}]
[{"$f":"basePAGAS!#REF!","v":{"$error":"#REF!"}},{"$error":"#REF!"}]
[{"$f":"basePAGAS!#REF!","v":{"$error":"#REF!"}},{"$error":"#REF!"}]
[{"$f":"basePAGAS!#REF!","v":{"$error":"#REF!"}},{"$error":"#REF!"}]
[{"$f":"basePAGAS!#REF!","v":{"$error":"#REF!"}},{"$error":"#REF!"}]
[{"$f":"basePAGAS!#REF!","v":{"$error":"#REF!"}},{"$error":"#REF!"}]
[{"$f":"basePAGAS!#REF!","v":{"$error":"#REF!"}},{"$error":"#REF!"}]
[{"$f":"basePAGAS!#REF!","v":{"$error":"#REF!"}},{"$error":"#REF!"}]
[{"$f":"basePAGAS!#REF!","v":{"$error":"#REF!"}},{"$error":"#REF!"}]
[{"$f":"basePAGAS!#REF!","v":{"$error":"#REF!"}},{"$error":"#REF!"}]
[{"$f":"basePAGAS!#REF!","v":{"$error":"#REF!"}},{"$error":"#REF!"}]
[{"$f":"basePAGAS!#REF!","v":{"$error":"#REF!"}},{"$error":"#REF!"}]
[{"$f":"basePAGAS!#REF!","v":{"$error":"#REF!"}},{"$error":"#REF!"}]
[{"$f":"basePAGAS!#REF!","v":{"$error":"#REF!"}},{"$error":"#REF!"}]
[{"$f":"basePAGAS!#REF!","v":{"$error":"#REF!"}},{"$error":"#REF!"}]
[{"$f":"basePAGAS!#REF!","v":{"$error":"#REF!"}},{"$error":"#REF!"}]
[{"$f":"basePAGAS!#REF!","v":{"$error":"#REF!"}},{"$error":"#REF!"}]
[{"$f":"basePAGAS!#REF!","v":{"$error":"#REF!"}},{"$error":"#REF!"}]
[{"$f":"basePAGAS!#REF!","v":{"$error":"#REF!"}},{"$error":"#REF!"}]
[{"$f":"basePAGAS!#REF!","v":{"$error":"#REF!"}},{"$error":"#REF!"}]
[{"$f":"basePAGAS!#REF!","v":{"$error":"#REF!"}},{"$error":"#REF!"}]
[{"$f":"basePAGAS!#REF!","v":{"$error":"#REF!"}},{"$error":"#REF!"}]
[{"$f":"basePAGAS!#REF!","v":{"$error":"#REF!"}},{"$error":"#REF!"}]
[{"$f":"basePAGAS!#REF!","v":{"$error":"#REF!"}},{"$error":"#REF!"}]
[{"$f":"basePAGAS!#REF!","v":{"$error":"#REF!"}},{"$error":"#REF!"}]
[{"$f":"basePAGAS!#REF!","v":{"$error":"#REF!"}},{"$error":"#REF!"}]
[{"$f":"basePAGAS!#REF!","v":{"$error":"#REF!"}},{"$error":"#REF!"}]
[{"$f":"basePAGAS!#REF!","v":{"$error":"#REF!"}},{"$error":"#REF!"}]
[{"$f":"basePAGAS!#REF!","v":{"$error":"#REF!"}},{"$error":"#REF!"}]
[{"$f":"basePAGAS!#REF!","v":{"$error":"#REF!"}},{"$error":"#REF!"}]
[{"$f":"basePAGAS!#REF!","v":{"$error":"#REF!"}},{"$error":"#REF!"}]
[{"$f":"basePAGAS!#REF!","v":{"$error":"#REF!"}},{"$error":"#REF!"}]
[{"$f":"basePAGAS!#REF!","v":{"$error":"#REF!"}},{"$error":"#REF!"}]
[{"$f":"basePAGAS!#REF!","v":{"$error":"#REF!"}},{"$error":"#REF!"}]
[{"$f":"basePAGAS!#REF!","v":{"$error":"#REF!"}},{"$error":"#REF!"}]
[{"$f":"basePAGAS!#REF!","v":{"$error":"#REF!"}},{"$f":"IF(A4175=\"\",\"\",IF(VLOOKUP(A4175,base_rpvs_pagas,2)=A$12,A4175,0))","v":{"$error":"#REF!"}}]
[{"$f":"basePAGAS!#REF!","v":{"$error":"#REF!"}},{"$error":"#REF!"}]
[{"$f":"basePAGAS!#REF!","v":{"$error":"#REF!"}},{"$error":"#REF!"}]
[{"$f":"basePAGAS!#REF!","v":{"$error":"#REF!"}},{"$error":"#REF!"}]
[{"$f":"basePAGAS!#REF!","v":{"$error":"#REF!"}},{"$error":"#REF!"}]
[{"$f":"basePAGAS!#REF!","v":{"$error":"#REF!"}},{"$error":"#REF!"}]
[{"$f":"basePAGAS!#REF!","v":{"$error":"#REF!"}},{"$error":"#REF!"}]
[{"$f":"basePAGAS!#REF!","v":{"$error":"#REF!"}},{"$error":"#REF!"}]
[{"$f":"basePAGAS!#REF!","v":{"$error":"#REF!"}},{"$error":"#REF!"}]
[{"$f":"basePAGAS!#REF!","v":{"$error":"#REF!"}},{"$error":"#REF!"}]
[{"$f":"basePAGAS!#REF!","v":{"$error":"#REF!"}},{"$error":"#REF!"}]
[{"$f":"basePAGAS!#REF!","v":{"$error":"#REF!"}},{"$error":"#REF!"}]
[{"$f":"basePAGAS!#REF!","v":{"$error":"#REF!"}},{"$error":"#REF!"}]
[{"$f":"basePAGAS!#REF!","v":{"$error":"#REF!"}},{"$error":"#REF!"}]
[{"$f":"basePAGAS!#REF!","v":{"$error":"#REF!"}},{"$error":"#REF!"}]
[{"$f":"basePAGAS!#REF!","v":{"$error":"#REF!"}},{"$error":"#REF!"}]
[{"$f":"basePAGAS!#REF!","v":{"$error":"#REF!"}},{"$error":"#REF!"}]
[{"$f":"basePAGAS!#REF!","v":{"$error":"#REF!"}},{"$error":"#REF!"}]
[{"$f":"basePAGAS!#REF!","v":{"$error":"#REF!"}},{"$error":"#REF!"}]
[{"$f":"basePAGAS!#REF!","v":{"$error":"#REF!"}},{"$error":"#REF!"}]
[{"$f":"basePAGAS!#REF!","v":{"$error":"#REF!"}},{"$error":"#REF!"}]
[{"$f":"basePAGAS!#REF!","v":{"$error":"#REF!"}},{"$error":"#REF!"}]
[{"$f":"basePAGAS!#REF!","v":{"$error":"#REF!"}},{"$error":"#REF!"}]
[{"$f":"basePAGAS!#REF!","v":{"$error":"#REF!"}},{"$error":"#REF!"}]
[{"$f":"basePAGAS!#REF!","v":{"$error":"#REF!"}},{"$error":"#REF!"}]
[{"$f":"basePAGAS!#REF!","v":{"$error":"#REF!"}},{"$error":"#REF!"}]
[{"$f":"basePAGAS!#REF!","v":{"$error":"#REF!"}},{"$error":"#REF!"}]
[{"$f":"basePAGAS!#REF!","v":{"$error":"#REF!"}},{"$error":"#REF!"}]
[{"$f":"basePAGAS!#REF!","v":{"$error":"#REF!"}},{"$error":"#REF!"}]
[{"$f":"basePAGAS!#REF!","v":{"$error":"#REF!"}},{"$error":"#REF!"}]
[{"$f":"basePAGAS!#REF!","v":{"$error":"#REF!"}},{"$error":"#REF!"}]
[{"$f":"basePAGAS!#REF!","v":{"$error":"#REF!"}},{"$error":"#REF!"}]
[{"$f":"basePAGAS!#REF!","v":{"$error":"#REF!"}},{"$error":"#REF!"}]
[{"$f":"basePAGAS!#REF!","v":{"$error":"#REF!"}},{"$error":"#REF!"}]
[{"$f":"basePAGAS!#REF!","v":{"$error":"#REF!"}},{"$error":"#REF!"}]
[{"$f":"basePAGAS!#REF!","v":{"$error":"#REF!"}},{"$error":"#REF!"}]
[{"$f":"basePAGAS!#REF!","v":{"$error":"#REF!"}},{"$error":"#REF!"}]
[{"$f":"basePAGAS!#REF!","v":{"$error":"#REF!"}},{"$error":"#REF!"}]
[{"$f":"basePAGAS!#REF!","v":{"$error":"#REF!"}},{"$error":"#REF!"}]
[{"$f":"basePAGAS!#REF!","v":{"$error":"#REF!"}},{"$error":"#REF!"}]
[{"$f":"basePAGAS!#REF!","v":{"$error":"#REF!"}},{"$error":"#REF!"}]
[{"$f":"basePAGAS!#REF!","v":{"$error":"#REF!"}},{"$error":"#REF!"}]
[{"$f":"basePAGAS!#REF!","v":{"$error":"#REF!"}},{"$error":"#REF!"}]
[{"$f":"basePAGAS!#REF!","v":{"$error":"#REF!"}},{"$error":"#REF!"}]
[{"$f":"basePAGAS!#REF!","v":{"$error":"#REF!"}},{"$error":"#REF!"}]
[{"$f":"basePAGAS!#REF!","v":{"$error":"#REF!"}},{"$error":"#REF!"}]
[{"$f":"basePAGAS!#REF!","v":{"$error":"#REF!"}},{"$error":"#REF!"}]
[{"$f":"basePAGAS!#REF!","v":{"$error":"#REF!"}},{"$error":"#REF!"}]
[{"$f":"basePAGAS!#REF!","v":{"$error":"#REF!"}},{"$error":"#REF!"}]
[{"$f":"basePAGAS!#REF!","v":{"$error":"#REF!"}},{"$error":"#REF!"}]
[{"$f":"basePAGAS!#REF!","v":{"$error":"#REF!"}},{"$error":"#REF!"}]
[{"$f":"basePAGAS!#REF!","v":{"$error":"#REF!"}},{"$error":"#REF!"}]
[{"$f":"basePAGAS!#REF!","v":{"$error":"#REF!"}},{"$error":"#REF!"}]
[{"$f":"basePAGAS!#REF!","v":{"$error":"#REF!"}},{"$error":"#REF!"}]
[{"$f":"basePAGAS!#REF!","v":{"$error":"#REF!"}},{"$error":"#REF!"}]
[{"$f":"basePAGAS!#REF!","v":{"$error":"#REF!"}},{"$error":"#REF!"}]
[{"$f":"basePAGAS!#REF!","v":{"$error":"#REF!"}},{"$error":"#REF!"}]
[{"$f":"basePAGAS!#REF!","v":{"$error":"#REF!"}},{"$error":"#REF!"}]
[{"$f":"basePAGAS!#REF!","v":{"$error":"#REF!"}},{"$error":"#REF!"}]
[{"$f":"basePAGAS!#REF!","v":{"$error":"#REF!"}},{"$error":"#REF!"}]
[{"$f":"basePAGAS!#REF!","v":{"$error":"#REF!"}},{"$error":"#REF!"}]
[{"$f":"basePAGAS!#REF!","v":{"$error":"#REF!"}},{"$error":"#REF!"}]
[{"$f":"basePAGAS!#REF!","v":{"$error":"#REF!"}},{"$error":"#REF!"}]
[{"$f":"basePAGAS!#REF!","v":{"$error":"#REF!"}},{"$error":"#REF!"}]
[{"$f":"basePAGAS!#REF!","v":{"$error":"#REF!"}},{"$f":"IF(A4239=\"\",\"\",IF(VLOOKUP(A4239,base_rpvs_pagas,2)=A$12,A4239,0))","v":{"$error":"#REF!"}}]
[{"$f":"basePAGAS!#REF!","v":{"$error":"#REF!"}},{"$error":"#REF!"}]
[{"$f":"basePAGAS!#REF!","v":{"$error":"#REF!"}},{"$error":"#REF!"}]
[{"$f":"basePAGAS!#REF!","v":{"$error":"#REF!"}},{"$error":"#REF!"}]
[{"$f":"basePAGAS!#REF!","v":{"$error":"#REF!"}},{"$error":"#REF!"}]
[{"$f":"basePAGAS!#REF!","v":{"$error":"#REF!"}},{"$error":"#REF!"}]
[{"$f":"basePAGAS!#REF!","v":{"$error":"#REF!"}},{"$error":"#REF!"}]
[{"$f":"basePAGAS!#REF!","v":{"$error":"#REF!"}},{"$error":"#REF!"}]
[{"$f":"basePAGAS!#REF!","v":{"$error":"#REF!"}},{"$error":"#REF!"}]
[{"$f":"basePAGAS!#REF!","v":{"$error":"#REF!"}},{"$error":"#REF!"}]
[{"$f":"basePAGAS!#REF!","v":{"$error":"#REF!"}},{"$error":"#REF!"}]
[{"$f":"basePAGAS!#REF!","v":{"$error":"#REF!"}},{"$error":"#REF!"}]
[{"$f":"basePAGAS!#REF!","v":{"$error":"#REF!"}},{"$error":"#REF!"}]
[{"$f":"basePAGAS!#REF!","v":{"$error":"#REF!"}},{"$error":"#REF!"}]
[{"$f":"basePAGAS!#REF!","v":{"$error":"#REF!"}},{"$error":"#REF!"}]
[{"$f":"basePAGAS!#REF!","v":{"$error":"#REF!"}},{"$error":"#REF!"}]
[{"$f":"basePAGAS!#REF!","v":{"$error":"#REF!"}},{"$error":"#REF!"}]
[{"$f":"basePAGAS!#REF!","v":{"$error":"#REF!"}},{"$error":"#REF!"}]
[{"$f":"basePAGAS!#REF!","v":{"$error":"#REF!"}},{"$error":"#REF!"}]
[{"$f":"basePAGAS!#REF!","v":{"$error":"#REF!"}},{"$error":"#REF!"}]
[{"$f":"basePAGAS!#REF!","v":{"$error":"#REF!"}},{"$error":"#REF!"}]
[{"$f":"basePAGAS!#REF!","v":{"$error":"#REF!"}},{"$error":"#REF!"}]
[{"$f":"basePAGAS!#REF!","v":{"$error":"#REF!"}},{"$error":"#REF!"}]
[{"$f":"basePAGAS!#REF!","v":{"$error":"#REF!"}},{"$error":"#REF!"}]
[{"$f":"basePAGAS!#REF!","v":{"$error":"#REF!"}},{"$error":"#REF!"}]
[{"$f":"basePAGAS!#REF!","v":{"$error":"#REF!"}},{"$error":"#REF!"}]
[{"$f":"basePAGAS!#REF!","v":{"$error":"#REF!"}},{"$error":"#REF!"}]
[{"$f":"basePAGAS!#REF!","v":{"$error":"#REF!"}},{"$error":"#REF!"}]
[{"$f":"basePAGAS!#REF!","v":{"$error":"#REF!"}},{"$error":"#REF!"}]
[{"$f":"basePAGAS!#REF!","v":{"$error":"#REF!"}},{"$error":"#REF!"}]
[{"$f":"basePAGAS!#REF!","v":{"$error":"#REF!"}},{"$error":"#REF!"}]
[{"$f":"basePAGAS!#REF!","v":{"$error":"#REF!"}},{"$error":"#REF!"}]
[{"$f":"basePAGAS!#REF!","v":{"$error":"#REF!"}},{"$error":"#REF!"}]
[{"$f":"basePAGAS!#REF!","v":{"$error":"#REF!"}},{"$error":"#REF!"}]
[{"$f":"basePAGAS!#REF!","v":{"$error":"#REF!"}},{"$error":"#REF!"}]
[{"$f":"basePAGAS!#REF!","v":{"$error":"#REF!"}},{"$error":"#REF!"}]
[{"$f":"basePAGAS!#REF!","v":{"$error":"#REF!"}},{"$error":"#REF!"}]
[{"$f":"basePAGAS!#REF!","v":{"$error":"#REF!"}},{"$error":"#REF!"}]
[{"$f":"basePAGAS!#REF!","v":{"$error":"#REF!"}},{"$error":"#REF!"}]
[{"$f":"basePAGAS!#REF!","v":{"$error":"#REF!"}},{"$error":"#REF!"}]
[{"$f":"basePAGAS!#REF!","v":{"$error":"#REF!"}},{"$error":"#REF!"}]
[{"$f":"basePAGAS!#REF!","v":{"$error":"#REF!"}},{"$error":"#REF!"}]
[{"$f":"basePAGAS!#REF!","v":{"$error":"#REF!"}},{"$error":"#REF!"}]
[{"$f":"basePAGAS!#REF!","v":{"$error":"#REF!"}},{"$error":"#REF!"}]
[{"$f":"basePAGAS!#REF!","v":{"$error":"#REF!"}},{"$error":"#REF!"}]
[{"$f":"basePAGAS!#REF!","v":{"$error":"#REF!"}},{"$error":"#REF!"}]
[{"$f":"basePAGAS!#REF!","v":{"$error":"#REF!"}},{"$error":"#REF!"}]
[{"$f":"basePAGAS!#REF!","v":{"$error":"#REF!"}},{"$error":"#REF!"}]
[{"$f":"basePAGAS!#REF!","v":{"$error":"#REF!"}},{"$error":"#REF!"}]
[{"$f":"basePAGAS!#REF!","v":{"$error":"#REF!"}},{"$error":"#REF!"}]
[{"$f":"basePAGAS!#REF!","v":{"$error":"#REF!"}},{"$error":"#REF!"}]
[{"$f":"basePAGAS!#REF!","v":{"$error":"#REF!"}},{"$error":"#REF!"}]
[{"$f":"basePAGAS!#REF!","v":{"$error":"#REF!"}},{"$error":"#REF!"}]
[{"$f":"basePAGAS!#REF!","v":{"$error":"#REF!"}},{"$error":"#REF!"}]
[{"$f":"basePAGAS!#REF!","v":{"$error":"#REF!"}},{"$error":"#REF!"}]
[{"$f":"basePAGAS!#REF!","v":{"$error":"#REF!"}},{"$error":"#REF!"}]
[{"$f":"basePAGAS!#REF!","v":{"$error":"#REF!"}},{"$error":"#REF!"}]
[{"$f":"basePAGAS!#REF!","v":{"$error":"#REF!"}},{"$error":"#REF!"}]
[{"$f":"basePAGAS!#REF!","v":{"$error":"#REF!"}},{"$error":"#REF!"}]
[{"$f":"basePAGAS!#REF!","v":{"$error":"#REF!"}},{"$error":"#REF!"}]
[{"$f":"basePAGAS!#REF!","v":{"$error":"#REF!"}},{"$error":"#REF!"}]
[{"$f":"basePAGAS!#REF!","v":{"$error":"#REF!"}},{"$error":"#REF!"}]
[{"$f":"basePAGAS!#REF!","v":{"$error":"#REF!"}},{"$error":"#REF!"}]
[{"$f":"basePAGAS!#REF!","v":{"$error":"#REF!"}},{"$error":"#REF!"}]
[{"$f":"basePAGAS!#REF!","v":{"$error":"#REF!"}},{"$f":"IF(A4303=\"\",\"\",IF(VLOOKUP(A4303,base_rpvs_pagas,2)=A$12,A4303,0))","v":{"$error":"#REF!"}}]
[{"$f":"basePAGAS!#REF!","v":{"$error":"#REF!"}},{"$error":"#REF!"}]
[{"$f":"basePAGAS!#REF!","v":{"$error":"#REF!"}},{"$error":"#REF!"}]
[{"$f":"basePAGAS!#REF!","v":{"$error":"#REF!"}},{"$error":"#REF!"}]
[{"$f":"basePAGAS!#REF!","v":{"$error":"#REF!"}},{"$error":"#REF!"}]
[{"$f":"basePAGAS!#REF!","v":{"$error":"#REF!"}},{"$error":"#REF!"}]
[{"$f":"basePAGAS!#REF!","v":{"$error":"#REF!"}},{"$error":"#REF!"}]
[{"$f":"basePAGAS!#REF!","v":{"$error":"#REF!"}},{"$error":"#REF!"}]
[{"$f":"basePAGAS!#REF!","v":{"$error":"#REF!"}},{"$error":"#REF!"}]
[{"$f":"basePAGAS!#REF!","v":{"$error":"#REF!"}},{"$error":"#REF!"}]
[{"$f":"basePAGAS!#REF!","v":{"$error":"#REF!"}},{"$error":"#REF!"}]
[{"$f":"basePAGAS!#REF!","v":{"$error":"#REF!"}},{"$error":"#REF!"}]
[{"$f":"basePAGAS!#REF!","v":{"$error":"#REF!"}},{"$error":"#REF!"}]
[{"$f":"basePAGAS!#REF!","v":{"$error":"#REF!"}},{"$error":"#REF!"}]
[{"$f":"basePAGAS!#REF!","v":{"$error":"#REF!"}},{"$error":"#REF!"}]
[{"$f":"basePAGAS!#REF!","v":{"$error":"#REF!"}},{"$error":"#REF!"}]
[{"$f":"basePAGAS!#REF!","v":{"$error":"#REF!"}},{"$error":"#REF!"}]
[{"$f":"basePAGAS!#REF!","v":{"$error":"#REF!"}},{"$error":"#REF!"}]
[{"$f":"basePAGAS!#REF!","v":{"$error":"#REF!"}},{"$error":"#REF!"}]
[{"$f":"basePAGAS!#REF!","v":{"$error":"#REF!"}},{"$error":"#REF!"}]
[{"$f":"basePAGAS!#REF!","v":{"$error":"#REF!"}},{"$error":"#REF!"}]
[{"$f":"basePAGAS!#REF!","v":{"$error":"#REF!"}},{"$error":"#REF!"}]
[{"$f":"basePAGAS!#REF!","v":{"$error":"#REF!"}},{"$error":"#REF!"}]
[{"$f":"basePAGAS!#REF!","v":{"$error":"#REF!"}},{"$error":"#REF!"}]
[{"$f":"basePAGAS!#REF!","v":{"$error":"#REF!"}},{"$error":"#REF!"}]
[{"$f":"basePAGAS!#REF!","v":{"$error":"#REF!"}},{"$error":"#REF!"}]
[{"$f":"basePAGAS!#REF!","v":{"$error":"#REF!"}},{"$error":"#REF!"}]
[{"$f":"basePAGAS!#REF!","v":{"$error":"#REF!"}},{"$error":"#REF!"}]
[{"$f":"basePAGAS!#REF!","v":{"$error":"#REF!"}},{"$error":"#REF!"}]
[{"$f":"basePAGAS!#REF!","v":{"$error":"#REF!"}},{"$error":"#REF!"}]
[{"$f":"basePAGAS!#REF!","v":{"$error":"#REF!"}},{"$error":"#REF!"}]
[{"$f":"basePAGAS!#REF!","v":{"$error":"#REF!"}},{"$error":"#REF!"}]
[{"$f":"basePAGAS!#REF!","v":{"$error":"#REF!"}},{"$error":"#REF!"}]
[{"$f":"basePAGAS!#REF!","v":{"$error":"#REF!"}},{"$error":"#REF!"}]
[{"$f":"basePAGAS!#REF!","v":{"$error":"#REF!"}},{"$error":"#REF!"}]
[{"$f":"basePAGAS!#REF!","v":{"$error":"#REF!"}},{"$error":"#REF!"}]
[{"$f":"basePAGAS!#REF!","v":{"$error":"#REF!"}},{"$error":"#REF!"}]
[{"$f":"basePAGAS!#REF!","v":{"$error":"#REF!"}},{"$error":"#REF!"}]
[{"$f":"basePAGAS!#REF!","v":{"$error":"#REF!"}},{"$error":"#REF!"}]
[{"$f":"basePAGAS!#REF!","v":{"$error":"#REF!"}},{"$error":"#REF!"}]
[{"$f":"basePAGAS!#REF!","v":{"$error":"#REF!"}},{"$error":"#REF!"}]
[{"$f":"basePAGAS!#REF!","v":{"$error":"#REF!"}},{"$error":"#REF!"}]
[{"$f":"basePAGAS!#REF!","v":{"$error":"#REF!"}},{"$error":"#REF!"}]
[{"$f":"basePAGAS!#REF!","v":{"$error":"#REF!"}},{"$error":"#REF!"}]
[{"$f":"basePAGAS!#REF!","v":{"$error":"#REF!"}},{"$error":"#REF!"}]
[{"$f":"basePAGAS!#REF!","v":{"$error":"#REF!"}},{"$error":"#REF!"}]
[{"$f":"basePAGAS!#REF!","v":{"$error":"#REF!"}},{"$error":"#REF!"}]
[{"$f":"basePAGAS!#REF!","v":{"$error":"#REF!"}},{"$error":"#REF!"}]
[{"$f":"basePAGAS!#REF!","v":{"$error":"#REF!"}},{"$error":"#REF!"}]
[{"$f":"basePAGAS!#REF!","v":{"$error":"#REF!"}},{"$error":"#REF!"}]
[{"$f":"basePAGAS!#REF!","v":{"$error":"#REF!"}},{"$error":"#REF!"}]
[{"$f":"basePAGAS!#REF!","v":{"$error":"#REF!"}},{"$error":"#REF!"}]
[{"$f":"basePAGAS!#REF!","v":{"$error":"#REF!"}},{"$error":"#REF!"}]
[{"$f":"basePAGAS!#REF!","v":{"$error":"#REF!"}},{"$error":"#REF!"}]
[{"$f":"basePAGAS!#REF!","v":{"$error":"#REF!"}},{"$error":"#REF!"}]
[{"$f":"basePAGAS!#REF!","v":{"$error":"#REF!"}},{"$error":"#REF!"}]
[{"$f":"basePAGAS!#REF!","v":{"$error":"#REF!"}},{"$error":"#REF!"}]
[{"$f":"basePAGAS!#REF!","v":{"$error":"#REF!"}},{"$error":"#REF!"}]
[{"$f":"basePAGAS!#REF!","v":{"$error":"#REF!"}},{"$error":"#REF!"}]
[{"$f":"basePAGAS!#REF!","v":{"$error":"#REF!"}},{"$error":"#REF!"}]
[{"$f":"basePAGAS!#REF!","v":{"$error":"#REF!"}},{"$error":"#REF!"}]
[{"$f":"basePAGAS!#REF!","v":{"$error":"#REF!"}},{"$error":"#REF!"}]
[{"$f":"basePAGAS!#REF!","v":{"$error":"#REF!"}},{"$error":"#REF!"}]
[{"$f":"basePAGAS!#REF!","v":{"$error":"#REF!"}},{"$error":"#REF!"}]
[{"$f":"basePAGAS!#REF!","v":{"$error":"#REF!"}},{"$f":"IF(A4367=\"\",\"\",IF(VLOOKUP(A4367,base_rpvs_pagas,2)=A$12,A4367,0))","v":{"$error":"#REF!"}}]
[{"$f":"basePAGAS!#REF!","v":{"$error":"#REF!"}},{"$error":"#REF!"}]
[{"$f":"basePAGAS!#REF!","v":{"$error":"#REF!"}},{"$error":"#REF!"}]
[{"$f":"basePAGAS!#REF!","v":{"$error":"#REF!"}},{"$error":"#REF!"}]
[{"$f":"basePAGAS!#REF!","v":{"$error":"#REF!"}},{"$error":"#REF!"}]
[{"$f":"basePAGAS!#REF!","v":{"$error":"#REF!"}},{"$error":"#REF!"}]
[{"$f":"basePAGAS!#REF!","v":{"$error":"#REF!"}},{"$error":"#REF!"}]
[{"$f":"basePAGAS!#REF!","v":{"$error":"#REF!"}},{"$error":"#REF!"}]
[{"$f":"basePAGAS!#REF!","v":{"$error":"#REF!"}},{"$error":"#REF!"}]
[{"$f":"basePAGAS!#REF!","v":{"$error":"#REF!"}},{"$error":"#REF!"}]
[{"$f":"basePAGAS!#REF!","v":{"$error":"#REF!"}},{"$error":"#REF!"}]
[{"$f":"basePAGAS!#REF!","v":{"$error":"#REF!"}},{"$error":"#REF!"}]
[{"$f":"basePAGAS!#REF!","v":{"$error":"#REF!"}},{"$error":"#REF!"}]
[{"$f":"basePAGAS!#REF!","v":{"$error":"#REF!"}},{"$error":"#REF!"}]
[{"$f":"basePAGAS!#REF!","v":{"$error":"#REF!"}},{"$error":"#REF!"}]
[{"$f":"basePAGAS!#REF!","v":{"$error":"#REF!"}},{"$error":"#REF!"}]
[{"$f":"basePAGAS!#REF!","v":{"$error":"#REF!"}},{"$error":"#REF!"}]
[{"$f":"basePAGAS!#REF!","v":{"$error":"#REF!"}},{"$error":"#REF!"}]
[{"$f":"basePAGAS!#REF!","v":{"$error":"#REF!"}},{"$error":"#REF!"}]
[{"$f":"basePAGAS!#REF!","v":{"$error":"#REF!"}},{"$error":"#REF!"}]
[{"$f":"basePAGAS!#REF!","v":{"$error":"#REF!"}},{"$error":"#REF!"}]
[{"$f":"basePAGAS!#REF!","v":{"$error":"#REF!"}},{"$error":"#REF!"}]
[{"$f":"basePAGAS!#REF!","v":{"$error":"#REF!"}},{"$error":"#REF!"}]
[{"$f":"basePAGAS!#REF!","v":{"$error":"#REF!"}},{"$error":"#REF!"}]
[{"$f":"basePAGAS!#REF!","v":{"$error":"#REF!"}},{"$error":"#REF!"}]
[{"$f":"basePAGAS!#REF!","v":{"$error":"#REF!"}},{"$error":"#REF!"}]
[{"$f":"basePAGAS!#REF!","v":{"$error":"#REF!"}},{"$error":"#REF!"}]
[{"$f":"basePAGAS!#REF!","v":{"$error":"#REF!"}},{"$error":"#REF!"}]
[{"$f":"basePAGAS!#REF!","v":{"$error":"#REF!"}},{"$error":"#REF!"}]
[{"$f":"basePAGAS!#REF!","v":{"$error":"#REF!"}},{"$error":"#REF!"}]
[{"$f":"basePAGAS!#REF!","v":{"$error":"#REF!"}},{"$error":"#REF!"}]
[{"$f":"basePAGAS!#REF!","v":{"$error":"#REF!"}},{"$error":"#REF!"}]
[{"$f":"basePAGAS!#REF!","v":{"$error":"#REF!"}},{"$error":"#REF!"}]
[{"$f":"basePAGAS!#REF!","v":{"$error":"#REF!"}},{"$error":"#REF!"}]
[{"$f":"basePAGAS!#REF!","v":{"$error":"#REF!"}},{"$error":"#REF!"}]
[{"$f":"basePAGAS!#REF!","v":{"$error":"#REF!"}},{"$error":"#REF!"}]
[{"$f":"basePAGAS!#REF!","v":{"$error":"#REF!"}},{"$error":"#REF!"}]
[{"$f":"basePAGAS!#REF!","v":{"$error":"#REF!"}},{"$error":"#REF!"}]
[{"$f":"basePAGAS!#REF!","v":{"$error":"#REF!"}},{"$error":"#REF!"}]
[{"$f":"basePAGAS!#REF!","v":{"$error":"#REF!"}},{"$error":"#REF!"}]
[{"$f":"basePAGAS!#REF!","v":{"$error":"#REF!"}},{"$error":"#REF!"}]
[{"$f":"basePAGAS!#REF!","v":{"$error":"#REF!"}},{"$error":"#REF!"}]
[{"$f":"basePAGAS!#REF!","v":{"$error":"#REF!"}},{"$error":"#REF!"}]
[{"$f":"basePAGAS!#REF!","v":{"$error":"#REF!"}},{"$error":"#REF!"}]
[{"$f":"basePAGAS!#REF!","v":{"$error":"#REF!"}},{"$error":"#REF!"}]
[{"$f":"basePAGAS!#REF!","v":{"$error":"#REF!"}},{"$error":"#REF!"}]
[{"$f":"basePAGAS!#REF!","v":{"$error":"#REF!"}},{"$error":"#REF!"}]
[{"$f":"basePAGAS!#REF!","v":{"$error":"#REF!"}},{"$error":"#REF!"}]
[{"$f":"basePAGAS!#REF!","v":{"$error":"#REF!"}},{"$error":"#REF!"}]
[{"$f":"basePAGAS!#REF!","v":{"$error":"#REF!"}},{"$error":"#REF!"}]
[{"$f":"basePAGAS!#REF!","v":{"$error":"#REF!"}},{"$error":"#REF!"}]
[{"$f":"basePAGAS!#REF!","v":{"$error":"#REF!"}},{"$error":"#REF!"}]
[{"$f":"basePAGAS!#REF!","v":{"$error":"#REF!"}},{"$error":"#REF!"}]
[{"$f":"basePAGAS!#REF!","v":{"$error":"#REF!"}},{"$error":"#REF!"}]
[{"$f":"basePAGAS!#REF!","v":{"$error":"#REF!"}},{"$error":"#REF!"}]
[{"$f":"basePAGAS!#REF!","v":{"$error":"#REF!"}},{"$error":"#REF!"}]
[{"$f":"basePAGAS!#REF!","v":{"$error":"#REF!"}},{"$error":"#REF!"}]
[{"$f":"basePAGAS!#REF!","v":{"$error":"#REF!"}},{"$error":"#REF!"}]
[{"$f":"basePAGAS!#REF!","v":{"$error":"#REF!"}},{"$error":"#REF!"}]
[{"$f":"basePAGAS!#REF!","v":{"$error":"#REF!"}},{"$error":"#REF!"}]
[{"$f":"basePAGAS!#REF!","v":{"$error":"#REF!"}},{"$error":"#REF!"}]
[{"$f":"basePAGAS!#REF!","v":{"$error":"#REF!"}},{"$error":"#REF!"}]
[{"$f":"basePAGAS!#REF!","v":{"$error":"#REF!"}},{"$error":"#REF!"}]
[{"$f":"basePAGAS!#REF!","v":{"$error":"#REF!"}},{"$error":"#REF!"}]
[{"$f":"basePAGAS!#REF!","v":{"$error":"#REF!"}},{"$f":"IF(A4431=\"\",\"\",IF(VLOOKUP(A4431,base_rpvs_pagas,2)=A$12,A4431,0))","v":{"$error":"#REF!"}}]
[{"$f":"basePAGAS!#REF!","v":{"$error":"#REF!"}},{"$error":"#REF!"}]
[{"$f":"basePAGAS!#REF!","v":{"$error":"#REF!"}},{"$error":"#REF!"}]
[{"$f":"basePAGAS!#REF!","v":{"$error":"#REF!"}},{"$error":"#REF!"}]
[{"$f":"basePAGAS!#REF!","v":{"$error":"#REF!"}},{"$error":"#REF!"}]
[{"$f":"basePAGAS!#REF!","v":{"$error":"#REF!"}},{"$error":"#REF!"}]
[{"$f":"basePAGAS!#REF!","v":{"$error":"#REF!"}},{"$error":"#REF!"}]
[{"$f":"basePAGAS!#REF!","v":{"$error":"#REF!"}},{"$error":"#REF!"}]
[{"$f":"basePAGAS!#REF!","v":{"$error":"#REF!"}},{"$error":"#REF!"}]
[{"$f":"basePAGAS!#REF!","v":{"$error":"#REF!"}},{"$error":"#REF!"}]
[{"$f":"basePAGAS!#REF!","v":{"$error":"#REF!"}},{"$error":"#REF!"}]
[{"$f":"basePAGAS!#REF!","v":{"$error":"#REF!"}},{"$error":"#REF!"}]
[{"$f":"basePAGAS!#REF!","v":{"$error":"#REF!"}},{"$error":"#REF!"}]
[{"$f":"basePAGAS!#REF!","v":{"$error":"#REF!"}},{"$error":"#REF!"}]
[{"$f":"basePAGAS!#REF!","v":{"$error":"#REF!"}},{"$error":"#REF!"}]
[{"$f":"basePAGAS!#REF!","v":{"$error":"#REF!"}},{"$error":"#REF!"}]
[{"$f":"basePAGAS!#REF!","v":{"$error":"#REF!"}},{"$error":"#REF!"}]
[{"$f":"basePAGAS!#REF!","v":{"$error":"#REF!"}},{"$error":"#REF!"}]
[{"$f":"basePAGAS!#REF!","v":{"$error":"#REF!"}},{"$error":"#REF!"}]
[{"$f":"basePAGAS!#REF!","v":{"$error":"#REF!"}},{"$error":"#REF!"}]
[{"$f":"basePAGAS!#REF!","v":{"$error":"#REF!"}},{"$error":"#REF!"}]
[{"$f":"basePAGAS!#REF!","v":{"$error":"#REF!"}},{"$error":"#REF!"}]
[{"$f":"basePAGAS!#REF!","v":{"$error":"#REF!"}},{"$error":"#REF!"}]
[{"$f":"basePAGAS!#REF!","v":{"$error":"#REF!"}},{"$error":"#REF!"}]
[{"$f":"basePAGAS!#REF!","v":{"$error":"#REF!"}},{"$error":"#REF!"}]
[{"$f":"basePAGAS!#REF!","v":{"$error":"#REF!"}},{"$error":"#REF!"}]
[{"$f":"basePAGAS!#REF!","v":{"$error":"#REF!"}},{"$error":"#REF!"}]
[{"$f":"basePAGAS!#REF!","v":{"$error":"#REF!"}},{"$error":"#REF!"}]
[{"$f":"basePAGAS!#REF!","v":{"$error":"#REF!"}},{"$error":"#REF!"}]
[{"$f":"basePAGAS!#REF!","v":{"$error":"#REF!"}},{"$error":"#REF!"}]
[{"$f":"basePAGAS!#REF!","v":{"$error":"#REF!"}},{"$error":"#REF!"}]
[{"$f":"basePAGAS!#REF!","v":{"$error":"#REF!"}},{"$error":"#REF!"}]
[{"$f":"basePAGAS!#REF!","v":{"$error":"#REF!"}},{"$error":"#REF!"}]
[{"$f":"basePAGAS!#REF!","v":{"$error":"#REF!"}},{"$error":"#REF!"}]
[{"$f":"basePAGAS!#REF!","v":{"$error":"#REF!"}},{"$error":"#REF!"}]
[{"$f":"basePAGAS!#REF!","v":{"$error":"#REF!"}},{"$error":"#REF!"}]
[{"$f":"basePAGAS!#REF!","v":{"$error":"#REF!"}},{"$error":"#REF!"}]
[{"$f":"basePAGAS!#REF!","v":{"$error":"#REF!"}},{"$error":"#REF!"}]
[{"$f":"basePAGAS!#REF!","v":{"$error":"#REF!"}},{"$error":"#REF!"}]
[{"$f":"basePAGAS!#REF!","v":{"$error":"#REF!"}},{"$error":"#REF!"}]
[{"$f":"basePAGAS!#REF!","v":{"$error":"#REF!"}},{"$error":"#REF!"}]
[{"$f":"basePAGAS!#REF!","v":{"$error":"#REF!"}},{"$error":"#REF!"}]
[{"$f":"basePAGAS!#REF!","v":{"$error":"#REF!"}},{"$error":"#REF!"}]
[{"$f":"basePAGAS!#REF!","v":{"$error":"#REF!"}},{"$error":"#REF!"}]
[{"$f":"basePAGAS!#REF!","v":{"$error":"#REF!"}},{"$error":"#REF!"}]
[{"$f":"basePAGAS!#REF!","v":{"$error":"#REF!"}},{"$error":"#REF!"}]
[{"$f":"basePAGAS!#REF!","v":{"$error":"#REF!"}},{"$error":"#REF!"}]
[{"$f":"basePAGAS!#REF!","v":{"$error":"#REF!"}},{"$error":"#REF!"}]
[{"$f":"basePAGAS!#REF!","v":{"$error":"#REF!"}},{"$error":"#REF!"}]
[{"$f":"basePAGAS!#REF!","v":{"$error":"#REF!"}},{"$error":"#REF!"}]
[{"$f":"basePAGAS!#REF!","v":{"$error":"#REF!"}},{"$error":"#REF!"}]
[{"$f":"basePAGAS!#REF!","v":{"$error":"#REF!"}},{"$error":"#REF!"}]
[{"$f":"basePAGAS!#REF!","v":{"$error":"#REF!"}},{"$error":"#REF!"}]
[{"$f":"basePAGAS!#REF!","v":{"$error":"#REF!"}},{"$error":"#REF!"}]
[{"$f":"basePAGAS!#REF!","v":{"$error":"#REF!"}},{"$error":"#REF!"}]
[{"$f":"basePAGAS!#REF!","v":{"$error":"#REF!"}},{"$error":"#REF!"}]
[{"$f":"basePAGAS!#REF!","v":{"$error":"#REF!"}},{"$error":"#REF!"}]
[{"$f":"basePAGAS!#REF!","v":{"$error":"#REF!"}},{"$error":"#REF!"}]
[{"$f":"basePAGAS!#REF!","v":{"$error":"#REF!"}},{"$error":"#REF!"}]
[{"$f":"basePAGAS!#REF!","v":{"$error":"#REF!"}},{"$error":"#REF!"}]
[{"$f":"basePAGAS!#REF!","v":{"$error":"#REF!"}},{"$error":"#REF!"}]
[{"$f":"basePAGAS!#REF!","v":{"$error":"#REF!"}},{"$error":"#REF!"}]
[{"$f":"basePAGAS!#REF!","v":{"$error":"#REF!"}},{"$error":"#REF!"}]
[{"$f":"basePAGAS!#REF!","v":{"$error":"#REF!"}},{"$error":"#REF!"}]
[{"$f":"basePAGAS!#REF!","v":{"$error":"#REF!"}},{"$f":"IF(A4495=\"\",\"\",IF(VLOOKUP(A4495,base_rpvs_pagas,2)=A$12,A4495,0))","v":{"$error":"#REF!"}}]
[{"$f":"basePAGAS!#REF!","v":{"$error":"#REF!"}},{"$error":"#REF!"}]
[{"$f":"basePAGAS!#REF!","v":{"$error":"#REF!"}},{"$error":"#REF!"}]
[{"$f":"basePAGAS!#REF!","v":{"$error":"#REF!"}},{"$error":"#REF!"}]
[{"$f":"basePAGAS!#REF!","v":{"$error":"#REF!"}},{"$error":"#REF!"}]
[{"$f":"basePAGAS!#REF!","v":{"$error":"#REF!"}},{"$error":"#REF!"}]
[{"$f":"basePAGAS!#REF!","v":{"$error":"#REF!"}},{"$error":"#REF!"}]
[{"$f":"basePAGAS!#REF!","v":{"$error":"#REF!"}},{"$error":"#REF!"}]
[{"$f":"basePAGAS!#REF!","v":{"$error":"#REF!"}},{"$error":"#REF!"}]
[{"$f":"basePAGAS!#REF!","v":{"$error":"#REF!"}},{"$error":"#REF!"}]
[{"$f":"basePAGAS!#REF!","v":{"$error":"#REF!"}},{"$error":"#REF!"}]
[{"$f":"basePAGAS!#REF!","v":{"$error":"#REF!"}},{"$error":"#REF!"}]
[{"$f":"basePAGAS!#REF!","v":{"$error":"#REF!"}},{"$error":"#REF!"}]
[{"$f":"basePAGAS!#REF!","v":{"$error":"#REF!"}},{"$error":"#REF!"}]
[{"$f":"basePAGAS!#REF!","v":{"$error":"#REF!"}},{"$error":"#REF!"}]
[{"$f":"basePAGAS!#REF!","v":{"$error":"#REF!"}},{"$error":"#REF!"}]
[{"$f":"basePAGAS!#REF!","v":{"$error":"#REF!"}},{"$error":"#REF!"}]
[{"$f":"basePAGAS!#REF!","v":{"$error":"#REF!"}},{"$error":"#REF!"}]
[{"$f":"basePAGAS!#REF!","v":{"$error":"#REF!"}},{"$error":"#REF!"}]
[{"$f":"basePAGAS!#REF!","v":{"$error":"#REF!"}},{"$error":"#REF!"}]
[{"$f":"basePAGAS!#REF!","v":{"$error":"#REF!"}},{"$error":"#REF!"}]
[{"$f":"basePAGAS!#REF!","v":{"$error":"#REF!"}},{"$error":"#REF!"}]
[{"$f":"basePAGAS!#REF!","v":{"$error":"#REF!"}},{"$error":"#REF!"}]
[{"$f":"basePAGAS!#REF!","v":{"$error":"#REF!"}},{"$error":"#REF!"}]
[{"$f":"basePAGAS!#REF!","v":{"$error":"#REF!"}},{"$error":"#REF!"}]
[{"$f":"basePAGAS!#REF!","v":{"$error":"#REF!"}},{"$error":"#REF!"}]
[{"$f":"basePAGAS!#REF!","v":{"$error":"#REF!"}},{"$error":"#REF!"}]
[{"$f":"basePAGAS!#REF!","v":{"$error":"#REF!"}},{"$error":"#REF!"}]
[{"$f":"basePAGAS!#REF!","v":{"$error":"#REF!"}},{"$error":"#REF!"}]
[{"$f":"basePAGAS!#REF!","v":{"$error":"#REF!"}},{"$error":"#REF!"}]
[{"$f":"basePAGAS!#REF!","v":{"$error":"#REF!"}},{"$error":"#REF!"}]
[{"$f":"basePAGAS!#REF!","v":{"$error":"#REF!"}},{"$error":"#REF!"}]
[{"$f":"basePAGAS!#REF!","v":{"$error":"#REF!"}},{"$error":"#REF!"}]
[{"$f":"basePAGAS!#REF!","v":{"$error":"#REF!"}},{"$error":"#REF!"}]
[{"$f":"basePAGAS!#REF!","v":{"$error":"#REF!"}},{"$error":"#REF!"}]
[{"$f":"basePAGAS!#REF!","v":{"$error":"#REF!"}},{"$error":"#REF!"}]
[{"$f":"basePAGAS!#REF!","v":{"$error":"#REF!"}},{"$error":"#REF!"}]
[{"$f":"basePAGAS!#REF!","v":{"$error":"#REF!"}},{"$error":"#REF!"}]
[{"$f":"basePAGAS!#REF!","v":{"$error":"#REF!"}},{"$error":"#REF!"}]
[{"$f":"basePAGAS!#REF!","v":{"$error":"#REF!"}},{"$error":"#REF!"}]
[{"$f":"basePAGAS!#REF!","v":{"$error":"#REF!"}},{"$error":"#REF!"}]
[{"$f":"basePAGAS!#REF!","v":{"$error":"#REF!"}},{"$error":"#REF!"}]
[{"$f":"basePAGAS!#REF!","v":{"$error":"#REF!"}},{"$error":"#REF!"}]
[{"$f":"basePAGAS!#REF!","v":{"$error":"#REF!"}},{"$error":"#REF!"}]
[{"$f":"basePAGAS!#REF!","v":{"$error":"#REF!"}},{"$error":"#REF!"}]
[{"$f":"basePAGAS!#REF!","v":{"$error":"#REF!"}},{"$error":"#REF!"}]
[{"$f":"basePAGAS!#REF!","v":{"$error":"#REF!"}},{"$error":"#REF!"}]
[{"$f":"basePAGAS!#REF!","v":{"$error":"#REF!"}},{"$error":"#REF!"}]
[{"$f":"basePAGAS!#REF!","v":{"$error":"#REF!"}},{"$error":"#REF!"}]
[{"$f":"basePAGAS!#REF!","v":{"$error":"#REF!"}},{"$error":"#REF!"}]
[{"$f":"basePAGAS!#REF!","v":{"$error":"#REF!"}},{"$error":"#REF!"}]
[{"$f":"basePAGAS!#REF!","v":{"$error":"#REF!"}},{"$error":"#REF!"}]
[{"$f":"basePAGAS!#REF!","v":{"$error":"#REF!"}},{"$error":"#REF!"}]
[{"$f":"basePAGAS!#REF!","v":{"$error":"#REF!"}},{"$error":"#REF!"}]
[{"$f":"basePAGAS!#REF!","v":{"$error":"#REF!"}},{"$error":"#REF!"}]
[{"$f":"basePAGAS!#REF!","v":{"$error":"#REF!"}},{"$error":"#REF!"}]
[{"$f":"basePAGAS!#REF!","v":{"$error":"#REF!"}},{"$error":"#REF!"}]
[{"$f":"basePAGAS!#REF!","v":{"$error":"#REF!"}},{"$error":"#REF!"}]
[{"$f":"basePAGAS!#REF!","v":{"$error":"#REF!"}},{"$error":"#REF!"}]
[{"$f":"basePAGAS!#REF!","v":{"$error":"#REF!"}},{"$error":"#REF!"}]
[{"$f":"basePAGAS!#REF!","v":{"$error":"#REF!"}},{"$error":"#REF!"}]
[{"$f":"basePAGAS!#REF!","v":{"$error":"#REF!"}},{"$error":"#REF!"}]
[{"$f":"basePAGAS!#REF!","v":{"$error":"#REF!"}},{"$error":"#REF!"}]
[{"$f":"basePAGAS!#REF!","v":{"$error":"#REF!"}},{"$error":"#REF!"}]
[{"$f":"basePAGAS!#REF!","v":{"$error":"#REF!"}},{"$f":"IF(A4559=\"\",\"\",IF(VLOOKUP(A4559,base_rpvs_pagas,2)=A$12,A4559,0))","v":{"$error":"#REF!"}}]
[{"$f":"basePAGAS!#REF!","v":{"$error":"#REF!"}},{"$error":"#REF!"}]
[{"$f":"basePAGAS!#REF!","v":{"$error":"#REF!"}},{"$error":"#REF!"}]
[{"$f":"basePAGAS!#REF!","v":{"$error":"#REF!"}},{"$error":"#REF!"}]
[{"$f":"basePAGAS!#REF!","v":{"$error":"#REF!"}},{"$error":"#REF!"}]
[{"$f":"basePAGAS!#REF!","v":{"$error":"#REF!"}},{"$error":"#REF!"}]
[{"$f":"basePAGAS!#REF!","v":{"$error":"#REF!"}},{"$error":"#REF!"}]
[{"$f":"basePAGAS!#REF!","v":{"$error":"#REF!"}},{"$error":"#REF!"}]
[{"$f":"basePAGAS!#REF!","v":{"$error":"#REF!"}},{"$error":"#REF!"}]
[{"$f":"basePAGAS!#REF!","v":{"$error":"#REF!"}},{"$error":"#REF!"}]
[{"$f":"basePAGAS!#REF!","v":{"$error":"#REF!"}},{"$error":"#REF!"}]
[{"$f":"basePAGAS!#REF!","v":{"$error":"#REF!"}},{"$error":"#REF!"}]
[{"$f":"basePAGAS!#REF!","v":{"$error":"#REF!"}},{"$error":"#REF!"}]
[{"$f":"basePAGAS!#REF!","v":{"$error":"#REF!"}},{"$error":"#REF!"}]
[{"$f":"basePAGAS!#REF!","v":{"$error":"#REF!"}},{"$error":"#REF!"}]
[{"$f":"basePAGAS!#REF!","v":{"$error":"#REF!"}},{"$error":"#REF!"}]
[{"$f":"basePAGAS!#REF!","v":{"$error":"#REF!"}},{"$error":"#REF!"}]
[{"$f":"basePAGAS!#REF!","v":{"$error":"#REF!"}},{"$error":"#REF!"}]
[{"$f":"basePAGAS!#REF!","v":{"$error":"#REF!"}},{"$error":"#REF!"}]
[{"$f":"basePAGAS!#REF!","v":{"$error":"#REF!"}},{"$error":"#REF!"}]
[{"$f":"basePAGAS!#REF!","v":{"$error":"#REF!"}},{"$error":"#REF!"}]
[{"$f":"basePAGAS!#REF!","v":{"$error":"#REF!"}},{"$error":"#REF!"}]
[{"$f":"basePAGAS!#REF!","v":{"$error":"#REF!"}},{"$error":"#REF!"}]
[{"$f":"basePAGAS!#REF!","v":{"$error":"#REF!"}},{"$error":"#REF!"}]
[{"$f":"basePAGAS!#REF!","v":{"$error":"#REF!"}},{"$error":"#REF!"}]
[{"$f":"basePAGAS!#REF!","v":{"$error":"#REF!"}},{"$error":"#REF!"}]
[{"$f":"basePAGAS!#REF!","v":{"$error":"#REF!"}},{"$error":"#REF!"}]
[{"$f":"basePAGAS!#REF!","v":{"$error":"#REF!"}},{"$error":"#REF!"}]
[{"$f":"basePAGAS!#REF!","v":{"$error":"#REF!"}},{"$error":"#REF!"}]
[{"$f":"basePAGAS!#REF!","v":{"$error":"#REF!"}},{"$error":"#REF!"}]
[{"$f":"basePAGAS!#REF!","v":{"$error":"#REF!"}},{"$error":"#REF!"}]
[{"$f":"basePAGAS!#REF!","v":{"$error":"#REF!"}},{"$error":"#REF!"}]
[{"$f":"basePAGAS!#REF!","v":{"$error":"#REF!"}},{"$error":"#REF!"}]
[{"$f":"basePAGAS!#REF!","v":{"$error":"#REF!"}},{"$error":"#REF!"}]
[{"$f":"basePAGAS!#REF!","v":{"$error":"#REF!"}},{"$error":"#REF!"}]
[{"$f":"basePAGAS!#REF!","v":{"$error":"#REF!"}},{"$error":"#REF!"}]
[{"$f":"basePAGAS!#REF!","v":{"$error":"#REF!"}},{"$error":"#REF!"}]
[{"$f":"basePAGAS!#REF!","v":{"$error":"#REF!"}},{"$error":"#REF!"}]
[{"$f":"basePAGAS!#REF!","v":{"$error":"#REF!"}},{"$error":"#REF!"}]
[{"$f":"basePAGAS!#REF!","v":{"$error":"#REF!"}},{"$error":"#REF!"}]
[{"$f":"basePAGAS!#REF!","v":{"$error":"#REF!"}},{"$error":"#REF!"}]
[{"$f":"basePAGAS!#REF!","v":{"$error":"#REF!"}},{"$error":"#REF!"}]
[{"$f":"basePAGAS!#REF!","v":{"$error":"#REF!"}},{"$error":"#REF!"}]
[{"$f":"basePAGAS!#REF!","v":{"$error":"#REF!"}},{"$error":"#REF!"}]
[{"$f":"basePAGAS!#REF!","v":{"$error":"#REF!"}},{"$error":"#REF!"}]
[{"$f":"basePAGAS!#REF!","v":{"$error":"#REF!"}},{"$error":"#REF!"}]
[{"$f":"basePAGAS!#REF!","v":{"$error":"#REF!"}},{"$error":"#REF!"}]
[{"$f":"basePAGAS!#REF!","v":{"$error":"#REF!"}},{"$error":"#REF!"}]
[{"$f":"basePAGAS!#REF!","v":{"$error":"#REF!"}},{"$error":"#REF!"}]
[{"$f":"basePAGAS!#REF!","v":{"$error":"#REF!"}},{"$error":"#REF!"}]
[{"$f":"basePAGAS!#REF!","v":{"$error":"#REF!"}},{"$error":"#REF!"}]
[{"$f":"basePAGAS!#REF!","v":{"$error":"#REF!"}},{"$error":"#REF!"}]
[{"$f":"basePAGAS!#REF!","v":{"$error":"#REF!"}},{"$error":"#REF!"}]
[{"$f":"basePAGAS!#REF!","v":{"$error":"#REF!"}},{"$error":"#REF!"}]
[{"$f":"basePAGAS!#REF!","v":{"$error":"#REF!"}},{"$error":"#REF!"}]
[{"$f":"basePAGAS!#REF!","v":{"$error":"#REF!"}},{"$error":"#REF!"}]
[{"$f":"basePAGAS!#REF!","v":{"$error":"#REF!"}},{"$error":"#REF!"}]
[{"$f":"basePAGAS!#REF!","v":{"$error":"#REF!"}},{"$error":"#REF!"}]
[{"$f":"basePAGAS!#REF!","v":{"$error":"#REF!"}},{"$error":"#REF!"}]
[{"$f":"basePAGAS!#REF!","v":{"$error":"#REF!"}},{"$error":"#REF!"}]
[{"$f":"basePAGAS!#REF!","v":{"$error":"#REF!"}},{"$error":"#REF!"}]
[{"$f":"basePAGAS!#REF!","v":{"$error":"#REF!"}},{"$error":"#REF!"}]
[{"$f":"basePAGAS!#REF!","v":{"$error":"#REF!"}},{"$error":"#REF!"}]
[{"$f":"basePAGAS!#REF!","v":{"$error":"#REF!"}},{"$error":"#REF!"}]
[{"$f":"basePAGAS!#REF!","v":{"$error":"#REF!"}},{"$f":"IF(A4623=\"\",\"\",IF(VLOOKUP(A4623,base_rpvs_pagas,2)=A$12,A4623,0))","v":{"$error":"#REF!"}}]
[{"$f":"basePAGAS!#REF!","v":{"$error":"#REF!"}},{"$error":"#REF!"}]
[{"$f":"basePAGAS!#REF!","v":{"$error":"#REF!"}},{"$error":"#REF!"}]
[{"$f":"basePAGAS!#REF!","v":{"$error":"#REF!"}},{"$error":"#REF!"}]
[{"$f":"basePAGAS!#REF!","v":{"$error":"#REF!"}},{"$error":"#REF!"}]
[{"$f":"basePAGAS!#REF!","v":{"$error":"#REF!"}},{"$error":"#REF!"}]
[{"$f":"basePAGAS!#REF!","v":{"$error":"#REF!"}},{"$error":"#REF!"}]
[{"$f":"basePAGAS!#REF!","v":{"$error":"#REF!"}},{"$error":"#REF!"}]
[{"$f":"basePAGAS!#REF!","v":{"$error":"#REF!"}},{"$error":"#REF!"}]
[{"$f":"basePAGAS!#REF!","v":{"$error":"#REF!"}},{"$error":"#REF!"}]
[{"$f":"basePAGAS!#REF!","v":{"$error":"#REF!"}},{"$error":"#REF!"}]
[{"$f":"basePAGAS!#REF!","v":{"$error":"#REF!"}},{"$error":"#REF!"}]
[{"$f":"basePAGAS!#REF!","v":{"$error":"#REF!"}},{"$error":"#REF!"}]
[{"$f":"basePAGAS!#REF!","v":{"$error":"#REF!"}},{"$error":"#REF!"}]
[{"$f":"basePAGAS!#REF!","v":{"$error":"#REF!"}},{"$error":"#REF!"}]
[{"$f":"basePAGAS!#REF!","v":{"$error":"#REF!"}},{"$error":"#REF!"}]
[{"$f":"basePAGAS!#REF!","v":{"$error":"#REF!"}},{"$error":"#REF!"}]
[{"$f":"basePAGAS!#REF!","v":{"$error":"#REF!"}},{"$error":"#REF!"}]
[{"$f":"basePAGAS!#REF!","v":{"$error":"#REF!"}},{"$error":"#REF!"}]
[{"$f":"basePAGAS!#REF!","v":{"$error":"#REF!"}},{"$error":"#REF!"}]
[{"$f":"basePAGAS!#REF!","v":{"$error":"#REF!"}},{"$error":"#REF!"}]
[{"$f":"basePAGAS!#REF!","v":{"$error":"#REF!"}},{"$error":"#REF!"}]
[{"$f":"basePAGAS!#REF!","v":{"$error":"#REF!"}},{"$error":"#REF!"}]
[{"$f":"basePAGAS!#REF!","v":{"$error":"#REF!"}},{"$error":"#REF!"}]
[{"$f":"basePAGAS!#REF!","v":{"$error":"#REF!"}},{"$error":"#REF!"}]
[{"$f":"basePAGAS!#REF!","v":{"$error":"#REF!"}},{"$error":"#REF!"}]
[{"$f":"basePAGAS!#REF!","v":{"$error":"#REF!"}},{"$error":"#REF!"}]
[{"$f":"basePAGAS!#REF!","v":{"$error":"#REF!"}},{"$error":"#REF!"}]
[{"$f":"basePAGAS!#REF!","v":{"$error":"#REF!"}},{"$error":"#REF!"}]
[{"$f":"basePAGAS!#REF!","v":{"$error":"#REF!"}},{"$error":"#REF!"}]
[{"$f":"basePAGAS!#REF!","v":{"$error":"#REF!"}},{"$error":"#REF!"}]
[{"$f":"basePAGAS!#REF!","v":{"$error":"#REF!"}},{"$error":"#REF!"}]
[{"$f":"basePAGAS!#REF!","v":{"$error":"#REF!"}},{"$error":"#REF!"}]
[{"$f":"basePAGAS!#REF!","v":{"$error":"#REF!"}},{"$error":"#REF!"}]
[{"$f":"basePAGAS!#REF!","v":{"$error":"#REF!"}},{"$error":"#REF!"}]
[{"$f":"basePAGAS!#REF!","v":{"$error":"#REF!"}},{"$error":"#REF!"}]
[{"$f":"basePAGAS!#REF!","v":{"$error":"#REF!"}},{"$error":"#REF!"}]
[{"$f":"basePAGAS!#REF!","v":{"$error":"#REF!"}},{"$error":"#REF!"}]
[{"$f":"basePAGAS!#REF!","v":{"$error":"#REF!"}},{"$error":"#REF!"}]
[{"$f":"basePAGAS!#REF!","v":{"$error":"#REF!"}},{"$error":"#REF!"}]
[{"$f":"basePAGAS!#REF!","v":{"$error":"#REF!"}},{"$error":"#REF!"}]
[{"$f":"basePAGAS!#REF!","v":{"$error":"#REF!"}},{"$error":"#REF!"}]
[{"$f":"basePAGAS!#REF!","v":{"$error":"#REF!"}},{"$error":"#REF!"}]
[{"$f":"basePAGAS!#REF!","v":{"$error":"#REF!"}},{"$error":"#REF!"}]
[{"$f":"basePAGAS!#REF!","v":{"$error":"#REF!"}},{"$error":"#REF!"}]
[{"$f":"basePAGAS!#REF!","v":{"$error":"#REF!"}},{"$error":"#REF!"}]
[{"$f":"basePAGAS!#REF!","v":{"$error":"#REF!"}},{"$error":"#REF!"}]
[{"$f":"basePAGAS!#REF!","v":{"$error":"#REF!"}},{"$error":"#REF!"}]
[{"$f":"basePAGAS!#REF!","v":{"$error":"#REF!"}},{"$error":"#REF!"}]
[{"$f":"basePAGAS!#REF!","v":{"$error":"#REF!"}},{"$error":"#REF!"}]
[{"$f":"basePAGAS!#REF!","v":{"$error":"#REF!"}},{"$error":"#REF!"}]
[{"$f":"basePAGAS!#REF!","v":{"$error":"#REF!"}},{"$error":"#REF!"}]
[{"$f":"basePAGAS!#REF!","v":{"$error":"#REF!"}},{"$error":"#REF!"}]
[{"$f":"basePAGAS!#REF!","v":{"$error":"#REF!"}},{"$error":"#REF!"}]
[{"$f":"basePAGAS!#REF!","v":{"$error":"#REF!"}},{"$error":"#REF!"}]
[{"$f":"basePAGAS!#REF!","v":{"$error":"#REF!"}},{"$error":"#REF!"}]
[{"$f":"basePAGAS!#REF!","v":{"$error":"#REF!"}},{"$error":"#REF!"}]
[{"$f":"basePAGAS!#REF!","v":{"$error":"#REF!"}},{"$error":"#REF!"}]
[{"$f":"basePAGAS!#REF!","v":{"$error":"#REF!"}},{"$error":"#REF!"}]
[{"$f":"basePAGAS!#REF!","v":{"$error":"#REF!"}},{"$error":"#REF!"}]
[{"$f":"basePAGAS!#REF!","v":{"$error":"#REF!"}},{"$error":"#REF!"}]
[{"$f":"basePAGAS!#REF!","v":{"$error":"#REF!"}},{"$error":"#REF!"}]
[{"$f":"basePAGAS!#REF!","v":{"$error":"#REF!"}},{"$error":"#REF!"}]
[{"$f":"basePAGAS!#REF!","v":{"$error":"#REF!"}},{"$error":"#REF!"}]
[{"$f":"basePAGAS!#REF!","v":{"$error":"#REF!"}},{"$f":"IF(A4687=\"\",\"\",IF(VLOOKUP(A4687,base_rpvs_pagas,2)=A$12,A4687,0))","v":{"$error":"#REF!"}}]
[{"$f":"basePAGAS!#REF!","v":{"$error":"#REF!"}},{"$error":"#REF!"}]
[{"$f":"basePAGAS!#REF!","v":{"$error":"#REF!"}},{"$error":"#REF!"}]
[{"$f":"basePAGAS!#REF!","v":{"$error":"#REF!"}},{"$error":"#REF!"}]
[{"$f":"basePAGAS!#REF!","v":{"$error":"#REF!"}},{"$error":"#REF!"}]
[{"$f":"basePAGAS!#REF!","v":{"$error":"#REF!"}},{"$error":"#REF!"}]
[{"$f":"basePAGAS!#REF!","v":{"$error":"#REF!"}},{"$error":"#REF!"}]
[{"$f":"basePAGAS!#REF!","v":{"$error":"#REF!"}},{"$error":"#REF!"}]
[{"$f":"basePAGAS!#REF!","v":{"$error":"#REF!"}},{"$error":"#REF!"}]
[{"$f":"basePAGAS!#REF!","v":{"$error":"#REF!"}},{"$error":"#REF!"}]
[{"$f":"basePAGAS!#REF!","v":{"$error":"#REF!"}},{"$error":"#REF!"}]
[{"$f":"basePAGAS!#REF!","v":{"$error":"#REF!"}},{"$error":"#REF!"}]
[{"$f":"basePAGAS!#REF!","v":{"$error":"#REF!"}},{"$error":"#REF!"}]
[{"$f":"basePAGAS!#REF!","v":{"$error":"#REF!"}},{"$error":"#REF!"}]
[{"$f":"basePAGAS!#REF!","v":{"$error":"#REF!"}},{"$error":"#REF!"}]
[{"$f":"basePAGAS!#REF!","v":{"$error":"#REF!"}},{"$error":"#REF!"}]
[{"$f":"basePAGAS!#REF!","v":{"$error":"#REF!"}},{"$error":"#REF!"}]
[{"$f":"basePAGAS!#REF!","v":{"$error":"#REF!"}},{"$error":"#REF!"}]
[{"$f":"basePAGAS!#REF!","v":{"$error":"#REF!"}},{"$error":"#REF!"}]
[{"$f":"basePAGAS!#REF!","v":{"$error":"#REF!"}},{"$error":"#REF!"}]
[{"$f":"basePAGAS!#REF!","v":{"$error":"#REF!"}},{"$error":"#REF!"}]
[{"$f":"basePAGAS!#REF!","v":{"$error":"#REF!"}},{"$error":"#REF!"}]
[{"$f":"basePAGAS!#REF!","v":{"$error":"#REF!"}},{"$error":"#REF!"}]
[{"$f":"basePAGAS!#REF!","v":{"$error":"#REF!"}},{"$error":"#REF!"}]
[{"$f":"basePAGAS!#REF!","v":{"$error":"#REF!"}},{"$error":"#REF!"}]
[{"$f":"basePAGAS!#REF!","v":{"$error":"#REF!"}},{"$error":"#REF!"}]
[{"$f":"basePAGAS!#REF!","v":{"$error":"#REF!"}},{"$error":"#REF!"}]
[{"$f":"basePAGAS!#REF!","v":{"$error":"#REF!"}},{"$error":"#REF!"}]
[{"$f":"basePAGAS!#REF!","v":{"$error":"#REF!"}},{"$error":"#REF!"}]
[{"$f":"basePAGAS!#REF!","v":{"$error":"#REF!"}},{"$error":"#REF!"}]
[{"$f":"basePAGAS!#REF!","v":{"$error":"#REF!"}},{"$error":"#REF!"}]
[{"$f":"basePAGAS!#REF!","v":{"$error":"#REF!"}},{"$error":"#REF!"}]
[{"$f":"basePAGAS!#REF!","v":{"$error":"#REF!"}},{"$error":"#REF!"}]
[{"$f":"basePAGAS!#REF!","v":{"$error":"#REF!"}},{"$error":"#REF!"}]
[{"$f":"basePAGAS!#REF!","v":{"$error":"#REF!"}},{"$error":"#REF!"}]
[{"$f":"basePAGAS!#REF!","v":{"$error":"#REF!"}},{"$error":"#REF!"}]
[{"$f":"basePAGAS!#REF!","v":{"$error":"#REF!"}},{"$error":"#REF!"}]
[{"$f":"basePAGAS!#REF!","v":{"$error":"#REF!"}},{"$error":"#REF!"}]
[{"$f":"basePAGAS!#REF!","v":{"$error":"#REF!"}},{"$error":"#REF!"}]
[{"$f":"basePAGAS!#REF!","v":{"$error":"#REF!"}},{"$error":"#REF!"}]
[{"$f":"basePAGAS!#REF!","v":{"$error":"#REF!"}},{"$error":"#REF!"}]
[{"$f":"basePAGAS!#REF!","v":{"$error":"#REF!"}},{"$error":"#REF!"}]
[{"$f":"basePAGAS!#REF!","v":{"$error":"#REF!"}},{"$error":"#REF!"}]
[{"$f":"basePAGAS!#REF!","v":{"$error":"#REF!"}},{"$error":"#REF!"}]
[{"$f":"basePAGAS!#REF!","v":{"$error":"#REF!"}},{"$error":"#REF!"}]
[{"$f":"basePAGAS!#REF!","v":{"$error":"#REF!"}},{"$error":"#REF!"}]
[{"$f":"basePAGAS!#REF!","v":{"$error":"#REF!"}},{"$error":"#REF!"}]
[{"$f":"basePAGAS!#REF!","v":{"$error":"#REF!"}},{"$error":"#REF!"}]
[{"$f":"basePAGAS!#REF!","v":{"$error":"#REF!"}},{"$error":"#REF!"}]
[{"$f":"basePAGAS!#REF!","v":{"$error":"#REF!"}},{"$error":"#REF!"}]
[{"$f":"basePAGAS!#REF!","v":{"$error":"#REF!"}},{"$error":"#REF!"}]
[{"$f":"basePAGAS!#REF!","v":{"$error":"#REF!"}},{"$error":"#REF!"}]
[{"$f":"basePAGAS!#REF!","v":{"$error":"#REF!"}},{"$error":"#REF!"}]
[{"$f":"basePAGAS!#REF!","v":{"$error":"#REF!"}},{"$error":"#REF!"}]
[{"$f":"basePAGAS!#REF!","v":{"$error":"#REF!"}},{"$error":"#REF!"}]
[{"$f":"basePAGAS!#REF!","v":{"$error":"#REF!"}},{"$error":"#REF!"}]
[{"$f":"basePAGAS!#REF!","v":{"$error":"#REF!"}},{"$error":"#REF!"}]
[{"$f":"basePAGAS!#REF!","v":{"$error":"#REF!"}},{"$error":"#REF!"}]
[{"$f":"basePAGAS!#REF!","v":{"$error":"#REF!"}},{"$error":"#REF!"}]
[{"$f":"basePAGAS!#REF!","v":{"$error":"#REF!"}},{"$error":"#REF!"}]
[{"$f":"basePAGAS!#REF!","v":{"$error":"#REF!"}},{"$error":"#REF!"}]
[{"$f":"basePAGAS!#REF!","v":{"$error":"#REF!"}},{"$error":"#REF!"}]
[{"$f":"basePAGAS!#REF!","v":{"$error":"#REF!"}},{"$error":"#REF!"}]
[{"$f":"basePAGAS!#REF!","v":{"$error":"#REF!"}},{"$error":"#REF!"}]
[{"$f":"basePAGAS!#REF!","v":{"$error":"#REF!"}},{"$f":"IF(A4751=\"\",\"\",IF(VLOOKUP(A4751,base_rpvs_pagas,2)=A$12,A4751,0))","v":{"$error":"#REF!"}}]
[{"$f":"basePAGAS!#REF!","v":{"$error":"#REF!"}},{"$error":"#REF!"}]
[{"$f":"basePAGAS!#REF!","v":{"$error":"#REF!"}},{"$error":"#REF!"}]
[{"$f":"basePAGAS!#REF!","v":{"$error":"#REF!"}},{"$error":"#REF!"}]
[{"$f":"basePAGAS!#REF!","v":{"$error":"#REF!"}},{"$error":"#REF!"}]
[{"$f":"basePAGAS!#REF!","v":{"$error":"#REF!"}},{"$error":"#REF!"}]
[{"$f":"basePAGAS!#REF!","v":{"$error":"#REF!"}},{"$error":"#REF!"}]
[{"$f":"basePAGAS!#REF!","v":{"$error":"#REF!"}},{"$error":"#REF!"}]
[{"$f":"basePAGAS!#REF!","v":{"$error":"#REF!"}},{"$error":"#REF!"}]
[{"$f":"basePAGAS!#REF!","v":{"$error":"#REF!"}},{"$error":"#REF!"}]
[{"$f":"basePAGAS!#REF!","v":{"$error":"#REF!"}},{"$error":"#REF!"}]
[{"$f":"basePAGAS!#REF!","v":{"$error":"#REF!"}},{"$error":"#REF!"}]
[{"$f":"basePAGAS!#REF!","v":{"$error":"#REF!"}},{"$error":"#REF!"}]
[{"$f":"basePAGAS!#REF!","v":{"$error":"#REF!"}},{"$error":"#REF!"}]
[{"$f":"basePAGAS!#REF!","v":{"$error":"#REF!"}},{"$error":"#REF!"}]
[{"$f":"basePAGAS!#REF!","v":{"$error":"#REF!"}},{"$error":"#REF!"}]
[{"$f":"basePAGAS!#REF!","v":{"$error":"#REF!"}},{"$error":"#REF!"}]
[{"$f":"basePAGAS!#REF!","v":{"$error":"#REF!"}},{"$error":"#REF!"}]
[{"$f":"basePAGAS!#REF!","v":{"$error":"#REF!"}},{"$error":"#REF!"}]
[{"$f":"basePAGAS!#REF!","v":{"$error":"#REF!"}},{"$error":"#REF!"}]
[{"$f":"basePAGAS!#REF!","v":{"$error":"#REF!"}},{"$error":"#REF!"}]
[{"$f":"basePAGAS!#REF!","v":{"$error":"#REF!"}},{"$error":"#REF!"}]
[{"$f":"basePAGAS!#REF!","v":{"$error":"#REF!"}},{"$error":"#REF!"}]
[{"$f":"basePAGAS!#REF!","v":{"$error":"#REF!"}},{"$error":"#REF!"}]
[{"$f":"basePAGAS!#REF!","v":{"$error":"#REF!"}},{"$error":"#REF!"}]
[{"$f":"basePAGAS!#REF!","v":{"$error":"#REF!"}},{"$error":"#REF!"}]
[{"$f":"basePAGAS!#REF!","v":{"$error":"#REF!"}},{"$error":"#REF!"}]
[{"$f":"basePAGAS!#REF!","v":{"$error":"#REF!"}},{"$error":"#REF!"}]
[{"$f":"basePAGAS!#REF!","v":{"$error":"#REF!"}},{"$error":"#REF!"}]
[{"$f":"basePAGAS!#REF!","v":{"$error":"#REF!"}},{"$error":"#REF!"}]
[{"$f":"basePAGAS!#REF!","v":{"$error":"#REF!"}},{"$error":"#REF!"}]
[{"$f":"basePAGAS!#REF!","v":{"$error":"#REF!"}},{"$error":"#REF!"}]
[{"$f":"basePAGAS!#REF!","v":{"$error":"#REF!"}},{"$error":"#REF!"}]
[{"$f":"basePAGAS!#REF!","v":{"$error":"#REF!"}},{"$error":"#REF!"}]
[{"$f":"basePAGAS!#REF!","v":{"$error":"#REF!"}},{"$error":"#REF!"}]
[{"$f":"basePAGAS!#REF!","v":{"$error":"#REF!"}},{"$error":"#REF!"}]
[{"$f":"basePAGAS!#REF!","v":{"$error":"#REF!"}},{"$error":"#REF!"}]
[{"$f":"basePAGAS!#REF!","v":{"$error":"#REF!"}},{"$error":"#REF!"}]
[{"$f":"basePAGAS!#REF!","v":{"$error":"#REF!"}},{"$error":"#REF!"}]
[{"$f":"basePAGAS!#REF!","v":{"$error":"#REF!"}},{"$error":"#REF!"}]
[{"$f":"basePAGAS!#REF!","v":{"$error":"#REF!"}},{"$error":"#REF!"}]
[{"$f":"basePAGAS!#REF!","v":{"$error":"#REF!"}},{"$error":"#REF!"}]
[{"$f":"basePAGAS!#REF!","v":{"$error":"#REF!"}},{"$error":"#REF!"}]
[{"$f":"basePAGAS!#REF!","v":{"$error":"#REF!"}},{"$error":"#REF!"}]
[{"$f":"basePAGAS!#REF!","v":{"$error":"#REF!"}},{"$error":"#REF!"}]
[{"$f":"basePAGAS!#REF!","v":{"$error":"#REF!"}},{"$error":"#REF!"}]
[{"$f":"basePAGAS!#REF!","v":{"$error":"#REF!"}},{"$error":"#REF!"}]
[{"$f":"basePAGAS!#REF!","v":{"$error":"#REF!"}},{"$error":"#REF!"}]
[{"$f":"basePAGAS!#REF!","v":{"$error":"#REF!"}},{"$error":"#REF!"}]
[{"$f":"basePAGAS!#REF!","v":{"$error":"#REF!"}},{"$error":"#REF!"}]
[{"$f":"basePAGAS!#REF!","v":{"$error":"#REF!"}},{"$error":"#REF!"}]
[{"$f":"basePAGAS!#REF!","v":{"$error":"#REF!"}},{"$error":"#REF!"}]
[{"$f":"basePAGAS!#REF!","v":{"$error":"#REF!"}},{"$error":"#REF!"}]
[{"$f":"basePAGAS!#REF!","v":{"$error":"#REF!"}},{"$error":"#REF!"}]
[{"$f":"basePAGAS!#REF!","v":{"$error":"#REF!"}},{"$error":"#REF!"}]
[{"$f":"basePAGAS!#REF!","v":{"$error":"#REF!"}},{"$error":"#REF!"}]
[{"$f":"basePAGAS!#REF!","v":{"$error":"#REF!"}},{"$error":"#REF!"}]
[{"$f":"basePAGAS!#REF!","v":{"$error":"#REF!"}},{"$error":"#REF!"}]
[{"$f":"basePAGAS!#REF!","v":{"$error":"#REF!"}},{"$error":"#REF!"}]
[{"$f":"basePAGAS!#REF!","v":{"$error":"#REF!"}},{"$error":"#REF!"}]
[{"$f":"basePAGAS!#REF!","v":{"$error":"#REF!"}},{"$error":"#REF!"}]
[{"$f":"basePAGAS!#REF!","v":{"$error":"#REF!"}},{"$error":"#REF!"}]
[{"$f":"basePAGAS!#REF!","v":{"$error":"#REF!"}},{"$error":"#REF!"}]
[{"$f":"basePAGAS!#REF!","v":{"$error":"#REF!"}},{"$error":"#REF!"}]
[{"$f":"basePAGAS!#REF!","v":{"$error":"#REF!"}},{"$f":"IF(A4815=\"\",\"\",IF(VLOOKUP(A4815,base_rpvs_pagas,2)=A$12,A4815,0))","v":{"$error":"#REF!"}}]
[{"$f":"basePAGAS!#REF!","v":{"$error":"#REF!"}},{"$error":"#REF!"}]
[{"$f":"basePAGAS!#REF!","v":{"$error":"#REF!"}},{"$error":"#REF!"}]
[{"$f":"basePAGAS!#REF!","v":{"$error":"#REF!"}},{"$error":"#REF!"}]
[{"$f":"basePAGAS!#REF!","v":{"$error":"#REF!"}},{"$error":"#REF!"}]
[{"$f":"basePAGAS!#REF!","v":{"$error":"#REF!"}},{"$error":"#REF!"}]
[{"$f":"basePAGAS!#REF!","v":{"$error":"#REF!"}},{"$error":"#REF!"}]
[{"$f":"basePAGAS!#REF!","v":{"$error":"#REF!"}},{"$error":"#REF!"}]
[{"$f":"basePAGAS!#REF!","v":{"$error":"#REF!"}},{"$error":"#REF!"}]
[{"$f":"basePAGAS!#REF!","v":{"$error":"#REF!"}},{"$error":"#REF!"}]
[{"$f":"basePAGAS!#REF!","v":{"$error":"#REF!"}},{"$error":"#REF!"}]
[{"$f":"basePAGAS!#REF!","v":{"$error":"#REF!"}},{"$error":"#REF!"}]
[{"$f":"basePAGAS!#REF!","v":{"$error":"#REF!"}},{"$error":"#REF!"}]
[{"$f":"basePAGAS!#REF!","v":{"$error":"#REF!"}},{"$error":"#REF!"}]
[{"$f":"basePAGAS!#REF!","v":{"$error":"#REF!"}},{"$error":"#REF!"}]
[{"$f":"basePAGAS!#REF!","v":{"$error":"#REF!"}},{"$error":"#REF!"}]
[{"$f":"basePAGAS!#REF!","v":{"$error":"#REF!"}},{"$error":"#REF!"}]
[{"$f":"basePAGAS!#REF!","v":{"$error":"#REF!"}},{"$error":"#REF!"}]
[{"$f":"basePAGAS!#REF!","v":{"$error":"#REF!"}},{"$error":"#REF!"}]
[{"$f":"basePAGAS!#REF!","v":{"$error":"#REF!"}},{"$error":"#REF!"}]
[{"$f":"basePAGAS!#REF!","v":{"$error":"#REF!"}},{"$error":"#REF!"}]
[{"$f":"basePAGAS!#REF!","v":{"$error":"#REF!"}},{"$error":"#REF!"}]
[{"$f":"basePAGAS!#REF!","v":{"$error":"#REF!"}},{"$error":"#REF!"}]
[{"$f":"basePAGAS!#REF!","v":{"$error":"#REF!"}},{"$error":"#REF!"}]
[{"$f":"basePAGAS!#REF!","v":{"$error":"#REF!"}},{"$error":"#REF!"}]
[{"$f":"basePAGAS!#REF!","v":{"$error":"#REF!"}},{"$error":"#REF!"}]
[{"$f":"basePAGAS!#REF!","v":{"$error":"#REF!"}},{"$error":"#REF!"}]
[{"$f":"basePAGAS!#REF!","v":{"$error":"#REF!"}},{"$error":"#REF!"}]
[{"$f":"basePAGAS!#REF!","v":{"$error":"#REF!"}},{"$error":"#REF!"}]
[{"$f":"basePAGAS!#REF!","v":{"$error":"#REF!"}},{"$error":"#REF!"}]
[{"$f":"basePAGAS!#REF!","v":{"$error":"#REF!"}},{"$error":"#REF!"}]
[{"$f":"basePAGAS!#REF!","v":{"$error":"#REF!"}},{"$error":"#REF!"}]
[{"$f":"basePAGAS!#REF!","v":{"$error":"#REF!"}},{"$error":"#REF!"}]
[{"$f":"basePAGAS!#REF!","v":{"$error":"#REF!"}},{"$error":"#REF!"}]
[{"$f":"basePAGAS!#REF!","v":{"$error":"#REF!"}},{"$error":"#REF!"}]
[{"$f":"basePAGAS!#REF!","v":{"$error":"#REF!"}},{"$error":"#REF!"}]
[{"$f":"basePAGAS!#REF!","v":{"$error":"#REF!"}},{"$error":"#REF!"}]
[{"$f":"basePAGAS!#REF!","v":{"$error":"#REF!"}},{"$error":"#REF!"}]
[{"$f":"basePAGAS!#REF!","v":{"$error":"#REF!"}},{"$error":"#REF!"}]
[{"$f":"basePAGAS!#REF!","v":{"$error":"#REF!"}},{"$error":"#REF!"}]
[{"$f":"basePAGAS!#REF!","v":{"$error":"#REF!"}},{"$error":"#REF!"}]
[{"$f":"basePAGAS!#REF!","v":{"$error":"#REF!"}},{"$error":"#REF!"}]
[{"$f":"basePAGAS!#REF!","v":{"$error":"#REF!"}},{"$error":"#REF!"}]
[{"$f":"basePAGAS!#REF!","v":{"$error":"#REF!"}},{"$error":"#REF!"}]
[{"$f":"basePAGAS!#REF!","v":{"$error":"#REF!"}},{"$error":"#REF!"}]
[{"$f":"basePAGAS!#REF!","v":{"$error":"#REF!"}},{"$error":"#REF!"}]
[{"$f":"basePAGAS!#REF!","v":{"$error":"#REF!"}},{"$error":"#REF!"}]
[{"$f":"basePAGAS!#REF!","v":{"$error":"#REF!"}},{"$error":"#REF!"}]
[{"$f":"basePAGAS!#REF!","v":{"$error":"#REF!"}},{"$error":"#REF!"}]
[{"$f":"basePAGAS!#REF!","v":{"$error":"#REF!"}},{"$error":"#REF!"}]
[{"$f":"basePAGAS!#REF!","v":{"$error":"#REF!"}},{"$error":"#REF!"}]
[{"$f":"basePAGAS!#REF!","v":{"$error":"#REF!"}},{"$error":"#REF!"}]
[{"$f":"basePAGAS!#REF!","v":{"$error":"#REF!"}},{"$error":"#REF!"}]
[{"$f":"basePAGAS!#REF!","v":{"$error":"#REF!"}},{"$error":"#REF!"}]
[{"$f":"basePAGAS!#REF!","v":{"$error":"#REF!"}},{"$error":"#REF!"}]
[{"$f":"basePAGAS!#REF!","v":{"$error":"#REF!"}},{"$error":"#REF!"}]
[{"$f":"basePAGAS!#REF!","v":{"$error":"#REF!"}},{"$error":"#REF!"}]
[{"$f":"basePAGAS!#REF!","v":{"$error":"#REF!"}},{"$error":"#REF!"}]
[{"$f":"basePAGAS!#REF!","v":{"$error":"#REF!"}},{"$error":"#REF!"}]
[{"$f":"basePAGAS!#REF!","v":{"$error":"#REF!"}},{"$error":"#REF!"}]
[{"$f":"basePAGAS!#REF!","v":{"$error":"#REF!"}},{"$error":"#REF!"}]
[{"$f":"basePAGAS!#REF!","v":{"$error":"#REF!"}},{"$error":"#REF!"}]
[{"$f":"basePAGAS!#REF!","v":{"$error":"#REF!"}},{"$error":"#REF!"}]
[{"$f":"basePAGAS!#REF!","v":{"$error":"#REF!"}},{"$error":"#REF!"}]
[{"$f":"basePAGAS!#REF!","v":{"$error":"#REF!"}},{"$f":"IF(A4879=\"\",\"\",IF(VLOOKUP(A4879,base_rpvs_pagas,2)=A$12,A4879,0))","v":{"$error":"#REF!"}}]
[{"$f":"basePAGAS!#REF!","v":{"$error":"#REF!"}},{"$error":"#REF!"}]
[{"$f":"basePAGAS!#REF!","v":{"$error":"#REF!"}},{"$error":"#REF!"}]
[{"$f":"basePAGAS!#REF!","v":{"$error":"#REF!"}},{"$error":"#REF!"}]
[{"$f":"basePAGAS!#REF!","v":{"$error":"#REF!"}},{"$error":"#REF!"}]
[{"$f":"basePAGAS!#REF!","v":{"$error":"#REF!"}},{"$error":"#REF!"}]
[{"$f":"basePAGAS!#REF!","v":{"$error":"#REF!"}},{"$error":"#REF!"}]
[{"$f":"basePAGAS!#REF!","v":{"$error":"#REF!"}},{"$error":"#REF!"}]
[{"$f":"basePAGAS!#REF!","v":{"$error":"#REF!"}},{"$error":"#REF!"}]
[{"$f":"basePAGAS!#REF!","v":{"$error":"#REF!"}},{"$error":"#REF!"}]
[{"$f":"basePAGAS!#REF!","v":{"$error":"#REF!"}},{"$error":"#REF!"}]
[{"$f":"basePAGAS!#REF!","v":{"$error":"#REF!"}},{"$error":"#REF!"}]
[{"$f":"basePAGAS!#REF!","v":{"$error":"#REF!"}},{"$error":"#REF!"}]
[{"$f":"basePAGAS!#REF!","v":{"$error":"#REF!"}},{"$error":"#REF!"}]
[{"$f":"basePAGAS!#REF!","v":{"$error":"#REF!"}},{"$error":"#REF!"}]
[{"$f":"basePAGAS!#REF!","v":{"$error":"#REF!"}},{"$error":"#REF!"}]
[{"$f":"basePAGAS!#REF!","v":{"$error":"#REF!"}},{"$error":"#REF!"}]
[{"$f":"basePAGAS!#REF!","v":{"$error":"#REF!"}},{"$error":"#REF!"}]
[{"$f":"basePAGAS!#REF!","v":{"$error":"#REF!"}},{"$error":"#REF!"}]
[{"$f":"basePAGAS!#REF!","v":{"$error":"#REF!"}},{"$error":"#REF!"}]
[{"$f":"basePAGAS!#REF!","v":{"$error":"#REF!"}},{"$error":"#REF!"}]
[{"$f":"basePAGAS!#REF!","v":{"$error":"#REF!"}},{"$error":"#REF!"}]
[{"$f":"basePAGAS!#REF!","v":{"$error":"#REF!"}},{"$error":"#REF!"}]
[{"$f":"basePAGAS!#REF!","v":{"$error":"#REF!"}},{"$error":"#REF!"}]
[{"$f":"basePAGAS!#REF!","v":{"$error":"#REF!"}},{"$error":"#REF!"}]
[{"$f":"basePAGAS!#REF!","v":{"$error":"#REF!"}},{"$error":"#REF!"}]
[{"$f":"basePAGAS!#REF!","v":{"$error":"#REF!"}},{"$error":"#REF!"}]
[{"$f":"basePAGAS!#REF!","v":{"$error":"#REF!"}},{"$error":"#REF!"}]
[{"$f":"basePAGAS!#REF!","v":{"$error":"#REF!"}},{"$error":"#REF!"}]
[{"$f":"basePAGAS!#REF!","v":{"$error":"#REF!"}},{"$error":"#REF!"}]
[{"$f":"basePAGAS!#REF!","v":{"$error":"#REF!"}},{"$error":"#REF!"}]
[{"$f":"basePAGAS!#REF!","v":{"$error":"#REF!"}},{"$error":"#REF!"}]
[{"$f":"basePAGAS!#REF!","v":{"$error":"#REF!"}},{"$error":"#REF!"}]
[{"$f":"basePAGAS!#REF!","v":{"$error":"#REF!"}},{"$error":"#REF!"}]
[{"$f":"basePAGAS!#REF!","v":{"$error":"#REF!"}},{"$error":"#REF!"}]
[{"$f":"basePAGAS!#REF!","v":{"$error":"#REF!"}},{"$error":"#REF!"}]
[{"$f":"basePAGAS!#REF!","v":{"$error":"#REF!"}},{"$error":"#REF!"}]
[{"$f":"basePAGAS!#REF!","v":{"$error":"#REF!"}},{"$error":"#REF!"}]
[{"$f":"basePAGAS!#REF!","v":{"$error":"#REF!"}},{"$error":"#REF!"}]
[{"$f":"basePAGAS!#REF!","v":{"$error":"#REF!"}},{"$error":"#REF!"}]
[{"$f":"basePAGAS!#REF!","v":{"$error":"#REF!"}},{"$error":"#REF!"}]
[{"$f":"basePAGAS!#REF!","v":{"$error":"#REF!"}},{"$error":"#REF!"}]
[{"$f":"basePAGAS!#REF!","v":{"$error":"#REF!"}},{"$error":"#REF!"}]
[{"$f":"basePAGAS!#REF!","v":{"$error":"#REF!"}},{"$error":"#REF!"}]
[{"$f":"basePAGAS!#REF!","v":{"$error":"#REF!"}},{"$error":"#REF!"}]
[{"$f":"basePAGAS!#REF!","v":{"$error":"#REF!"}},{"$error":"#REF!"}]
[{"$f":"basePAGAS!#REF!","v":{"$error":"#REF!"}},{"$error":"#REF!"}]
[{"$f":"basePAGAS!#REF!","v":{"$error":"#REF!"}},{"$error":"#REF!"}]
[{"$f":"basePAGAS!#REF!","v":{"$error":"#REF!"}},{"$error":"#REF!"}]
[{"$f":"basePAGAS!#REF!","v":{"$error":"#REF!"}},{"$error":"#REF!"}]
[{"$f":"basePAGAS!#REF!","v":{"$error":"#REF!"}},{"$error":"#REF!"}]
[{"$f":"basePAGAS!#REF!","v":{"$error":"#REF!"}},{"$error":"#REF!"}]
[{"$f":"basePAGAS!#REF!","v":{"$error":"#REF!"}},{"$error":"#REF!"}]
[{"$f":"basePAGAS!#REF!","v":{"$error":"#REF!"}},{"$error":"#REF!"}]
[{"$f":"basePAGAS!#REF!","v":{"$error":"#REF!"}},{"$error":"#REF!"}]
[{"$f":"basePAGAS!#REF!","v":{"$error":"#REF!"}},{"$error":"#REF!"}]
[{"$f":"basePAGAS!#REF!","v":{"$error":"#REF!"}},{"$error":"#REF!"}]
[{"$f":"basePAGAS!#REF!","v":{"$error":"#REF!"}},{"$error":"#REF!"}]
[{"$f":"basePAGAS!#REF!","v":{"$error":"#REF!"}},{"$error":"#REF!"}]
[{"$f":"basePAGAS!#REF!","v":{"$error":"#REF!"}},{"$error":"#REF!"}]
[{"$f":"basePAGAS!#REF!","v":{"$error":"#REF!"}},{"$error":"#REF!"}]
[{"$f":"basePAGAS!#REF!","v":{"$error":"#REF!"}},{"$error":"#REF!"}]
[{"$f":"basePAGAS!#REF!","v":{"$error":"#REF!"}},{"$error":"#REF!"}]
[{"$f":"basePAGAS!#REF!","v":{"$error":"#REF!"}},{"$error":"#REF!"}]
[{"$f":"basePAGAS!#REF!","v":{"$error":"#REF!"}},{"$f":"IF(A4943=\"\",\"\",IF(VLOOKUP(A4943,base_rpvs_pagas,2)=A$12,A4943,0))","v":{"$error":"#REF!"}}]
[{"$f":"basePAGAS!#REF!","v":{"$error":"#REF!"}},{"$error":"#REF!"}]
[{"$f":"basePAGAS!#REF!","v":{"$error":"#REF!"}},{"$error":"#REF!"}]
[{"$f":"basePAGAS!#REF!","v":{"$error":"#REF!"}},{"$error":"#REF!"}]
[{"$f":"basePAGAS!#REF!","v":{"$error":"#REF!"}},{"$error":"#REF!"}]
[{"$f":"basePAGAS!#REF!","v":{"$error":"#REF!"}},{"$error":"#REF!"}]
[{"$f":"basePAGAS!#REF!","v":{"$error":"#REF!"}},{"$error":"#REF!"}]
[{"$f":"basePAGAS!#REF!","v":{"$error":"#REF!"}},{"$error":"#REF!"}]
[{"$f":"basePAGAS!#REF!","v":{"$error":"#REF!"}},{"$error":"#REF!"}]
[{"$f":"basePAGAS!#REF!","v":{"$error":"#REF!"}},{"$error":"#REF!"}]
[{"$f":"basePAGAS!#REF!","v":{"$error":"#REF!"}},{"$error":"#REF!"}]
[{"$f":"basePAGAS!#REF!","v":{"$error":"#REF!"}},{"$error":"#REF!"}]
[{"$f":"basePAGAS!#REF!","v":{"$error":"#REF!"}},{"$error":"#REF!"}]
[{"$f":"basePAGAS!#REF!","v":{"$error":"#REF!"}},{"$error":"#REF!"}]
[{"$f":"basePAGAS!#REF!","v":{"$error":"#REF!"}},{"$error":"#REF!"}]
[{"$f":"basePAGAS!#REF!","v":{"$error":"#REF!"}},{"$error":"#REF!"}]
[{"$f":"basePAGAS!#REF!","v":{"$error":"#REF!"}},{"$error":"#REF!"}]
[{"$f":"basePAGAS!#REF!","v":{"$error":"#REF!"}},{"$error":"#REF!"}]
[{"$f":"basePAGAS!#REF!","v":{"$error":"#REF!"}},{"$error":"#REF!"}]
[{"$f":"basePAGAS!#REF!","v":{"$error":"#REF!"}},{"$error":"#REF!"}]
[{"$f":"basePAGAS!#REF!","v":{"$error":"#REF!"}},{"$error":"#REF!"}]
[{"$f":"basePAGAS!#REF!","v":{"$error":"#REF!"}},{"$error":"#REF!"}]
[{"$f":"basePAGAS!#REF!","v":{"$error":"#REF!"}},{"$error":"#REF!"}]
[{"$f":"basePAGAS!#REF!","v":{"$error":"#REF!"}},{"$error":"#REF!"}]
[{"$f":"basePAGAS!#REF!","v":{"$error":"#REF!"}},{"$error":"#REF!"}]
[{"$f":"basePAGAS!#REF!","v":{"$error":"#REF!"}},{"$error":"#REF!"}]
[{"$f":"basePAGAS!#REF!","v":{"$error":"#REF!"}},{"$error":"#REF!"}]
[{"$f":"basePAGAS!#REF!","v":{"$error":"#REF!"}},{"$error":"#REF!"}]
[{"$f":"basePAGAS!#REF!","v":{"$error":"#REF!"}},{"$error":"#REF!"}]
[{"$f":"basePAGAS!#REF!","v":{"$error":"#REF!"}},{"$error":"#REF!"}]
[{"$f":"basePAGAS!#REF!","v":{"$error":"#REF!"}},{"$error":"#REF!"}]
[{"$f":"basePAGAS!#REF!","v":{"$error":"#REF!"}},{"$error":"#REF!"}]
[{"$f":"basePAGAS!#REF!","v":{"$error":"#REF!"}},{"$error":"#REF!"}]
[{"$f":"basePAGAS!#REF!","v":{"$error":"#REF!"}},{"$error":"#REF!"}]
[{"$f":"basePAGAS!#REF!","v":{"$error":"#REF!"}},{"$error":"#REF!"}]
[{"$f":"basePAGAS!#REF!","v":{"$error":"#REF!"}},{"$error":"#REF!"}]
[{"$f":"basePAGAS!#REF!","v":{"$error":"#REF!"}},{"$error":"#REF!"}]
[{"$f":"basePAGAS!#REF!","v":{"$error":"#REF!"}},{"$error":"#REF!"}]
[{"$f":"basePAGAS!#REF!","v":{"$error":"#REF!"}},{"$error":"#REF!"}]
[{"$f":"basePAGAS!#REF!","v":{"$error":"#REF!"}},{"$error":"#REF!"}]
[{"$f":"basePAGAS!#REF!","v":{"$error":"#REF!"}},{"$error":"#REF!"}]
[{"$f":"basePAGAS!#REF!","v":{"$error":"#REF!"}},{"$error":"#REF!"}]
[{"$f":"basePAGAS!#REF!","v":{"$error":"#REF!"}},{"$error":"#REF!"}]
[{"$f":"basePAGAS!#REF!","v":{"$error":"#REF!"}},{"$error":"#REF!"}]
[{"$f":"basePAGAS!#REF!","v":{"$error":"#REF!"}},{"$error":"#REF!"}]
[{"$f":"basePAGAS!#REF!","v":{"$error":"#REF!"}},{"$error":"#REF!"}]
[{"$f":"basePAGAS!#REF!","v":{"$error":"#REF!"}},{"$error":"#REF!"}]
[{"$f":"basePAGAS!#REF!","v":{"$error":"#REF!"}},{"$error":"#REF!"}]
[{"$f":"basePAGAS!#REF!","v":{"$error":"#REF!"}},{"$error":"#REF!"}]
[{"$f":"basePAGAS!#REF!","v":{"$error":"#REF!"}},{"$error":"#REF!"}]
[{"$f":"basePAGAS!#REF!","v":{"$error":"#REF!"}},{"$error":"#REF!"}]
[{"$f":"basePAGAS!#REF!","v":{"$error":"#REF!"}},{"$error":"#REF!"}]
[{"$f":"basePAGAS!#REF!","v":{"$error":"#REF!"}},{"$error":"#REF!"}]
[{"$f":"basePAGAS!#REF!","v":{"$error":"#REF!"}},{"$error":"#REF!"}]
[{"$f":"basePAGAS!#REF!","v":{"$error":"#REF!"}},{"$error":"#REF!"}]
[{"$f":"basePAGAS!#REF!","v":{"$error":"#REF!"}},{"$error":"#REF!"}]
[{"$f":"basePAGAS!#REF!","v":{"$error":"#REF!"}},{"$error":"#REF!"}]
[{"$f":"basePAGAS!#REF!","v":{"$error":"#REF!"}},{"$error":"#REF!"}]
[{"$f":"basePAGAS!#REF!","v":{"$error":"#REF!"}},{"$error":"#REF!"}]
[{"$f":"basePAGAS!#REF!","v":{"$error":"#REF!"}},{"$error":"#REF!"}]
[{"$f":"basePAGAS!#REF!","v":{"$error":"#REF!"}},{"$error":"#REF!"}]
[{"$f":"basePAGAS!#REF!","v":{"$error":"#REF!"}},{"$error":"#REF!"}]
[{"$f":"basePAGAS!#REF!","v":{"$error":"#REF!"}},{"$error":"#REF!"}]
[{"$f":"basePAGAS!#REF!","v":{"$error":"#REF!"}},{"$error":"#REF!"}]
[{"$f":"basePAGAS!#REF!","v":{"$error":"#REF!"}},{"$f":"IF(A5007=\"\",\"\",IF(VLOOKUP(A5007,base_rpvs_pagas,2)=A$12,A5007,0))","v":{"$error":"#REF!"}}]
[{"$f":"basePAGAS!#REF!","v":{"$error":"#REF!"}},{"$error":"#REF!"}]
[{"$f":"basePAGAS!#REF!","v":{"$error":"#REF!"}},{"$error":"#REF!"}]
[{"$f":"basePAGAS!#REF!","v":{"$error":"#REF!"}},{"$error":"#REF!"}]
[{"$f":"basePAGAS!#REF!","v":{"$error":"#REF!"}},{"$error":"#REF!"}]
[{"$f":"basePAGAS!#REF!","v":{"$error":"#REF!"}},{"$error":"#REF!"}]
[{"$f":"basePAGAS!#REF!","v":{"$error":"#REF!"}},{"$error":"#REF!"}]
[{"$f":"basePAGAS!#REF!","v":{"$error":"#REF!"}},{"$error":"#REF!"}]
[{"$f":"basePAGAS!#REF!","v":{"$error":"#REF!"}},{"$error":"#REF!"}]
[{"$f":"basePAGAS!#REF!","v":{"$error":"#REF!"}},{"$error":"#REF!"}]
[{"$f":"basePAGAS!#REF!","v":{"$error":"#REF!"}},{"$error":"#REF!"}]
[{"$f":"basePAGAS!#REF!","v":{"$error":"#REF!"}},{"$error":"#REF!"}]
[{"$f":"basePAGAS!#REF!","v":{"$error":"#REF!"}},{"$error":"#REF!"}]
[{"$f":"basePAGAS!#REF!","v":{"$error":"#REF!"}},{"$error":"#REF!"}]
[{"$f":"basePAGAS!#REF!","v":{"$error":"#REF!"}},{"$error":"#REF!"}]
[{"$f":"basePAGAS!#REF!","v":{"$error":"#REF!"}},{"$error":"#REF!"}]
[{"$f":"basePAGAS!#REF!","v":{"$error":"#REF!"}},{"$error":"#REF!"}]
[{"$f":"basePAGAS!#REF!","v":{"$error":"#REF!"}},{"$error":"#REF!"}]
[{"$f":"basePAGAS!#REF!","v":{"$error":"#REF!"}},{"$error":"#REF!"}]
[{"$f":"basePAGAS!#REF!","v":{"$error":"#REF!"}},{"$error":"#REF!"}]
[{"$f":"basePAGAS!#REF!","v":{"$error":"#REF!"}},{"$error":"#REF!"}]
[{"$f":"basePAGAS!#REF!","v":{"$error":"#REF!"}},{"$error":"#REF!"}]
[{"$f":"basePAGAS!#REF!","v":{"$error":"#REF!"}},{"$error":"#REF!"}]
[{"$f":"basePAGAS!#REF!","v":{"$error":"#REF!"}},{"$error":"#REF!"}]
[{"$f":"basePAGAS!#REF!","v":{"$error":"#REF!"}},{"$error":"#REF!"}]
[{"$f":"basePAGAS!#REF!","v":{"$error":"#REF!"}},{"$error":"#REF!"}]
[{"$f":"basePAGAS!#REF!","v":{"$error":"#REF!"}},{"$error":"#REF!"}]
[{"$f":"basePAGAS!#REF!","v":{"$error":"#REF!"}},{"$error":"#REF!"}]
[{"$f":"basePAGAS!#REF!","v":{"$error":"#REF!"}},{"$error":"#REF!"}]
[{"$f":"basePAGAS!#REF!","v":{"$error":"#REF!"}},{"$error":"#REF!"}]
[{"$f":"basePAGAS!#REF!","v":{"$error":"#REF!"}},{"$error":"#REF!"}]
[{"$f":"basePAGAS!#REF!","v":{"$error":"#REF!"}},{"$error":"#REF!"}]
[{"$f":"basePAGAS!#REF!","v":{"$error":"#REF!"}},{"$error":"#REF!"}]
[{"$f":"basePAGAS!#REF!","v":{"$error":"#REF!"}},{"$error":"#REF!"}]
[{"$f":"basePAGAS!#REF!","v":{"$error":"#REF!"}},{"$error":"#REF!"}]
[{"$f":"basePAGAS!#REF!","v":{"$error":"#REF!"}},{"$error":"#REF!"}]
[{"$f":"basePAGAS!#REF!","v":{"$error":"#REF!"}},{"$error":"#REF!"}]
[{"$f":"basePAGAS!#REF!","v":{"$error":"#REF!"}},{"$error":"#REF!"}]
[{"$f":"basePAGAS!#REF!","v":{"$error":"#REF!"}},{"$error":"#REF!"}]
[{"$f":"basePAGAS!#REF!","v":{"$error":"#REF!"}},{"$error":"#REF!"}]
[{"$f":"basePAGAS!#REF!","v":{"$error":"#REF!"}},{"$error":"#REF!"}]
[{"$f":"basePAGAS!#REF!","v":{"$error":"#REF!"}},{"$error":"#REF!"}]
[{"$f":"basePAGAS!#REF!","v":{"$error":"#REF!"}},{"$error":"#REF!"}]
[{"$f":"basePAGAS!#REF!","v":{"$error":"#REF!"}},{"$error":"#REF!"}]
[{"$f":"basePAGAS!#REF!","v":{"$error":"#REF!"}},{"$error":"#REF!"}]
[{"$f":"basePAGAS!#REF!","v":{"$error":"#REF!"}},{"$error":"#REF!"}]
[{"$f":"basePAGAS!#REF!","v":{"$error":"#REF!"}},{"$error":"#REF!"}]
[{"$f":"basePAGAS!#REF!","v":{"$error":"#REF!"}},{"$error":"#REF!"}]
[{"$f":"basePAGAS!#REF!","v":{"$error":"#REF!"}},{"$error":"#REF!"}]
[{"$f":"basePAGAS!#REF!","v":{"$error":"#REF!"}},{"$error":"#REF!"}]
[{"$f":"basePAGAS!#REF!","v":{"$error":"#REF!"}},{"$error":"#REF!"}]
[{"$f":"basePAGAS!#REF!","v":{"$error":"#REF!"}},{"$error":"#REF!"}]
[{"$f":"basePAGAS!#REF!","v":{"$error":"#REF!"}},{"$error":"#REF!"}]
[{"$f":"basePAGAS!#REF!","v":{"$error":"#REF!"}},{"$error":"#REF!"}]
[{"$f":"basePAGAS!#REF!","v":{"$error":"#REF!"}},{"$error":"#REF!"}]
[{"$f":"basePAGAS!#REF!","v":{"$error":"#REF!"}},{"$error":"#REF!"}]
[{"$f":"basePAGAS!#REF!","v":{"$error":"#REF!"}},{"$error":"#REF!"}]
[{"$f":"basePAGAS!#REF!","v":{"$error":"#REF!"}},{"$error":"#REF!"}]
[{"$f":"basePAGAS!#REF!","v":{"$error":"#REF!"}},{"$error":"#REF!"}]
[{"$f":"basePAGAS!#REF!","v":{"$error":"#REF!"}},{"$error":"#REF!"}]
[{"$f":"basePAGAS!#REF!","v":{"$error":"#REF!"}},{"$error":"#REF!"}]
[{"$f":"basePAGAS!#REF!","v":{"$error":"#REF!"}},{"$error":"#REF!"}]
[{"$f":"basePAGAS!#REF!","v":{"$error":"#REF!"}},{"$error":"#REF!"}]
[{"$f":"basePAGAS!#REF!","v":{"$error":"#REF!"}},{"$error":"#REF!"}]
[{"$f":"basePAGAS!#REF!","v":{"$error":"#REF!"}},{"$f":"IF(A5071=\"\",\"\",IF(VLOOKUP(A5071,base_rpvs_pagas,2)=A$12,A5071,0))","v":{"$error":"#REF!"}}]
[{"$f":"basePAGAS!#REF!","v":{"$error":"#REF!"}},{"$error":"#REF!"}]
[{"$f":"basePAGAS!#REF!","v":{"$error":"#REF!"}},{"$error":"#REF!"}]
[{"$f":"basePAGAS!#REF!","v":{"$error":"#REF!"}},{"$error":"#REF!"}]
[{"$f":"basePAGAS!#REF!","v":{"$error":"#REF!"}},{"$error":"#REF!"}]
[{"$f":"basePAGAS!#REF!","v":{"$error":"#REF!"}},{"$error":"#REF!"}]
[{"$f":"basePAGAS!#REF!","v":{"$error":"#REF!"}},{"$error":"#REF!"}]
[{"$f":"basePAGAS!#REF!","v":{"$error":"#REF!"}},{"$error":"#REF!"}]
[{"$f":"basePAGAS!#REF!","v":{"$error":"#REF!"}},{"$error":"#REF!"}]
[{"$f":"basePAGAS!#REF!","v":{"$error":"#REF!"}},{"$error":"#REF!"}]
[{"$f":"basePAGAS!#REF!","v":{"$error":"#REF!"}},{"$error":"#REF!"}]
[{"$f":"basePAGAS!#REF!","v":{"$error":"#REF!"}},{"$error":"#REF!"}]
[{"$f":"basePAGAS!#REF!","v":{"$error":"#REF!"}},{"$error":"#REF!"}]
[{"$f":"basePAGAS!#REF!","v":{"$error":"#REF!"}},{"$error":"#REF!"}]
[{"$f":"basePAGAS!#REF!","v":{"$error":"#REF!"}},{"$error":"#REF!"}]
[{"$f":"basePAGAS!#REF!","v":{"$error":"#REF!"}},{"$error":"#REF!"}]
[{"$f":"basePAGAS!#REF!","v":{"$error":"#REF!"}},{"$error":"#REF!"}]
[{"$f":"basePAGAS!#REF!","v":{"$error":"#REF!"}},{"$error":"#REF!"}]
[{"$f":"basePAGAS!#REF!","v":{"$error":"#REF!"}},{"$error":"#REF!"}]
[{"$f":"basePAGAS!#REF!","v":{"$error":"#REF!"}},{"$error":"#REF!"}]
[{"$f":"basePAGAS!#REF!","v":{"$error":"#REF!"}},{"$error":"#REF!"}]
[{"$f":"basePAGAS!#REF!","v":{"$error":"#REF!"}},{"$error":"#REF!"}]
[{"$f":"basePAGAS!#REF!","v":{"$error":"#REF!"}},{"$error":"#REF!"}]
[{"$f":"basePAGAS!#REF!","v":{"$error":"#REF!"}},{"$error":"#REF!"}]
[{"$f":"basePAGAS!#REF!","v":{"$error":"#REF!"}},{"$error":"#REF!"}]
[{"$f":"basePAGAS!#REF!","v":{"$error":"#REF!"}},{"$error":"#REF!"}]
[{"$f":"basePAGAS!#REF!","v":{"$error":"#REF!"}},{"$error":"#REF!"}]
[{"$f":"basePAGAS!#REF!","v":{"$error":"#REF!"}},{"$error":"#REF!"}]
[{"$f":"basePAGAS!#REF!","v":{"$error":"#REF!"}},{"$error":"#REF!"}]
[{"$f":"basePAGAS!#REF!","v":{"$error":"#REF!"}},{"$error":"#REF!"}]
[{"$f":"basePAGAS!#REF!","v":{"$error":"#REF!"}},{"$error":"#REF!"}]
[{"$f":"basePAGAS!#REF!","v":{"$error":"#REF!"}},{"$error":"#REF!"}]
[{"$f":"basePAGAS!#REF!","v":{"$error":"#REF!"}},{"$error":"#REF!"}]
[{"$f":"basePAGAS!#REF!","v":{"$error":"#REF!"}},{"$error":"#REF!"}]
[{"$f":"basePAGAS!#REF!","v":{"$error":"#REF!"}},{"$error":"#REF!"}]
[{"$f":"basePAGAS!#REF!","v":{"$error":"#REF!"}},{"$error":"#REF!"}]
[{"$f":"basePAGAS!#REF!","v":{"$error":"#REF!"}},{"$error":"#REF!"}]
[{"$f":"basePAGAS!#REF!","v":{"$error":"#REF!"}},{"$error":"#REF!"}]
[{"$f":"basePAGAS!#REF!","v":{"$error":"#REF!"}},{"$error":"#REF!"}]
[{"$f":"basePAGAS!#REF!","v":{"$error":"#REF!"}},{"$error":"#REF!"}]
[{"$f":"basePAGAS!#REF!","v":{"$error":"#REF!"}},{"$error":"#REF!"}]
[{"$f":"basePAGAS!#REF!","v":{"$error":"#REF!"}},{"$error":"#REF!"}]
[{"$f":"basePAGAS!#REF!","v":{"$error":"#REF!"}},{"$error":"#REF!"}]
[{"$f":"basePAGAS!#REF!","v":{"$error":"#REF!"}},{"$error":"#REF!"}]
[{"$f":"basePAGAS!#REF!","v":{"$error":"#REF!"}},{"$error":"#REF!"}]
[{"$f":"basePAGAS!#REF!","v":{"$error":"#REF!"}},{"$error":"#REF!"}]
[{"$f":"basePAGAS!#REF!","v":{"$error":"#REF!"}},{"$error":"#REF!"}]
[{"$f":"basePAGAS!#REF!","v":{"$error":"#REF!"}},{"$error":"#REF!"}]
[{"$f":"basePAGAS!#REF!","v":{"$error":"#REF!"}},{"$error":"#REF!"}]
[{"$f":"basePAGAS!#REF!","v":{"$error":"#REF!"}},{"$error":"#REF!"}]
[{"$f":"basePAGAS!#REF!","v":{"$error":"#REF!"}},{"$error":"#REF!"}]
[{"$f":"basePAGAS!#REF!","v":{"$error":"#REF!"}},{"$error":"#REF!"}]
[{"$f":"basePAGAS!#REF!","v":{"$error":"#REF!"}},{"$error":"#REF!"}]
[{"$f":"basePAGAS!#REF!","v":{"$error":"#REF!"}},{"$error":"#REF!"}]
[{"$f":"basePAGAS!#REF!","v":{"$error":"#REF!"}},{"$error":"#REF!"}]
[{"$f":"basePAGAS!#REF!","v":{"$error":"#REF!"}},{"$error":"#REF!"}]
[{"$f":"basePAGAS!#REF!","v":{"$error":"#REF!"}},{"$error":"#REF!"}]
[{"$f":"basePAGAS!#REF!","v":{"$error":"#REF!"}},{"$error":"#REF!"}]
[{"$f":"basePAGAS!#REF!","v":{"$error":"#REF!"}},{"$error":"#REF!"}]
[{"$f":"basePAGAS!#REF!","v":{"$error":"#REF!"}},{"$error":"#REF!"}]
[{"$f":"basePAGAS!#REF!","v":{"$error":"#REF!"}},{"$error":"#REF!"}]
[{"$f":"basePAGAS!#REF!","v":{"$error":"#REF!"}},{"$error":"#REF!"}]
[{"$f":"basePAGAS!#REF!","v":{"$error":"#REF!"}},{"$error":"#REF!"}]
[{"$f":"basePAGAS!#REF!","v":{"$error":"#REF!"}},{"$error":"#REF!"}]
[{"$f":"basePAGAS!#REF!","v":{"$error":"#REF!"}},{"$f":"IF(A5135=\"\",\"\",IF(VLOOKUP(A5135,base_rpvs_pagas,2)=A$12,A5135,0))","v":{"$error":"#REF!"}}]
[{"$f":"basePAGAS!#REF!","v":{"$error":"#REF!"}},{"$error":"#REF!"}]
[{"$f":"basePAGAS!#REF!","v":{"$error":"#REF!"}},{"$error":"#REF!"}]
[{"$f":"basePAGAS!#REF!","v":{"$error":"#REF!"}},{"$error":"#REF!"}]
[{"$f":"basePAGAS!#REF!","v":{"$error":"#REF!"}},{"$error":"#REF!"}]
[{"$f":"basePAGAS!#REF!","v":{"$error":"#REF!"}},{"$error":"#REF!"}]
[{"$f":"basePAGAS!#REF!","v":{"$error":"#REF!"}},{"$error":"#REF!"}]
[{"$f":"basePAGAS!#REF!","v":{"$error":"#REF!"}},{"$error":"#REF!"}]
[{"$f":"basePAGAS!#REF!","v":{"$error":"#REF!"}},{"$error":"#REF!"}]
[{"$f":"basePAGAS!#REF!","v":{"$error":"#REF!"}},{"$error":"#REF!"}]
[{"$f":"basePAGAS!#REF!","v":{"$error":"#REF!"}},{"$error":"#REF!"}]
[{"$f":"basePAGAS!#REF!","v":{"$error":"#REF!"}},{"$error":"#REF!"}]
[{"$f":"basePAGAS!#REF!","v":{"$error":"#REF!"}},{"$error":"#REF!"}]
[{"$f":"basePAGAS!#REF!","v":{"$error":"#REF!"}},{"$error":"#REF!"}]
[{"$f":"basePAGAS!#REF!","v":{"$error":"#REF!"}},{"$error":"#REF!"}]
[{"$f":"basePAGAS!#REF!","v":{"$error":"#REF!"}},{"$error":"#REF!"}]
[{"$f":"basePAGAS!#REF!","v":{"$error":"#REF!"}},{"$error":"#REF!"}]
[{"$f":"basePAGAS!#REF!","v":{"$error":"#REF!"}},{"$error":"#REF!"}]
[{"$f":"basePAGAS!#REF!","v":{"$error":"#REF!"}},{"$error":"#REF!"}]
[{"$f":"basePAGAS!#REF!","v":{"$error":"#REF!"}},{"$error":"#REF!"}]
[{"$f":"basePAGAS!#REF!","v":{"$error":"#REF!"}},{"$error":"#REF!"}]
[{"$f":"basePAGAS!#REF!","v":{"$error":"#REF!"}},{"$error":"#REF!"}]
[{"$f":"basePAGAS!#REF!","v":{"$error":"#REF!"}},{"$error":"#REF!"}]
[{"$f":"basePAGAS!#REF!","v":{"$error":"#REF!"}},{"$error":"#REF!"}]
[{"$f":"basePAGAS!#REF!","v":{"$error":"#REF!"}},{"$error":"#REF!"}]
[{"$f":"basePAGAS!#REF!","v":{"$error":"#REF!"}},{"$error":"#REF!"}]
[{"$f":"basePAGAS!#REF!","v":{"$error":"#REF!"}},{"$error":"#REF!"}]
[{"$f":"basePAGAS!#REF!","v":{"$error":"#REF!"}},{"$error":"#REF!"}]
[{"$f":"basePAGAS!#REF!","v":{"$error":"#REF!"}},{"$error":"#REF!"}]
[{"$f":"basePAGAS!#REF!","v":{"$error":"#REF!"}},{"$error":"#REF!"}]
[{"$f":"basePAGAS!#REF!","v":{"$error":"#REF!"}},{"$error":"#REF!"}]
[{"$f":"basePAGAS!#REF!","v":{"$error":"#REF!"}},{"$error":"#REF!"}]
[{"$f":"basePAGAS!#REF!","v":{"$error":"#REF!"}},{"$error":"#REF!"}]
[{"$f":"basePAGAS!#REF!","v":{"$error":"#REF!"}},{"$error":"#REF!"}]
[{"$f":"basePAGAS!#REF!","v":{"$error":"#REF!"}},{"$error":"#REF!"}]
[{"$f":"basePAGAS!#REF!","v":{"$error":"#REF!"}},{"$error":"#REF!"}]
[{"$f":"basePAGAS!#REF!","v":{"$error":"#REF!"}},{"$error":"#REF!"}]
[{"$f":"basePAGAS!#REF!","v":{"$error":"#REF!"}},{"$error":"#REF!"}]
[{"$f":"basePAGAS!#REF!","v":{"$error":"#REF!"}},{"$error":"#REF!"}]
[{"$f":"basePAGAS!#REF!","v":{"$error":"#REF!"}},{"$error":"#REF!"}]
[{"$f":"basePAGAS!#REF!","v":{"$error":"#REF!"}},{"$error":"#REF!"}]
[{"$f":"basePAGAS!#REF!","v":{"$error":"#REF!"}},{"$error":"#REF!"}]
[{"$f":"basePAGAS!#REF!","v":{"$error":"#REF!"}},{"$error":"#REF!"}]
[{"$f":"basePAGAS!#REF!","v":{"$error":"#REF!"}},{"$error":"#REF!"}]
[{"$f":"basePAGAS!#REF!","v":{"$error":"#REF!"}},{"$error":"#REF!"}]
[{"$f":"basePAGAS!#REF!","v":{"$error":"#REF!"}},{"$error":"#REF!"}]
[{"$f":"basePAGAS!#REF!","v":{"$error":"#REF!"}},{"$error":"#REF!"}]
[{"$f":"basePAGAS!#REF!","v":{"$error":"#REF!"}},{"$error":"#REF!"}]
[{"$f":"basePAGAS!#REF!","v":{"$error":"#REF!"}},{"$error":"#REF!"}]
[{"$f":"basePAGAS!#REF!","v":{"$error":"#REF!"}},{"$error":"#REF!"}]
[{"$f":"basePAGAS!#REF!","v":{"$error":"#REF!"}},{"$error":"#REF!"}]
[{"$f":"basePAGAS!#REF!","v":{"$error":"#REF!"}},{"$error":"#REF!"}]
[{"$f":"basePAGAS!#REF!","v":{"$error":"#REF!"}},{"$error":"#REF!"}]
[{"$f":"basePAGAS!#REF!","v":{"$error":"#REF!"}},{"$error":"#REF!"}]
[{"$f":"basePAGAS!#REF!","v":{"$error":"#REF!"}},{"$error":"#REF!"}]
[{"$f":"basePAGAS!#REF!","v":{"$error":"#REF!"}},{"$error":"#REF!"}]
[{"$f":"basePAGAS!#REF!","v":{"$error":"#REF!"}},{"$error":"#REF!"}]
[{"$f":"basePAGAS!#REF!","v":{"$error":"#REF!"}},{"$error":"#REF!"}]
[{"$f":"basePAGAS!#REF!","v":{"$error":"#REF!"}},{"$error":"#REF!"}]
[{"$f":"basePAGAS!#REF!","v":{"$error":"#REF!"}},{"$error":"#REF!"}]
[{"$f":"basePAGAS!#REF!","v":{"$error":"#REF!"}},{"$error":"#REF!"}]
[{"$f":"basePAGAS!#REF!","v":{"$error":"#REF!"}},{"$error":"#REF!"}]
[{"$f":"basePAGAS!#REF!","v":{"$error":"#REF!"}},{"$error":"#REF!"}]
[{"$f":"basePAGAS!#REF!","v":{"$error":"#REF!"}},{"$error":"#REF!"}]
[{"$f":"basePAGAS!#REF!","v":{"$error":"#REF!"}},{"$f":"IF(A5199=\"\",\"\",IF(VLOOKUP(A5199,base_rpvs_pagas,2)=A$12,A5199,0))","v":{"$error":"#REF!"}}]
[{"$f":"basePAGAS!#REF!","v":{"$error":"#REF!"}},{"$error":"#REF!"}]
[{"$f":"basePAGAS!#REF!","v":{"$error":"#REF!"}},{"$error":"#REF!"}]
[{"$f":"basePAGAS!#REF!","v":{"$error":"#REF!"}},{"$error":"#REF!"}]
[{"$f":"basePAGAS!#REF!","v":{"$error":"#REF!"}},{"$error":"#REF!"}]
[{"$f":"basePAGAS!#REF!","v":{"$error":"#REF!"}},{"$error":"#REF!"}]
[{"$f":"basePAGAS!#REF!","v":{"$error":"#REF!"}},{"$error":"#REF!"}]
[{"$f":"basePAGAS!#REF!","v":{"$error":"#REF!"}},{"$error":"#REF!"}]
[{"$f":"basePAGAS!#REF!","v":{"$error":"#REF!"}},{"$error":"#REF!"}]
[{"$f":"basePAGAS!#REF!","v":{"$error":"#REF!"}},{"$error":"#REF!"}]
[{"$f":"basePAGAS!#REF!","v":{"$error":"#REF!"}},{"$error":"#REF!"}]
[{"$f":"basePAGAS!#REF!","v":{"$error":"#REF!"}},{"$error":"#REF!"}]
[{"$f":"basePAGAS!#REF!","v":{"$error":"#REF!"}},{"$error":"#REF!"}]
[{"$f":"basePAGAS!#REF!","v":{"$error":"#REF!"}},{"$error":"#REF!"}]
[{"$f":"basePAGAS!#REF!","v":{"$error":"#REF!"}},{"$error":"#REF!"}]
[{"$f":"basePAGAS!#REF!","v":{"$error":"#REF!"}},{"$error":"#REF!"}]
[{"$f":"basePAGAS!#REF!","v":{"$error":"#REF!"}},{"$error":"#REF!"}]
[{"$f":"basePAGAS!#REF!","v":{"$error":"#REF!"}},{"$error":"#REF!"}]
[{"$f":"basePAGAS!#REF!","v":{"$error":"#REF!"}},{"$error":"#REF!"}]
[{"$f":"basePAGAS!#REF!","v":{"$error":"#REF!"}},{"$error":"#REF!"}]
[{"$f":"basePAGAS!#REF!","v":{"$error":"#REF!"}},{"$error":"#REF!"}]
[{"$f":"basePAGAS!#REF!","v":{"$error":"#REF!"}},{"$error":"#REF!"}]
[{"$f":"basePAGAS!#REF!","v":{"$error":"#REF!"}},{"$error":"#REF!"}]
[{"$f":"basePAGAS!#REF!","v":{"$error":"#REF!"}},{"$error":"#REF!"}]
[{"$f":"basePAGAS!#REF!","v":{"$error":"#REF!"}},{"$error":"#REF!"}]
[{"$f":"basePAGAS!#REF!","v":{"$error":"#REF!"}},{"$error":"#REF!"}]
[{"$f":"basePAGAS!#REF!","v":{"$error":"#REF!"}},{"$error":"#REF!"}]
[{"$f":"basePAGAS!#REF!","v":{"$error":"#REF!"}},{"$error":"#REF!"}]
[{"$f":"basePAGAS!#REF!","v":{"$error":"#REF!"}},{"$error":"#REF!"}]
[{"$f":"basePAGAS!#REF!","v":{"$error":"#REF!"}},{"$error":"#REF!"}]
[{"$f":"basePAGAS!#REF!","v":{"$error":"#REF!"}},{"$error":"#REF!"}]
[{"$f":"basePAGAS!#REF!","v":{"$error":"#REF!"}},{"$error":"#REF!"}]
[{"$f":"basePAGAS!#REF!","v":{"$error":"#REF!"}},{"$error":"#REF!"}]
[{"$f":"basePAGAS!#REF!","v":{"$error":"#REF!"}},{"$error":"#REF!"}]
[{"$f":"basePAGAS!#REF!","v":{"$error":"#REF!"}},{"$error":"#REF!"}]
[{"$f":"basePAGAS!#REF!","v":{"$error":"#REF!"}},{"$error":"#REF!"}]
[{"$f":"basePAGAS!#REF!","v":{"$error":"#REF!"}},{"$error":"#REF!"}]
[{"$f":"basePAGAS!#REF!","v":{"$error":"#REF!"}},{"$error":"#REF!"}]
[{"$f":"basePAGAS!#REF!","v":{"$error":"#REF!"}},{"$error":"#REF!"}]
[{"$f":"basePAGAS!#REF!","v":{"$error":"#REF!"}},{"$error":"#REF!"}]
[{"$f":"basePAGAS!#REF!","v":{"$error":"#REF!"}},{"$error":"#REF!"}]
[{"$f":"basePAGAS!#REF!","v":{"$error":"#REF!"}},{"$error":"#REF!"}]
[{"$f":"basePAGAS!#REF!","v":{"$error":"#REF!"}},{"$error":"#REF!"}]
[{"$f":"basePAGAS!#REF!","v":{"$error":"#REF!"}},{"$error":"#REF!"}]
[{"$f":"basePAGAS!#REF!","v":{"$error":"#REF!"}},{"$error":"#REF!"}]
[{"$f":"basePAGAS!#REF!","v":{"$error":"#REF!"}},{"$error":"#REF!"}]
[{"$f":"basePAGAS!#REF!","v":{"$error":"#REF!"}},{"$error":"#REF!"}]
[{"$f":"basePAGAS!#REF!","v":{"$error":"#REF!"}},{"$error":"#REF!"}]
[{"$f":"basePAGAS!#REF!","v":{"$error":"#REF!"}},{"$error":"#REF!"}]
[{"$f":"basePAGAS!#REF!","v":{"$error":"#REF!"}},{"$error":"#REF!"}]
[{"$f":"basePAGAS!#REF!","v":{"$error":"#REF!"}},{"$error":"#REF!"}]
[{"$f":"basePAGAS!#REF!","v":{"$error":"#REF!"}},{"$error":"#REF!"}]
[{"$f":"basePAGAS!#REF!","v":{"$error":"#REF!"}},{"$error":"#REF!"}]
[{"$f":"basePAGAS!#REF!","v":{"$error":"#REF!"}},{"$error":"#REF!"}]
[{"$f":"basePAGAS!#REF!","v":{"$error":"#REF!"}},{"$error":"#REF!"}]
[{"$f":"basePAGAS!#REF!","v":{"$error":"#REF!"}},{"$error":"#REF!"}]
[{"$f":"basePAGAS!#REF!","v":{"$error":"#REF!"}},{"$error":"#REF!"}]
[{"$f":"basePAGAS!#REF!","v":{"$error":"#REF!"}},{"$error":"#REF!"}]
[{"$f":"basePAGAS!#REF!","v":{"$error":"#REF!"}},{"$error":"#REF!"}]
[{"$f":"basePAGAS!#REF!","v":{"$error":"#REF!"}},{"$error":"#REF!"}]
[{"$f":"basePAGAS!#REF!","v":{"$error":"#REF!"}},{"$error":"#REF!"}]
[{"$f":"basePAGAS!#REF!","v":{"$error":"#REF!"}},{"$error":"#REF!"}]
[{"$f":"basePAGAS!#REF!","v":{"$error":"#REF!"}},{"$error":"#REF!"}]
[{"$f":"basePAGAS!#REF!","v":{"$error":"#REF!"}},{"$error":"#REF!"}]
[{"$f":"basePAGAS!#REF!","v":{"$error":"#REF!"}},{"$f":"IF(A5263=\"\",\"\",IF(VLOOKUP(A5263,base_rpvs_pagas,2)=A$12,A5263,0))","v":{"$error":"#REF!"}}]
[{"$f":"basePAGAS!#REF!","v":{"$error":"#REF!"}},{"$error":"#REF!"}]
[{"$f":"basePAGAS!#REF!","v":{"$error":"#REF!"}},{"$error":"#REF!"}]
[{"$f":"basePAGAS!#REF!","v":{"$error":"#REF!"}},{"$error":"#REF!"}]
[{"$f":"basePAGAS!#REF!","v":{"$error":"#REF!"}},{"$error":"#REF!"}]
[{"$f":"basePAGAS!#REF!","v":{"$error":"#REF!"}},{"$error":"#REF!"}]
[{"$f":"basePAGAS!#REF!","v":{"$error":"#REF!"}},{"$error":"#REF!"}]
[{"$f":"basePAGAS!#REF!","v":{"$error":"#REF!"}},{"$error":"#REF!"}]
[{"$f":"basePAGAS!#REF!","v":{"$error":"#REF!"}},{"$error":"#REF!"}]
[{"$f":"basePAGAS!#REF!","v":{"$error":"#REF!"}},{"$error":"#REF!"}]
[{"$f":"basePAGAS!#REF!","v":{"$error":"#REF!"}},{"$error":"#REF!"}]
[{"$f":"basePAGAS!#REF!","v":{"$error":"#REF!"}},{"$error":"#REF!"}]
[{"$f":"basePAGAS!#REF!","v":{"$error":"#REF!"}},{"$error":"#REF!"}]
[{"$f":"basePAGAS!#REF!","v":{"$error":"#REF!"}},{"$error":"#REF!"}]
[{"$f":"basePAGAS!#REF!","v":{"$error":"#REF!"}},{"$error":"#REF!"}]
[{"$f":"basePAGAS!#REF!","v":{"$error":"#REF!"}},{"$error":"#REF!"}]
[{"$f":"basePAGAS!#REF!","v":{"$error":"#REF!"}},{"$error":"#REF!"}]
[{"$f":"basePAGAS!#REF!","v":{"$error":"#REF!"}},{"$error":"#REF!"}]
[{"$f":"basePAGAS!#REF!","v":{"$error":"#REF!"}},{"$error":"#REF!"}]
[{"$f":"basePAGAS!#REF!","v":{"$error":"#REF!"}},{"$error":"#REF!"}]
[{"$f":"basePAGAS!#REF!","v":{"$error":"#REF!"}},{"$error":"#REF!"}]
[{"$f":"basePAGAS!#REF!","v":{"$error":"#REF!"}},{"$error":"#REF!"}]
[{"$f":"basePAGAS!#REF!","v":{"$error":"#REF!"}},{"$error":"#REF!"}]
[{"$f":"basePAGAS!#REF!","v":{"$error":"#REF!"}},{"$error":"#REF!"}]
[{"$f":"basePAGAS!#REF!","v":{"$error":"#REF!"}},{"$error":"#REF!"}]
[{"$f":"basePAGAS!#REF!","v":{"$error":"#REF!"}},{"$error":"#REF!"}]
[{"$f":"basePAGAS!#REF!","v":{"$error":"#REF!"}},{"$error":"#REF!"}]
[{"$f":"basePAGAS!#REF!","v":{"$error":"#REF!"}},{"$error":"#REF!"}]
[{"$f":"basePAGAS!#REF!","v":{"$error":"#REF!"}},{"$error":"#REF!"}]
[{"$f":"basePAGAS!#REF!","v":{"$error":"#REF!"}},{"$error":"#REF!"}]
[{"$f":"basePAGAS!#REF!","v":{"$error":"#REF!"}},{"$error":"#REF!"}]
[{"$f":"basePAGAS!#REF!","v":{"$error":"#REF!"}},{"$error":"#REF!"}]
[{"$f":"basePAGAS!#REF!","v":{"$error":"#REF!"}},{"$error":"#REF!"}]
[{"$f":"basePAGAS!#REF!","v":{"$error":"#REF!"}},{"$error":"#REF!"}]
[{"$f":"basePAGAS!#REF!","v":{"$error":"#REF!"}},{"$error":"#REF!"}]
[{"$f":"basePAGAS!#REF!","v":{"$error":"#REF!"}},{"$error":"#REF!"}]
[{"$f":"basePAGAS!#REF!","v":{"$error":"#REF!"}},{"$error":"#REF!"}]
[{"$f":"basePAGAS!#REF!","v":{"$error":"#REF!"}},{"$error":"#REF!"}]
[{"$f":"basePAGAS!#REF!","v":{"$error":"#REF!"}},{"$error":"#REF!"}]
[{"$f":"basePAGAS!#REF!","v":{"$error":"#REF!"}},{"$error":"#REF!"}]
[{"$f":"basePAGAS!#REF!","v":{"$error":"#REF!"}},{"$error":"#REF!"}]
[{"$f":"basePAGAS!#REF!","v":{"$error":"#REF!"}},{"$error":"#REF!"}]
[{"$f":"basePAGAS!#REF!","v":{"$error":"#REF!"}},{"$error":"#REF!"}]
[{"$f":"basePAGAS!#REF!","v":{"$error":"#REF!"}},{"$error":"#REF!"}]
[{"$f":"basePAGAS!#REF!","v":{"$error":"#REF!"}},{"$error":"#REF!"}]
[{"$f":"basePAGAS!#REF!","v":{"$error":"#REF!"}},{"$error":"#REF!"}]
[{"$f":"basePAGAS!#REF!","v":{"$error":"#REF!"}},{"$error":"#REF!"}]
[{"$f":"basePAGAS!#REF!","v":{"$error":"#REF!"}},{"$error":"#REF!"}]
[{"$f":"basePAGAS!#REF!","v":{"$error":"#REF!"}},{"$error":"#REF!"}]
[{"$f":"basePAGAS!#REF!","v":{"$error":"#REF!"}},{"$error":"#REF!"}]
[{"$f":"basePAGAS!#REF!","v":{"$error":"#REF!"}},{"$error":"#REF!"}]
[{"$f":"basePAGAS!#REF!","v":{"$error":"#REF!"}},{"$error":"#REF!"}]
[{"$f":"basePAGAS!#REF!","v":{"$error":"#REF!"}},{"$error":"#REF!"}]
[{"$f":"basePAGAS!#REF!","v":{"$error":"#REF!"}},{"$error":"#REF!"}]
[{"$f":"basePAGAS!#REF!","v":{"$error":"#REF!"}},{"$error":"#REF!"}]
[{"$f":"basePAGAS!#REF!","v":{"$error":"#REF!"}},{"$error":"#REF!"}]
[{"$f":"basePAGAS!#REF!","v":{"$error":"#REF!"}},{"$error":"#REF!"}]
[{"$f":"basePAGAS!#REF!","v":{"$error":"#REF!"}},{"$error":"#REF!"}]
[{"$f":"basePAGAS!#REF!","v":{"$error":"#REF!"}},{"$error":"#REF!"}]
[{"$f":"basePAGAS!#REF!","v":{"$error":"#REF!"}},{"$error":"#REF!"}]
[{"$f":"basePAGAS!#REF!","v":{"$error":"#REF!"}},{"$error":"#REF!"}]
[{"$f":"basePAGAS!#REF!","v":{"$error":"#REF!"}},{"$error":"#REF!"}]
[{"$f":"basePAGAS!#REF!","v":{"$error":"#REF!"}},{"$error":"#REF!"}]
[{"$f":"basePAGAS!#REF!","v":{"$error":"#REF!"}},{"$error":"#REF!"}]
[{"$f":"basePAGAS!#REF!","v":{"$error":"#REF!"}},{"$f":"IF(A5327=\"\",\"\",IF(VLOOKUP(A5327,base_rpvs_pagas,2)=A$12,A5327,0))","v":{"$error":"#REF!"}}]
[{"$f":"basePAGAS!#REF!","v":{"$error":"#REF!"}},{"$error":"#REF!"}]
[{"$f":"basePAGAS!#REF!","v":{"$error":"#REF!"}},{"$error":"#REF!"}]
[{"$f":"basePAGAS!#REF!","v":{"$error":"#REF!"}},{"$error":"#REF!"}]
[{"$f":"basePAGAS!#REF!","v":{"$error":"#REF!"}},{"$error":"#REF!"}]
[{"$f":"basePAGAS!#REF!","v":{"$error":"#REF!"}},{"$error":"#REF!"}]
[{"$f":"basePAGAS!#REF!","v":{"$error":"#REF!"}},{"$error":"#REF!"}]
[{"$f":"basePAGAS!#REF!","v":{"$error":"#REF!"}},{"$error":"#REF!"}]
[{"$f":"basePAGAS!#REF!","v":{"$error":"#REF!"}},{"$error":"#REF!"}]
[{"$f":"basePAGAS!#REF!","v":{"$error":"#REF!"}},{"$error":"#REF!"}]
[{"$f":"basePAGAS!#REF!","v":{"$error":"#REF!"}},{"$error":"#REF!"}]
[{"$f":"basePAGAS!#REF!","v":{"$error":"#REF!"}},{"$error":"#REF!"}]
[{"$f":"basePAGAS!#REF!","v":{"$error":"#REF!"}},{"$error":"#REF!"}]
[{"$f":"basePAGAS!#REF!","v":{"$error":"#REF!"}},{"$error":"#REF!"}]
[{"$f":"basePAGAS!#REF!","v":{"$error":"#REF!"}},{"$error":"#REF!"}]
[{"$f":"basePAGAS!#REF!","v":{"$error":"#REF!"}},{"$error":"#REF!"}]
[{"$f":"basePAGAS!#REF!","v":{"$error":"#REF!"}},{"$error":"#REF!"}]
[{"$f":"basePAGAS!#REF!","v":{"$error":"#REF!"}},{"$error":"#REF!"}]
[{"$f":"basePAGAS!#REF!","v":{"$error":"#REF!"}},{"$error":"#REF!"}]
[{"$f":"basePAGAS!#REF!","v":{"$error":"#REF!"}},{"$error":"#REF!"}]
[{"$f":"basePAGAS!#REF!","v":{"$error":"#REF!"}},{"$error":"#REF!"}]
[{"$f":"basePAGAS!#REF!","v":{"$error":"#REF!"}},{"$error":"#REF!"}]
[{"$f":"basePAGAS!#REF!","v":{"$error":"#REF!"}},{"$error":"#REF!"}]
[{"$f":"basePAGAS!#REF!","v":{"$error":"#REF!"}},{"$error":"#REF!"}]
[{"$f":"basePAGAS!#REF!","v":{"$error":"#REF!"}},{"$error":"#REF!"}]
[{"$f":"basePAGAS!#REF!","v":{"$error":"#REF!"}},{"$error":"#REF!"}]
[{"$f":"basePAGAS!#REF!","v":{"$error":"#REF!"}},{"$error":"#REF!"}]
[{"$f":"basePAGAS!#REF!","v":{"$error":"#REF!"}},{"$error":"#REF!"}]
[{"$f":"basePAGAS!#REF!","v":{"$error":"#REF!"}},{"$error":"#REF!"}]
[{"$f":"basePAGAS!#REF!","v":{"$error":"#REF!"}},{"$error":"#REF!"}]
[{"$f":"basePAGAS!#REF!","v":{"$error":"#REF!"}},{"$error":"#REF!"}]
[{"$f":"basePAGAS!#REF!","v":{"$error":"#REF!"}},{"$error":"#REF!"}]
[{"$f":"basePAGAS!#REF!","v":{"$error":"#REF!"}},{"$error":"#REF!"}]
[{"$f":"basePAGAS!#REF!","v":{"$error":"#REF!"}},{"$error":"#REF!"}]
[{"$f":"basePAGAS!#REF!","v":{"$error":"#REF!"}},{"$error":"#REF!"}]
[{"$f":"basePAGAS!#REF!","v":{"$error":"#REF!"}},{"$error":"#REF!"}]
[{"$f":"basePAGAS!#REF!","v":{"$error":"#REF!"}},{"$error":"#REF!"}]
[{"$f":"basePAGAS!#REF!","v":{"$error":"#REF!"}},{"$error":"#REF!"}]
[{"$f":"basePAGAS!#REF!","v":{"$error":"#REF!"}},{"$error":"#REF!"}]
[{"$f":"basePAGAS!#REF!","v":{"$error":"#REF!"}},{"$error":"#REF!"}]
[{"$f":"basePAGAS!#REF!","v":{"$error":"#REF!"}},{"$error":"#REF!"}]
[{"$f":"basePAGAS!#REF!","v":{"$error":"#REF!"}},{"$error":"#REF!"}]
[{"$f":"basePAGAS!#REF!","v":{"$error":"#REF!"}},{"$error":"#REF!"}]
[{"$f":"basePAGAS!#REF!","v":{"$error":"#REF!"}},{"$error":"#REF!"}]
[{"$f":"basePAGAS!#REF!","v":{"$error":"#REF!"}},{"$error":"#REF!"}]
[{"$f":"basePAGAS!#REF!","v":{"$error":"#REF!"}},{"$error":"#REF!"}]
[{"$f":"basePAGAS!#REF!","v":{"$error":"#REF!"}},{"$error":"#REF!"}]
[{"$f":"basePAGAS!#REF!","v":{"$error":"#REF!"}},{"$error":"#REF!"}]
[{"$f":"basePAGAS!#REF!","v":{"$error":"#REF!"}},{"$error":"#REF!"}]
[{"$f":"basePAGAS!#REF!","v":{"$error":"#REF!"}},{"$error":"#REF!"}]
[{"$f":"basePAGAS!#REF!","v":{"$error":"#REF!"}},{"$error":"#REF!"}]
[{"$f":"basePAGAS!#REF!","v":{"$error":"#REF!"}},{"$error":"#REF!"}]
[{"$f":"basePAGAS!#REF!","v":{"$error":"#REF!"}},{"$error":"#REF!"}]
[{"$f":"basePAGAS!#REF!","v":{"$error":"#REF!"}},{"$error":"#REF!"}]
[{"$f":"basePAGAS!#REF!","v":{"$error":"#REF!"}},{"$error":"#REF!"}]
[{"$f":"basePAGAS!#REF!","v":{"$error":"#REF!"}},{"$error":"#REF!"}]
[{"$f":"basePAGAS!#REF!","v":{"$error":"#REF!"}},{"$error":"#REF!"}]
[{"$f":"basePAGAS!#REF!","v":{"$error":"#REF!"}},{"$error":"#REF!"}]
[{"$f":"basePAGAS!#REF!","v":{"$error":"#REF!"}},{"$error":"#REF!"}]
[{"$f":"basePAGAS!#REF!","v":{"$error":"#REF!"}},{"$error":"#REF!"}]
[{"$f":"basePAGAS!#REF!","v":{"$error":"#REF!"}},{"$error":"#REF!"}]
[{"$f":"basePAGAS!#REF!","v":{"$error":"#REF!"}},{"$error":"#REF!"}]
[{"$f":"basePAGAS!#REF!","v":{"$error":"#REF!"}},{"$error":"#REF!"}]
[{"$f":"basePAGAS!#REF!","v":{"$error":"#REF!"}},{"$error":"#REF!"}]
[{"$f":"basePAGAS!#REF!","v":{"$error":"#REF!"}},{"$f":"IF(A5391=\"\",\"\",IF(VLOOKUP(A5391,base_rpvs_pagas,2)=A$12,A5391,0))","v":{"$error":"#REF!"}}]
[{"$f":"basePAGAS!#REF!","v":{"$error":"#REF!"}},{"$error":"#REF!"}]
[{"$f":"basePAGAS!#REF!","v":{"$error":"#REF!"}},{"$error":"#REF!"}]
[{"$f":"basePAGAS!#REF!","v":{"$error":"#REF!"}},{"$error":"#REF!"}]
[{"$f":"basePAGAS!#REF!","v":{"$error":"#REF!"}},{"$error":"#REF!"}]
[{"$f":"basePAGAS!#REF!","v":{"$error":"#REF!"}},{"$error":"#REF!"}]
[{"$f":"basePAGAS!#REF!","v":{"$error":"#REF!"}},{"$error":"#REF!"}]
[{"$f":"basePAGAS!#REF!","v":{"$error":"#REF!"}},{"$error":"#REF!"}]
[{"$f":"basePAGAS!#REF!","v":{"$error":"#REF!"}},{"$error":"#REF!"}]
[{"$f":"basePAGAS!#REF!","v":{"$error":"#REF!"}},{"$error":"#REF!"}]
[{"$f":"basePAGAS!#REF!","v":{"$error":"#REF!"}},{"$error":"#REF!"}]
[{"$f":"basePAGAS!#REF!","v":{"$error":"#REF!"}},{"$error":"#REF!"}]
[{"$f":"basePAGAS!#REF!","v":{"$error":"#REF!"}},{"$error":"#REF!"}]
[{"$f":"basePAGAS!#REF!","v":{"$error":"#REF!"}},{"$error":"#REF!"}]
[{"$f":"basePAGAS!#REF!","v":{"$error":"#REF!"}},{"$error":"#REF!"}]
[{"$f":"basePAGAS!#REF!","v":{"$error":"#REF!"}},{"$error":"#REF!"}]
[{"$f":"basePAGAS!#REF!","v":{"$error":"#REF!"}},{"$error":"#REF!"}]
[{"$f":"basePAGAS!#REF!","v":{"$error":"#REF!"}},{"$error":"#REF!"}]
[{"$f":"basePAGAS!#REF!","v":{"$error":"#REF!"}},{"$error":"#REF!"}]
[{"$f":"basePAGAS!#REF!","v":{"$error":"#REF!"}},{"$error":"#REF!"}]
[{"$f":"basePAGAS!#REF!","v":{"$error":"#REF!"}},{"$error":"#REF!"}]
[{"$f":"basePAGAS!#REF!","v":{"$error":"#REF!"}},{"$error":"#REF!"}]
[{"$f":"basePAGAS!#REF!","v":{"$error":"#REF!"}},{"$error":"#REF!"}]
[{"$f":"basePAGAS!#REF!","v":{"$error":"#REF!"}},{"$error":"#REF!"}]
[{"$f":"basePAGAS!#REF!","v":{"$error":"#REF!"}},{"$error":"#REF!"}]
[{"$f":"basePAGAS!#REF!","v":{"$error":"#REF!"}},{"$error":"#REF!"}]
[{"$f":"basePAGAS!#REF!","v":{"$error":"#REF!"}},{"$error":"#REF!"}]
[{"$f":"basePAGAS!#REF!","v":{"$error":"#REF!"}},{"$error":"#REF!"}]
[{"$f":"basePAGAS!#REF!","v":{"$error":"#REF!"}},{"$error":"#REF!"}]
[{"$f":"basePAGAS!#REF!","v":{"$error":"#REF!"}},{"$error":"#REF!"}]
[{"$f":"basePAGAS!#REF!","v":{"$error":"#REF!"}},{"$error":"#REF!"}]
[{"$f":"basePAGAS!#REF!","v":{"$error":"#REF!"}},{"$error":"#REF!"}]
[{"$f":"basePAGAS!#REF!","v":{"$error":"#REF!"}},{"$error":"#REF!"}]
[{"$f":"basePAGAS!#REF!","v":{"$error":"#REF!"}},{"$error":"#REF!"}]
[{"$f":"basePAGAS!#REF!","v":{"$error":"#REF!"}},{"$error":"#REF!"}]
[{"$f":"basePAGAS!#REF!","v":{"$error":"#REF!"}},{"$error":"#REF!"}]
[{"$f":"basePAGAS!#REF!","v":{"$error":"#REF!"}},{"$error":"#REF!"}]
[{"$f":"basePAGAS!#REF!","v":{"$error":"#REF!"}},{"$error":"#REF!"}]
[{"$f":"basePAGAS!#REF!","v":{"$error":"#REF!"}},{"$error":"#REF!"}]
[{"$f":"basePAGAS!#REF!","v":{"$error":"#REF!"}},{"$error":"#REF!"}]
[{"$f":"basePAGAS!#REF!","v":{"$error":"#REF!"}},{"$error":"#REF!"}]
[{"$f":"basePAGAS!#REF!","v":{"$error":"#REF!"}},{"$error":"#REF!"}]
[{"$f":"basePAGAS!#REF!","v":{"$error":"#REF!"}},{"$error":"#REF!"}]
[{"$f":"basePAGAS!#REF!","v":{"$error":"#REF!"}},{"$error":"#REF!"}]
[{"$f":"basePAGAS!#REF!","v":{"$error":"#REF!"}},{"$error":"#REF!"}]
[{"$f":"basePAGAS!#REF!","v":{"$error":"#REF!"}},{"$error":"#REF!"}]
[{"$f":"basePAGAS!#REF!","v":{"$error":"#REF!"}},{"$error":"#REF!"}]
[{"$f":"basePAGAS!#REF!","v":{"$error":"#REF!"}},{"$error":"#REF!"}]
[{"$f":"basePAGAS!#REF!","v":{"$error":"#REF!"}},{"$error":"#REF!"}]
[{"$f":"basePAGAS!#REF!","v":{"$error":"#REF!"}},{"$error":"#REF!"}]
[{"$f":"basePAGAS!#REF!","v":{"$error":"#REF!"}},{"$error":"#REF!"}]
[{"$f":"basePAGAS!#REF!","v":{"$error":"#REF!"}},{"$error":"#REF!"}]
[{"$f":"basePAGAS!#REF!","v":{"$error":"#REF!"}},{"$error":"#REF!"}]
[{"$f":"basePAGAS!#REF!","v":{"$error":"#REF!"}},{"$error":"#REF!"}]
[{"$f":"basePAGAS!#REF!","v":{"$error":"#REF!"}},{"$error":"#REF!"}]
[{"$f":"basePAGAS!#REF!","v":{"$error":"#REF!"}},{"$error":"#REF!"}]
[{"$f":"basePAGAS!#REF!","v":{"$error":"#REF!"}},{"$error":"#REF!"}]
[{"$f":"basePAGAS!#REF!","v":{"$error":"#REF!"}},{"$error":"#REF!"}]
[{"$f":"basePAGAS!#REF!","v":{"$error":"#REF!"}},{"$error":"#REF!"}]
[{"$f":"basePAGAS!#REF!","v":{"$error":"#REF!"}},{"$error":"#REF!"}]
[{"$f":"basePAGAS!#REF!","v":{"$error":"#REF!"}},{"$error":"#REF!"}]
[{"$f":"basePAGAS!#REF!","v":{"$error":"#REF!"}},{"$error":"#REF!"}]
[{"$f":"basePAGAS!#REF!","v":{"$error":"#REF!"}},{"$error":"#REF!"}]
[{"$f":"basePAGAS!#REF!","v":{"$error":"#REF!"}},{"$error":"#REF!"}]
[{"$f":"basePAGAS!#REF!","v":{"$error":"#REF!"}},{"$f":"IF(A5455=\"\",\"\",IF(VLOOKUP(A5455,base_rpvs_pagas,2)=A$12,A5455,0))","v":{"$error":"#REF!"}}]
[{"$f":"basePAGAS!#REF!","v":{"$error":"#REF!"}},{"$error":"#REF!"}]
[{"$f":"basePAGAS!#REF!","v":{"$error":"#REF!"}},{"$error":"#REF!"}]
[{"$f":"basePAGAS!#REF!","v":{"$error":"#REF!"}},{"$error":"#REF!"}]
[{"$f":"basePAGAS!#REF!","v":{"$error":"#REF!"}},{"$error":"#REF!"}]
[{"$f":"basePAGAS!#REF!","v":{"$error":"#REF!"}},{"$error":"#REF!"}]
[{"$f":"basePAGAS!#REF!","v":{"$error":"#REF!"}},{"$error":"#REF!"}]
[{"$f":"basePAGAS!#REF!","v":{"$error":"#REF!"}},{"$error":"#REF!"}]
[{"$f":"basePAGAS!#REF!","v":{"$error":"#REF!"}},{"$error":"#REF!"}]
[{"$f":"basePAGAS!#REF!","v":{"$error":"#REF!"}},{"$error":"#REF!"}]
[{"$f":"basePAGAS!#REF!","v":{"$error":"#REF!"}},{"$error":"#REF!"}]
[{"$f":"basePAGAS!#REF!","v":{"$error":"#REF!"}},{"$error":"#REF!"}]
[{"$f":"basePAGAS!#REF!","v":{"$error":"#REF!"}},{"$error":"#REF!"}]
[{"$f":"basePAGAS!#REF!","v":{"$error":"#REF!"}},{"$error":"#REF!"}]
[{"$f":"basePAGAS!#REF!","v":{"$error":"#REF!"}},{"$error":"#REF!"}]
[{"$f":"basePAGAS!#REF!","v":{"$error":"#REF!"}},{"$error":"#REF!"}]
[{"$f":"basePAGAS!#REF!","v":{"$error":"#REF!"}},{"$error":"#REF!"}]
[{"$f":"basePAGAS!#REF!","v":{"$error":"#REF!"}},{"$error":"#REF!"}]
[{"$f":"basePAGAS!#REF!","v":{"$error":"#REF!"}},{"$error":"#REF!"}]
[{"$f":"basePAGAS!#REF!","v":{"$error":"#REF!"}},{"$error":"#REF!"}]
[{"$f":"basePAGAS!#REF!","v":{"$error":"#REF!"}},{"$error":"#REF!"}]
[{"$f":"basePAGAS!#REF!","v":{"$error":"#REF!"}},{"$error":"#REF!"}]
[{"$f":"basePAGAS!#REF!","v":{"$error":"#REF!"}},{"$error":"#REF!"}]
[{"$f":"basePAGAS!#REF!","v":{"$error":"#REF!"}},{"$error":"#REF!"}]
[{"$f":"basePAGAS!#REF!","v":{"$error":"#REF!"}},{"$error":"#REF!"}]
[{"$f":"basePAGAS!#REF!","v":{"$error":"#REF!"}},{"$error":"#REF!"}]
[{"$f":"basePAGAS!#REF!","v":{"$error":"#REF!"}},{"$error":"#REF!"}]
[{"$f":"basePAGAS!#REF!","v":{"$error":"#REF!"}},{"$error":"#REF!"}]
[{"$f":"basePAGAS!#REF!","v":{"$error":"#REF!"}},{"$error":"#REF!"}]
[{"$f":"basePAGAS!#REF!","v":{"$error":"#REF!"}},{"$error":"#REF!"}]
[{"$f":"basePAGAS!#REF!","v":{"$error":"#REF!"}},{"$error":"#REF!"}]
[{"$f":"basePAGAS!#REF!","v":{"$error":"#REF!"}},{"$error":"#REF!"}]
[{"$f":"basePAGAS!#REF!","v":{"$error":"#REF!"}},{"$error":"#REF!"}]
[{"$f":"basePAGAS!#REF!","v":{"$error":"#REF!"}},{"$error":"#REF!"}]
[{"$f":"basePAGAS!#REF!","v":{"$error":"#REF!"}},{"$error":"#REF!"}]
[{"$f":"basePAGAS!#REF!","v":{"$error":"#REF!"}},{"$error":"#REF!"}]
[{"$f":"basePAGAS!#REF!","v":{"$error":"#REF!"}},{"$error":"#REF!"}]
[{"$f":"basePAGAS!#REF!","v":{"$error":"#REF!"}},{"$error":"#REF!"}]
[{"$f":"basePAGAS!#REF!","v":{"$error":"#REF!"}},{"$error":"#REF!"}]
[{"$f":"basePAGAS!#REF!","v":{"$error":"#REF!"}},{"$error":"#REF!"}]
[{"$f":"basePAGAS!#REF!","v":{"$error":"#REF!"}},{"$error":"#REF!"}]
[{"$f":"basePAGAS!#REF!","v":{"$error":"#REF!"}},{"$error":"#REF!"}]
[{"$f":"basePAGAS!A9","v":1},0]
[{"$f":"basePAGAS!A10","v":2},0]
[{"$f":"basePAGAS!A11","v":3},0]
[{"$f":"basePAGAS!A12","v":4},0]
[{"$f":"basePAGAS!A13","v":5},0]
[{"$f":"basePAGAS!A14","v":6},0]
[{"$f":"basePAGAS!A15","v":7},0]
[{"$f":"basePAGAS!A16","v":8},0]
[{"$f":"basePAGAS!A17","v":9},0]
[{"$f":"basePAGAS!A18","v":10},0]
[{"$f":"basePAGAS!A19","v":11},0]
[{"$f":"basePAGAS!A20","v":12},0]
[{"$f":"basePAGAS!A21","v":13},0]
[{"$f":"basePAGAS!A22","v":14},0]
[{"$f":"basePAGAS!A23","v":15},0]
[{"$f":"basePAGAS!A24","v":16},0]
[{"$f":"basePAGAS!A25","v":17},0]
[{"$f":"basePAGAS!A26","v":18},0]
[{"$f":"basePAGAS!A27","v":19},0]
[{"$f":"basePAGAS!A28","v":20},0]
[{"$f":"basePAGAS!A29","v":21},0]
[{"$f":"basePAGAS!A30","v":22},0]
[{"$f":"basePAGAS!A31","v":23},{"$f":"IF(A5519=\"\",\"\",IF(VLOOKUP(A5519,base_rpvs_pagas,2)=A$12,A5519,0))","v":0}]
[{"$f":"basePAGAS!A32","v":24},0]
[{"$f":"basePAGAS!A33","v":25},0]
[{"$f":"basePAGAS!A34","v":26},0]
[{"$f":"basePAGAS!A35","v":27},0]
[{"$f":"basePAGAS!A36","v":28},0]
[{"$f":"basePAGAS!A37","v":29},0]
[{"$f":"basePAGAS!A38","v":30},0]
[{"$f":"basePAGAS!A39","v":31},0]
[{"$f":"basePAGAS!A40","v":32},0]
[{"$f":"basePAGAS!A41","v":33},0]
[{"$f":"basePAGAS!A42","v":34},0]
[{"$f":"basePAGAS!A43","v":35},0]
[{"$f":"basePAGAS!A44","v":36},0]
[{"$f":"basePAGAS!A45","v":37},0]
[{"$f":"basePAGAS!A46","v":38},0]
[{"$f":"basePAGAS!A47","v":39},0]
[{"$f":"basePAGAS!A48","v":40},0]
[{"$f":"basePAGAS!A49","v":41},0]
[{"$f":"basePAGAS!A50","v":42},0]
[{"$f":"basePAGAS!A51","v":43},0]
[{"$f":"basePAGAS!A52","v":44},0]
[{"$f":"basePAGAS!A53","v":45},0]
[{"$f":"basePAGAS!A54","v":46},0]
[{"$f":"basePAGAS!A55","v":47},0]
[{"$f":"basePAGAS!A56","v":48},0]
[{"$f":"basePAGAS!A57","v":49},0]
[{"$f":"basePAGAS!A58","v":50},0]
[{"$f":"basePAGAS!A59","v":51},0]
[{"$f":"basePAGAS!A60","v":52},0]
[{"$f":"basePAGAS!A61","v":53},0]
[{"$f":"basePAGAS!A62","v":54},0]
[{"$f":"basePAGAS!A63","v":55},0]
[{"$f":"basePAGAS!A64","v":56},0]
[{"$f":"basePAGAS!A65","v":57},0]
[{"$f":"basePAGAS!A66","v":58},0]
[{"$f":"basePAGAS!A67","v":59},0]
[{"$f":"basePAGAS!A68","v":60},0]
[{"$f":"basePAGAS!A69","v":61},0]
[{"$f":"basePAGAS!A70","v":62},0]
[{"$f":"basePAGAS!A71","v":63},0]
[{"$f":"basePAGAS!A72","v":64},0]
[{"$f":"basePAGAS!A73","v":65},0]
[{"$f":"basePAGAS!A74","v":66},0]
[{"$f":"basePAGAS!A75","v":67},0]
[{"$f":"basePAGAS!A76","v":68},0]
[{"$f":"basePAGAS!A77","v":69},0]
[{"$f":"basePAGAS!A78","v":70},0]
[{"$f":"basePAGAS!A79","v":71},0]
[{"$f":"basePAGAS!A80","v":72},0]
[{"$f":"basePAGAS!A81","v":73},0]
[{"$f":"basePAGAS!A82","v":74},0]
[{"$f":"basePAGAS!A83","v":75},0]
[{"$f":"basePAGAS!A84","v":76},0]
[{"$f":"basePAGAS!A85","v":77},0]
[{"$f":"basePAGAS!A86","v":78},0]
[{"$f":"basePAGAS!A87","v":79},0]
[{"$f":"basePAGAS!A88","v":80},0]
[{"$f":"basePAGAS!A89","v":81},0]
[{"$f":"basePAGAS!A90","v":82},0]
[{"$f":"basePAGAS!A91","v":83},0]
[{"$f":"basePAGAS!A92","v":84},0]
[{"$f":"basePAGAS!A93","v":85},0]
[{"$f":"basePAGAS!A94","v":86},0]
[{"$f":"basePAGAS!A95","v":87},{"$f":"IF(A5583=\"\",\"\",IF(VLOOKUP(A5583,base_rpvs_pagas,2)=A$12,A5583,0))","v":0}]
[{"$f":"basePAGAS!A96","v":88},0]
[{"$f":"basePAGAS!A97","v":89},0]
[{"$f":"basePAGAS!A98","v":90},0]
[{"$f":"basePAGAS!A99","v":91},0]
[{"$f":"basePAGAS!A100","v":92},0]
[{"$f":"basePAGAS!A101","v":93},93]
[{"$f":"basePAGAS!A102","v":94},0]
[{"$f":"basePAGAS!A103","v":95},0]
[{"$f":"basePAGAS!A104","v":96},0]
[{"$f":"basePAGAS!A105","v":97},0]
[{"$f":"basePAGAS!A106","v":98},0]
[{"$f":"basePAGAS!A107","v":99},0]
[{"$f":"basePAGAS!A108","v":100},0]
[{"$f":"basePAGAS!A109","v":101},0]
[{"$f":"basePAGAS!A110","v":102},0]
[{"$f":"basePAGAS!A111","v":103},0]
[{"$f":"basePAGAS!A112","v":104},0]
[{"$f":"basePAGAS!A113","v":105},0]
[{"$f":"basePAGAS!A114","v":106},0]
[{"$f":"basePAGAS!A115","v":107},0]
[{"$f":"basePAGAS!A116","v":108},0]
[{"$f":"basePAGAS!A117","v":109},0]
[{"$f":"basePAGAS!A118","v":110},0]
[{"$f":"basePAGAS!A119","v":111},0]
[{"$f":"basePAGAS!A120","v":112},0]
[{"$f":"basePAGAS!A121","v":113},0]
[{"$f":"basePAGAS!A122","v":114},0]
[{"$f":"basePAGAS!A123","v":115},0]
[{"$f":"basePAGAS!A124","v":116},0]
[{"$f":"basePAGAS!A125","v":117},0]
[{"$f":"basePAGAS!A126","v":118},0]
[{"$f":"basePAGAS!A127","v":119},0]
[{"$f":"basePAGAS!A128","v":120},0]
[{"$f":"basePAGAS!A129","v":121},0]
[{"$f":"basePAGAS!A130","v":122},0]
[{"$f":"basePAGAS!A131","v":123},0]
[{"$f":"basePAGAS!A132","v":124},0]
[{"$f":"basePAGAS!A133","v":125},0]
[{"$f":"basePAGAS!A134","v":126},0]
[{"$f":"basePAGAS!A135","v":127},0]
[{"$f":"basePAGAS!A136","v":128},0]
[{"$f":"basePAGAS!A137","v":129},0]
[{"$f":"basePAGAS!A138","v":130},0]
[{"$f":"basePAGAS!A139","v":131},0]
[{"$f":"basePAGAS!A140","v":132},0]
[{"$f":"basePAGAS!A141","v":133},0]
[{"$f":"basePAGAS!A142","v":134},0]
[{"$f":"basePAGAS!A143","v":135},0]
[{"$f":"basePAGAS!A144","v":136},0]
[{"$f":"basePAGAS!A145","v":137},0]
[{"$f":"basePAGAS!A146","v":138},0]
[{"$f":"basePAGAS!A147","v":139},0]
[{"$f":"basePAGAS!A148","v":140},0]
[{"$f":"basePAGAS!A149","v":141},0]
[{"$f":"basePAGAS!A150","v":142},0]
[{"$f":"basePAGAS!A151","v":143},0]
[{"$f":"basePAGAS!A152","v":144},0]
[{"$f":"basePAGAS!A153","v":145},0]
[{"$f":"basePAGAS!A154","v":146},0]
[{"$f":"basePAGAS!A155","v":147},0]
[{"$f":"basePAGAS!A156","v":148},0]
[{"$f":"basePAGAS!A157","v":149},0]
[{"$f":"basePAGAS!A158","v":150},0]
[{"$f":"basePAGAS!A159","v":151},{"$f":"IF(A5647=\"\",\"\",IF(VLOOKUP(A5647,base_rpvs_pagas,2)=A$12,A5647,0))","v":0}]
[{"$f":"basePAGAS!A160","v":152},0]
[{"$f":"basePAGAS!A161","v":153},0]
[{"$f":"basePAGAS!A162","v":154},0]
[{"$f":"basePAGAS!A163","v":155},0]
[{"$f":"basePAGAS!A164","v":156},0]
[{"$f":"basePAGAS!A165","v":157},0]
[{"$f":"basePAGAS!A166","v":158},0]
[{"$f":"basePAGAS!A167","v":159},0]
[{"$f":"basePAGAS!A168","v":160},0]
[{"$f":"basePAGAS!A169","v":161},0]
[{"$f":"basePAGAS!A170","v":162},0]
[{"$f":"basePAGAS!A171","v":163},0]
[{"$f":"basePAGAS!A172","v":164},0]
[{"$f":"basePAGAS!A173","v":165},0]
[{"$f":"basePAGAS!A174","v":166},0]
[{"$f":"basePAGAS!A175","v":167},0]
[{"$f":"basePAGAS!A176","v":168},0]
[{"$f":"basePAGAS!A177","v":169},0]
[{"$f":"basePAGAS!A178","v":170},0]
[{"$f":"basePAGAS!A179","v":171},0]
[{"$f":"basePAGAS!A180","v":172},0]
[{"$f":"basePAGAS!A181","v":173},0]
[{"$f":"basePAGAS!A182","v":174},0]
[{"$f":"basePAGAS!A183","v":175},0]
[{"$f":"basePAGAS!A184","v":176},0]
[{"$f":"basePAGAS!A185","v":177},0]
[{"$f":"basePAGAS!A186","v":178},0]
[{"$f":"basePAGAS!A187","v":179},0]
[{"$f":"basePAGAS!A188","v":180},0]
[{"$f":"basePAGAS!A189","v":181},0]
[{"$f":"basePAGAS!A190","v":182},0]
[{"$f":"basePAGAS!A191","v":183},0]
[{"$f":"basePAGAS!A192","v":184},0]
[{"$f":"basePAGAS!A193","v":185},0]
[{"$f":"basePAGAS!A194","v":186},0]
[{"$f":"basePAGAS!A195","v":187},0]
[{"$f":"basePAGAS!A196","v":188},0]
[{"$f":"basePAGAS!A197","v":189},0]
[{"$f":"basePAGAS!A198","v":190},0]
[{"$f":"basePAGAS!A199","v":191},0]
[{"$f":"basePAGAS!A200","v":192},0]
[{"$f":"basePAGAS!A201","v":193},0]
[{"$f":"basePAGAS!A202","v":194},0]
[{"$f":"basePAGAS!A203","v":195},0]
[{"$f":"basePAGAS!A204","v":196},0]
[{"$f":"basePAGAS!A205","v":197},0]
[{"$f":"basePAGAS!A206","v":198},0]
[{"$f":"basePAGAS!A207","v":199},0]
[{"$f":"basePAGAS!A208","v":200},0]
[{"$f":"basePAGAS!A209","v":201},0]
[{"$f":"basePAGAS!A210","v":202},0]
[{"$f":"basePAGAS!A211","v":203},0]
[{"$f":"basePAGAS!A212","v":204},0]
[{"$f":"basePAGAS!A213","v":205},0]
[{"$f":"basePAGAS!A214","v":206},0]
[{"$f":"basePAGAS!A215","v":207},0]
[{"$f":"basePAGAS!A216","v":208},0]
[{"$f":"basePAGAS!A217","v":209},0]
[{"$f":"basePAGAS!A218","v":210},0]
[{"$f":"basePAGAS!A219","v":211},0]
[{"$f":"basePAGAS!A220","v":212},0]
[{"$f":"basePAGAS!A221","v":213},0]
[{"$f":"basePAGAS!A222","v":214},0]
[{"$f":"basePAGAS!A223","v":215},{"$f":"IF(A5711=\"\",\"\",IF(VLOOKUP(A5711,base_rpvs_pagas,2)=A$12,A5711,0))","v":0}]
[{"$f":"basePAGAS!A224","v":216},0]
[{"$f":"basePAGAS!A225","v":217},0]
[{"$f":"basePAGAS!A226","v":218},0]
[{"$f":"basePAGAS!A227","v":219},0]
[{"$f":"basePAGAS!A228","v":220},0]
[{"$f":"basePAGAS!A229","v":221},0]
[{"$f":"basePAGAS!A230","v":222},0]
[{"$f":"basePAGAS!A231","v":223},0]
[{"$f":"basePAGAS!A232","v":224},0]
[{"$f":"basePAGAS!A233","v":225},0]
[{"$f":"basePAGAS!A234","v":226},0]
[{"$f":"basePAGAS!A235","v":227},0]
[{"$f":"basePAGAS!A236","v":228},0]
[{"$f":"basePAGAS!A237","v":229},0]
[{"$f":"basePAGAS!A238","v":230},0]
[{"$f":"basePAGAS!A239","v":231},0]
[{"$f":"basePAGAS!A240","v":232},0]
[{"$f":"basePAGAS!A241","v":233},0]
[{"$f":"basePAGAS!A242","v":234},0]
[{"$f":"basePAGAS!A243","v":235},0]
[{"$f":"basePAGAS!A244","v":236},0]
[{"$f":"basePAGAS!A245","v":237},0]
[{"$f":"basePAGAS!A246","v":238},0]
[{"$f":"basePAGAS!A247","v":239},0]
[{"$f":"basePAGAS!A248","v":240},0]
[{"$f":"basePAGAS!A249","v":241},0]
[{"$f":"basePAGAS!A250","v":242},0]
[{"$f":"basePAGAS!A251","v":243},0]
[{"$f":"basePAGAS!A252","v":244},0]
[{"$f":"basePAGAS!A253","v":245},0]
[{"$f":"basePAGAS!A254","v":246},0]
[{"$f":"basePAGAS!A255","v":247},0]
[{"$f":"basePAGAS!A256","v":248},0]
[{"$f":"basePAGAS!A257","v":249},0]
[{"$f":"basePAGAS!A258","v":250},0]
[{"$f":"basePAGAS!A259","v":251},0]
[{"$f":"basePAGAS!A260","v":252},0]
[{"$f":"basePAGAS!A261","v":253},0]
[{"$f":"basePAGAS!A262","v":254},0]
[{"$f":"basePAGAS!A263","v":255},0]
[{"$f":"basePAGAS!A264","v":256},0]
[{"$f":"basePAGAS!A265","v":257},0]
[{"$f":"basePAGAS!A266","v":258},0]
[{"$f":"basePAGAS!A267","v":259},0]
[{"$f":"basePAGAS!A268","v":260},0]
[{"$f":"basePAGAS!A269","v":261},0]
[{"$f":"basePAGAS!A270","v":262},0]
[{"$f":"basePAGAS!A271","v":263},0]
[{"$f":"basePAGAS!A272","v":264},0]
[{"$f":"basePAGAS!A273","v":265},0]
[{"$f":"basePAGAS!A274","v":266},0]
[{"$f":"basePAGAS!A275","v":267},0]
[{"$f":"basePAGAS!A276","v":268},0]
[{"$f":"basePAGAS!A277","v":269},0]
[{"$f":"basePAGAS!A278","v":270},0]
[{"$f":"basePAGAS!A279","v":271},0]
[{"$f":"basePAGAS!A280","v":272},0]
[{"$f":"basePAGAS!A281","v":273},0]
[{"$f":"basePAGAS!A282","v":274},0]
[{"$f":"basePAGAS!A283","v":275},0]
[{"$f":"basePAGAS!A284","v":276},0]
[{"$f":"basePAGAS!A285","v":277},0]
[{"$f":"basePAGAS!A286","v":278},0]
[{"$f":"basePAGAS!A287","v":279},{"$f":"IF(A5775=\"\",\"\",IF(VLOOKUP(A5775,base_rpvs_pagas,2)=A$12,A5775,0))","v":0}]
[{"$f":"basePAGAS!A288","v":280},0]
[{"$f":"basePAGAS!A289","v":281},0]
[{"$f":"basePAGAS!A290","v":282},0]
[{"$f":"basePAGAS!A291","v":283},0]
[{"$f":"basePAGAS!A292","v":284},0]
[{"$f":"basePAGAS!A293","v":285},0]
[{"$f":"basePAGAS!A294","v":286},0]
[{"$f":"basePAGAS!A295","v":287},0]
[{"$f":"basePAGAS!A296","v":288},0]
[{"$f":"basePAGAS!A297","v":289},0]
[{"$f":"basePAGAS!A298","v":290},0]
[{"$f":"basePAGAS!A299","v":291},0]
[{"$f":"basePAGAS!A300","v":292},0]
[{"$f":"basePAGAS!A301","v":293},0]
[{"$f":"basePAGAS!A302","v":294},0]
[{"$f":"basePAGAS!A303","v":295},0]
[{"$f":"basePAGAS!A304","v":296},0]
[{"$f":"basePAGAS!A305","v":297},0]
[{"$f":"basePAGAS!A306","v":298},0]
[{"$f":"basePAGAS!A307","v":299},0]
[{"$f":"basePAGAS!A308","v":300},0]
[{"$f":"basePAGAS!A309","v":301},0]
[{"$f":"basePAGAS!A310","v":302},0]
[{"$f":"basePAGAS!A311","v":303},0]
[{"$f":"basePAGAS!A312","v":304},0]
[{"$f":"basePAGAS!A313","v":305},0]
[{"$f":"basePAGAS!A314","v":306},0]
[{"$f":"basePAGAS!A315","v":307},0]
[{"$f":"basePAGAS!A316","v":308},0]
[{"$f":"basePAGAS!A317","v":309},0]
[{"$f":"basePAGAS!A318","v":310},0]
[{"$f":"basePAGAS!A319","v":311},0]
[{"$f":"basePAGAS!A320","v":312},0]
[{"$f":"basePAGAS!A321","v":313},0]
[{"$f":"basePAGAS!A322","v":314},0]
[{"$f":"basePAGAS!A323","v":315},0]
[{"$f":"basePAGAS!A324","v":316},0]
[{"$f":"basePAGAS!A325","v":317},0]
[{"$f":"basePAGAS!A326","v":318},0]
[{"$f":"basePAGAS!A327","v":319},0]
[{"$f":"basePAGAS!A328","v":320},0]
[{"$f":"basePAGAS!A329","v":321},0]
[{"$f":"basePAGAS!A330","v":322},0]
[{"$f":"basePAGAS!A331","v":323},0]
[{"$f":"basePAGAS!A332","v":324},0]
[{"$f":"basePAGAS!A333","v":325},0]
[{"$f":"basePAGAS!A334","v":326},0]
[{"$f":"basePAGAS!A335","v":327},0]
[{"$f":"basePAGAS!A336","v":328},0]
[{"$f":"basePAGAS!A337","v":329},0]
[{"$f":"basePAGAS!A338","v":330},0]
[{"$f":"basePAGAS!A339","v":331},0]
[{"$f":"basePAGAS!A340","v":332},0]
[{"$f":"basePAGAS!A341","v":333},0]
[{"$f":"basePAGAS!A342","v":334},0]
[{"$f":"basePAGAS!A343","v":335},0]
[{"$f":"basePAGAS!A344","v":336},0]
[{"$f":"basePAGAS!A345","v":337},0]
[{"$f":"basePAGAS!A346","v":338},0]
[{"$f":"basePAGAS!A347","v":339},0]
[{"$f":"basePAGAS!A348","v":340},0]
[{"$f":"basePAGAS!A349","v":341},0]
[{"$f":"basePAGAS!A350","v":342},0]
[{"$f":"basePAGAS!A351","v":343},{"$f":"IF(A5839=\"\",\"\",IF(VLOOKUP(A5839,base_rpvs_pagas,2)=A$12,A5839,0))","v":0}]
[{"$f":"basePAGAS!A352","v":344},0]
[{"$f":"basePAGAS!A353","v":345},0]
[{"$f":"basePAGAS!A354","v":346},0]
[{"$f":"basePAGAS!A355","v":347},0]
[{"$f":"basePAGAS!A356","v":348},0]
[{"$f":"basePAGAS!A357","v":349},0]
[{"$f":"basePAGAS!A358","v":350},0]
[{"$f":"basePAGAS!A359","v":351},0]
[{"$f":"basePAGAS!A360","v":352},0]
[{"$f":"basePAGAS!A361","v":353},0]
[{"$f":"basePAGAS!A362","v":354},0]
[{"$f":"basePAGAS!A363","v":355},0]
[{"$f":"basePAGAS!A364","v":356},0]
[{"$f":"basePAGAS!A365","v":357},0]
[{"$f":"basePAGAS!A366","v":358},0]
[{"$f":"basePAGAS!A367","v":359},0]
[{"$f":"basePAGAS!A368","v":360},0]
[{"$f":"basePAGAS!A369","v":361},0]
[{"$f":"basePAGAS!A370","v":362},0]
[{"$f":"basePAGAS!A371","v":363},0]
[{"$f":"basePAGAS!A372","v":364},0]
[{"$f":"basePAGAS!A373","v":365},0]
[{"$f":"basePAGAS!A374","v":366},0]
[{"$f":"basePAGAS!A375","v":367},0]
[{"$f":"basePAGAS!A376","v":368},0]
[{"$f":"basePAGAS!A377","v":369},0]
[{"$f":"basePAGAS!A378","v":370},0]
[{"$f":"basePAGAS!A379","v":371},0]
[{"$f":"basePAGAS!A380","v":372},0]
[{"$f":"basePAGAS!A381","v":373},0]
[{"$f":"basePAGAS!A382","v":374},0]
[{"$f":"basePAGAS!A383","v":375},0]
[{"$f":"basePAGAS!A384","v":376},0]
[{"$f":"basePAGAS!A385","v":377},0]
[{"$f":"basePAGAS!A386","v":378},0]
[{"$f":"basePAGAS!A387","v":379},0]
[{"$f":"basePAGAS!A388","v":380},0]
[{"$f":"basePAGAS!A389","v":381},0]
[{"$f":"basePAGAS!A390","v":382},0]
[{"$f":"basePAGAS!A391","v":383},0]
[{"$f":"basePAGAS!A392","v":384},0]
[{"$f":"basePAGAS!A393","v":385},0]
[{"$f":"basePAGAS!A394","v":386},0]
[{"$f":"basePAGAS!A395","v":387},0]
[{"$f":"basePAGAS!A396","v":388},0]
[{"$f":"basePAGAS!A397","v":389},0]
[{"$f":"basePAGAS!A398","v":390},0]
[{"$f":"basePAGAS!A399","v":391},0]
[{"$f":"basePAGAS!A400","v":392},0]
[{"$f":"basePAGAS!A401","v":393},0]
[{"$f":"basePAGAS!A402","v":394},0]
[{"$f":"basePAGAS!A403","v":395},0]
[{"$f":"basePAGAS!A404","v":396},0]
[{"$f":"basePAGAS!A405","v":397},0]
[{"$f":"basePAGAS!A406","v":398},0]
[{"$f":"basePAGAS!A407","v":399},0]
[{"$f":"basePAGAS!A408","v":400},0]
[{"$f":"basePAGAS!A409","v":401},0]
[{"$f":"basePAGAS!A410","v":402},0]
[{"$f":"basePAGAS!A411","v":403},0]
[{"$f":"basePAGAS!A412","v":404},0]
[{"$f":"basePAGAS!A413","v":405},0]
[{"$f":"basePAGAS!A414","v":406},0]
[{"$f":"basePAGAS!A415","v":407},{"$f":"IF(A5903=\"\",\"\",IF(VLOOKUP(A5903,base_rpvs_pagas,2)=A$12,A5903,0))","v":0}]
[{"$f":"basePAGAS!A416","v":408},0]
[{"$f":"basePAGAS!A417","v":409},0]
[{"$f":"basePAGAS!A418","v":410},0]
[{"$f":"basePAGAS!A419","v":411},0]
[{"$f":"basePAGAS!A420","v":412},0]
[{"$f":"basePAGAS!A421","v":413},0]
[{"$f":"basePAGAS!A422","v":414},0]
[{"$f":"basePAGAS!A423","v":415},0]
[{"$f":"basePAGAS!A424","v":416},0]
[{"$f":"basePAGAS!A425","v":417},0]
[{"$f":"basePAGAS!A426","v":418},0]
[{"$f":"basePAGAS!A427","v":419},0]
[{"$f":"basePAGAS!A428","v":420},0]
[{"$f":"basePAGAS!A429","v":421},0]
[{"$f":"basePAGAS!A430","v":422},0]
[{"$f":"basePAGAS!A431","v":423},0]
[{"$f":"basePAGAS!A432","v":424},0]
[{"$f":"basePAGAS!A433","v":425},0]
[{"$f":"basePAGAS!A434","v":426},0]
[{"$f":"basePAGAS!A435","v":427},0]
[{"$f":"basePAGAS!A436","v":428},0]
[{"$f":"basePAGAS!A437","v":429},0]
[{"$f":"basePAGAS!A438","v":430},0]
[{"$f":"basePAGAS!A439","v":431},0]
[{"$f":"basePAGAS!A440","v":432},0]
[{"$f":"basePAGAS!A441","v":433},0]
[{"$f":"basePAGAS!A442","v":434},0]
[{"$f":"basePAGAS!A443","v":435},0]
[{"$f":"basePAGAS!A444","v":436},0]
[{"$f":"basePAGAS!A445","v":437},0]
[{"$f":"basePAGAS!A446","v":438},0]
[{"$f":"basePAGAS!A447","v":439},0]
[{"$f":"basePAGAS!A448","v":440},0]
[{"$f":"basePAGAS!A449","v":441},0]
[{"$f":"basePAGAS!A450","v":442},0]
[{"$f":"basePAGAS!A451","v":443},0]
[{"$f":"basePAGAS!A452","v":444},0]
[{"$f":"basePAGAS!A453","v":445},0]
[{"$f":"basePAGAS!A454","v":446},0]
[{"$f":"basePAGAS!A455","v":447},0]
[{"$f":"basePAGAS!A456","v":448},0]
[{"$f":"basePAGAS!A457","v":449},0]
[{"$f":"basePAGAS!A458","v":450},0]
[{"$f":"basePAGAS!A459","v":451},0]
[{"$f":"basePAGAS!A460","v":452},0]
[{"$f":"basePAGAS!A461","v":453},0]
[{"$f":"basePAGAS!A462","v":454},0]
[{"$f":"basePAGAS!A463","v":455},0]
[{"$f":"basePAGAS!A464","v":456},0]
[{"$f":"basePAGAS!A465","v":457},0]
[{"$f":"basePAGAS!A466","v":458},0]
[{"$f":"basePAGAS!A467","v":459},0]
[{"$f":"basePAGAS!A468","v":460},0]
[{"$f":"basePAGAS!A469","v":461},0]
[{"$f":"basePAGAS!A470","v":462},0]
[{"$f":"basePAGAS!A471","v":463},0]
[{"$f":"basePAGAS!A472","v":464},0]
[{"$f":"basePAGAS!A473","v":465},0]
[{"$f":"basePAGAS!A474","v":466},0]
[{"$f":"basePAGAS!A475","v":467},0]
[{"$f":"basePAGAS!A476","v":468},0]
[{"$f":"basePAGAS!A477","v":469},0]
[{"$f":"basePAGAS!A478","v":470},0]
[{"$f":"basePAGAS!A479","v":471},{"$f":"IF(A5967=\"\",\"\",IF(VLOOKUP(A5967,base_rpvs_pagas,2)=A$12,A5967,0))","v":0}]
[{"$f":"basePAGAS!A480","v":472},0]
[{"$f":"basePAGAS!A481","v":473},0]
[{"$f":"basePAGAS!A482","v":474},0]
[{"$f":"basePAGAS!A483","v":475},0]
[{"$f":"basePAGAS!A484","v":476},0]
[{"$f":"basePAGAS!A485","v":477},0]
[{"$f":"basePAGAS!A486","v":478},0]
[{"$f":"basePAGAS!A487","v":479},0]
[{"$f":"basePAGAS!A488","v":480},0]
[{"$f":"basePAGAS!A489","v":481},0]
[{"$f":"basePAGAS!A490","v":482},0]
[{"$f":"basePAGAS!A491","v":483},0]
[{"$f":"basePAGAS!A492","v":484},0]
[{"$f":"basePAGAS!A493","v":485},0]
[{"$f":"basePAGAS!A494","v":486},0]
[{"$f":"basePAGAS!A495","v":487},0]
[{"$f":"basePAGAS!A496","v":488},0]
[{"$f":"basePAGAS!A497","v":489},0]
[{"$f":"basePAGAS!A498","v":490},0]
[{"$f":"basePAGAS!A499","v":491},0]
[{"$f":"basePAGAS!A500","v":492},0]
[{"$f":"basePAGAS!A501","v":493},0]
[{"$f":"basePAGAS!A502","v":494},0]
[{"$f":"basePAGAS!A503","v":495},0]
[{"$f":"basePAGAS!A504","v":496},0]
[{"$f":"basePAGAS!A505","v":497},0]
[{"$f":"basePAGAS!A506","v":498},0]
[{"$f":"basePAGAS!A507","v":499},0]
[{"$f":"basePAGAS!A508","v":500},0]
[{"$f":"basePAGAS!A509","v":501},0]
[{"$f":"basePAGAS!A510","v":502},0]
[{"$f":"basePAGAS!A511","v":503},0]
[{"$f":"basePAGAS!A512","v":504},0]
[{"$f":"basePAGAS!A513","v":505},0]
[{"$f":"basePAGAS!A514","v":506},0]
[{"$f":"basePAGAS!A515","v":507},0]
[{"$f":"basePAGAS!A516","v":508},0]
[{"$f":"basePAGAS!A517","v":509},0]
[{"$f":"basePAGAS!A518","v":510},0]
[{"$f":"basePAGAS!A519","v":511},0]
[{"$f":"basePAGAS!A520","v":512},0]
[{"$f":"basePAGAS!A521","v":513},0]
[{"$f":"basePAGAS!A522","v":514},0]
[{"$f":"basePAGAS!A523","v":515},0]
[{"$f":"basePAGAS!A524","v":516},0]
[{"$f":"basePAGAS!A525","v":517},0]
[{"$f":"basePAGAS!A526","v":518},0]
[{"$f":"basePAGAS!A527","v":519},0]
[{"$f":"basePAGAS!A528","v":520},0]
[{"$f":"basePAGAS!A529","v":521},0]
[{"$f":"basePAGAS!A530","v":522},0]
[{"$f":"basePAGAS!A531","v":523},0]
[{"$f":"basePAGAS!A532","v":524},0]
[{"$f":"basePAGAS!A533","v":525},0]
[{"$f":"basePAGAS!A534","v":526},0]
[{"$f":"basePAGAS!A535","v":527},0]
[{"$f":"basePAGAS!A536","v":528},0]
[{"$f":"basePAGAS!A537","v":529},0]
[{"$f":"basePAGAS!A538","v":530},0]
[{"$f":"basePAGAS!A539","v":531},0]
[{"$f":"basePAGAS!A540","v":532},0]
[{"$f":"basePAGAS!A541","v":533},0]
[{"$f":"basePAGAS!A542","v":534},0]
[{"$f":"basePAGAS!A543","v":535},{"$f":"IF(A6031=\"\",\"\",IF(VLOOKUP(A6031,base_rpvs_pagas,2)=A$12,A6031,0))","v":0}]
[{"$f":"basePAGAS!A544","v":536},0]
[{"$f":"basePAGAS!A545","v":537},0]
[{"$f":"basePAGAS!A546","v":538},0]
[{"$f":"basePAGAS!A547","v":539},0]
[{"$f":"basePAGAS!A548","v":540},0]
[{"$f":"basePAGAS!A549","v":541},0]
[{"$f":"basePAGAS!A550","v":542},0]
[{"$f":"basePAGAS!A551","v":543},0]
[{"$f":"basePAGAS!A552","v":544},0]
[{"$f":"basePAGAS!A553","v":545},0]
[{"$f":"basePAGAS!A554","v":546},0]
[{"$f":"basePAGAS!A555","v":547},0]
[{"$f":"basePAGAS!A556","v":548},0]
[{"$f":"basePAGAS!A557","v":549},0]
[{"$f":"basePAGAS!A558","v":550},0]
[{"$f":"basePAGAS!A559","v":551},0]
[{"$f":"basePAGAS!A560","v":552},0]
[{"$f":"basePAGAS!A561","v":553},0]
[{"$f":"basePAGAS!A562","v":554},0]
[{"$f":"basePAGAS!A563","v":555},0]
[{"$f":"basePAGAS!A564","v":556},0]
[{"$f":"basePAGAS!A565","v":557},0]
[{"$f":"basePAGAS!A566","v":558},0]
[{"$f":"basePAGAS!A567","v":559},0]
[{"$f":"basePAGAS!A568","v":560},0]
[{"$f":"basePAGAS!A569","v":561},0]
[{"$f":"basePAGAS!A570","v":562},0]
[{"$f":"basePAGAS!A571","v":563},0]
[{"$f":"basePAGAS!A572","v":564},0]
[{"$f":"basePAGAS!A573","v":565},0]
[{"$f":"basePAGAS!A574","v":566},0]
[{"$f":"basePAGAS!A575","v":567},0]
[{"$f":"basePAGAS!A576","v":568},0]
[{"$f":"basePAGAS!A577","v":569},0]
[{"$f":"basePAGAS!A578","v":570},0]
[{"$f":"basePAGAS!A579","v":571},0]
[{"$f":"basePAGAS!A580","v":572},0]
[{"$f":"basePAGAS!A581","v":573},0]
[{"$f":"basePAGAS!A582","v":574},0]
[{"$f":"basePAGAS!A583","v":575},0]
[{"$f":"basePAGAS!A584","v":576},0]
[{"$f":"basePAGAS!A585","v":577},0]
[{"$f":"basePAGAS!A586","v":578},0]
[{"$f":"basePAGAS!A587","v":579},0]
[{"$f":"basePAGAS!A588","v":580},0]
[{"$f":"basePAGAS!A589","v":581},0]
[{"$f":"basePAGAS!A590","v":582},0]
[{"$f":"basePAGAS!A591","v":583},0]
[{"$f":"basePAGAS!A592","v":584},0]
[{"$f":"basePAGAS!A593","v":585},0]
[{"$f":"basePAGAS!A594","v":586},0]
[{"$f":"basePAGAS!A595","v":587},0]
[{"$f":"basePAGAS!A596","v":588},0]
[{"$f":"basePAGAS!A597","v":589},0]
[{"$f":"basePAGAS!A598","v":590},0]
[{"$f":"basePAGAS!A599","v":591},0]
[{"$f":"basePAGAS!A600","v":592},0]
[{"$f":"basePAGAS!A601","v":593},0]
[{"$f":"basePAGAS!A602","v":594},0]
[{"$f":"basePAGAS!A603","v":595},0]
[{"$f":"basePAGAS!A604","v":596},0]
[{"$f":"basePAGAS!A605","v":597},0]
[{"$f":"basePAGAS!A606","v":598},0]
[{"$f":"basePAGAS!A607","v":599},{"$f":"IF(A6095=\"\",\"\",IF(VLOOKUP(A6095,base_rpvs_pagas,2)=A$12,A6095,0))","v":0}]
[{"$f":"basePAGAS!A608","v":600},0]
[{"$f":"basePAGAS!A609","v":601},0]
[{"$f":"basePAGAS!A610","v":602},0]
[{"$f":"basePAGAS!A611","v":603},0]
[{"$f":"basePAGAS!A612","v":604},0]
[{"$f":"basePAGAS!A613","v":605},0]
[{"$f":"basePAGAS!A614","v":606},0]
[{"$f":"basePAGAS!A615","v":607},0]
[{"$f":"basePAGAS!A616","v":608},0]
[{"$f":"basePAGAS!A617","v":609},0]
[{"$f":"basePAGAS!A618","v":610},0]
[{"$f":"basePAGAS!A619","v":611},0]
[{"$f":"basePAGAS!A620","v":612},0]
[{"$f":"basePAGAS!A621","v":613},0]
[{"$f":"basePAGAS!A622","v":614},0]
[{"$f":"basePAGAS!A623","v":615},0]
[{"$f":"basePAGAS!A624","v":616},0]
[{"$f":"basePAGAS!A625","v":617},0]
[{"$f":"basePAGAS!A626","v":618},0]
[{"$f":"basePAGAS!A627","v":619},0]
[{"$f":"basePAGAS!A628","v":620},0]
[{"$f":"basePAGAS!A629","v":621},0]
[{"$f":"basePAGAS!A630","v":622},0]
[{"$f":"basePAGAS!A631","v":623},0]
[{"$f":"basePAGAS!A632","v":624},0]
[{"$f":"basePAGAS!A633","v":625},0]
[{"$f":"basePAGAS!A634","v":626},0]
[{"$f":"basePAGAS!A635","v":627},0]
[{"$f":"basePAGAS!A636","v":628},0]
[{"$f":"basePAGAS!A637","v":629},0]
[{"$f":"basePAGAS!A638","v":630},0]
[{"$f":"basePAGAS!A639","v":631},0]
[{"$f":"basePAGAS!A640","v":632},0]
[{"$f":"basePAGAS!A641","v":633},0]
[{"$f":"basePAGAS!A642","v":634},0]
[{"$f":"basePAGAS!A643","v":635},0]
[{"$f":"basePAGAS!A644","v":636},0]
[{"$f":"basePAGAS!A645","v":637},0]
[{"$f":"basePAGAS!A646","v":638},0]
[{"$f":"basePAGAS!A647","v":639},0]
[{"$f":"basePAGAS!A648","v":640},0]
[{"$f":"basePAGAS!A649","v":641},0]
[{"$f":"basePAGAS!A650","v":642},0]
[{"$f":"basePAGAS!A651","v":643},0]
[{"$f":"basePAGAS!A652","v":644},0]
[{"$f":"basePAGAS!A653","v":645},0]
[{"$f":"basePAGAS!A654","v":646},0]
[{"$f":"basePAGAS!A655","v":647},0]
[{"$f":"basePAGAS!A656","v":648},0]
[{"$f":"basePAGAS!A657","v":649},0]
[{"$f":"basePAGAS!A658","v":650},0]
[{"$f":"basePAGAS!A659","v":651},0]
[{"$f":"basePAGAS!A660","v":652},0]
[{"$f":"basePAGAS!A661","v":653},0]
[{"$f":"basePAGAS!A662","v":654},0]
[{"$f":"basePAGAS!A663","v":655},0]
[{"$f":"basePAGAS!A664","v":656},0]
[{"$f":"basePAGAS!A665","v":657},0]
[{"$f":"basePAGAS!A666","v":658},0]
[{"$f":"basePAGAS!A667","v":659},0]
[{"$f":"basePAGAS!A668","v":660},0]
[{"$f":"basePAGAS!A669","v":661},0]
[{"$f":"basePAGAS!A670","v":662},0]
[{"$f":"basePAGAS!A671","v":663},{"$f":"IF(A6159=\"\",\"\",IF(VLOOKUP(A6159,base_rpvs_pagas,2)=A$12,A6159,0))","v":0}]
[{"$f":"basePAGAS!A672","v":664},0]
[{"$f":"basePAGAS!A673","v":665},0]
[{"$f":"basePAGAS!A674","v":666},0]
[{"$f":"basePAGAS!A675","v":667},0]
[{"$f":"basePAGAS!A676","v":668},0]
[{"$f":"basePAGAS!A677","v":669},0]
[{"$f":"basePAGAS!A678","v":670},0]
[{"$f":"basePAGAS!A679","v":671},0]
[{"$f":"basePAGAS!A680","v":672},0]
[{"$f":"basePAGAS!A681","v":673},0]
[{"$f":"basePAGAS!A682","v":674},0]
[{"$f":"basePAGAS!A683","v":675},0]
[{"$f":"basePAGAS!A684","v":676},0]
[{"$f":"basePAGAS!A685","v":677},0]
[{"$f":"basePAGAS!A686","v":678},0]
[{"$f":"basePAGAS!A687","v":679},0]
[{"$f":"basePAGAS!A688","v":680},0]
[{"$f":"basePAGAS!A689","v":681},0]
[{"$f":"basePAGAS!A690","v":682},0]
[{"$f":"basePAGAS!A691","v":683},0]
[{"$f":"basePAGAS!A692","v":684},0]
[{"$f":"basePAGAS!A693","v":685},0]
[{"$f":"basePAGAS!A694","v":686},0]
[{"$f":"basePAGAS!A695","v":687},0]
[{"$f":"basePAGAS!A696","v":688},0]
[{"$f":"basePAGAS!A697","v":689},0]
[{"$f":"basePAGAS!A698","v":690},0]
[{"$f":"basePAGAS!A699","v":691},0]
[{"$f":"basePAGAS!A700","v":692},0]
[{"$f":"basePAGAS!A701","v":693},0]
[{"$f":"basePAGAS!A702","v":694},0]
[{"$f":"basePAGAS!A703","v":695},0]
[{"$f":"basePAGAS!A704","v":696},0]
[{"$f":"basePAGAS!A705","v":697},0]
[{"$f":"basePAGAS!A706","v":698},0]
[{"$f":"basePAGAS!A707","v":699},0]
[{"$f":"basePAGAS!A708","v":700},0]
[{"$f":"basePAGAS!A709","v":701},0]
[{"$f":"basePAGAS!A710","v":702},0]
[{"$f":"basePAGAS!A711","v":703},0]
[{"$f":"basePAGAS!A712","v":704},0]
[{"$f":"basePAGAS!A713","v":705},0]
[{"$f":"basePAGAS!A714","v":706},0]
[{"$f":"basePAGAS!A715","v":707},0]
[{"$f":"basePAGAS!A716","v":708},0]
[{"$f":"basePAGAS!A717","v":709},0]
[{"$f":"basePAGAS!A718","v":710},0]
[{"$f":"basePAGAS!A719","v":711},0]
[{"$f":"basePAGAS!A720","v":712},0]
[{"$f":"basePAGAS!A721","v":713},0]
[{"$f":"basePAGAS!A722","v":714},0]
[{"$f":"basePAGAS!A723","v":715},0]
[{"$f":"basePAGAS!A724","v":716},0]
[{"$f":"basePAGAS!A725","v":717},0]
[{"$f":"basePAGAS!A726","v":718},0]
[{"$f":"basePAGAS!A727","v":719},0]
[{"$f":"basePAGAS!A728","v":720},0]
[{"$f":"basePAGAS!A729","v":721},0]
[{"$f":"basePAGAS!A730","v":722},0]
[{"$f":"basePAGAS!A731","v":723},0]
[{"$f":"basePAGAS!A732","v":724},0]
[{"$f":"basePAGAS!A733","v":725},0]
[{"$f":"basePAGAS!A734","v":726},0]
[{"$f":"basePAGAS!A735","v":727},{"$f":"IF(A6223=\"\",\"\",IF(VLOOKUP(A6223,base_rpvs_pagas,2)=A$12,A6223,0))","v":0}]
[{"$f":"basePAGAS!A736","v":728},0]
[{"$f":"basePAGAS!A737","v":729},0]
[{"$f":"basePAGAS!A738","v":730},0]
[{"$f":"basePAGAS!A739","v":731},0]
[{"$f":"basePAGAS!A740","v":732},0]
[{"$f":"basePAGAS!A741","v":733},0]
[{"$f":"basePAGAS!A742","v":734},0]
[{"$f":"basePAGAS!A743","v":735},0]
[{"$f":"basePAGAS!A744","v":736},0]
[{"$f":"basePAGAS!A745","v":737},0]
[{"$f":"basePAGAS!A746","v":738},0]
[{"$f":"basePAGAS!A747","v":739},0]
[{"$f":"basePAGAS!A748","v":740},0]
[{"$f":"basePAGAS!A749","v":741},0]
[{"$f":"basePAGAS!A750","v":742},0]
[{"$f":"basePAGAS!A751","v":743},0]
[{"$f":"basePAGAS!A752","v":744},0]
[{"$f":"basePAGAS!A753","v":745},0]
[{"$f":"basePAGAS!A754","v":746},0]
[{"$f":"basePAGAS!A755","v":747},0]
[{"$f":"basePAGAS!A756","v":748},0]
[{"$f":"basePAGAS!A757","v":749},0]
[{"$f":"basePAGAS!A758","v":750},0]
[{"$f":"basePAGAS!A759","v":751},0]
[{"$f":"basePAGAS!A760","v":752},0]
[{"$f":"basePAGAS!A761","v":753},0]
[{"$f":"basePAGAS!A762","v":754},0]
[{"$f":"basePAGAS!A763","v":755},0]
[{"$f":"basePAGAS!A764","v":756},0]
[{"$f":"basePAGAS!A765","v":757},0]
[{"$f":"basePAGAS!A766","v":758},0]
[{"$f":"basePAGAS!A767","v":759},0]
[{"$f":"basePAGAS!A768","v":760},0]
[{"$f":"basePAGAS!A769","v":761},0]
[{"$f":"basePAGAS!A770","v":762},0]
[{"$f":"basePAGAS!A771","v":763},0]
[{"$f":"basePAGAS!A772","v":764},0]
[{"$f":"basePAGAS!A773","v":765},0]
[{"$f":"basePAGAS!A774","v":766},0]
[{"$f":"basePAGAS!A775","v":767},0]
[{"$f":"basePAGAS!A776","v":768},0]
[{"$f":"basePAGAS!A777","v":769},0]
[{"$f":"basePAGAS!A778","v":770},0]
[{"$f":"basePAGAS!A779","v":771},0]
[{"$f":"basePAGAS!A780","v":772},0]
[{"$f":"basePAGAS!A781","v":773},0]
[{"$f":"basePAGAS!A782","v":774},0]
[{"$f":"basePAGAS!A783","v":775},0]
[{"$f":"basePAGAS!A784","v":776},0]
[{"$f":"basePAGAS!A785","v":777},0]
[{"$f":"basePAGAS!A786","v":778},0]
[{"$f":"basePAGAS!A787","v":779},0]
[{"$f":"basePAGAS!A788","v":780},0]
[{"$f":"basePAGAS!A789","v":781},0]
[{"$f":"basePAGAS!A790","v":782},0]
[{"$f":"basePAGAS!A791","v":783},0]
[{"$f":"basePAGAS!A792","v":784},0]
[{"$f":"basePAGAS!A793","v":785},0]
[{"$f":"basePAGAS!A794","v":786},0]
[{"$f":"basePAGAS!A795","v":787},0]
[{"$f":"basePAGAS!A796","v":788},0]
[{"$f":"basePAGAS!A797","v":789},0]
[{"$f":"basePAGAS!A798","v":790},0]
[{"$f":"basePAGAS!A799","v":791},{"$f":"IF(A6287=\"\",\"\",IF(VLOOKUP(A6287,base_rpvs_pagas,2)=A$12,A6287,0))","v":0}]
[{"$f":"basePAGAS!A800","v":792},0]
[{"$f":"basePAGAS!A801","v":793},0]
[{"$f":"basePAGAS!A802","v":794},0]
[{"$f":"basePAGAS!A803","v":795},0]
[{"$f":"basePAGAS!A804","v":796},0]
[{"$f":"basePAGAS!A805","v":797},0]
[{"$f":"basePAGAS!A806","v":798},0]
[{"$f":"basePAGAS!A807","v":799},0]
[{"$f":"basePAGAS!A808","v":800},0]
[{"$f":"basePAGAS!A809","v":801},0]
[{"$f":"basePAGAS!A810","v":802},0]
[{"$f":"basePAGAS!A811","v":803},0]
[{"$f":"basePAGAS!A812","v":804},0]
[{"$f":"basePAGAS!A813","v":805},0]
[{"$f":"basePAGAS!A814","v":806},0]
[{"$f":"basePAGAS!A815","v":807},0]
[{"$f":"basePAGAS!A816","v":808},0]
[{"$f":"basePAGAS!A817","v":809},0]
[{"$f":"basePAGAS!A818","v":810},0]
[{"$f":"basePAGAS!A819","v":811},0]
[{"$f":"basePAGAS!A820","v":812},0]
[{"$f":"basePAGAS!A821","v":813},0]
[{"$f":"basePAGAS!A822","v":814},0]
[{"$f":"basePAGAS!A823","v":815},0]
[{"$f":"basePAGAS!A824","v":816},0]
[{"$f":"basePAGAS!A825","v":817},0]
[{"$f":"basePAGAS!A826","v":818},0]
[{"$f":"basePAGAS!A827","v":819},0]
[{"$f":"basePAGAS!A828","v":820},0]
[{"$f":"basePAGAS!A829","v":821},0]
[{"$f":"basePAGAS!A830","v":822},0]
[{"$f":"basePAGAS!A831","v":823},0]
[{"$f":"basePAGAS!A832","v":824},0]
[{"$f":"basePAGAS!A833","v":825},0]
[{"$f":"basePAGAS!A834","v":826},0]
[{"$f":"basePAGAS!A835","v":827},0]
[{"$f":"basePAGAS!A836","v":828},0]
[{"$f":"basePAGAS!A837","v":829},0]
[{"$f":"basePAGAS!A838","v":830},0]
[{"$f":"basePAGAS!A839","v":831},0]
[{"$f":"basePAGAS!A840","v":832},0]
[{"$f":"basePAGAS!A841","v":833},0]
[{"$f":"basePAGAS!A842","v":834},0]
[{"$f":"basePAGAS!A843","v":835},0]
[{"$f":"basePAGAS!A844","v":836},0]
[{"$f":"basePAGAS!A845","v":837},0]
[{"$f":"basePAGAS!A846","v":838},0]
[{"$f":"basePAGAS!A847","v":839},0]
[{"$f":"basePAGAS!A848","v":840},0]
[{"$f":"basePAGAS!A849","v":841},0]
[{"$f":"basePAGAS!A850","v":842},0]
[{"$f":"basePAGAS!A851","v":843},0]
[{"$f":"basePAGAS!A852","v":844},0]
[{"$f":"basePAGAS!A853","v":845},0]
[{"$f":"basePAGAS!A854","v":846},0]
[{"$f":"basePAGAS!A855","v":847},0]
[{"$f":"basePAGAS!A856","v":848},0]
[{"$f":"basePAGAS!A857","v":849},0]
[{"$f":"basePAGAS!A858","v":850},0]
[{"$f":"basePAGAS!A859","v":851},0]
[{"$f":"basePAGAS!A860","v":852},0]
[{"$f":"basePAGAS!A861","v":853},0]
[{"$f":"basePAGAS!A862","v":854},0]
[{"$f":"basePAGAS!A863","v":855},{"$f":"IF(A6351=\"\",\"\",IF(VLOOKUP(A6351,base_rpvs_pagas,2)=A$12,A6351,0))","v":0}]
[{"$f":"basePAGAS!A864","v":856},0]
[{"$f":"basePAGAS!A865","v":857},0]
[{"$f":"basePAGAS!A866","v":858},0]
[{"$f":"basePAGAS!A867","v":859},0]
[{"$f":"basePAGAS!A868","v":860},0]
[{"$f":"basePAGAS!A869","v":861},0]
[{"$f":"basePAGAS!A870","v":862},0]
[{"$f":"basePAGAS!A871","v":863},0]
[{"$f":"basePAGAS!A872","v":864},0]
[{"$f":"basePAGAS!A873","v":865},0]
[{"$f":"basePAGAS!A874","v":866},0]
[{"$f":"basePAGAS!A875","v":867},0]
[{"$f":"basePAGAS!A876","v":868},0]
[{"$f":"basePAGAS!A877","v":869},0]
[{"$f":"basePAGAS!A878","v":870},0]
[{"$f":"basePAGAS!A879","v":871},0]
[{"$f":"basePAGAS!A880","v":872},0]
[{"$f":"basePAGAS!A881","v":873},0]
[{"$f":"basePAGAS!A882","v":874},0]
[{"$f":"basePAGAS!A883","v":875},0]
[{"$f":"basePAGAS!A884","v":876},0]
[{"$f":"basePAGAS!A885","v":877},0]
[{"$f":"basePAGAS!A886","v":878},0]
[{"$f":"basePAGAS!A887","v":879},0]
[{"$f":"basePAGAS!A888","v":880},0]
[{"$f":"basePAGAS!A889","v":881},0]
[{"$f":"basePAGAS!A890","v":882},0]
[{"$f":"basePAGAS!A891","v":883},0]
[{"$f":"basePAGAS!A892","v":884},0]
[{"$f":"basePAGAS!A893","v":885},0]
[{"$f":"basePAGAS!A894","v":886},0]
[{"$f":"basePAGAS!A895","v":""},""]
[{"$f":"basePAGAS!A896","v":""},""]
[{"$f":"basePAGAS!A897","v":""},""]
[{"$f":"basePAGAS!A898","v":""},""]
[{"$f":"basePAGAS!A899","v":""},""]
[{"$f":"basePAGAS!A900","v":""},""]
[{"$f":"basePAGAS!A901","v":""},""]
[{"$f":"basePAGAS!A902","v":""},""]
[{"$f":"basePAGAS!A903","v":""},""]
[{"$f":"basePAGAS!A904","v":""},""]
[{"$f":"basePAGAS!A905","v":""},""]
[{"$f":"basePAGAS!A906","v":""},""]
[{"$f":"basePAGAS!A907","v":""},""]
[{"$f":"basePAGAS!A908","v":""},""]
[{"$f":"basePAGAS!A909","v":""},""]
[{"$f":"basePAGAS!A910","v":""},""]
[{"$f":"basePAGAS!A911","v":""},""]
[{"$f":"basePAGAS!A912","v":""},""]
[{"$f":"basePAGAS!A913","v":""},""]
[{"$f":"basePAGAS!A914","v":""},""]
[{"$f":"basePAGAS!A915","v":""},""]
[{"$f":"basePAGAS!A916","v":""},""]
[{"$f":"basePAGAS!A917","v":""},""]
[{"$f":"basePAGAS!A918","v":""},""]
[{"$f":"basePAGAS!A919","v":""},""]
[{"$f":"basePAGAS!A920","v":""},""]
[{"$f":"basePAGAS!A921","v":""},""]
[{"$f":"basePAGAS!A922","v":""},""]
[{"$f":"basePAGAS!A923","v":""},""]
[{"$f":"basePAGAS!A924","v":""},""]
[{"$f":"basePAGAS!A925","v":""},""]
[{"$f":"basePAGAS!A926","v":""},""]
[{"$f":"basePAGAS!A927","v":""},{"$f":"IF(A6415=\"\",\"\",IF(VLOOKUP(A6415,base_rpvs_pagas,2)=A$12,A6415,0))","v":""}]
[{"$f":"basePAGAS!A928","v":""},""]
[{"$f":"basePAGAS!A929","v":""},""]
[{"$f":"basePAGAS!A930","v":""},""]
[{"$f":"basePAGAS!A931","v":""},""]
[{"$f":"basePAGAS!A932","v":""},""]
[{"$f":"basePAGAS!A933","v":""},""]
[{"$f":"basePAGAS!A934","v":""},""]
[{"$f":"basePAGAS!A935","v":""},""]
[{"$f":"basePAGAS!A936","v":""},""]
[{"$f":"basePAGAS!A937","v":""},""]
[{"$f":"basePAGAS!A938","v":""},""]
[{"$f":"basePAGAS!A939","v":""},""]
[{"$f":"basePAGAS!A940","v":""},""]
[{"$f":"basePAGAS!A941","v":""},""]
[{"$f":"basePAGAS!A942","v":""},""]
[{"$f":"basePAGAS!A943","v":""},""]
[{"$f":"basePAGAS!A944","v":""},""]
[{"$f":"basePAGAS!A945","v":""},""]
[{"$f":"basePAGAS!A946","v":""},""]
[{"$f":"basePAGAS!A947","v":""},""]
[{"$f":"basePAGAS!A948","v":""},""]
[{"$f":"basePAGAS!A949","v":""},""]
[{"$f":"basePAGAS!A950","v":""},""]
[{"$f":"basePAGAS!A951","v":""},""]
[{"$f":"basePAGAS!A952","v":""},""]
[{"$f":"basePAGAS!A953","v":""},""]
[{"$f":"basePAGAS!A954","v":""},""]
[{"$f":"basePAGAS!A955","v":""},""]
[{"$f":"basePAGAS!A956","v":""},""]
[{"$f":"basePAGAS!A957","v":""},""]
[{"$f":"basePAGAS!A958","v":""},""]
[{"$f":"basePAGAS!A959","v":""},""]
[{"$f":"basePAGAS!A960","v":""},""]
[{"$f":"basePAGAS!A961","v":""},""]
[{"$f":"basePAGAS!A962","v":""},""]
[{"$f":"basePAGAS!A963","v":""},""]
[{"$f":"basePAGAS!A964","v":""},""]
[{"$f":"basePAGAS!A965","v":""},""]
[{"$f":"basePAGAS!A966","v":""},""]
[{"$f":"basePAGAS!A967","v":""},""]
[{"$f":"basePAGAS!A968","v":""},""]
[{"$f":"basePAGAS!A969","v":""},""]
[{"$f":"basePAGAS!A970","v":""},""]
[{"$f":"basePAGAS!A971","v":""},""]
[{"$f":"basePAGAS!A972","v":""},""]
[{"$f":"basePAGAS!A973","v":""},""]
[{"$f":"basePAGAS!A974","v":""},""]
[{"$f":"basePAGAS!A975","v":""},""]
[{"$f":"basePAGAS!A976","v":""},""]
[{"$f":"basePAGAS!A977","v":""},""]
[{"$f":"basePAGAS!A978","v":""},""]
[{"$f":"basePAGAS!A979","v":""},""]
[{"$f":"basePAGAS!A980","v":""},""]
[{"$f":"basePAGAS!A981","v":""},""]
[{"$f":"basePAGAS!A982","v":""},""]
[{"$f":"basePAGAS!A983","v":""},""]
[{"$f":"basePAGAS!A984","v":""},""]
[{"$f":"basePAGAS!A985","v":""},""]
[{"$f":"basePAGAS!A986","v":""},""]
[{"$f":"basePAGAS!A987","v":""},""]
[{"$f":"basePAGAS!A988","v":""},""]
[{"$f":"basePAGAS!A989","v":""},""]
[{"$f":"basePAGAS!A990","v":""},""]
[{"$f":"basePAGAS!A991","v":""},{"$f":"IF(A6479=\"\",\"\",IF(VLOOKUP(A6479,base_rpvs_pagas,2)=A$12,A6479,0))","v":""}]
[{"$f":"basePAGAS!A992","v":""},""]
[{"$f":"basePAGAS!A993","v":""},""]
[{"$f":"basePAGAS!A994","v":""},""]
[{"$f":"basePAGAS!A995","v":""},""]
[{"$f":"basePAGAS!A996","v":""},""]
[{"$f":"basePAGAS!A997","v":""},""]
[{"$f":"basePAGAS!A998","v":""},""]
[{"$f":"basePAGAS!A999","v":""},""]
[{"$f":"basePAGAS!A1000","v":""},""]
[{"$f":"basePAGAS!A1001","v":""},""]
[{"$f":"basePAGAS!A1002","v":""},""]
[{"$f":"basePAGAS!A1003","v":""},""]
[{"$f":"basePAGAS!A1004","v":""},""]
[{"$f":"basePAGAS!A1005","v":""},""]
[{"$f":"basePAGAS!A1006","v":""},""]
[{"$f":"basePAGAS!A1007","v":""},""]
[{"$f":"basePAGAS!A1008","v":""},""]
[{"$f":"basePAGAS!A1009","v":""},""]
[{"$f":"basePAGAS!A1010","v":""},""]
[{"$f":"basePAGAS!A1011","v":""},""]
[{"$f":"basePAGAS!A1012","v":""},""]
[{"$f":"basePAGAS!A1013","v":""},""]
[{"$f":"basePAGAS!A1014","v":""},""]
[{"$f":"basePAGAS!A1015","v":""},""]
[{"$f":"basePAGAS!A1016","v":""},""]
[{"$f":"basePAGAS!A1017","v":""},""]
[{"$f":"basePAGAS!A1018","v":""},""]
[{"$f":"basePAGAS!A1019","v":""},""]
[{"$f":"basePAGAS!A1020","v":""},""]
[{"$f":"basePAGAS!A1021","v":""},""]
[{"$f":"basePAGAS!A1022","v":""},""]
[{"$f":"basePAGAS!A1023","v":""},""]
[{"$f":"basePAGAS!A1024","v":""},""]
[{"$f":"basePAGAS!A1025","v":""},""]
[{"$f":"basePAGAS!A1026","v":""},""]
[{"$f":"basePAGAS!A1027","v":""},""]
[{"$f":"basePAGAS!A1028","v":""},""]
[{"$f":"basePAGAS!A1029","v":""},""]
[{"$f":"basePAGAS!A1030","v":""},""]
[{"$f":"basePAGAS!A1031","v":""},""]
[{"$f":"basePAGAS!A1032","v":""},""]
[{"$f":"basePAGAS!A1033","v":""},""]
[{"$f":"basePAGAS!A1034","v":""},""]
[{"$f":"basePAGAS!A1035","v":""},""]
[{"$f":"basePAGAS!A1036","v":""},""]
[{"$f":"basePAGAS!A1037","v":""},""]
[{"$f":"basePAGAS!A1038","v":""},""]
[{"$f":"basePAGAS!A1039","v":""},""]
[{"$f":"basePAGAS!A1040","v":""},""]
[{"$f":"basePAGAS!A1041","v":""},""]
[{"$f":"basePAGAS!A1042","v":""},""]
[{"$f":"basePAGAS!A1043","v":""},""]
[{"$f":"basePAGAS!A1044","v":""},""]
[{"$f":"basePAGAS!A1045","v":""},""]
[{"$f":"basePAGAS!A1046","v":""},""]
[{"$f":"basePAGAS!A1047","v":""},""]
[{"$f":"basePAGAS!A1048","v":""},""]
[{"$f":"basePAGAS!A1049","v":""},""]
[{"$f":"basePAGAS!A1050","v":""},""]
[{"$f":"basePAGAS!A1051","v":""},""]
[{"$f":"basePAGAS!A1052","v":""},""]
[{"$f":"basePAGAS!A1053","v":""},""]
[{"$f":"basePAGAS!A1054","v":""},""]
[{"$f":"basePAGAS!A1055","v":""},{"$f":"IF(A6543=\"\",\"\",IF(VLOOKUP(A6543,base_rpvs_pagas,2)=A$12,A6543,0))","v":""}]
[{"$f":"basePAGAS!A1056","v":""},""]
[{"$f":"basePAGAS!A1057","v":""},""]
[{"$f":"basePAGAS!A1058","v":""},""]
[{"$f":"basePAGAS!A1059","v":""},""]
[{"$f":"basePAGAS!A1060","v":""},""]
[{"$f":"basePAGAS!A1061","v":""},""]
[{"$f":"basePAGAS!A1062","v":""},""]
[{"$f":"basePAGAS!A1063","v":""},""]
[{"$f":"basePAGAS!A1064","v":""},""]
[{"$f":"basePAGAS!A1065","v":""},""]
[{"$f":"basePAGAS!A1066","v":""},""]
[{"$f":"basePAGAS!A1067","v":""},""]
[{"$f":"basePAGAS!A1068","v":""},""]
[{"$f":"basePAGAS!A1069","v":""},""]
[{"$f":"basePAGAS!A1070","v":""},""]
[{"$f":"basePAGAS!A1071","v":""},""]
[{"$f":"basePAGAS!A1072","v":""},""]
[{"$f":"basePAGAS!A1073","v":""},""]
[{"$f":"basePAGAS!A1074","v":""},""]
[{"$f":"basePAGAS!A1075","v":""},""]
[{"$f":"basePAGAS!A1076","v":""},""]
[{"$f":"basePAGAS!A1077","v":""},""]
[{"$f":"basePAGAS!A1078","v":""},""]
[{"$f":"basePAGAS!A1079","v":""},""]
[{"$f":"basePAGAS!A1080","v":""},""]
[{"$f":"basePAGAS!A1081","v":""},""]
[{"$f":"basePAGAS!A1082","v":""},""]
[{"$f":"basePAGAS!A1083","v":""},""]
[{"$f":"basePAGAS!A1084","v":""},""]
[{"$f":"basePAGAS!A1085","v":""},""]
[{"$f":"basePAGAS!A1086","v":""},""]
[{"$f":"basePAGAS!A1087","v":""},""]
[{"$f":"basePAGAS!A1088","v":""},""]
[{"$f":"basePAGAS!A1089","v":""},""]
[{"$f":"basePAGAS!A1090","v":""},""]
[{"$f":"basePAGAS!A1091","v":""},""]
[{"$f":"basePAGAS!A1092","v":""},""]
[{"$f":"basePAGAS!A1093","v":""},""]
[{"$f":"basePAGAS!A1094","v":""},""]
[{"$f":"basePAGAS!A1095","v":""},""]
[{"$f":"basePAGAS!A1096","v":""},""]
[{"$f":"basePAGAS!A1097","v":""},""]
[{"$f":"basePAGAS!A1098","v":""},""]
[{"$f":"basePAGAS!A1099","v":""},""]
[{"$f":"basePAGAS!A1100","v":""},""]
[{"$f":"basePAGAS!A1101","v":""},""]
[{"$f":"basePAGAS!A1102","v":""},""]
[{"$f":"basePAGAS!A1103","v":""},""]
[{"$f":"basePAGAS!A1104","v":""},""]
[{"$f":"basePAGAS!A1105","v":""},""]
[{"$f":"basePAGAS!A1106","v":""},""]
[{"$f":"basePAGAS!A1107","v":""},""]
[{"$f":"basePAGAS!A1108","v":""},""]
[{"$f":"basePAGAS!A1109","v":""},""]
[{"$f":"basePAGAS!A1110","v":""},""]
[{"$f":"basePAGAS!A1111","v":""},""]
[{"$f":"basePAGAS!A1112","v":""},""]
[{"$f":"basePAGAS!A1113","v":""},""]
[{"$f":"basePAGAS!A1114","v":""},""]
[{"$f":"basePAGAS!A1115","v":""},""]
[{"$f":"basePAGAS!A1116","v":""},""]
[{"$f":"basePAGAS!A1117","v":""},""]
[{"$f":"basePAGAS!A1118","v":""},""]
[{"$f":"basePAGAS!A1119","v":""},{"$f":"IF(A6607=\"\",\"\",IF(VLOOKUP(A6607,base_rpvs_pagas,2)=A$12,A6607,0))","v":""}]
[{"$f":"basePAGAS!A1120","v":""},""]
[{"$f":"basePAGAS!A1121","v":""},""]
[{"$f":"basePAGAS!A1122","v":""},""]
[{"$f":"basePAGAS!A1123","v":""},""]
[{"$f":"basePAGAS!A1124","v":""},""]
[{"$f":"basePAGAS!A1125","v":""},""]
[{"$f":"basePAGAS!A1126","v":""},""]
[{"$f":"basePAGAS!A1127","v":""},""]
[{"$f":"basePAGAS!A1128","v":""},""]
[{"$f":"basePAGAS!A1129","v":""},""]
[{"$f":"basePAGAS!A1130","v":""},""]
[{"$f":"basePAGAS!A1131","v":""},""]
[{"$f":"basePAGAS!A1132","v":""},""]
[{"$f":"basePAGAS!A1133","v":""},""]
[{"$f":"basePAGAS!A1134","v":""},""]
[{"$f":"basePAGAS!A1135","v":""},""]
[{"$f":"basePAGAS!A1136","v":""},""]
[{"$f":"basePAGAS!A1137","v":""},""]
[{"$f":"basePAGAS!A1138","v":""},""]
[{"$f":"basePAGAS!A1139","v":""},""]
[{"$f":"basePAGAS!A1140","v":""},""]
[{"$f":"basePAGAS!A1141","v":""},""]
[{"$f":"basePAGAS!A1142","v":""},""]
[{"$f":"basePAGAS!A1143","v":""},""]
[{"$f":"basePAGAS!A1144","v":""},""]
[{"$f":"basePAGAS!A1145","v":""},""]
[{"$f":"basePAGAS!A1146","v":""},""]
[{"$f":"basePAGAS!A1147","v":""},""]
[{"$f":"basePAGAS!A1148","v":""},""]
[{"$f":"basePAGAS!A1149","v":""},""]
[{"$f":"basePAGAS!A1150","v":""},""]
[{"$f":"basePAGAS!A1151","v":""},""]
[{"$f":"basePAGAS!A1152","v":""},""]
[{"$f":"basePAGAS!A1153","v":""},""]
[{"$f":"basePAGAS!A1154","v":""},""]
[{"$f":"basePAGAS!A1155","v":""},""]
[{"$f":"basePAGAS!A1156","v":""},""]
[{"$f":"basePAGAS!A1157","v":""},""]
[{"$f":"basePAGAS!A1158","v":""},""]
[{"$f":"basePAGAS!A1159","v":""},""]
[{"$f":"basePAGAS!A1160","v":""},""]
[{"$f":"basePAGAS!A1161","v":""},""]
[{"$f":"basePAGAS!A1162","v":""},""]
[{"$f":"basePAGAS!A1163","v":""},""]
[{"$f":"basePAGAS!A1164","v":""},""]
[{"$f":"basePAGAS!A1165","v":""},""]
[{"$f":"basePAGAS!A1166","v":""},""]
[{"$f":"basePAGAS!A1167","v":""},""]
[{"$f":"basePAGAS!A1168","v":""},""]
[{"$f":"basePAGAS!A1169","v":""},""]
[{"$f":"basePAGAS!A1170","v":""},""]
[{"$f":"basePAGAS!A1171","v":""},""]
[{"$f":"basePAGAS!A1172","v":""},""]
[{"$f":"basePAGAS!A1173","v":""},""]
[{"$f":"basePAGAS!A1174","v":""},""]
[{"$f":"basePAGAS!A1175","v":""},""]
[{"$f":"basePAGAS!A1176","v":""},""]
[{"$f":"basePAGAS!A1177","v":""},""]
[{"$f":"basePAGAS!A1178","v":""},""]
[{"$f":"basePAGAS!A1179","v":""},""]
[{"$f":"basePAGAS!A1180","v":""},""]
[{"$f":"basePAGAS!A1181","v":""},""]
[{"$f":"basePAGAS!A1182","v":""},""]
[{"$f":"basePAGAS!A1183","v":""},{"$f":"IF(A6671=\"\",\"\",IF(VLOOKUP(A6671,base_rpvs_pagas,2)=A$12,A6671,0))","v":""}]
[{"$f":"basePAGAS!A1184","v":""},""]
[{"$f":"basePAGAS!A1185","v":""},""]
[{"$f":"basePAGAS!A1186","v":""},""]
[{"$f":"basePAGAS!A1187","v":""},""]
[{"$f":"basePAGAS!A1188","v":""},""]
[{"$f":"basePAGAS!A1189","v":""},""]
[{"$f":"basePAGAS!A1190","v":""},""]
[{"$f":"basePAGAS!A1191","v":""},""]
[{"$f":"basePAGAS!A1192","v":""},""]
[{"$f":"basePAGAS!A1193","v":""},""]
[{"$f":"basePAGAS!A1194","v":""},""]
[{"$f":"basePAGAS!A1195","v":""},""]
[{"$f":"basePAGAS!A1196","v":""},""]
[{"$f":"basePAGAS!A1197","v":""},""]
[{"$f":"basePAGAS!A1198","v":""},""]
[{"$f":"basePAGAS!A1199","v":""},""]
[{"$f":"basePAGAS!A1200","v":""},""]
[{"$f":"basePAGAS!A1201","v":""},""]
[{"$f":"basePAGAS!A1202","v":""},""]
[{"$f":"basePAGAS!A1203","v":""},""]
[{"$f":"basePAGAS!A1204","v":""},""]
[{"$f":"basePAGAS!A1205","v":""},""]
[{"$f":"basePAGAS!A1206","v":""},""]
[{"$f":"basePAGAS!A1207","v":""},""]
[{"$f":"basePAGAS!A1208","v":""},""]
[{"$f":"basePAGAS!A1209","v":""},""]
[{"$f":"basePAGAS!A1210","v":""},""]
[{"$f":"basePAGAS!A1211","v":""},""]
[{"$f":"basePAGAS!A1212","v":""},""]
[{"$f":"basePAGAS!A1213","v":""},""]
[{"$f":"basePAGAS!A1214","v":""},""]
[{"$f":"basePAGAS!A1215","v":""},""]
[{"$f":"basePAGAS!A1216","v":""},""]
[{"$f":"basePAGAS!A1217","v":""},""]
[{"$f":"basePAGAS!A1218","v":""},""]
[{"$f":"basePAGAS!A1219","v":""},""]
[{"$f":"basePAGAS!A1220","v":""},""]
[{"$f":"basePAGAS!A1221","v":""},""]
[{"$f":"basePAGAS!A1222","v":""},""]
[{"$f":"basePAGAS!A1223","v":""},""]
[{"$f":"basePAGAS!A1224","v":""},""]
[{"$f":"basePAGAS!A1225","v":""},""]
[{"$f":"basePAGAS!A1226","v":""},""]
[{"$f":"basePAGAS!A1227","v":""},""]
[{"$f":"basePAGAS!A1228","v":""},""]
[{"$f":"basePAGAS!A1229","v":""},""]
[{"$f":"basePAGAS!A1230","v":""},""]
[{"$f":"basePAGAS!A1231","v":""},""]
[{"$f":"basePAGAS!A1232","v":""},""]
[{"$f":"basePAGAS!A1233","v":""},""]
[{"$f":"basePAGAS!A1234","v":""},""]
[{"$f":"basePAGAS!#REF!","v":{"$error":"#REF!"}},{"$error":"#REF!"}]
[{"$f":"basePAGAS!A1370","v":""},""]
[{"$f":"basePAGAS!A1371","v":""},""]
[{"$f":"basePAGAS!A1372","v":""},""]
[{"$f":"basePAGAS!A1373","v":""},""]

{"sheet":"baseEXPED","index":1,"n_rows":2998,"n_cols":15834,"rows_kept":281,"cut":true,"hidden":false,"merged":[[8,45,9,45],[8,46,9,46],[8,47,9,47],[8,39,9,39],[7,75,7,76],[8,75,9,75],[8,76,9,76],[6,40,7,47],[8,44,9,44],[7,54,8,56],[7,57,8,59],[7,60,8,62],[7,63,8,65],[7,66,8,68],[7,69,8,71],[7,72,8,74],[6,48,8,48],[7,49,7,53],[8,49,8,50],[8,51,8,52],[8,53,9,53],[6,49,6,75],[2,4,2,9],[8,40,9,40],[8,41,9,41],[8,42,9,42],[8,43,9,43],[8,33,9,33],[8,34,9,34],[8,35,9,35],[8,31,9,31],[8,32,9,32],[6,19,8,21],[8,22,8,24],[8,11,9,11],[8,30,9,30],[8,15,9,15],[6,18,9,18],[6,6,7,11],[6,27,7,39],[8,29,9,29],[8,37,9,37],[8,38,9,38],[8,28,9,28],[6,16,9,16],[6,22,7,26],[8,25,8,26],[8,27,9,27],[6,17,9,17],[8,36,9,36],[6,0,9,0],[8,12,9,12],[8,14,9,14],[8,7,9,7],[8,9,9,9],[8,6,9,6],[8,5,9,5],[8,1,9,1],[8,2,9,2],[8,3,9,3],[8,4,9,4],[8,8,9,8],[6,2,7,5],[8,13,9,13],[6,12,7,15],[8,10,9,10],[8,83,8,84],[6,77,6,82],[7,77,7,78],[7,79,7,80],[7,81,7,82],[6,83,6,86],[7,83,7,84]],"bounds":{"rows_first":125,"rows_last":31,"rows_between":125,"halvings":4}}
[1,{"$f":"CONSULTA!E13","v":14808},2,{"$f":"C1+1","v":3},4,5,6,7,8,9,10,11,12,13,14,15,16,17,18,19,20,21,22,23,24,25,26,27,28,29,30,31,32,33,34,{"$f":"AI1+1","v":35},36,37,38,39,40,41,42,43,44,45,46,47,48,49,50,51,52,53,54,55,56,57,58,59,60,61,62,63,64,65,66,{"$f":"BO1+1","v":67},68,69,70,71,72,73,74,75,76,77,78,79,80,81,82,null,null,null,null,null,null,null,null,null,null,null,null,null,null,null,null,null,null,null,null,null,null,null,null,null,null,null,null,null,null,null,null,null,null,null,null,null,null,null,null,null,null,null,null,null,null,null,null,null,null,null,null,null,null,null,null,null,null,null,null,null,null,null,null,null,null,null,null,null,null,null,null,null,null,null,null,null,null,null,null,null,null,null,null,null,null,null,null,null,null,null,null,null,null,null,null,null,null,null,null,null,null,null,null,null,null,null,null,null,null,null,null,null,null,null,null,null,null,null,null,null,null,null,null,null,null,null,null,null,null,null,null,null,null,null,null,null,null,null,null,null,null,null,null,null,null,null,null,null,null,null,null,null,null,null,null,null,null,null,null,null,null,null,null,null,null,null,null,null,null,null,null,null,null,null,null,null,null,null,null,null,null,null,null,null,null,null,null,null,null,null,null,null,null,null,null,null,null,null,null,null,null,null,null,null,null,null,null,null,null,null,null,null,null,null,null,null,null,null,null,null,null,null,null,null,null,null,null,null,null,null,null,null,null,null,null,null,null,null,null,null,null,null,null,null,null,null,null,null,null,null,null,null,null,null,null,null,null,null,null,null,null,null,null,null,null,null,null,null,null,null,null,null,null,null,null,null,null,null,null,null,null,null,null,null,null,null,null,null,null,null,null,null,null,null,null,null,null,null,null,null,null,null,null,null,null,null,null,null,null,null,null,null,null,null,null,null,null,null,null,null,null,null,null,null,null,null,null,null,null,null,null,null,null,null,null,null,null,null,null,null,null,null,null,null,null,null,null,null,null,null,null,null,null,null,null,null,null,null,null,null,null,null,null,null,null,null,null,null,null,null,null,null,null,null,null,null,null,null,null,null,null,null,null,null,null,null,null,null,null,null,null,null,null,null,null,null,null,null,null,null,null,null,null,null,null,null,null,null,null,null,null,null,null,null,null,null,null,null,null,null,null,null,null,null,null,null,null,null,null,null,null,null,null,null,null,null,null,null,null,null,null,null,null,null,null,null,null,null,null,null,null,null,null,null,null,null,null,null,null,null,null,null,null,null,null,null,null,null,null,null,null,null,null,null,null,null,null,null,null,null,null,null,null,null,null,null,null,null,null,null,null,null,null,null,null,null,null,null,null,null,null,null,null,null,null,null,null,null,null,null,null,null,null,null,null,null,null,null,null,null,null,null,null,null,null,null,null,null,null,null,null,null,null,null,null,null,null,null,null,null,null,null,null,null,null,null,null,null,null,null,null,null,null,null,null,null,null,null,null,null,null,null,null,null,null,null,null,null,null,null,null,null,null,null,null,null,null,null,null,null,null,null,null,null,null,null,null,null,null,null,null,null,null,null,null,null,null,null,null,null,null,null,null,null,null,null,null,null,null,null,null,null,null,null,null,null,null,null,null,null,null,null,null,null,null,null,null,null,null,null,null,null,null,null,null,null,null,null,null,null,null,null,null,null,null,null,null,null,null,null,null,null,null,null,null,null,null,null,null,null,null,null,null,null,null,null,null,null,null,null,null,null,null,null,null,null,null,null,null,null,null,null,null,null,null,null,null,null,null,null,null,null,null,null,null,null,null,null,null,null,null,null,null,null,null,null,null,null,null,null,null,null,null,null,null,null,null,null,null,null,null,null,null,null,null,null,null,null,null,null,null,null,null,null,null,null,null,null,null,null,null,null,null,null,null,null,null,null,null,null,null,null,null,null,null,null,null,null,null,null,null,null,null,null,null,null,null,null,null,null,null,null,null,null,null,null,null,null,null,null,null,null,null,null,null,null,null,null,null,null,null,null,null,null,null,null,null,null,null,null,null,null,null,null,null,null,null,null,null,null,null,null,null,null,null,null,null,null,null,null,null,null,null,null,null,null,null,null,null,null,null,null,null,null,null,null,null,null,null,null,null,null,null,null,null,null,null,null,null,null,null,null,null,null,null,null,null,null,null,null,null,null,null,null,null,null,null,null,null,null,null,null,null,null,null,null,null,null,null,null,null,null,null,null,null,null,null,null,null,null,null,null,null,null,null,null,null,null,null,null,null,null,null,null,null,null,null,null,null,null,null,null,null,null,null,null,null,null,null,null,null,null,null,null,null,null,null,null,null,null,null,null,null,null,null,null,null,null,null,null,null,null,null,null,null,null,null,null,null,null,null,null,null,null,null,null,null,null,null,null,null,null,null,null,null,null,null,null,null,null,null,null,null,null,null,null,null,null,null,null,null,null,null,null,null,null,null,null,null,null,null,null,null,null,null,null,null,null,null,null,null,null,null,null,null,null,null,null,null,null,null,null,null,null,null,null,null,null,null,null,null,null,null,null,null,null,null,null,null,null,null,null,null,null,null,null,null,null,null,null,null,null,null,null,null,null,null,null,null,null,null,null,null,null,null,null,null,null,null,null,null,null,null,null,null,null,null,null,null,null,null,null,null,null,null,null,null,null,null,null,null,null,null,null,null,null,null,null,null,null,null,null,null,null,null,null,null,null,null,null,null,null,null,null,null,null,null,null,null,null,null,null,null,null,null,null,null,null,null,null,null,null,null,null,null,null,null,null,null,null,null,null,null,null,null,null,null,null,null,null,null,null,null,null,null,null,null,null,null,null,null,null,null,null,null,null,null,null,null,null,null,null,null,null,null,null,null,null,null,null,null,null,null,null,null,null,null,null,null,null,null,null,null,null,null,null,null,null,null,null,null,null,null,null,null,null,null,null,null,null,null,null,null,null,null,null,null,null,null,null,null,null,null,null,null,null,null,null,null,null,null,null,null,null,null,null,null,null,null,null,null,null,null,null,null,null,null,null,null,null,null,null,null,null,null,null,null,null,null,null,null,null,null,null,null,null,null,null,null,null,null,null,null,null,null,null,null,null,null,null,null,null,null,null,null,null,null,null,null,null,null,null,null,null,null,null,null,null,null,null,null,null,null,null,null,null,null,null,null,null,null,null,null,null,null,null,null,null,null,null,null,null,null,null,null,null,null,null,null,null,null,null,null,null,null,null,null,null,null,null,null,null,null,null,null,null,null,null,null,null,null,null,null,null,null,null,null,null,null,null,null,null,null,null,null,null,null,null,null,null,null,null,null,null,null,null,null,null,null,null,null,null,null,null,null,null,null,null,null,null,null,null,null,null,null,null,null,null,null,null,null,null,null,null,null,null,null,null,null,null,null,null,null,null,null,null,null,null,null,null,null,null,null,null,null,null,null,null,null,null,null,null,null,null,null,null,null,null,null,null,null,null,null,null,null,null,null,null,null,null,null,null,null,null,null,null,null,null,null,null,null,null,null,null,null,null,null,null,null,null,null,null,null,null,null,null,null,null,null,null,null,null,null,null,null,null,null,null,null,null,null,null,null,null,null,null,null,null,null,null,null,null,null,null,null,null,null,null,null,null,null,null,null,null,null,null,null,null,null,null,null,null,null,null,null,null,null,null,null,null,null,null,null,null,null,null,null,null,null,null,null,null,null,null,null,null,null,null,null,null,null,null,null,null,null,null,null,null,null,null,null,null,null,null,null,null,null,null,null,null,null,null,null,null,null,null,null,null,null,null,null,null,null,null,null,null,null,null,null,null,null,null,null,null,null,null,null,null,null,null,null,null,null,null,null,null,null,null,null,null,null,null,null,null,null,null,null,null,null,null,null,null,null,null,null,null,null,null,null,null,null,null,null,null,null,null,null,null,null,null,null,null,null,null,null,null,null,null,null,null,null,null,null,null,null,null,null,null,null,null,null,null,null,null,null,null,null,null,null,null,null,null,null,null,null,null,null,null,null,null,null,null,null,null,null,null,null,null,null,null,null,null,null,null,null,null,null,null,null,null,null,null,null,null,null,null,null,null,null,null,null,null,null,null,null,null,null,null,null,null,null,null,null,null,null,null,null,null,null,null,null,null,null,null,null,null,null,null,null,null,null,null,null,null,null,null,null,null,null,null,null,null,null,null,null,null,null,null,null,null,null,null,null,null,null,null,null,null,null,null,null,null,null,null,null,null,null,null,null,null,null,null,null,null,null,null,null,null,null,null,null,null,null,null,null,null,null,null,null,null,null,null,null,null,null,null,null,null,null,null,null,null,null,null,null,null,null,null,null,null,null,null,null,null,null,null,null,null,null,null,null,null,null,null,null,null,null,null,null,null,null,null,null,null,null,null,null,null,null,null,null,null,null,null,null,null,null,null,null,null,null,null,null,null,null,null,null,null,null,null,null,null,null,null,null,null,null,null,null,null,null,null,null,null,null,null,null,null,null,null,null,null,null,null,null,null,null,null,null,null,null,null,null,null,null,null,null,null,null,null,null,null,null,null,null,null,null,null,null,null,null,null,null,null,null,null,null,null,null,null,null,null,null,null,null,null,null,null,null,null,null,null,null,null,null,null,null,null,null,null,null,null,null,null,null,null,null,null,null,null,null,null,null,null,null,null,null,null,null,null,null,null,null,null,null,null,null,null,null,null,null,null,null,null,null,null,null,null,null,null,null,null,null,null,null,null,null,null,null,null,null,null,null,null,null,null,null,null,null,null,null,null,null,null,null,null,null,null,null,null,null,null,null,null,null,null,null,null,null,null,null,null,null,null,null,null,null,null,null,null,null,null,null,null,null,null,null,null,null,null,null,null,null,null,null,null,null,null,null,null,null,null,null,null,null,null,null,null,null,null,null,null,null,null,null,null,null,null,null,null,null,null,null,null,null,null,null,null,null,null,null,null,null,null,null,null,null,null,null,null,null,null,null,null,null,null,null,null,null,null,null,null,null,null,null,null,null,null,null,null,null,null,null,null,null,null,null,null,null,null,null,null,null,null,null,null,null,null,null,null,null,null,null,null,null,null,null,null,null,null,null,null,null,null,null,null,null,null,null,null,null,null,null,null,null,null,null,null,null,null,null,null,null,null,null,null,null,null,null,null,null,null,null,null,null,null,null,null,null,null,null,null,null,null,null,null,null,null,null,null,null,null,null,null,null,null,null,null,null,null,null,null,null,null,null,null,null,null,null,null,null,null,null,null,null,null,null,null,null,null,null,null,null,null,null,null,null,null,null,null,null,null,null,null,null,null,null,null,null,null,null,null,null,null,null,null,null,null,null,null,null,null,null,null,null,null,null,null,null,null,null,null,null,null,null,null,null,null,null,null,null,null,null,null,null,null,null,null,null,null,null,null,null,null,null,null,null,null,null,null,null,null,null,null,null,null,null,null,null,null,null,null,null,null,null,null,null,null,null,null,null,null,null,null,null,null,null,null,null,null,null,null,null,null,null,null,null,null,null,null,null,null,null,null,null,null,null,null,null,null,null,null,null,null,null,null,null,null,null,null,null,null,null,null,null,null,null,null,null,null,null,null,null,null,null,null,null,null,null,null,null,null,null,null,null,null,null,null,null,null,null,null,null,null,null,null,null,null,null,null,null,null,null,null,null,null,null,null,null,null,null,null,null,null,null,null,null,null,null,null,null,null,null,null,null,null,null,null,null,null,null,null,null,null,null,null,null,null,null,null,null,null,null,null,null,null,null,null,null,null,null,null,null,null,null,null,null,null,null,null,null,null,null,null,null,null,null,null,null,null,null,null,null,null,null,null,null,null,null,null,null,null,null,null,null,null,null,null,null,null,null,null,null,null,null,null,null,null,null,null,null,null,null,null,null,null,null,null,null,null,null,null,null,null,null,null,null,null,null,null,null,null,null,null,null,null,null,null,null,null,null,null,null,null,null,null,null,null,null,null,null,null,null,null,null,null,null,null,null,null,null,null,null,null,null,null,null,null,null,null,null,null,null,null,null,null,null,null,null,null,null,null,null,null,null,null,null,null,null,null,null,null,null,null,null,null,null,null,null,null,null,null,null,null,null,null,null,null,null,null,null,null,null,null,null,null,null,null,null,null,null,null,null,null,null,null,null,null,null,null,null,null,null,null,null,null,null,null,null,null,null,null,null,null,null,null,null,null,null,null,null,null,null,null,null,null,null,null,null,null,null,null,null,null,null,null,null,null,null,null,null,null,null,null,null,null,null,null,null,null,null,null,null,null,null,null,null,null,null,null,null,null,null,null,null,null,null,null,null,null,null,null,null,null,null,null,null,null,null,null,null,null,null,null,null,null,null,null,null,null,null,null,null,null,null,null,null,null,null,null,null,null,null,null,null,null,null,null,null,null,null,null,null,null,null,null,null,null,null,null,null,null,null,null,null,null,null,null,null,null,null,null,null,null,null,null,null,null,null,null,null,null,null,null,null,null,null,null,null,null,null,null,null,null,null,null,null,null,null,null,null,null,null,null,null,null,null,null,null,null,null,null,null,null,null,null,null,null,null,null,null,null,null,null,null,null,null,null,null,null,null,null,null,null,null,null,null,null,null,null,null,null,null,null,null,null,null,null,null,null,null,null,null,null,null,null,null,null,null,null,null,null,null,null,null,null,null,null,null,null,null,null,null,null,null,null,null,null,null,null,null,null,null,null,null,null,null,null,null,null,null,null,null,null,null,null,null,null,null,null,null,null,null,null,null,null,null,null,null,null,null,null,null,null,null,null,null,null,null,null,null,null,null,null,null,null,null,null,null,null,null,null,null,null,null,null,null,null,null,null,null,null,null,null,null,null,null,null,null,null,null,null,null,null,null,null,null,null,null,null,null,null,null,null,null,null,null,null,null,null,null,null,null,null,null,null,null,null,null,null,null,null,null,null,null,null,null,null,null,null,null,null,null,null,null,null,null,null,null,null,null,null,null,null,null,null,null,null,null,null,null,null,null,null,null,null,null,null,null,null,null,null,null,null,null,null,null,null,null,null,null,null,null,null,null,null,null,null,null,null,null,null,null,null,null,null,null,null,null,null,null,null,null,null,null,null,null,null,null,null,null,null,null,null,null,null,null,null,null,null,null,null,null,null,null,null,null,null,null,null,null,null,null,null,null,null,null,null,null,null,null,null,null,null,null,null,null,null,null,null,null,null,null,null,null,null,null,null,null,null,null,null,null,null,null,null,null,null,null,null,null,null,null,null,null,null,null,null,null,null,null,null,null,null,null,null,null,null,null,null,null,null,null,null,null,null,null,null,null,null,null,null,null,null,null,null,null,null,null,null,null,null,null,null,null,null,null,null,null,null,null,null,null,null,null,null,null,null,null,null,null,null,null,null,null,null,null,null,null,null,null,null,null,null,null,null,null,null,null,null,null,null,null,null,null,null,null,null,null,null,null,null,null,null,null,null,null,null,null,null,null,null,null,null,null,null,null,null,null,null,null,null,null,null,null,null,null,null,null,null,null,null,null,null,null,null,null,null,null,null,null,null,null,null,null,null,null,null,null,null,null,null,null,null,null,null,null,null,null,null,null,null,null,null,null,null,null,null,null,null,null,null,null,null,null,null,null,null,null,null,null,null,null,null,null,null,null,null,null,null,null,null,null,null,null,null,null,null,null,null,null,null,null,null,null,null,null,null,null,null,null,null,null,null,null,null,null,null,null,null,null,null,null,null,null,null,null,null,null,null,null,null,null,null,null,null,null,null,null,null,null,null,null,null,null,null,null,null,null,null,null,null,null,null,null,null,null,null,null,null,null,null,null,null,null,null,null,null,null,null,null,null,null,null,null,null,null,null,null,null,null,null,null,null,null,null,null,null,null,null,null,null,null,null,null,null,null,null,null,null,null,null,null,null,null,null,null,null,null,null,null,null,null,null,null,null,null,null,null,null,null,null,null,null,null,null,null,null,null,null,null,null,null,null,null,null,null,null,null,null,null,null,null,null,null,null,null,null,null,null,null,null,null,null,null,null,null,null,null,null,null,null,null,null,null,null,null,null,null,null,null,null,null,null,null,null,null,null,null,null,null,null,null,null,null,null,null,null,null,null,null,null,null,null,null,null,null,null,null,null,null,null,null,null,null,null,null,null,null,null,null,null,null,null,null,null,null,null,null,null,null,null,null,null,null,null,null,null,null,null,null,null,null,null,null,null,null,null,null,null,null,null,null,null,null,null,null,null,null,null,null,null,null,null,null,null,null,null,null,null,null,null,null,null,null,null,null,null,null,null,null,null,null,null,null,null,null,null,null,null,null,null,null,null,null,null,null,null,null,null,null,null,null,null,null,null,null,null,null,null,null,null,null,null,null,null,null,null,null,null,null,null,null,null,null,null,null,null,null,null,null,null,null,null,null,null,null,null,null,null,null,null,null,null,null,null,null,null,null,null,null,null,null,null,null,null,null,null,null,null,null,null,null,null,null,null,null,null,null,null,null,null,null,null,null,null,null,null,null,null,null,null,null,null,null,null,null,null,null,null,null,null,null,null,null,null,null,null,null,null,null,null,null,null,null,null,null,null,null,null,null,null,null,null,null,null,null,null,null,null,null,null,null,null,null,null,null,null,null,null,null,null,null,null,null,null,null,null,null,null,null,null,null,null,null,null,null,null,null,null,null,null,null,null,null,null,null,null,null,null,null,null,null,null,null,null,null,null,null,null,null,null,null,null,null,null,null,null,null,null,null,null,null,null,null,null,null,null,null,null,null,null,null,null,null,null,null,null,null,null,null,null,null,null,null,null,null,null,null,null,null,null,null,null,null,null,null,null,null,null,null,null,null,null,null,null,null,null,null,null,null,null,null,null,null,null,null,null,null,null,null,null,null,null,null,null,null,null,null,null,null,null,null,null,null,null,null,null,null,null,null,null,null,null,null,null,null,null,null,null,null,null,null,null,null,null,null,null,null,null,null,null,null,null,null,null,null,null,null,null,null,null,null,null,null,null,null,null,null,null,null,null,null,null,null,null,null,null,null,null,null,null,null,null,null,null,null,null,null,null,null,null,null,null,null,null,null,null,null,null,null,null,null,null,null,null,null,null,null,null,null,null,null,null,null,null,null,null,null,null,null,null,null,null,null,null,null,null,null,null,null,null,null,null,null,null,null,null,null,null,null,null,null,null,null,null,null,null,null,null,null,null,null,null,null,null,null,null,null,null,null,null,null,null,null,null,null,null,null,null,null,null,null,null,null,null,null,null,null,null,null,null,null,null,null,null,null,null,null,null,null,null,null,null,null,null,null,null,null,null,null,null,null,null,null,null,null,null,null,null,null,null,null,null,null,null,null,null,null,null,null,null,null,null,null,null,null,null,null,null,null,null,null,null,null,null,null,null,null,null,null,null,null,null,null,null,null,null,null,null,null,null,null,null,null,null,null,null,null,null,null,null,null,null,null,null,null,null,null,null,null,null,null,null,null,null,null,null,null,null,null,null,null,null,null,null,null,null,null,null,null,null,null,null,null,null,null,null,null,null,null,null,null,null,null,null,null,null,null,null,null,null,null,null,null,null,null,null,null,null,null,null,null,null,null,null,null,null,null,null,null,null,null,null,null,null,null,null,null,null,null,null,null,null,null,null,null,null,null,null,null,null,null,null,null,null,null,null,null,null,null,null,null,null,null,null,null,null,null,null,null,null,null,null,null,null,null,null,null,null,null,null,null,null,null,null,null,null,null,null,null,null,null,null,null,null,null,null,null,null,null,null,null,null,null,null,null,null,null,null,null,null,null,null,null,null,null,null,null,null,null,null,null,null,null,null,null,null,null,null,null,null,null,null,null,null,null,null,null,null,null,null,null,null,null,null,null,null,null,null,null,null,null,null,null,null,null,null,null,null,null,null,null,null,null,null,null,null,null,null,null,null,null,null,null,null,null,null,null,null,null,null,null,null,null,null,null,null,null,null,null,null,null,null,null,null,null,null,null,null,null,null,null,null,null,null,null,null,null,null,null,null,null,null,null,null,null,null,null,null,null,null,null,null,null,null,null,null,null,null,null,null,null,null,null,null,null,null,null,null,null,null,null,null,null,null,null,null,null,null,null,null,null,null,null,null,null,null,null,null,null,null,null,null,null,null,null,null,null,null,null,null,null,null,null,null,null,null,null,null,null,null,null,null,null,null,null,null,null,null,null,null,null,null,null,null,null,null,null,null,null,null,null,null,null,null,null,null,null,null,null,null,null,null,null,null,null,null,null,null,null,null,null,null,null,null,null,null,null,null,null,null,null,null,null,null,null,null,null,null,null,null,null,null,null,null,null,null,null,null,null,null,null,null,null,null,null,null,null,null,null,null,null,null,null,null,null,null,null,null,null,null,null,null,null,null,null,null,null,null,null,null,null,null,null,null,null,null,null,null,null,null,null,null,null,null,null,null,null,null,null,null,null,null,null,null,null,null,null,null,null,null,null,null,null,null,null,null,null,null,null,null,null,null,null,null,null,null,null,null,null,null,null,null,null,null,null,null,null,null,null,null,null,null,null,null,null,null,null,null,null,null,null,null,null,null,null,null,null,null,null,null,null,null,null,null,null,null,null,null,null,null,null,null,null,null,null,null,null,null,null,null,null,null,null,null,null,null,null,null,null,null,null,null,null,null,null,null,null,null,null,null,null,null,null,null,null,null,null,null,null,null,null,null,null,null,null,null,null,null,null,null,null,null,null,null,null,null,null,null,null,null,null,null,null,null,null,null,null,null,null,null,null,null,null,null,null,null,null,null,null,null,null,null,null,null,null,null,null,null,null,null,null,null,null,null,null,null,null,null,null,null,null,null,null,null,null,null,null,null,null,null,null,null,null,null,null,null,null,null,null,null,null,null,null,null,null,null,null,null,null,null,null,null,null,null,null,null,null,null,null,null,null,null,null,null,null,null,null,null,null,null,null,null,null,null,null,null,null,null,null,null,null,null,null,null,null,null,null,null,null,null,null,null,null,null,null,null,null,null,null,null,null,null,null,null,null,null,null,null,null,null,null,null,null,null,null,null,null,null,null,null,null,null,null,null,null,null,null,null,null,null,null,null,null,null,null,null,null,null,null,null,null,null,null,null,null,null,null,null,null,null,null,null,null,null,null,null,null,null,null,null,null,null,null,null,null,null,null,null,null,null,null,null,null,null,null,null,null,null,null,null,null,null,null,null,null,null,null,null,null,null,null,null,null,null,null,null,null,null,null,null,null,null,null,null,null,null,null,null,null,null,null,null,null,null,null,null,null,null,null,null,null,null,null,null,null,null,null,null,null,null,null,null,null,null,null,null,null,null,null,null,null,null,null,null,null,null,null,null,null,null,null,null,null,null,null,null,null,null,null,null,null,null,null,null,null,null,null,null,null,null,null,null,null,null,null,null,null,null,null,null,null,null,null,null,null,null,null,null,null,null,null,null,null,null,null,null,null,null,null,null,null,null,null,null,null,null,null,null,null,null,null,null,null,null,null,null,null,null,null,null,null,null,null,null,null,null,null,null,null,null,null,null,null,null,null,null,null,null,null,null,null,null,null,null,null,null,null,null,null,null,null,null,null,null,null,null,null,null,null,null,null,null,null,null,null,null,null,null,null,null,null,null,null,null,null,null,null,null,null,null,null,null,null,null,null,null,null,null,null,null,null,null,null,null,null,null,null,null,null,null,null,null,null,null,null,null,null,null,null,null,null,null,null,null,null,null,null,null,null,null,null,null,null,null,null,null,null,null,null,null,null,null,null,null,null,null,null,null,null,null,null,null,null,null,null,null,null,null,null,null,null,null,null,null,null,null,null,null,null,null,null,null,null,null,null,null,null,null,null,null,null,null,null,null,null,null,null,null,null,null,null,null,null,null,null,null,null,null,null,null,null,null,null,null,null,null,null,null,null,null,null,null,null,null,null,null,null,null,null,null,null,null,null,null,null,null,null,null,null,null,null,null,null,null,null,null,null,null,null,null,null,null,null,null,null,null,null,null,null,null,null,null,null,null,null,null,null,null,null,null,null,null,null,null,null,null,null,null,null,null,null,null,null,null,null,null,null,null,null,null,null,null,null,null,null,null,null,null,null,null,null,null,null,null,null,null,null,null,null,null,null,null,null,null,null,null,null,null,null,null,null,null,null,null,null,null,null,null,null,null,null,null,null,null,null,null,null,null,null,null,null,null,null,null,null,null,null,null,null,null,null,null,null,null,null,null,null,null,null,null,null,null,null,null,null,null,null,null,null,null,null,null,null,null,null,null,null,null,null,null,null,null,null,null,null,null,null,null,null,null,null,null,null,null,null,null,null,null,null,null,null,null,null,null,null,null,null,null,null,null,null,null,null,null,null,null,null,null,null,null,null,null,null,null,null,null,null,null,null,null,null,null,null,null,null,null,null,null,null,null,null,null,null,null,null,null,null,null,null,null,null,null,null,null,null,null,null,null,null,null,null,null,null,null,null,null,null,null,null,null,null,null,null,null,null,null,null,null,null,null,null,null,null,null,null,null,null,null,null,null,null,null,null,null,null,null,null,null,null,null,null,null,null,null,null,null,null,null,null,null,null,null,null,null,null,null,null,null,null,null,null,null,null,null,null,null,null,null,null,null,null,null,null,null,null,null,null,null,null,null,null,null,null,null,null,null,null,null,null,null,null,null,null,null,null,null,null,null,null,null,null,null,null,null,null,null,null,null,null,null,null,null,null,null,null,null,null,null,null,null,null,null,null,null,null,null,null,null,null,null,null,null,null,null,null,null,null,null,null,null,null,null,null,null,null,null,null,null,null,null,null,null,null,null,null,null,null,null,null,null,null,null,null,null,null,null,null,null,null,null,null,null,null,null,null,null,null,null,null,null,null,null,null,null,null,null,null,null,null,null,null,null,null,null,null,null,null,null,null,null,null,null,null,null,null,null,null,null,null,null,null,null,null,null,null,null,null,null,null,null,null,null,null,null,null,null,null,null,null,null,null,null,null,null,null,null,null,null,null,null,null,null,null,null,null,null,null,null,null,null,null,null,null,null,null,null,null,null,null,null,null,null,null,null,null,null,null,null,null,null,null,null,null,null,null,null,null,null,null,null,null,null,null,null,null,null,null,null,null,null,null,null,null,null,null,null,null,null,null,null,null,null,null,null,null,null,null,null,null,null,null,null,null,null,null,null,null,null,null,null,null,null,null,null,null,null,null,null,null,null,null,null,null,null,null,null,null,null,null,null,null,null,null,null,null,null,null,null,null,null,null,null,null,null,null,null,null,null,null,null,null,null,null,null,null,null,null,null,null,null,null,null,null,null,null,null,null,null,null,null,null,null,null,null,null,null,null,null,null,null,null,null,null,null,null,null,null,null,null,null,null,null,null,null,null,null,null,null,null,null,null,null,null,null,null,null,null,null,null,null,null,null,null,null,null,null,null,null,null,null,null,null,null,null,null,null,null,null,null,null,null,null,null,null,null,null,null,null,null,null,null,null,null,null,null,null,null,null,null,null,null,null,null,null,null,null,null,null,null,null,null,null,null,null,null,null,null,null,null,null,null,null,null,null,null,null,null,null,null,null,null,null,null,null,null,null,null,null,null,null,null,null,null,null,null,null,null,null,null,null,null,null,null,null,null,null,null,null,null,null,null,null,null,null,null,null,null,null,null,null,null,null,null,null,null,null,null,null,null,null,null,null,null,null,null,null,null,null,null,null,null,null,null,null,null,null,null,null,null,null,null,null,null,null,null,null,null,null,null,null,null,null,null,null,null,null,null,null,null,null,null,null,null,null,null,null,null,null,null,null,null,null,null,null,null,null,null,null,null,null,null,null,null,null,null,null,null,null,null,null,null,null,null,null,null,null,null,null,null,null,null,null,null,null,null,null,null,null,null,null,null,null,null,null,null,null,null,null,null,null,null,null,null,null,null,null,null,null,null,null,null,null,null,null,null,null,null,null,null,null,null,null,null,null,null,null,null,null,null,null,null,null,null,null,null,null,null,null,null,null,null,null,null,null,null,null,null,null,null,null,null,null,null,null,null,null,null,null,null,null,null,null,null,null,null,null,null,null,null,null,null,null,null,null,null,null,null,null,null,null,null,null,null,null,null,null,null,null,null,null,null,null,null,null,null,null,null,null,null,null,null,null,null,null,null,null,null,null,null,null,null,null,null,null,null,null,null,null,null,null,null,null,null,null,null,null,null,null,null,null,null,null,null,null,null,null,null,null,null,null,null,null,null,null,null,null,null,null,null,null,null,null,null,null,null,null,null,null,null,null,null,null,null,null,null,null,null,null,null,null,null,null,null,null,null,null,null,null,null,null,null,null,null,null,null,null,null,null,null,null,null,null,null,null,null,null,null,null,null,null,null,null,null,null,null,null,null,null,null,null,null,null,null,null,null,null,null,null,null,null,null,null,null,null,null,null,null,null,null,null,null,null,null,null,null,null,null,null,null,null,null,null,null,null,null,null,null,null,null,null,null,null,null,null,null,null,null,null,null,null,null,null,null,null,null,null,null,null,null,null,null,null,null,null,null,null,null,null,null,null,null,null,null,null,null,null,null,null,null,null,null,null,null,null,null,null,null,null,null,null,null,null,null,null,null,null,null,null,null,null,null,null,null,null,null,null,null,null,null,null,null,null,null,null,null,null,null,null,null,null,null,null,null,null,null,null,null,null,null,null,null,null,null,null,null,null,null,null,null,null,null,null,null,null,null,null,null,null,null,null,null,null,null,null,null,null,null,null,null,null,null,null,null,null,null,null,null,null,null,null,null,null,null,null,null,null,null,null,null,null,null,null,null,null,null,null,null,null,null,null,null,null,null,null,null,null,null,null,null,null,null,null,null,null,null,null,null,null,null,null,null,null,null,null,null,null,null,null,null,null,null,null,null,null,null,null,null,null,null,null,null,null,null,null,null,null,null,null,null,null,null,null,null,null,null,null,null,null,null,null,null,null,null,null,null,null,null,null,null,null,null,null,null,null,null,null,null,null,null,null,null,null,null,null,null,null,null,null,null,null,null,null,null,null,null,null,null,null,null,null,null,null,null,null,null,null,null,null,null,null,null,null,null,null,null,null,null,null,null,null,null,null,null,null,null,null,null,null,null,null,null,null,null,null,null,null,null,null,null,null,null,null,null,null,null,null,null,null,null,null,null,null,null,null,null,null,null,null,null,null,null,null,null,null,null,null,null,null,null,null,null,null,null,null,null,null,null,null,null,null,null,null,null,null,null,null,null,null,null,null,null,null,null,null,null,null,null,null,null,null,null,null,null,null,null,null,null,null,null,null,null,null,null,null,null,null,null,null,null,null,null,null,null,null,null,null,null,null,null,null,null,null,null,null,null,null,null,null,null,null,null,null,null,null,null,null,null,null,null,null,null,null,null,null,null,null,null,null,null,null,null,null,null,null,null,null,null,null,null,null,null,null,null,null,null,null,null,null,null,null,null,null,null,null,null,null,null,null,null,null,null,null,null,null,null,null,null,null,null,null,null,null,null,null,null,null,null,null,null,null,null,null,null,null,null,null,null,null,null,null,null,null,null,null,null,null,null,null,null,null,null,null,null,null,null,null,null,null,null,null,null,null,null,null,null,null,null,null,null,null,null,null,null,null,null,null,null,null,null,null,null,null,null,null,null,null,null,null,null,null,null,null,null,null,null,null,null,null,null,null,null,null,null,null,null,null,null,null,null,null,null,null,null,null,null,null,null,null,null,null,null,null,null,null,null,null,null,null,null,null,null,null,null,null,null,null,null,null,null,null,null,null,null,null,null,null,null,null,null,null,null,null,null,null,null,null,null,null,null,null,null,null,null,null,null,null,null,null,null,null,null,null,null,null,null,null,null,null,null,null,null,null,null,null,null,null,null,null,null,null,null,null,null,null,null,null,null,null,null,null,null,null,null,null,null,null,null,null,null,null,null,null,null,null,null,null,null,null,null,null,null,null,null,null,null,null,null,null,null,null,null,null,null,null,null,null,null,null,null,null,null,null,null,null,null,null,null,null,null,null,null,null,null,null,null,null,null,null,null,null,null,null,null,null,null,null,null,null,null,null,null,null,null,null,null,null,null,null,null,null,null,null,null,null,null,null,null,null,null,null,null,null,null,null,null,null,null,null,null,null,null,null,null,null,null,null,null,null,null,null,null,null,null,null,null,null,null,null,null,null,null,null,null,null,null,null,null,null,null,null,null,null,null,null,null,null,null,null,null,null,null,null,null,null,null,null,null,null,null,null,null,null,null,null,null,null,null,null,null,null,null,null,null,null,null,null,null,null,null,null,null,null,null,null,null,null,null,null,null,null,null,null,null,null,null,null,null,null,null,null,null,null,null,null,null,null,null,null,null,null,null,null,null,null,null,null,null,null,null,null,null,null,null,null,null,null,null,null,null,null,null,null,null,null,null,null,null,null,null,null,null,null,null,null,null,null,null,null,null,null,null,null,null,null,null,null,null,null,null,null,null,null,null,null,null,null,null,null,null,null,null,null,null,null,null,null,null,null,null,null,null,null,null,null,null,null,null,null,null,null,null,null,null,null,null,null,null,null,null,null,null,null,null,null,null,null,null,null,null,null,null,null,null,null,null,null,null,null,null,null,null,null,null,null,null,null,null,null,null,null,null,null,null,null,null,null,null,null,null,null,null,null,null,null,null,null,null,null,null,null,null,null,null,null,null,null,null,null,null,null,null,null,null,null,null,null,null,null,null,null,null,null,null,null,null,null,null,null,null,null,null,null,null,null,null,null,null,null,null,null,null,null,null,null,null,null,null,null,null,null,null,null,null,null,null,null,null,null,null,null,null,null,null,null,null,null,null,null,null,null,null,null,null,null,null,null,null,null,null,null,null,null,null,null,null,null,null,null,null,null,null,null,null,null,null,null,null,null,null,null,null,null,null,null,null,null,null,null,null,null,null,null,null,null,null,null,null,null,null,null,null,null,null,null,null,null,null,null,null,null,null,null,null,null,null,null,null,null,null,null,null,null,null,null,null,null,null,null,null,null,null,null,null,null,null,null,null,null,null,null,null,null,null,null,null,null,null,null,null,null,null,null,null,null,null,null,null,null,null,null,null,null,null,null,null,null,null,null,null,null,null,null,null,null,null,null,null,null,null,null,null,null,null,null,null,null,null,null,null,null,null,null,null,null,null,null,null,null,null,null,null,null,null,null,null,null,null,null,null,null,null,null,null,null,null,null,null,null,null,null,null,null,null,null,null,null,null,null,null,null,null,null,null,null,null,null,null,null,null,null,null,null,null,null,null,null,null,null,null,null,null,null,null,null,null,null,null,null,null,null,null,null,null,null,null,null,null,null,null,null,null,null,null,null,null,null,null,null,null,null,null,null,null,null,null,null,null,null,null,null,null,null,null,null,null,null,null,null,null,null,null,null,null,null,null,null,null,null,null,null,null,null,null,null,null,null,null,null,null,null,null,null,null,null,null,null,null,null,null,null,null,null,null,null,null,null,null,null,null,null,null,null,null,null,null,null,null,null,null,null,null,null,null,null,null,null,null,null,null,null,null,null,null,null,null,null,null,null,null,null,null,null,null,null,null,null,null,null,null,null,null,null,null,null,null,null,null,null,null,null,null,null,null,null,null,null,null,null,null,null,null,null,null,null,null,null,null,null,null,null,null,null,null,null,null,null,null,null,null,null,null,null,null,null,null,null,null,null,null,null,null,null,null,null,null,null,null,null,null,null,null,null,null,null,null,null,null,null,null,null,null,null,null,null,null,null,null,null,null,null,null,null,null,null,null,null,null,null,null,null,null,null,null,null,null,null,null,null,null,null,null,null,null,null,null,null,null,null,null,null,null,null,null,null,null,null,null,null,null,null,null,null,null,null,null,null,null,null,null,null,null,null,null,null,null,null,null,null,null,null,null,null,null,null,null,null,null,null,null,null,null,null,null,null,null,null,null,null,null,null,null,null,null,null,null,null,null,null,null,null,null,null,null,null,null,null,null,null,null,null,null,null,null,null,null,null,null,null,null,null,null,null,null,null,null,null,null,null,null,null,null,null,null,null,null,null,null,null,null,null,null,null,null,null,null,null,null,null,null,null,null,null,null,null,null,null,null,null,null,null,null,null,null,null,null,null,null,null,null,null,null,null,null,null,null,null,null,null,null,null,null,null,null,null,null,null,null,null,null,null,null,null,null,null,null,null,null,null,null,null,null,null,null,null,null,null,null,null,null,null,null,null,null,null,null,null,null,null,null,null,null,null,null,null,null,null,null,null,null,null,null,null,null,null,null,null,null,null,null,null,null,null,null,null,null,null,null,null,null,null,null,null,null,null,null,null,null,null,null,null,null,null,null,null,null,null,null,null,null,null,null,null,null,null,null,null,null,null,null,null,null,null,null,null,null,null,null,null,null,null,null,null,null,null,null,null,null,null,null,null,null,null,null,null,null,null,null,null,null,null,null,null,null,null,null,null,null,null,null,null,null,null,null,null,null,null,null,null,null,null,null,null,null,null,null,null,null,null,null,null,null,null,null,null,null,null,null,null,null,null,null,null,null,null,null,null,null,null,null,null,null,null,null,null,null,null,null,null,null,null,null,null,null,null,null,null,null,null,null,null,null,null,null,null,null,null,null,null,null,null,null,null,null,null,null,null,null,null,null,null,null,null,null,null,null,null,null,null,null,null,null,null,null,null,null,null,null,null,null,null,null,null,null,null,null,null,null,null,null,null,null,null,null,null,null,null,null,null,null,null,null,null,null,null,null,null,null,null,null,null,null,null,null,null,null,null,null,null,null,null,null,null,null,null,null,null,null,null,null,null,null,null,null,null,null,null,null,null,null,null,null,null,null,null,null,null,null,null,null,null,null,null,null,null,null,null,null,null,null,null,null,null,null,null,null,null,null,null,null,null,null,null,null,null,null,null,null,null,null,null,null,null,null,null,null,null,null,null,null,null,null,null,null,null,null,null,null,null,null,null,null,null,null,null,null,null,null,null,null,null,null,null,null,null,null,null,null,null,null,null,null,null,null,null,null,null,null,null,null,null,null,null,null,null,null,null,null,null,null,null,null,null,null,null,null,null,null,null,null,null,null,null,null,null,null,null,null,null,null,null,null,null,null,null,null,null,null,null,null,null,null,null,null,null,null,null,null,null,null,null,null,null,null,null,null,null,null,null,null,null,null,null,null,null,null,null,null,null,null,null,null,null,null,null,null,null,null,null,null,null,null,null,null,null,null,null,null,null,null,null,null,null,null,null,null,null,null,null,null,null,null,null,null,null,null,null,null,null,null,null,null,null,null,null,null,null,null,null,null,null,null,null,null,null,null,null,null,null,null,null,null,null,null,null,null,null,null,null,null,null,null,null,null,null,null,null,null,null,null,null,null,null,null,null,null,null,null,null,null,null,null,null,null,null,null,null,null,null,null,null,null,null,null,null,null,null,null,null,null,null,null,null,null,null,null,null,null,null,null,null,null,null,null,null,null,null,null,null,null,null,null,null,null,null,null,null,null,null,null,null,null,null,null,null,null,null,null,null,null,null,null,null,null,null,null,null,null,null,null,null,null,null,null,null,null,null,null,null,null,null,null,null,null,null,null,null,null,null,null,null,null,null,null,null,null,null,null,null,null,null,null,null,null,null,null,null,null,null,null,null,null,null,null,null,null,null,null,null,null,null,null,null,null,null,null,null,null,null,null,null,null,null,null,null,null,null,null,null,null,null,null,null,null,null,null,null,null,null,null,null,null,null,null,null,null,null,null,null,null,null,null,null,null,null,null,null,null,null,null,null,null,null,null,null,null,null,null,null,null,null,null,null,null,null,null,null,null,null,null,null,null,null,null,null,null,null,null,null,null,null,null,null,null,null,null,null,null,null,null,null,null,null,null,null,null,null,null,null,null,null,null,null,null,null,null,null,null,null,null,null,null,null,null,null,null,null,null,null,null,null,null,null,null,null,null,null,null,null,null,null,null,null,null,null,null,null,null,null,null,null,null,null,null,null,null,null,null,null,null,null,null,null,null,null,null,null,null,null,null,null,null,null,null,null,null,null,null,null,null,null,null,null,null,null,null,null,null,null,null,null,null,null,null,null,null,null,null,null,null,null,null,null,null,null,null,null,null,null,null,null,null,null,null,null,null,null,null,null,null,null,null,null,null,null,null,null,null,null,null,null,null,null,null,null,null,null,null,null,null,null,null,null,null,null,null,null,null,null,null,null,null,null,null,null,null,null,null,null,null,null,null,null,null,null,null,null,null,null,null,null,null,null,null,null,null,null,null,null,null,null,null,null,null,null,null,null,null,null,null,null,null,null,null,null,null,null,null,null,null,null,null,null,null,null,null,null,null,null,null,null,null,null,null,null,null,null,null,null,null,null,null,null,null,null,null,null,null,null,null,null,null,null,null,null,null,null,null,null,null,null,null,null,null,null,null,null,null,null,null,null,null,null,null,null,null,null,null,null,null,null,null,null,null,null,null,null,null,null,null,null,null,null,null,null,null,null,null,null,null,null,null,null,null,null,null,null,null,null,null,null,null,null,null,null,null,null,null,null,null,null,null,null,null,null,null,null,null,null,null,null,null,null,null,null,null,null,null,null,null,null,null,null,null,null,null,null,null,null,null,null,null,null,null,null,null,null,null,null,null,null,null,null,null,null,null,null,null,null,null,null,null,null,null,null,null,null,null,null,null,null,null,null,null,null,null,null,null,null,null,null,null,null,null,null,null,null,null,null,null,null,null,null,null,null,null,null,null,null,null,null,null,null,null,null,null,null,null,null,null,null,null,null,null,null,null,null,null,null,null,null,null,null,null,null,null,null,null,null,null,null,null,null,null,null,null,null,null,null,null,null,null,null,null,null,null,null,null,null,null,null,null,null,null,null,null,null,null,null,null,null,null,null,null,null,null,null,null,null,null,null,null,null,null,null,null,null,null,null,null,null,null,null,null,null,null,null,null,null,null,null,null,null,null,null,null,null,null,null,null,null,null,null,null,null,null,null,null,null,null,null,null,null,null,null,null,null,null,null,null,null,null,null,null,null,null,null,null,null,null,null,null,null,null,null,null,null,null,null,null,null,null,null,null,null,null,null,null,null,null,null,null,null,null,null,null,null,null,null,null,null,null,null,null,null,null,null,null,null,null,null,null,null,null,null,null,null,null,null,null,null,null,null,null,null,null,null,null,null,null,null,null,null,null,null,null,null,null,null,null,null,null,null,null,null,null,null,null,null,null,null,null,null,null,null,null,null,null,null,null,null,null,null,null,null,null,null,null,null,null,null,null,null,null,null,null,null,null,null,null,null,null,null,null,null,null,null,null,null,null,null,null,null,null,null,null,null,null,null,null,null,null,null,null,null,null,null,null,null,null,null,null,null,null,null,null,null,null,null,null,null,null,null,null,null,null,null,null,null,null,null,null,null,null,null,null,null,null,null,null,null,null,null,null,null,null,null,null,null,null,null,null,null,null,null,null,null,null,null,null,null,null,null,null,null,null,null,null,null,null,null,null,null,null,null,null,null,null,null,null,null,null,null,null,null,null,null,null,null,null,null,null,null,null,null,null,null,null,null,null,null,null,null,null,null,null,null,null,null,null,null,null,null,null,null,null,null,null,null,null,null,null,null,null,null,null,null,null,null,null,null,null,null,null,null,null,null,null,null,null,null,null,null,null,null,null,null,null,null,null,null,null,null,null,null,null,null,null,null,null,null,null,null,null,null,null,null,null,null,null,null,null,null,null,null,null,null,null,null,null,null,null,null,null,null,null,null,null,null,null,null,null,null,null,null,null,null,null,null,null,null,null,null,null,null,null,null,null,null,null,null,null,null,null,null,null,null,null,null,null,null,null,null,null,null,null,null,null,null,null,null,null,null,null,null,null,null,null,null,null,null,null,null,null,null,null,null,null,null,null,null,null,null,null,null,null,null,null,null,null,null,null,null,null,null,null,null,null,null,null,null,null,null,null,null,null,null,null,null,null,null,null,null,null,null,null,null,null,null,null,null,null,null,null,null,null,null,null,null,null,null,null,null,null,null,null,null,null,null,null,null,null,null,null,null,null,null,null,null,null,null,null,null,null,null,null,null,null,null,null,null,null,null,null,null,null,null,null,null,null,null,null,null,null,null,null,null,null,null,null,null,null,null,null,null,null,null,null,null,null,null,null,null,null,null,null,null,null,null,null,null,null,null,null,null,null,null,null,null,null,null,null,null,null,null,null,null,null,null,null,null,null,null,null,null,null,null,null,null,null,null,null,null,null,null,null,null,null,null,null,null,null,null,null,null,null,null,null,null,null,null,null,null,null,null,null,null,null,null,null,null,null,null,null,null,null,null,null,null,null,null,null,null,null,null,null,null,null,null,null,null,null,null,null,null,null,null,null,null,null,null,null,null,null,null,null,null,null,null,null,null,null,null,null,null,null,null,null,null,null,null,null,null,null,null,null,null,null,null,null,null,null,null,null,null,null,null,null,null,null,null,null,null,null,null,null,null,null,null,null,null,null,null,null,null,null,null,null,null,null,null,null,null,null,null,null,null,null,null,null,null,null,null,null,null,null,null,null,null,null,null,null,null,null,null,null,null,null,null,null,null,null,null,null,null,null,null,null,null,null,null,null,null,null,null,null,null,null,null,null,null,null,null,null,null,null,null,null,null,null,null,null,null,null,null,null,null,null,null,null,null,null,null,null,null,null,null,null,null,null,null,null,null,null,null,null,null,null,null,null,null,null,null,null,null,null,null,null,null,null,null,null,null,null,null,null,null,null,null,null,null,null,null,null,null,null,null,null,null,null,null,null,null,null,null,null,null,null,null,null,null,null,null,null,null,null,null,null,null,null,null,null,null,null,null,null,null,null,null,null,null,null,null,null,null,null,null,null,null,null,null,null,null,null,null,null,null,null,null,null,null,null,null,null,null,null,null,null,null,null,null,null,null,null,null,null,null,null,null,null,null,null,null,null,null,null,null,null,null,null,null,null,null,null,null,null,null,null,null,null,null,null,null,null,null,null,null,null,null,null,null,null,null,null,null,null,null,null,null,null,null,null,null,null,null,null,null,null,null,null,null,null,null,null,null,null,null,null,null,null,null,null,null,null,null,null,null,null,null,null,null,null,null,null,null,null,null,null,null,null,null,null,null,null,null,null,null,null,null,null,null,null,null,null,null,null,null,null,null,null,null,null,null,null,null,null,null,null,null,null,null,null,null,null,null,null,null,null,null,null,null,null,null,null,null,null,null,null,null,null,null,null,null,null,null,null,null,null,null,null,null,null,null,null,null,null,null,null,null,null,null,null,null,null,null,null,null,null,null,null,null,null,null,null,null,null,null,null,null,null,null,null,null,null,null,null,null,null,null,null,null,null,null,null,null,null,null,null,null,null,null,null,null,null,null,null,null,null,null,null,null,null,null,null,null,null,null,null,null,null,null,null,null,null,null,null,null,null,null,null,null,null,null,null,null,null,null,null,null,null,null,null,null,null,null,null,null,null,null,null,null,null,null,null,null,null,null,null,null,null,null,null,null,null,null,null,null,null,null,null,null,null,null,null,null,null,null,null,null,null,null,null,null,null,null,null,null,null,null,null,null,null,null,null,null,null,null,null,null,null,null,null,null,null,null,null,null,null,null,null,null,null,null,null,null,null,null,null,null,null,null,null,null,null,null,null,null,null,null,null,null,null,null,null,null,null,null,null,null,null,null,null,null,null,null,null,null,null,null,null,null,null,null,null,null,null,null,null,null,null,null,null,null,null,null,null,null,null,null,null,null,null,null,null,null,null,null,null,null,null,null,null,null,null,null,null,null,null,null,null,null,null,null,null,null,null,null,null,null,null,null,null,null,null,null,null,null,null,null,null,null,null,null,null,null,null,null,null,null,null,null,null,null,null,null,null,null,null,null,null,null,null,null,null,null,null,null,null,null,null,null,null,null,null,null,null,null,null,null,null,null,null,null,null,null,null,null,null,null,null,null,null,null,null,null,null,null,null,null,null,null,null,null,null,null,null,null,null,null,null,null,null,null,null,null,null,null,null,null,null,null,null,null,null,null,null,null,null,null,null,null,null,null,null,null,null,null,null,null,null,null,null,null,null,null,null,null,null,null,null,null,null,null,null,null,null,null,null,null,null,null,null,null,null,null,null,null,null,null,null,null,null,null,null,null,null,null,null,null,null,null,null,null,null,null,null,null,null,null,null,null,null,null,null,null,null,null,null,null,null,null,null,null,null,null,null,null,null,null,null,null,null,null,null,null,null,null,null,null,null,null,null,null,null,null,null,null,null,null,null,null,null,null,null,null,null,null,null,null,null,null,null,null,null,null,null,null,null,null,null,null,null,null,null,null,null,null,null,null,null,null,null,null,null,null,null,null,null,null,null,null,null,null,null,null,null,null,null,null,null,null,null,null,null,null,null,null,null,null,null,null,null,null,null,null,null,null,null,null,null,null,null,null,null,null,null,null,null,null,null,null,null,null,null,null,null,null,null,null,null,null,null,null,null,null,null,null,null,null,null,null,null,null,null,null,null,null,null,null,null,null,null,null,null,null,null,null,null,null,null,null,null,null,null,null,null,null,null,null,null,null,null,null,null,null,null,null,null,null,null,null,null,null,null,null,null,null,null,null,null,null,null,null,null,null,null,null,null,null,null,null,null,null,null,null,null,null,null,null,null,null,null,null,null,null,null,null,null,null,null,null,null,null,null,null,null,null,null,null,null,null,null,null,null,null,null,null,null,null,null,null,null,null,null,null,null,null,null,null,null,null,null,null,null,null,null,null,null,null,null,null,null,null,null,null,null,null,null,null,null,null,null,null,null,null,null,null,null,null,null,null,null,null,null,null,null,null,null,null,null,null,null,null,null,null,null,null,null,null,null,null,null,null,null,null,null,null,null,null,null,null,null,null,null,null,null,null,null,null,null,null,null,null,null,null,null,null,null,null,null,null,null,null,null,null,null,null,null,null,null,null,null,null,null,null,null,null,null,null,null,null,null,null,null,null,null,null,null,null,null,null,null,null,null,null,null,null,null,null,null,null,null,null,null,null,null,null,null,null,null,null,null,null,null,null,null,null,null,null,null,null,null,null,null,null,null,null,null,null,null,null,null,null,null,null,null,null,null,null,null,null,null,null,null,null,null,null,null,null,null,null,null,null,null,null,null,null,null,null,null,null,null,null,null,null,null,null,null,null,null,null,null,null,null,null,null,null,null,null,null,null,null,null,null,null,null,null,null,null,null,null,null,null,null,null,null,null,null,null,null,null,null,null,null,null,null,null,null,null,null,null,null,null,null,null,null,null,null,null,null,null,null,null,null,null,null,null,null,null,null,null,null,null,null,null,null,null,null,null,null,null,null,null,null,null,null,null,null,null,null,null,null,null,null,null,null,null,null,null,null,null,null,null,null,null,null,null,null,null,null,null,null,null,null,null,null,null,null,null,null,null,null,null,null,null,null,null,null,null,null,null,null,null,null,null,null,null,null,null,null,null,null,null,null,null,null,null,null,null,null,null,null,null,null,null,null,null,null,null,null,null,null,null,null,null,null,null,null,null,null,null,null,null,null,null,null,null,null,null,null,null,null,null,null,null,null,null,null,null,null,null,null,null,null,null,null,null,null,null,null,null,null,null,null,null,null,null,null,null,null,null,null,null,null,null,null,null,null,null,null,null,null,null,null,null,null,null,null,null,null,null,null,null,null,null,null,null,null,null,null,null,null,null,null,null,null,null,null,null,null,null,null,null,null,null,null,null,null,null,null,null,null,null,null,null,null,null,null,null,null,null,null,null,null,null,null,null,null,null,null,null,null,null,null,null,null,null,null,null,null,null,null,null,null,null,null,null,null,null,null,null,null,null,null,null,null,null,null,null,null,null,null,null,null,null,null,null,null,null,null,null,null,null,null,null,null,null,null,null,null,null,null,null,null,null,null,null,null,null,null,null,null,null,null,null,null,null,null,null,null,null,null,null,null,null,null,null,null,null,null,null,null,null,null,null,null,null,null,null,null,null,null,null,null,null,null,null,null,null,null,null,null,null,null,null,null,null,null,null,null,null,null,null,null,null,null,null,null,null,null,null,null,null,null,null,null,null,null,null,null,null,null,null,null,null,null,null,null,null,null,null,null,null,null,null,null,null,null,null,null,null,null,null,null,null,null,null,null,null,null,null,null,null,null,null,null,null,null,null,null,null,null,null,null,null,null,null,null,null,null,null,null,null,null,null,null,null,null,null,null,null,null,null,null,null,null,null,null,null,null,null,null,null,null,null,null,null,null,null,null,null,null,null,null,null,null,null,null,null,null,null,null,null,null,null,null,null,null,null,null,null,null,null,null,null,null,null,null,null,null,null,null,null,null,null,null,null,null,null,null,null,null,null,null,null,null,null,null,null,null,null,null,null,null,null,null,null,null,null,null,null,null,null,null,null,null,null,null,null,null,null,null,null,null,null,null,null,null,null,null,null,null,null,null,null,null,null,null,null,null,null,null,null,null,null,null,null,null,null,null,null,null,null,null,null,null,null,null,null,null,null,null,null,null,null,null,null,null,null,null,null,null,null,null,null,null,null,null,null,null,null,null,null,null,null,null,null,null,null,null,null,null,null,null,null,null,null,null,null,null,null,null,null,null,null,null,null,null,null,null,null,null,null,null,null,null,null,null,null,null,null,null,null,null,null,null,null,null,null,null,null,null,null,null,null,null,null,null,null,null,null,null,null,null,null,null,null,null,null,null,null,null,null,null,null,null,null,null,null,null,null,null,null,null,null,null,null,null,null,null,null,null,null,null,null,null,null,null,null,null,null,null,null,null,null,null,null,null,null,null,null,null,null,null,null,null,null,null,null,null,null,null,null,null,null,null,null,null,null,null,null,null,null,null,null,null,null,null,null,null,null,null,null,null,null,null,null,null,null,null,null,null,null,null,null,null,null,null,null,null,null,null,null,null,null,null,null,null,null,null,null,null,null,null,null,null,null,null,null,null,null,null,null,null,null,null,null,null,null,null,null,null,null,null,null,null,null,null,null,null,null,null,null,null,null,null,null,null,null,null,null,null,null,null,null,null,null,null,null,null,null,null,null,null,null,null,null,null,null,null,null,null,null,null,null,null,null,null,null,null,null,null,null,null,null,null,null,null,null,null,null,null,null,null,null,null,null,null,null,null,null,null,null,null,null,null,null,null,null,null,null,null,null,null,null,null,null,null,null,null,null,null,null,null,null,null,null,null,null,null,null,null,null,null,null,null,null,null,null,null,null,null,null,null,null,null,null,null,null,null,null,null,null,null,null,null,null,null,null,null,null,null,null,null,null,null,null,null,null,null,null,null,null,null,null,null,null,null,null,null,null,null,null,null,null,null,null,null,null,null,null,null,null,null,null,null,null,null,null,null,null,null,null,null,null,null,null,null,null,null,null,null,null,null,null,null,null,null,null,null,null,null,null,null,null,null,null,null,null,null,null,null,null,null,null,null,null,null,null,null,null,null,null,null,null,null,null,null,null,null,null,null,null,null,null,null,null,null,null,null,null,null,null,null,null,null,null,null,null,null,null,null,null,null,null,null,null,null,null,null,null,null,null,null,null,null,null,null,null,null,null,null,null,null,null,null,null,null,null,null,null,null,null,null,null,null,null,null,null,null,null,null,null,null,null,null,null,null,null,null,null,null,null,null,null,null,null,null,null,null,null,null,null,null,null,null,null,null,null,null,null,null,null,null,null,null,null,null,null,null,null,null,null,null,null,null,null,null,null,null,null,null,null,null,null,null,null,null,null,null,null,null,null,null,null,null,null,null,null,null,null,null,null,null,null,null,null,null,null,null,null,null,null,null,null,null,null,null,null,null,null,null,null,null,null,null,null,null,null,null,null,null,null,null,null,null,null,null,null,null,null,null,null,null,null,null,null,null,null,null,null,null,null,null,null,null,null,null,null,null,null,null,null,null,null,null,null,null,null,null,null,null,null,null,null,null,null,null,null,null,null,null,null,null,null,null,null,null,null,null,null,null,null,null,null,null,null,null,null,null,null,null,null,null,null,null,null,null,null,null,null,null,null,null,null,null,null,null,null,null,null,null,null,null,null,null,null,null,null,null,null,null,null,null,null,null,null,null,null,null,null,null,null,null,null,null,null,null,null,null,null,null,null,null,null,null,null,null,null,null,null,null,null,null,null,null,null,null,null,null,null,null,null,null,null,null,null,null,null,null,null,null,null,null,null,null,null,null,null,null,null,null,null,null,null,null,null,null,null,null,null,null,null,null,null,null,null,null,null,null,null,null,null,null,null,null,null,null,null,null,null,null,null,null,null,null,null,null,null,null,null,null,null,null,null,null,null,null,null,null,null,null,null,null,null,null,null,null,null,null,null,null,null,null,null,null,null,null,null,null,null,null,null,null,null,null,null,null,null,null,null,null,null,null,null,null,null,null,null,null,null,null,null,null,null,null,null,null,null,null,null,null,null,null,null,null,null,null,null,null,null,null,null,null,null,null,null,null,null,null,null,null,null,null,null,null,null,null,null,null,null,null,null,null,null,null,null,null,null,null,null,null,null,null,null,null,null,null,null,null,null,null,null,null,null,null,null,null,null,null,null,null,null,null,null,null,null,null,null,null,null,null,null,null,null,null,null,null,null,null,null,null,null,null,null,null,null,null,null,null,null,null,null,null,null,null,null,null,null,null,null,null,null,null,null,null,null,null,null,null,null,null,null,null,null,null,null,null,null,null,null,null,null,null,null,null,null,null,null,null,null,null,null,null,null,null,null,null,null,null,null,null,null,null,null,null,null,null,null,null,null,null,null,null,null,null,null,null,null,null,null,null,null,null,null,null,null,null,null,null,null,null,null,null,null,null,null,null,null,null,null,null,null,null,null,null,null,null,null,null,null,null,null,null,null,null,null,null,null,null,null,null,null,null,null,null,null,null,null,null,null,null,null,null,null,null,null,null,null,null,null,null,null,null,null,null,null,null,null,null,null,null,null,null,null,null,null,null,null,null,null,null,null,null,null,null,null,null,null,null,null,null,null,null,null,null,null,null,null,null,null,null,null,null,null,null,null,null,null,null,null,null,null,null,null,null,null,null,null,null,null,null,null,null,null,null,null,null,null,null,null,null,null,null,null,null,null,null,null,null,null,null,null,null,null,null,null,null,null,null,null,null,null,null,null,null,null,null,null,null,null,null,null,null,null,null,null,null,null,null,null,null,null,null,null,null,null,null,null,null,null,null,null,null,null,null,null,null,null,null,null,null,null,null,null,null,null,null,null,null,null,null,null,null,null,null,null,null,null,null,null,null,null,null,null,null,null,null,null,null,null,null,null,null,null,null,null,null,null,null,null,null,null,null,null,null,null,null,null,null,null,null,null,null,null,null,null,null,null,null,null,null,null,null,null,null,null,null,null,null,null,null,null,null,null,null,null,null,null,null,null,null,null,null,null,null,null,null,null,null,null,null,null,null,null,null,null,null,null,null,null,null,null,null,null,null,null,null,null,null,null,null,null,null,null,null,null,null,null,null,null,null,null,null,null,null,null,null,null,null,null,null,null,null,null,null,null,null,null,null,null,null,null,null,null,null,null,null,null,null,null,null,null,null,null,null,null,null,null,null,null,null,null,null,null,null,null,null,null,null,null,null,null,null,null,null,null,null,null,null,null,null,null,null,null,null,null,null,null,null,null,null,null,null,null,null,null,null,null,null,null,null,null,null,null,null,null,null,null,null,null,null,null,null,null,null,null,null,null,null,null,null,null,null,null,null,null,null,null,null,null,null,null,null,null,null,null,null,null,null,null,null,null,null,null,null,null,null,null,null,null,null,null,null,null,null,null,null,null,null,null,null,null,null,null,null,null,null,null,null,null,null,null,null,null,null,null,null,null,null,null,null,null,null,null,null,null,null,null,null,null,null,null,null,null,null,null,null,null,null,null,null,null,null,null,null,null,null,null,null,null,null,null,null,null,null,null,null,null,null,null,null,null,null,null,null,null,null,null,null,null,null,null,null,null,null,null,null,null,null,null,null,null,null,null,null,null,null,null,null,null,null,null,null,null,null,null,null,null,null,null,null,null,null,null,null,null,null,null,null,null,null,null,null,null,null,null,null,null,null,null,null,null,null,null,null,null,null,null,null,null,null,null,null,null,null,null,null,null,null,null,null,null,null,null,null,null,null,null,null,null,null,null,null,null,null,null,null,null,null,null,null,null,null,null,null,null,null,null,null,null,null,null,null,null,null,null,null,null,null,null,null,null,null,null,null,null,null,null,null,null,null,null,null,null,null,null,null,null,null,null,null,null,null,null,null,null,null,null,null,null,null,null,null,null,null,null,null,null,null,null,null,null,null,null,null,null,null,null,null,null,null,null,null,null,null,null,null,null,null,null,null,null,null,null,null,null,null,null,null,null,null,null,null,null,null,null,null,null,null,null,null,null,null,null,null,null,null,null,null,null,null,null,null,null,null,null,null,null,null,null,null,null,null,null,null,null,null,null,null,null,null,null,null,null,null,null,null,null,null,null,null,null,null,null,null,null,null,null,null,null,null,null,null,null,null,null,null,null,null,null,null,null,null,null,null,null,null,null,null,null,null,null,null,null,null,null,null,null,null,null,null,null,null,null,null,null,null,null,null,null,null,null,null,null,null,null,null,null,null,null,null,null,null,null,null,null,null,null,null,null,null,null,null,null,null,null,null,null,null,null,null,null,null,null,null,null,null,null,null,null,null,null,null,null,null,null,null,null,null,null,null,null,null,null,null,null,null,null,null,null,null,null,null,null,null,null,null,null,null,null,null,null,null,null,null,null,null,null,null,null,null,null,null,null,null,null,null,null,null,null,null,null,null,null,null,null,null,null,null,null,null,null,null,null,null,null,null,null,null,null,null,null,null,null,null,null,null,null,null,null,null,null,null,null,null,null,null,null,null,null,null,null,null,null,null,null,null,null,null,null,null,null,null,null,null,null,null,null,null,null,null,null,null,null,null,null,null,null,null,null,null,null,null,null,null,null,null,null,null,null,null,null,null,null,null,null,null,null,null,null,null,null,null,null,null,null,null,null,null,null,null,null,null,null,null,null,null,null,null,null,null,null,null,null,null,null,null,null,null,null,null,null,null,null,null,null,null,null,null,null,null,null,null,null,null,null,null,null,null,null,null,null,null,null,null,null,null,null,null,null,null,null,null,null,null,null,null,null,null,null,null,null,null,null,null,null,null,null,null,null,null,null,null,null,null,null,null,null,null,null,null,null,null,null,null,null,null,null,null,null,null,null,null,null,null,null,null,null,null,null,null,null,null,null,null,null,null,null,null,null,null,null,null,null,null,null,null,null,null,null,null,null,null,null,null,null,null,null,null,null,null,null,null,null,null,null,null,null,null,null,null,null,null,null,null,null,null,null,null,null,null,null,null,null,null,null,null,null,null,null,null,null,null,null,null,null,null,null,null,null,null,null,null,null,null,null,null,null,null,null,null,null,null,null,null,null,null,null,null,null,null,null,null,null,null,null,null,null,null,null,null,null,null,null,null,null,null,null,null,null,null,null,null,null,null,null,null,null,null,null,null,null,null,null,null,null,null,null,null,null,null,null,null,null,null,null,null,null,null,null,null,null,null,null,null,null,null,null,null,null,null,null,null,null,null,null,null,null,null,null,null,null,null,null,null,null,null,null,null,null,null,null,null,null,null,null,null,null,null,null,null,null,null,null,null,null,null,null,null,null,null,null,null,null,null,null,null,null,null,null,null,null,null,null,null,null,null,null,null,null,null,null,null,null,null,null,null,null,null,null,null,null,null,null,null,null,null,null,null,null,null,null,null,null,null,null,null,null,null,null,null,null,null,null,null,null,null,null,null,null,null,null,null,null,null,null,null,null,null,null,null,null,null,null,null,null,null,null,null,null,null,null,null,null,null,null,null,null,null,null,null,null,null,null,null,null,null,null,null,null,null,null,null,null,null,null,null,null,null,null,null,null,null,null,null,null,null,null,null,null,null,null,null,null,null,null,null,null,null,null,null,null,null,null,null,null,null,null,null,null,null,null,null,null,null,null,null,null,null,null,null,null,null,null,null,null,null,null,null,null,null,null,null,null,null,null,null,null,null,null,null,null,null,null,null,null,null,null,null,null,null,null,null,null,null,null,null,null,null,null,null,null,null,null,null,null,null,null,null,null,null,null,null,null,null,null,null,null,null,null,null,null,null,null,null,null,null,null,null,null,null,null,null,null,null,null,null,null,null,null,null,null,null,null,null,null,null,null,null,null,null,null,null,null,null,null,null,null,null,null,null,null,null,null,null,null,null,null,null,null,null,null,null,null,null,null,null,null,null,null,null,null,null,null,null,null,null,null,null,null,null,null,null,null,null,null,null,null,null,null,null,null,null,null,null,null,null,null,null,null,null,null,null,null,null,null,null,null,null,null,null,null,null,null,null,null,null,null,null,null,null,null,null,null,null,null,null,null,null,null,null,null,null,null,null,null,null,null,null,null,null,null,null,null,null,null,null,null,null,null,null,null,null,null,null,null,null,null,null,null,null,null,null,null,null,null,null,null,null,null,null,null,null,null,null,null,null,null,null,null,null,null,null,null,null,null,null,null,null,null,null,null,null,null,null,null,null,null,null,null,null,null,null,null,null,null,null,null,null,null,null,null,null,null,null,null,null,null,null,null,null,null,null,null,null,null,null,null,null,null,null,null,null,null,null,null,null,null,null,null,null,null,null,null,null,null,null,null,null,null,null,null,null,null,null,null,null,null,null,null,null,null,null,null,null,null,null,null,null,null,null,null,null,null,null,null,null,null,null,null,null,null,null,null,null,null,null,null,null,null,null,null,null,null,null,null,null,null,null,null,null,null,null,null,null,null,null,null,null,null,null,null,null,null,null,null,null,null,null,null,null,null,null,null,null,null,null,null,null,null,null,null,null,null,null,null,null,null,null,null,null,null,null,null,null,null,null,null,null,null,null,null,null,null,null,null,null,null,null,null,null,null,null,null,null,null,null,null,null,null,null,null,null,null,null,null,null,null,null,null,null,null,null,null,null,null,null,null,null,null,null,null,null,null,null,null,null,null,null,null,null,null,null,null,null,null,null,null,null,null,null,null,null,null,null,null,null,null,null,null,null,null,null,null,null,null,null,null,null,null,null,null,null,null,null,null,null,null,null,null,null,null,null,null,null,null,null,null,null,null,null,null,null,null,null,null,null,null,null,null,null,null,null,null,null,null,null,null,null,null,null,null,null,null,null,null,null,null,null,null,null,null,null,null,null,null,null,null,null,null,null,null,null,null,null,null,null,null,null,null,null,null,null,null,null,null,null,null,null,null,null,null,null,null,null,null,null,null,null,null,null,null,null,null,null,null,null,null,null,null,null,null,null,null,null,null,null,null,null,null,null,null,null,null,null,null,null,null,null,null,null,null,null,null,null,null,null,null,null,null,null,null,null,null,null,null,null,null,null,null,null,null,null,null,null,null,null,null,null,null,null,null,null,null,null,null,null,null,null,null,null,null,null,null,null,null,null,null,null,null,null,null,null,null,null,null,null,null,null,null,null,null,null,null,null,null,null,null,null,null,null,null,null,null,null,null,null,null,null,null,null,null,null,null,null,null,null,null,null,null,null,null,null,null,null,null,null,null,null,null,null,null,null,null,null,null,null,null,null,null,null,null,null,null,null,null,null,null,null,null,null,null,null,null,null,null,null,null,null,null,null,null,null,null,null,null,null,null,null,null,null,null,null,null,null,null,null,null,null,null,null,null,null,null,null,null,null,null,null,null,null,null,null,null,null,null,null,null,null,null,null,null,null,null,null,null,null,null,null,null,null,null,null,null,null,null,null,null,null,null,null,null,null,null,null,null,null,null,null,null,null,null,null,null,null,null,null,null,null,null,null,null,null,null,null,null,null,null,null,null,null,null,null,null,null,null,null,null,null,null,null,null,null,null,null,null,null,null,null,null,null,null,null,null,null,null,null,null,null,null,null,null,null,null,null,null,null,null,null,null,null,null,null,null,null,null,null,null,null,null,null,null,null,null,null,null,null,null,null,null,null,null,null,null,null,null,null,null,null,null,null,null,null,null,null,null,null,null,null,null,null,null,null,null,null,null,null,null,null,null,null,null,null,null,null,null,null,null,null,null,null,null,null,null,null,null,null,null,null,null,null,null,null,null,null,null,null,null,null,null,null,null,null,null,null,null,null,null,null,null,null,null,null,null,null,null,null,null,null,null,null,null,null,null,null,null,null,null,null,null,null,null,null,null,null,null,null,null,null,null,null,null,null,null,null,null,null,null,null,null,null,null,null,null,null,null,null,null,null,null,null,null,null,null,null,null,null,null,null,null,null,null,null,null,null,null,null,null,null,null,null,null,null,null,null,null,null,null,null,null,null,null,null,null,null,null,null,null,null,null,null,null,null,null,null,null,null,null,null,null,null,null,null,null,null,null,null,null,null,null,null,null,null,null,null,null,null,null,null,null,null,null,null,null,null,null,null,null,null,null,null,null,null,null,null,null,null,null,null,null,null,null,null,null,null,null,null,null,null,null,null,null,null,null,null,null,null,null,null,null,null,null,null,null,null,null,null,null,null,null,null,null,null,null,null,null,null,null,null,null,null,null,null,null,null,null,null,null,null,null,null,null,null,null,null,null,null,null,null,null,null,null,null,null,null,null,null,null,null,null,null,null,null,null,null,null,null,null,null,null,null,null,null,null,null,null,null,null,null,null,null,null,null,null,null,null,null,null,null,null,null,null,null,null,null,null,null,null,null,null,null,null,null,null,null,null,null,null,null,null,null,null,null,null,null,null,null,null,null,null,null,null,null,null,null,null,null,null,null,null,null,null,null,null,null,null,null,null,null,null,null,null,null,null,null,null,null,null,null,null,null,null,null,null,null,null,null,null,null,null,null,null,null,null,null,null,null,null,null,null,null,null,null,null,null,null,null,null,null,null,null,null,null,null,null,null,null,null,null,null,null,null,null,null,null,null,null,null,null,null,null,null,null,null,null,null,null,null,null,null,null,null,null,null,null,null,null,null,null,null,null,null,null,null,null,null,null,null,null,null,null,null,null,null,null,null,null,null,null,null,null,null,null,null,null,null,null,null,null,null,null,null,null,null,null,null,null,null,null,null,null,null,null,null,null,null,null,null,null,null,null,null,null,null,null,null,null,null,null,null,null,null,null,null,null,null,null,null,null,null,null,null,null,null,null,null,null,null,null,null,null,null,null,null,null,null,null,null,null,null,null,null,null,null,null,null,null,null,null,null,null,null,null,null,null,null,null,null,null,null,null,null,null,null,null,null,null,null,null,null,null,null,null,null,null,null,null,null,null,null,null,null,null,null,null,null,null,null,null,null,null,null,null,null,null,null,null,null,null,null,null,null,null,null,null,null,null,null,null,null,null,null,null,null,null,null,null,null,null,null,null,null,null,null,null,null,null,null,null,null,null,null,null,null,null,null,null,null,null,null,null,null,null,null,null,null,null,null,null,null,null,null,null,null,null,null,null,null,null,null,null,null,null,null,null,null,null,null,null,null,null,null,null,null,null,null,null,null,null,null,null,null,null,null,null,null,null,null,null,null,null,null,null,null,null,null,null,null,null,null,null,null,null,null,null,null,null,null,null,null,null,null,null,null,null,null,null,null,null,null,null,null,null,null,null,null,null,null,null,null,null,null,null,null,null,null,null,null,null,null,null,null,null,null,null,null,null,null,null,null,null,null,null,null,null,null,null,null,null,null,null,null,null,null,null,null,null,null,null,null,null,null,null,null,null,null,null,null,null,null,null,null,null,null,null,null,null,null,null,null,null,null,null,null,null,null,null,null,null,null,null,null,null,null,null,null,null,null,null,null,null,null,null,null,null,null,null,null,null,null,null,null,null,null,null,null,null,null,null,null,null,null,null,null,null,null,"Aguardando pagamento"]
[null,null,null,null,null,null,null,null,null,null,null,null,null,null,null,null,null,null,null,null,null,null,null,null,null,null,null,null,null,null,null,null,null,null,null,null,null,null,null,null,null,null,null,null,null,null,null,null,null,null,null,null,null,null,null,null,null,null,null,null,null,null,null,null,null,null,null,null,null,null,null,null,null,null,null,null,null,null,null,null,null,null,null,null,null,null,null,null,null,null,null,null,null,null,null,null,null,null,null,null,null,null,null,null,null,null,null,null,null,null,null,null,null,null,null,null,null,null,null,null,null,null,null,null,null,null,null,null,null,null,null,null,null,null,null,null,null,null,null,null,null,null,null,null,null,null,null,null,null,null,null,null,null,null,null,null,null,null,null,null,null,null,null,null,null,null,null,null,null,null,null,null,null,null,null,null,null,null,null,null,null,null,null,null,null,null,null,null,null,null,null,null,null,null,null,null,null,null,null,null,null,null,null,null,null,null,null,null,null,null,null,null,null,null,null,null,null,null,null,null,null,null,null,null,null,null,null,null,null,null,null,null,null,null,null,null,null,null,null,null,null,null,null,null,null,null,null,null,null,null,null,null,null,null,null,null,null,null,null,null,null,null,null,null,null,null,null,null,null,null,null,null,null,null,null,null,null,null,null,null,null,null,null,null,null,null,null,null,null,null,null,null,null,null,null,null,null,null,null,null,null,null,null,null,null,null,null,null,null,null,null,null,null,null,null,null,null,null,null,null,null,null,null,null,null,null,null,null,null,null,null,null,null,null,null,null,null,null,null,null,null,null,null,null,null,null,null,null,null,null,null,null,null,null,null,null,null,null,null,null,null,null,null,null,null,null,null,null,null,null,null,null,null,null,null,null,null,null,null,null,null,null,null,null,null,null,null,null,null,null,null,null,null,null,null,null,null,null,null,null,null,null,null,null,null,null,null,null,null,null,null,null,null,null,null,null,null,null,null,null,null,null,null,null,null,null,null,null,null,null,null,null,null,null,null,null,null,null,null,null,null,null,null,null,null,null,null,null,null,null,null,null,null,null,null,null,null,null,null,null,null,null,null,null,null,null,null,null,null,null,null,null,null,null,null,null,null,null,null,null,null,null,null,null,null,null,null,null,null,null,null,null,null,null,null,null,null,null,null,null,null,null,null,null,null,null,null,null,null,null,null,null,null,null,null,null,null,null,null,null,null,null,null,null,null,null,null,null,null,null,null,null,null,null,null,null,null,null,null,null,null,null,null,null,null,null,null,null,null,null,null,null,null,null,null,null,null,null,null,null,null,null,null,null,null,null,null,null,null,null,null,null,null,null,null,null,null,null,null,null,null,null,null,null,null,null,null,null,null,null,null,null,null,null,null,null,null,null,null,null,null,null,null,null,null,null,null,null,null,null,null,null,null,null,null,null,null,null,null,null,null,null,null,null,null,null,null,null,null,null,null,null,null,null,null,null,null,null,null,null,null,null,null,null,null,null,null,null,null,null,null,null,null,null,null,null,null,null,null,null,null,null,null,null,null,null,null,null,null,null,null,null,null,null,null,null,null,null,null,null,null,null,null,null,null,null,null,null,null,null,null,null,null,null,null,null,null,null,null,null,null,null,null,null,null,null,null,null,null,null,null,null,null,null,null,null,null,null,null,null,null,null,null,null,null,null,null,null,null,null,null,null,null,null,null,null,null,null,null,null,null,null,null,null,null,null,null,null,null,null,null,null,null,null,null,null,null,null,null,null,null,null,null,null,null,null,null,null,null,null,null,null,null,null,null,null,null,null,null,null,null,null,null,null,null,null,null,null,null,null,null,null,null,null,null,null,null,null,null,null,null,null,null,null,null,null,null,null,null,null,null,null,null,null,null,null,null,null,null,null,null,null,null,null,null,null,null,null,null,null,null,null,null,null,null,null,null,null,null,null,null,null,null,null,null,null,null,null,null,null,null,null,null,null,null,null,null,null,null,null,null,null,null,null,null,null,null,null,null,null,null,null,null,null,null,null,null,null,null,null,null,null,null,null,null,null,null,null,null,null,null,null,null,null,null,null,null,null,null,null,null,null,null,null,null,null,null,null,null,null,null,null,null,null,null,null,null,null,null,null,null,null,null,null,null,null,null,null,null,null,null,null,null,null,null,null,null,null,null,null,null,null,null,null,null,null,null,null,null,null,null,null,null,null,null,null,null,null,null,null,null,null,null,null,null,null,null,null,null,null,null,null,null,null,null,null,null,null,null,null,null,null,null,null,null,null,null,null,null,null,null,null,null,null,null,null,null,null,null,null,null,null,null,null,null,null,null,null,null,null,null,null,null,null,null,null,null,null,null,null,null,null,null,null,null,null,null,null,null,null,null,null,null,null,null,null,null,null,null,null,null,null,null,null,null,null,null,null,null,null,null,null,null,null,null,null,null,null,null,null,null,null,null,null,null,null,null,null,null,null,null,null,null,null,null,null,null,null,null,null,null,null,null,null,null,null,null,null,null,null,null,null,null,null,null,null,null,null,null,null,null,null,null,null,null,null,null,null,null,null,null,null,null,null,null,null,null,null,null,null,null,null,null,null,null,null,null,null,null,null,null,null,null,null,null,null,null,null,null,null,null,null,null,null,null,null,null,null,null,null,null,null,null,null,null,null,null,null,null,null,null,null,null,null,null,null,null,null,null,null,null,null,null,null,null,null,null,null,null,null,null,null,null,null,null,null,null,null,null,null,null,null,null,null,null,null,null,null,null,null,null,null,null,null,null,null,null,null,null,null,null,null,null,null,null,null,null,null,null,null,null,null,null,null,null,null,null,null,null,null,null,null,null,null,null,null,null,null,null,null,null,null,null,null,null,null,null,null,null,null,null,null,null,null,null,null,null,null,null,null,null,null,null,null,null,null,null,null,null,null,null,null,null,null,null,null,null,null,null,null,null,null,null,null,null,null,null,null,null,null,null,null,null,null,null,null,null,null,null,null,null,null,null,null,null,null,null,null,null,null,null,null,null,null,null,null,null,null,null,null,null,null,null,null,null,null,null,null,null,null,null,null,null,null,null,null,null,null,null,null,null,null,null,null,null,null,null,null,null,null,null,null,null,null,null,null,null,null,null,null,null,null,null,null,null,null,null,null,null,null,null,null,null,null,null,null,null,null,null,null,null,null,null,null,null,null,null,null,null,null,null,null,null,null,null,null,null,null,null,null,null,null,null,null,null,null,null,null,null,null,null,null,null,null,null,null,null,null,null,null,null,null,null,null,null,null,null,null,null,null,null,null,null,null,null,null,null,null,null,null,null,null,null,null,null,null,null,null,null,null,null,null,null,null,null,null,null,null,null,null,null,null,null,null,null,null,null,null,null,null,null,null,null,null,null,null,null,null,null,null,null,null,null,null,null,null,null,null,null,null,null,null,null,null,null,null,null,null,null,null,null,null,null,null,null,null,null,null,null,null,null,null,null,null,null,null,null,null,null,null,null,null,null,null,null,null,null,null,null,null,null,null,null,null,null,null,null,null,null,null,null,null,null,null,null,null,null,null,null,null,null,null,null,null,null,null,null,null,null,null,null,null,null,null,null,null,null,null,null,null,null,null,null,null,null,null,null,null,null,null,null,null,null,null,null,null,null,null,null,null,null,null,null,null,null,null,null,null,null,null,null,null,null,null,null,null,null,null,null,null,null,null,null,null,null,null,null,null,null,null,null,null,null,null,null,null,null,null,null,null,null,null,null,null,null,null,null,null,null,null,null,null,null,null,null,null,null,null,null,null,null,null,null,null,null,null,null,null,null,null,null,null,null,null,null,null,null,null,null,null,null,null,null,null,null,null,null,null,null,null,null,null,null,null,null,null,null,null,null,null,null,null,null,null,null,null,null,null,null,null,null,null,null,null,null,null,null,null,null,null,null,null,null,null,null,null,null,null,null,null,null,null,null,null,null,null,null,null,null,null,null,null,null,null,null,null,null,null,null,null,null,null,null,null,null,null,null,null,null,null,null,null,null,null,null,null,null,null,null,null,null,null,null,null,null,null,null,null,null,null,null,null,null,null,null,null,null,null,null,null,null,null,null,null,null,null,null,null,null,null,null,null,null,null,null,null,null,null,null,null,null,null,null,null,null,null,null,null,null,null,null,null,null,null,null,null,null,null,null,null,null,null,null,null,null,null,null,null,null,null,null,null,null,null,null,null,null,null,null,null,null,null,null,null,null,null,null,null,null,null,null,null,null,null,null,null,null,null,null,null,null,null,null,null,null,null,null,null,null,null,null,null,null,null,null,null,null,null,null,null,null,null,null,null,null,null,null,null,null,null,null,null,null,null,null,null,null,null,null,null,null,null,null,null,null,null,null,null,null,null,null,null,null,null,null,null,null,null,null,null,null,null,null,null,null,null,null,null,null,null,null,null,null,null,null,null,null,null,null,null,null,null,null,null,null,null,null,null,null,null,null,null,null,null,null,null,null,null,null,null,null,null,null,null,null,null,null,null,null,null,null,null,null,null,null,null,null,null,null,null,null,null,null,null,null,null,null,null,null,null,null,null,null,null,null,null,null,null,null,null,null,null,null,null,null,null,null,null,null,null,null,null,null,null,null,null,null,null,null,null,null,null,null,null,null,null,null,null,null,null,null,null,null,null,null,null,null,null,null,null,null,null,null,null,null,null,null,null,null,null,null,null,null,null,null,null,null,null,null,null,null,null,null,null,null,null,null,null,null,null,null,null,null,null,null,null,null,null,null,null,null,null,null,null,null,null,null,null,null,null,null,null,null,null,null,null,null,null,null,null,null,null,null,null,null,null,null,null,null,null,null,null,null,null,null,null,null,null,null,null,null,null,null,null,null,null,null,null,null,null,null,null,null,null,null,null,null,null,null,null,null,null,null,null,null,null,null,null,null,null,null,null,null,null,null,null,null,null,null,null,null,null,null,null,null,null,null,null,null,null,null,null,null,null,null,null,null,null,null,null,null,null,null,null,null,null,null,null,null,null,null,null,null,null,null,null,null,null,null,null,null,null,null,null,null,null,null,null,null,null,null,null,null,null,null,null,null,null,null,null,null,null,null,null,null,null,null,null,null,null,null,null,null,null,null,null,null,null,null,null,null,null,null,null,null,null,null,null,null,null,null,null,null,null,null,null,null,null,null,null,null,null,null,null,null,null,null,null,null,null,null,null,null,null,null,null,null,null,null,null,null,null,null,null,null,null,null,null,null,null,null,null,null,null,null,null,null,null,null,null,null,null,null,null,null,null,null,null,null,null,null,null,null,null,null,null,null,null,null,null,null,null,null,null,null,null,null,null,null,null,null,null,null,null,null,null,null,null,null,null,null,null,null,null,null,null,null,null,null,null,null,null,null,null,null,null,null,null,null,null,null,null,null,null,null,null,null,null,null,null,null,null,null,null,null,null,null,null,null,null,null,null,null,null,null,null,null,null,null,null,null,null,null,null,null,null,null,null,null,null,null,null,null,null,null,null,null,null,null,null,null,null,null,null,null,null,null,null,null,null,null,null,null,null,null,null,null,null,null,null,null,null,null,null,null,null,null,null,null,null,null,null,null,null,null,null,null,null,null,null,null,null,null,null,null,null,null,null,null,null,null,null,null,null,null,null,null,null,null,null,null,null,null,null,null,null,null,null,null,null,null,null,null,null,null,null,null,null,null,null,null,null,null,null,null,null,null,null,null,null,null,null,null,null,null,null,null,null,null,null,null,null,null,null,null,null,null,null,null,null,null,null,null,null,null,null,null,null,null,null,null,null,null,null,null,null,null,null,null,null,null,null,null,null,null,null,null,null,null,null,null,null,null,null,null,null,null,null,null,null,null,null,null,null,null,null,null,null,null,null,null,null,null,null,null,null,null,null,null,null,null,null,null,null,null,null,null,null,null,null,null,null,null,null,null,null,null,null,null,null,null,null,null,null,null,null,null,null,null,null,null,null,null,null,null,null,null,null,null,null,null,null,null,null,null,null,null,null,null,null,null,null,null,null,null,null,null,null,null,null,null,null,null,null,null,null,null,null,null,null,null,null,null,null,null,null,null,null,null,null,null,null,null,null,null,null,null,null,null,null,null,null,null,null,null,null,null,null,null,null,null,null,null,null,null,null,null,null,null,null,null,null,null,null,null,null,null,null,null,null,null,null,null,null,null,null,null,null,null,null,null,null,null,null,null,null,null,null,null,null,null,null,null,null,null,null,null,null,null,null,null,null,null,null,null,null,null,null,null,null,null,null,null,null,null,null,null,null,null,null,null,null,null,null,null,null,null,null,null,null,null,null,null,null,null,null,null,null,null,null,null,null,null,null,null,null,null,null,null,null,null,null,null,null,null,null,null,null,null,null,null,null,null,null,null,null,null,null,null,null,null,null,null,null,null,null,null,null,null,null,null,null,null,null,null,null,null,null,null,null,null,null,null,null,null,null,null,null,null,null,null,null,null,null,null,null,null,null,null,null,null,null,null,null,null,null,null,null,null,null,null,null,null,null,null,null,null,null,null,null,null,null,null,null,null,null,null,null,null,null,null,null,null,null,null,null,null,null,null,null,null,null,null,null,null,null,null,null,null,null,null,null,null,null,null,null,null,null,null,null,null,null,null,null,null,null,null,null,null,null,null,null,null,null,null,null,null,null,null,null,null,null,null,null,null,null,null,null,null,null,null,null,null,null,null,null,null,null,null,null,null,null,null,null,null,null,null,null,null,null,null,null,null,null,null,null,null,null,null,null,null,null,null,null,null,null,null,null,null,null,null,null,null,null,null,null,null,null,null,null,null,null,null,null,null,null,null,null,null,null,null,null,null,null,null,null,null,null,null,null,null,null,null,null,null,null,null,null,null,null,null,null,null,null,null,null,null,null,null,null,null,null,null,null,null,null,null,null,null,null,null,null,null,null,null,null,null,null,null,null,null,null,null,null,null,null,null,null,null,null,null,null,null,null,null,null,null,null,null,null,null,null,null,null,null,null,null,null,null,null,null,null,null,null,null,null,null,null,null,null,null,null,null,null,null,null,null,null,null,null,null,null,null,null,null,null,null,null,null,null,null,null,null,null,null,null,null,null,null,null,null,null,null,null,null,null,null,null,null,null,null,null,null,null,null,null,null,null,null,null,null,null,null,null,null,null,null,null,null,null,null,null,null,null,null,null,null,null,null,null,null,null,null,null,null,null,null,null,null,null,null,null,null,null,null,null,null,null,null,null,null,null,null,null,null,null,null,null,null,null,null,null,null,null,null,null,null,null,null,null,null,null,null,null,null,null,null,null,null,null,null,null,null,null,null,null,null,null,null,null,null,null,null,null,null,null,null,null,null,null,null,null,null,null,null,null,null,null,null,null,null,null,null,null,null,null,null,null,null,null,null,null,null,null,null,null,null,null,null,null,null,null,null,null,null,null,null,null,null,null,null,null,null,null,null,null,null,null,null,null,null,null,null,null,null,null,null,null,null,null,null,null,null,null,null,null,null,null,null,null,null,null,null,null,null,null,null,null,null,null,null,null,null,null,null,null,null,null,null,null,null,null,null,null,null,null,null,null,null,null,null,null,null,null,null,null,null,null,null,null,null,null,null,null,null,null,null,null,null,null,null,null,null,null,null,null,null,null,null,null,null,null,null,null,null,null,null,null,null,null,null,null,null,null,null,null,null,null,null,null,null,null,null,null,null,null,null,null,null,null,null,null,null,null,null,null,null,null,null,null,null,null,null,null,null,null,null,null,null,null,null,null,null,null,null,null,null,null,null,null,null,null,null,null,null,null,null,null,null,null,null,null,null,null,null,null,null,null,null,null,null,null,null,null,null,null,null,null,null,null,null,null,null,null,null,null,null,null,null,null,null,null,null,null,null,null,null,null,null,null,null,null,null,null,null,null,null,null,null,null,null,null,null,null,null,null,null,null,null,null,null,null,null,null,null,null,null,null,null,null,null,null,null,null,null,null,null,null,null,null,null,null,null,null,null,null,null,null,null,null,null,null,null,null,null,null,null,null,null,null,null,null,null,null,null,null,null,null,null,null,null,null,null,null,null,null,null,null,null,null,null,null,null,null,null,null,null,null,null,null,null,null,null,null,null,null,null,null,null,null,null,null,null,null,null,null,null,null,null,null,null,null,null,null,null,null,null,null,null,null,null,null,null,null,null,null,null,null,null,null,null,null,null,null,null,null,null,null,null,null,null,null,null,null,null,null,null,null,null,null,null,null,null,null,null,null,null,null,null,null,null,null,null,null,null,null,null,null,null,null,null,null,null,null,null,null,null,null,null,null,null,null,null,null,null,null,null,null,null,null,null,null,null,null,null,null,null,null,null,null,null,null,null,null,null,null,null,null,null,null,null,null,null,null,null,null,null,null,null,null,null,null,null,null,null,null,null,null,null,null,null,null,null,null,null,null,null,null,null,null,null,null,null,null,null,null,null,null,null,null,null,null,null,null,null,null,null,null,null,null,null,null,null,null,null,null,null,null,null,null,null,null,null,null,null,null,null,null,null,null,null,null,null,null,null,null,null,null,null,null,null,null,null,null,null,null,null,null,null,null,null,null,null,null,null,null,null,null,null,null,null,null,null,null,null,null,null,null,null,null,null,null,null,null,null,null,null,null,null,null,null,null,null,null,null,null,null,null,null,null,null,null,null,null,null,null,null,null,null,null,null,null,null,null,null,null,null,null,null,null,null,null,null,null,null,null,null,null,null,null,null,null,null,null,null,null,null,null,null,null,null,null,null,null,null,null,null,null,null,null,null,null,null,null,null,null,null,null,null,null,null,null,null,null,null,null,null,null,null,null,null,null,null,null,null,null,null,null,null,null,null,null,null,null,null,null,null,null,null,null,null,null,null,null,null,null,null,null,null,null,null,null,null,null,null,null,null,null,null,null,null,null,null,null,null,null,null,null,null,null,null,null,null,null,null,null,null,null,null,null,null,null,null,null,null,null,null,null,null,null,null,null,null,null,null,null,null,null,null,null,null,null,null,null,null,null,null,null,null,null,null,null,null,null,null,null,null,null,null,null,null,null,null,null,null,null,null,null,null,null,null,null,null,null,null,null,null,null,null,null,null,null,null,null,null,null,null,null,null,null,null,null,null,null,null,null,null,null,null,null,null,null,null,null,null,null,null,null,null,null,null,null,null,null,null,null,null,null,null,null,null,null,null,null,null,null,null,null,null,null,null,null,null,null,null,null,null,null,null,null,null,null,null,null,null,null,null,null,null,null,null,null,null,null,null,null,null,null,null,null,null,null,null,null,null,null,null,null,null,null,null,null,null,null,null,null,null,null,null,null,null,null,null,null,null,null,null,null,null,null,null,null,null,null,null,null,null,null,null,null,null,null,null,null,null,null,null,null,null,null,null,null,null,null,null,null,null,null,null,null,null,null,null,null,null,null,null,null,null,null,null,null,null,null,null,null,null,null,null,null,null,null,null,null,null,null,null,null,null,null,null,null,null,null,null,null,null,null,null,null,null,null,null,null,null,null,null,null,null,null,null,null,null,null,null,null,null,null,null,null,null,null,null,null,null,null,null,null,null,null,null,null,null,null,null,null,null,null,null,null,null,null,null,null,null,null,null,null,null,null,null,null,null,null,null,null,null,null,null,null,null,null,null,null,null,null,null,null,null,null,null,null,null,null,null,null,null,null,null,null,null,null,null,null,null,null,null,null,null,null,null,null,null,null,null,null,null,null,null,null,null,null,null,null,null,null,null,null,null,null,null,null,null,null,null,null,null,null,null,null,null,null,null,null,null,null,null,null,null,null,null,null,null,null,null,null,null,null,null,null,null,null,null,null,null,null,null,null,null,null,null,null,null,null,null,null,null,null,null,null,null,null,null,null,null,null,null,null,null,null,null,null,null,null,null,null,null,null,null,null,null,null,null,null,null,null,null,null,null,null,null,null,null,null,null,null,null,null,null,null,null,null,null,null,null,null,null,null,null,null,null,null,null,null,null,null,null,null,null,null,null,null,null,null,null,null,null,null,null,null,null,null,null,null,null,null,null,null,null,null,null,null,null,null,null,null,null,null,null,null,null,null,null,null,null,null,null,null,null,null,null,null,null,null,null,null,null,null,null,null,null,null,null,null,null,null,null,null,null,null,null,null,null,null,null,null,null,null,null,null,null,null,null,null,null,null,null,null,null,null,null,null,null,null,null,null,null,null,null,null,null,null,null,null,null,null,null,null,null,null,null,null,null,null,null,null,null,null,null,null,null,null,null,null,null,null,null,null,null,null,null,null,null,null,null,null,null,null,null,null,null,null,null,null,null,null,null,null,null,null,null,null,null,null,null,null,null,null,null,null,null,null,null,null,null,null,null,null,null,null,null,null,null,null,null,null,null,null,null,null,null,null,null,null,null,null,null,null,null,null,null,null,null,null,null,null,null,null,null,null,null,null,null,null,null,null,null,null,null,null,null,null,null,null,null,null,null,null,null,null,null,null,null,null,null,null,null,null,null,null,null,null,null,null,null,null,null,null,null,null,null,null,null,null,null,null,null,null,null,null,null,null,null,null,null,null,null,null,null,null,null,null,null,null,null,null,null,null,null,null,null,null,null,null,null,null,null,null,null,null,null,null,null,null,null,null,null,null,null,null,null,null,null,null,null,null,null,null,null,null,null,null,null,null,null,null,null,null,null,null,null,null,null,null,null,null,null,null,null,null,null,null,null,null,null,null,null,null,null,null,null,null,null,null,null,null,null,null,null,null,null,null,null,null,null,null,null,null,null,null,null,null,null,null,null,null,null,null,null,null,null,null,null,null,null,null,null,null,null,null,null,null,null,null,null,null,null,null,null,null,null,null,null,null,null,null,null,null,null,null,null,null,null,null,null,null,null,null,null,null,null,null,null,null,null,null,null,null,null,null,null,null,null,null,null,null,null,null,null,null,null,null,null,null,null,null,null,null,null,null,null,null,null,null,null,null,null,null,null,null,null,null,null,null,null,null,null,null,null,null,null,null,null,null,null,null,null,null,null,null,null,null,null,null,null,null,null,null,null,null,null,null,null,null,null,null,null,null,null,null,null,null,null,null,null,null,null,null,null,null,null,null,null,null,null,null,null,null,null,null,null,null,null,null,null,null,null,null,null,null,null,null,null,null,null,null,null,null,null,null,null,null,null,null,null,null,null,null,null,null,null,null,null,null,null,null,null,null,null,null,null,null,null,null,null,null,null,null,null,null,null,null,null,null,null,null,null,null,null,null,null,null,null,null,null,null,null,null,null,null,null,null,null,null,null,null,null,null,null,null,null,null,null,null,null,null,null,null,null,null,null,null,null,null,null,null,null,null,null,null,null,null,null,null,null,null,null,null,null,null,null,null,null,null,null,null,null,null,null,null,null,null,null,null,null,null,null,null,null,null,null,null,null,null,null,null,null,null,null,null,null,null,null,null,null,null,null,null,null,null,null,null,null,null,null,null,null,null,null,null,null,null,null,null,null,null,null,null,null,null,null,null,null,null,null,null,null,null,null,null,null,null,null,null,null,null,null,null,null,null,null,null,null,null,null,null,null,null,null,null,null,null,null,null,null,null,null,null,null,null,null,null,null,null,null,null,null,null,null,null,null,null,null,null,null,null,null,null,null,null,null,null,null,null,null,null,null,null,null,null,null,null,null,null,null,null,null,null,null,null,null,null,null,null,null,null,null,null,null,null,null,null,null,null,null,null,null,null,null,null,null,null,null,null,null,null,null,null,null,null,null,null,null,null,null,null,null,null,null,null,null,null,null,null,null,null,null,null,null,null,null,null,null,null,null,null,null,null,null,null,null,null,null,null,null,null,null,null,null,null,null,null,null,null,null,null,null,null,null,null,null,null,null,null,null,null,null,null,null,null,null,null,null,null,null,null,null,null,null,null,null,null,null,null,null,null,null,null,null,null,null,null,null,null,null,null,null,null,null,null,null,null,null,null,null,null,null,null,null,null,null,null,null,null,null,null,null,null,null,null,null,null,null,null,null,null,null,null,null,null,null,null,null,null,null,null,null,null,null,null,null,null,null,null,null,null,null,null,null,null,null,null,null,null,null,null,null,null,null,null,null,null,null,null,null,null,null,null,null,null,null,null,null,null,null,null,null,null,null,null,null,null,null,null,null,null,null,null,null,null,null,null,null,null,null,null,null,null,null,null,null,null,null,null,null,null,null,null,null,null,null,null,null,null,null,null,null,null,null,null,null,null,null,null,null,null,null,null,null,null,null,null,null,null,null,null,null,null,null,null,null,null,null,null,null,null,null,null,null,null,null,null,null,null,null,null,null,null,null,null,null,null,null,null,null,null,null,null,null,null,null,null,null,null,null,null,null,null,null,null,null,null,null,null,null,null,null,null,null,null,null,null,null,null,null,null,null,null,null,null,null,null,null,null,null,null,null,null,null,null,null,null,null,null,null,null,null,null,null,null,null,null,null,null,null,null,null,null,null,null,null,null,null,null,null,null,null,null,null,null,null,null,null,null,null,null,null,null,null,null,null,null,null,null,null,null,null,null,null,null,null,null,null,null,null,null,null,null,null,null,null,null,null,null,null,null,null,null,null,null,null,null,null,null,null,null,null,null,null,null,null,null,null,null,null,null,null,null,null,null,null,null,null,null,null,null,null,null,null,null,null,null,null,null,null,null,null,null,null,null,null,null,null,null,null,null,null,null,null,null,null,null,null,null,null,null,null,null,null,null,null,null,null,null,null,null,null,null,null,null,null,null,null,null,null,null,null,null,null,null,null,null,null,null,null,null,null,null,null,null,null,null,null,null,null,null,null,null,null,null,null,null,null,null,null,null,null,null,null,null,null,null,null,null,null,null,null,null,null,null,null,null,null,null,null,null,null,null,null,null,null,null,null,null,null,null,null,null,null,null,null,null,null,null,null,null,null,null,null,null,null,null,null,null,null,null,null,null,null,null,null,null,null,null,null,null,null,null,null,null,null,null,null,null,null,null,null,null,null,null,null,null,null,null,null,null,null,null,null,null,null,null,null,null,null,null,null,null,null,null,null,null,null,null,null,null,null,null,null,null,null,null,null,null,null,null,null,null,null,null,null,null,null,null,null,null,null,null,null,null,null,null,null,null,null,null,null,null,null,null,null,null,null,null,null,null,null,null,null,null,null,null,null,null,null,null,null,null,null,null,null,null,null,null,null,null,null,null,null,null,null,null,null,null,null,null,null,null,null,null,null,null,null,null,null,null,null,null,null,null,null,null,null,null,null,null,null,null,null,null,null,null,null,null,null,null,null,null,null,null,null,null,null,null,null,null,null,null,null,null,null,null,null,null,null,null,null,null,null,null,null,null,null,null,null,null,null,null,null,null,null,null,null,null,null,null,null,null,null,null,null,null,null,null,null,null,null,null,null,null,null,null,null,null,null,null,null,null,null,null,null,null,null,null,null,null,null,null,null,null,null,null,null,null,null,null,null,null,null,null,null,null,null,null,null,null,null,null,null,null,null,null,null,null,null,null,null,null,null,null,null,null,null,null,null,null,null,null,null,null,null,null,null,null,null,null,null,null,null,null,null,null,null,null,null,null,null,null,null,null,null,null,null,null,null,null,null,null,null,null,null,null,null,null,null,null,null,null,null,null,null,null,null,null,null,null,null,null,null,null,null,null,null,null,null,null,null,null,null,null,null,null,null,null,null,null,null,null,null,null,null,null,null,null,null,null,null,null,null,null,null,null,null,null,null,null,null,null,null,null,null,null,null,null,null,null,null,null,null,null,null,null,null,null,null,null,null,null,null,null,null,null,null,null,null,null,null,null,null,null,null,null,null,null,null,null,null,null,null,null,null,null,null,null,null,null,null,null,null,null,null,null,null,null,null,null,null,null,null,null,null,null,null,null,null,null,null,null,null,null,null,null,null,null,null,null,null,null,null,null,null,null,null,null,null,null,null,null,null,null,null,null,null,null,null,null,null,null,null,null,null,null,null,null,null,null,null,null,null,null,null,null,null,null,null,null,null,null,null,null,null,null,null,null,null,null,null,null,null,null,null,null,null,null,null,null,null,null,null,null,null,null,null,null,null,null,null,null,null,null,null,null,null,null,null,null,null,null,null,null,null,null,null,null,null,null,null,null,null,null,null,null,null,null,null,null,null,null,null,null,null,null,null,null,null,null,null,null,null,null,null,null,null,null,null,null,null,null,null,null,null,null,null,null,null,null,null,null,null,null,null,null,null,null,null,null,null,null,null,null,null,null,null,null,null,null,null,null,null,null,null,null,null,null,null,null,null,null,null,null,null,null,null,null,null,null,null,null,null,null,null,null,null,null,null,null,null,null,null,null,null,null,null,null,null,null,null,null,null,null,null,null,null,null,null,null,null,null,null,null,null,null,null,null,null,null,null,null,null,null,null,null,null,null,null,null,null,null,null,null,null,null,null,null,null,null,null,null,null,null,null,null,null,null,null,null,null,null,null,null,null,null,null,null,null,null,null,null,null,null,null,null,null,null,null,null,null,null,null,null,null,null,null,null,null,null,null,null,null,null,null,null,null,null,null,null,null,null,null,null,null,null,null,null,null,null,null,null,null,null,null,null,null,null,null,null,null,null,null,null,null,null,null,null,null,null,null,null,null,null,null,null,null,null,null,null,null,null,null,null,null,null,null,null,null,null,null,null,null,null,null,null,null,null,null,null,null,null,null,null,null,null,null,null,null,null,null,null,null,null,null,null,null,null,null,null,null,null,null,null,null,null,null,null,null,null,null,null,null,null,null,null,null,null,null,null,null,null,null,null,null,null,null,null,null,null,null,null,null,null,null,null,null,null,null,null,null,null,null,null,null,null,null,null,null,null,null,null,null,null,null,null,null,null,null,null,null,null,null,null,null,null,null,null,null,null,null,null,null,null,null,null,null,null,null,null,null,null,null,null,null,null,null,null,null,null,null,null,null,null,null,null,null,null,null,null,null,null,null,null,null,null,null,null,null,null,null,null,null,null,null,null,null,null,null,null,null,null,null,null,null,null,null,null,null,null,null,null,null,null,null,null,null,null,null,null,null,null,null,null,null,null,null,null,null,null,null,null,null,null,null,null,null,null,null,null,null,null,null,null,null,null,null,null,null,null,null,null,null,null,null,null,null,null,null,null,null,null,null,null,null,null,null,null,null,null,null,null,null,null,null,null,null,null,null,null,null,null,null,null,null,null,null,null,null,null,null,null,null,null,null,null,null,null,null,null,null,null,null,null,null,null,null,null,null,null,null,null,null,null,null,null,null,null,null,null,null,null,null,null,null,null,null,null,null,null,null,null,null,null,null,null,null,null,null,null,null,null,null,null,null,null,null,null,null,null,null,null,null,null,null,null,null,null,null,null,null,null,null,null,null,null,null,null,null,null,null,null,null,null,null,null,null,null,null,null,null,null,null,null,null,null,null,null,null,null,null,null,null,null,null,null,null,null,null,null,null,null,null,null,null,null,null,null,null,null,null,null,null,null,null,null,null,null,null,null,null,null,null,null,null,null,null,null,null,null,null,null,null,null,null,null,null,null,null,null,null,null,null,null,null,null,null,null,null,null,null,null,null,null,null,null,null,null,null,null,null,null,null,null,null,null,null,null,null,null,null,null,null,null,null,null,null,null,null,null,null,null,null,null,null,null,null,null,null,null,null,null,null,null,null,null,null,null,null,null,null,null,null,null,null,null,null,null,null,null,null,null,null,null,null,null,null,null,null,null,null,null,null,null,null,null,null,null,null,null,null,null,null,null,null,null,null,null,null,null,null,null,null,null,null,null,null,null,null,null,null,null,null,null,null,null,null,null,null,null,null,null,null,null,null,null,null,null,null,null,null,null,null,null,null,null,null,null,null,null,null,null,null,null,null,null,null,null,null,null,null,null,null,null,null,null,null,null,null,null,null,null,null,null,null,null,null,null,null,null,null,null,null,null,null,null,null,null,null,null,null,null,null,null,null,null,null,null,null,null,null,null,null,null,null,null,null,null,null,null,null,null,null,null,null,null,null,null,null,null,null,null,null,null,null,null,null,null,null,null,null,null,null,null,null,null,null,null,null,null,null,null,null,null,null,null,null,null,null,null,null,null,null,null,null,null,null,null,null,null,null,null,null,null,null,null,null,null,null,null,null,null,null,null,null,null,null,null,null,null,null,null,null,null,null,null,null,null,null,null,null,null,null,null,null,null,null,null,null,null,null,null,null,null,null,null,null,null,null,null,null,null,null,null,null,null,null,null,null,null,null,null,null,null,null,null,null,null,null,null,null,null,null,null,null,null,null,null,null,null,null,null,null,null,null,null,null,null,null,null,null,null,null,null,null,null,null,null,null,null,null,null,null,null,null,null,null,null,null,null,null,null,null,null,null,null,null,null,null,null,null,null,null,null,null,null,null,null,null,null,null,null,null,null,null,null,null,null,null,null,null,null,null,null,null,null,null,null,null,null,null,null,null,null,null,null,null,null,null,null,null,null,null,null,null,null,null,null,null,null,null,null,null,null,null,null,null,null,null,null,null,null,null,null,null,null,null,null,null,null,null,null,null,null,null,null,null,null,null,null,null,null,null,null,null,null,null,null,null,null,null,null,null,null,null,null,null,null,null,null,null,null,null,null,null,null,null,null,null,null,null,null,null,null,null,null,null,null,null,null,null,null,null,null,null,null,null,null,null,null,null,null,null,null,null,null,null,null,null,null,null,null,null,null,null,null,null,null,null,null,null,null,null,null,null,null,null,null,null,null,null,null,null,null,null,null,null,null,null,null,null,null,null,null,null,null,null,null,null,null,null,null,null,null,null,null,null,null,null,null,null,null,null,null,null,null,null,null,null,null,null,null,null,null,null,null,null,null,null,null,null,null,null,null,null,null,null,null,null,null,null,null,null,null,null,null,null,null,null,null,null,null,null,null,null,null,null,null,null,null,null,null,null,null,null,null,null,null,null,null,null,null,null,null,null,null,null,null,null,null,null,null,null,null,null,null,null,null,null,null,null,null,null,null,null,null,null,null,null,null,null,null,null,null,null,null,null,null,null,null,null,null,null,null,null,null,null,null,null,null,null,null,null,null,null,null,null,null,null,null,null,null,null,null,null,null,null,null,null,null,null,null,null,null,null,null,null,null,null,null,null,null,null,null,null,null,null,null,null,null,null,null,null,null,null,null,null,null,null,null,null,null,null,null,null,null,null,null,null,null,null,null,null,null,null,null,null,null,null,null,null,null,null,null,null,null,null,null,null,null,null,null,null,null,null,null,null,null,null,null,null,null,null,null,null,null,null,null,null,null,null,null,null,null,null,null,null,null,null,null,null,null,null,null,null,null,null,null,null,null,null,null,null,null,null,null,null,null,null,null,null,null,null,null,null,null,null,null,null,null,null,null,null,null,null,null,null,null,null,null,null,null,null,null,null,null,null,null,null,null,null,null,null,null,null,null,null,null,null,null,null,null,null,null,null,null,null,null,null,null,null,null,null,null,null,null,null,null,null,null,null,null,null,null,null,null,null,null,null,null,null,null,null,null,null,null,null,null,null,null,null,null,null,null,null,null,null,null,null,null,null,null,null,null,null,null,null,null,null,null,null,null,null,null,null,null,null,null,null,null,null,null,null,null,null,null,null,null,null,null,null,null,null,null,null,null,null,null,null,null,null,null,null,null,null,null,null,null,null,null,null,null,null,null,null,null,null,null,null,null,null,null,null,null,null,null,null,null,null,null,null,null,null,null,null,null,null,null,null,null,null,null,null,null,null,null,null,null,null,null,null,null,null,null,null,null,null,null,null,null,null,null,null,null,null,null,null,null,null,null,null,null,null,null,null,null,null,null,null,null,null,null,null,null,null,null,null,null,null,null,null,null,null,null,null,null,null,null,null,null,null,null,null,null,null,null,null,null,null,null,null,null,null,null,null,null,null,null,null,null,null,null,null,null,null,null,null,null,null,null,null,null,null,null,null,null,null,null,null,null,null,null,null,null,null,null,null,null,null,null,null,null,null,null,null,null,null,null,null,null,null,null,null,null,null,null,null,null,null,null,null,null,null,null,null,null,null,null,null,null,null,null,null,null,null,null,null,null,null,null,null,null,null,null,null,null,null,null,null,null,null,null,null,null,null,null,null,null,null,null,null,null,null,null,null,null,null,null,null,null,null,null,null,null,null,null,null,null,null,null,null,null,null,null,null,null,null,null,null,null,null,null,null,null,null,null,null,null,null,null,null,null,null,null,null,null,null,null,null,null,null,null,null,null,null,null,null,null,null,null,null,null,null,null,null,null,null,null,null,null,null,null,null,null,null,null,null,null,null,null,null,null,null,null,null,null,null,null,null,null,null,null,null,null,null,null,null,null,null,null,null,null,null,null,null,null,null,null,null,null,null,null,null,null,null,null,null,null,null,null,null,null,null,null,null,null,null,null,null,null,null,null,null,null,null,null,null,null,null,null,null,null,null,null,null,null,null,null,null,null,null,null,null,null,null,null,null,null,null,null,null,null,null,null,null,null,null,null,null,null,null,null,null,null,null,null,null,null,null,null,null,null,null,null,null,null,null,null,null,null,null,null,null,null,null,null,null,null,null,null,null,null,null,null,null,null,null,null,null,null,null,null,null,null,null,null,null,null,null,null,null,null,null,null,null,null,null,null,null,null,null,null,null,null,null,null,null,null,null,null,null,null,null,null,null,null,null,null,null,null,null,null,null,null,null,null,null,null,null,null,null,null,null,null,null,null,null,null,null,null,null,null,null,null,null,null,null,null,null,null,null,null,null,null,null,null,null,null,null,null,null,null,null,null,null,null,null,null,null,null,null,null,null,null,null,null,null,null,null,null,null,null,null,null,null,null,null,null,null,null,null,null,null,null,null,null,null,null,null,null,null,null,null,null,null,null,null,null,null,null,null,null,null,null,null,null,null,null,null,null,null,null,null,null,null,null,null,null,null,null,null,null,null,null,null,null,null,null,null,null,null,null,null,null,null,null,null,null,null,null,null,null,null,null,null,null,null,null,null,null,null,null,null,null,null,null,null,null,null,null,null,null,null,null,null,null,null,null,null,null,null,null,null,null,null,null,null,null,null,null,null,null,null,null,null,null,null,null,null,null,null,null,null,null,null,null,null,null,null,null,null,null,null,null,null,null,null,null,null,null,null,null,null,null,null,null,null,null,null,null,null,null,null,null,null,null,null,null,null,null,null,null,null,null,null,null,null,null,null,null,null,null,null,null,null,null,null,null,null,null,null,null,null,null,null,null,null,null,null,null,null,null,null,null,null,null,null,null,null,null,null,null,null,null,null,null,null,null,null,null,null,null,null,null,null,null,null,null,null,null,null,null,null,null,null,null,null,null,null,null,null,null,null,null,null,null,null,null,null,null,null,null,null,null,null,null,null,null,null,null,null,null,null,null,null,null,null,null,null,null,null,null,null,null,null,null,null,null,null,null,null,null,null,null,null,null,null,null,null,null,null,null,null,null,null,null,null,null,null,null,null,null,null,null,null,null,null,null,null,null,null,null,null,null,null,null,null,null,null,null,null,null,null,null,null,null,null,null,null,null,null,null,null,null,null,null,null,null,null,null,null,null,null,null,null,null,null,null,null,null,null,null,null,null,null,null,null,null,null,null,null,null,null,null,null,null,null,null,null,null,null,null,null,null,null,null,null,null,null,null,null,null,null,null,null,null,null,null,null,null,null,null,null,null,null,null,null,null,null,null,null,null,null,null,null,null,null,null,null,null,null,null,null,null,null,null,null,null,null,null,null,null,null,null,null,null,null,null,null,null,null,null,null,null,null,null,null,null,null,null,null,null,null,null,null,null,null,null,null,null,null,null,null,null,null,null,null,null,null,null,null,null,null,null,null,null,null,null,null,null,null,null,null,null,null,null,null,null,null,null,null,null,null,null,null,null,null,null,null,null,null,null,null,null,null,null,null,null,null,null,null,null,null,null,null,null,null,null,null,null,null,null,null,null,null,null,null,null,null,null,null,null,null,null,null,null,null,null,null,null,null,null,null,null,null,null,null,null,null,null,null,null,null,null,null,null,null,null,null,null,null,null,null,null,null,null,null,null,null,null,null,null,null,null,null,null,null,null,null,null,null,null,null,null,null,null,null,null,null,null,null,null,null,null,null,null,null,null,null,null,null,null,null,null,null,null,null,null,null,null,null,null,null,null,null,null,null,null,null,null,null,null,null,null,null,null,null,null,null,null,null,null,null,null,null,null,null,null,null,null,null,null,null,null,null,null,null,null,null,null,null,null,null,null,null,null,null,null,null,null,null,null,null,null,null,null,null,null,null,null,null,null,null,null,null,null,null,null,null,null,null,null,null,null,null,null,null,null,null,null,null,null,null,null,null,null,null,null,null,null,null,null,null,null,null,null,null,null,null,null,null,null,null,null,null,null,null,null,null,null,null,null,null,null,null,null,null,null,null,null,null,null,null,null,null,null,null,null,null,null,null,null,null,null,null,null,null,null,null,null,null,null,null,null,null,null,null,null,null,null,null,null,null,null,null,null,null,null,null,null,null,null,null,null,null,null,null,null,null,null,null,null,null,null,null,null,null,null,null,null,null,null,null,null,null,null,null,null,null,null,null,null,null,null,null,null,null,null,null,null,null,null,null,null,null,null,null,null,null,null,null,null,null,null,null,null,null,null,null,null,null,null,null,null,null,null,null,null,null,null,null,null,null,null,null,null,null,null,null,null,null,null,null,null,null,null,null,null,null,null,null,null,null,null,null,null,null,null,null,null,null,null,null,null,null,null,null,null,null,null,null,null,null,null,null,null,null,null,null,null,null,null,null,null,null,null,null,null,null,null,null,null,null,null,null,null,null,null,null,null,null,null,null,null,null,null,null,null,null,null,null,null,null,null,null,null,null,null,null,null,null,null,null,null,null,null,null,null,null,null,null,null,null,null,null,null,null,null,null,null,null,null,null,null,null,null,null,null,null,null,null,null,null,null,null,null,null,null,null,null,null,null,null,null,null,null,null,null,null,null,null,null,null,null,null,null,null,null,null,null,null,null,null,null,null,null,null,null,null,null,null,null,null,null,null,null,null,null,null,null,null,null,null,null,null,null,null,null,null,null,null,null,null,null,null,null,null,null,null,null,null,null,null,null,null,null,null,null,null,null,null,null,null,null,null,null,null,null,null,null,null,null,null,null,null,null,null,null,null,null,null,null,null,null,null,null,null,null,null,null,null,null,null,null,null,null,null,null,null,null,null,null,null,null,null,null,null,null,null,null,null,null,null,null,null,null,null,null,null,null,null,null,null,null,null,null,null,null,null,null,null,null,null,null,null,null,null,null,null,null,null,null,null,null,null,null,null,null,null,null,null,null,null,null,null,null,null,null,null,null,null,null,null,null,null,null,null,null,null,null,null,null,null,null,null,null,null,null,null,null,null,null,null,null,null,null,null,null,null,null,null,null,null,null,null,null,null,null,null,null,null,null,null,null,null,null,null,null,null,null,null,null,null,null,null,null,null,null,null,null,null,null,null,null,null,null,null,null,null,null,null,null,null,null,null,null,null,null,null,null,null,null,null,null,null,null,null,null,null,null,null,null,null,null,null,null,null,null,null,null,null,null,null,null,null,null,null,null,null,null,null,null,null,null,null,null,null,null,null,null,null,null,null,null,null,null,null,null,null,null,null,null,null,null,null,null,null,null,null,null,null,null,null,null,null,null,null,null,null,null,null,null,null,null,null,null,null,null,null,null,null,null,null,null,null,null,null,null,null,null,null,null,null,null,null,null,null,null,null,null,null,null,null,null,null,null,null,null,null,null,null,null,null,null,null,null,null,null,null,null,null,null,null,null,null,null,null,null,null,null,null,null,null,null,null,null,null,null,null,null,null,null,null,null,null,null,null,null,null,null,null,null,null,null,null,null,null,null,null,null,null,null,null,null,null,null,null,null,null,null,null,null,null,null,null,null,null,null,null,null,null,null,null,null,null,null,null,null,null,null,null,null,null,null,null,null,null,null,null,null,null,null,null,null,null,null,null,null,null,null,null,null,null,null,null,null,null,null,null,null,null,null,null,null,null,null,null,null,null,null,null,null,null,null,null,null,null,null,null,null,null,null,null,null,null,null,null,null,null,null,null,null,null,null,null,null,null,null,null,null,null,null,null,null,null,null,null,null,null,null,null,null,null,null,null,null,null,null,null,null,null,null,null,null,null,null,null,null,null,null,null,null,null,null,null,null,null,null,null,null,null,null,null,null,null,null,null,null,null,null,null,null,null,null,null,null,null,null,null,null,null,null,null,null,null,null,null,null,null,null,null,null,null,null,null,null,null,null,null,null,null,null,null,null,null,null,null,null,null,null,null,null,null,null,null,null,null,null,null,null,null,null,null,null,null,null,null,null,null,null,null,null,null,null,null,null,null,null,null,null,null,null,null,null,null,null,null,null,null,null,null,null,null,null,null,null,null,null,null,null,null,null,null,null,null,null,null,null,null,null,null,null,null,null,null,null,null,null,null,null,null,null,null,null,null,null,null,null,null,null,null,null,null,null,null,null,null,null,null,null,null,null,null,null,null,null,null,null,null,null,null,null,null,null,null,null,null,null,null,null,null,null,null,null,null,null,null,null,null,null,null,null,null,null,null,null,null,null,null,null,null,null,null,null,null,null,null,null,null,null,null,null,null,null,null,null,null,null,null,null,null,null,null,null,null,null,null,null,null,null,null,null,null,null,null,null,null,null,null,null,null,null,null,null,null,null,null,null,null,null,null,null,null,null,null,null,null,null,null,null,null,null,null,null,null,null,null,null,null,null,null,null,null,null,null,null,null,null,null,null,null,null,null,null,null,null,null,null,null,null,null,null,null,null,null,null,null,null,null,null,null,null,null,null,null,null,null,null,null,null,null,null,null,null,null,null,null,null,null,null,null,null,null,null,null,null,null,null,null,null,null,null,null,null,null,null,null,null,null,null,null,null,null,null,null,null,null,null,null,null,null,null,null,null,null,null,null,null,null,null,null,null,null,null,null,null,null,null,null,null,null,null,null,null,null,null,null,null,null,null,null,null,null,null,null,null,null,null,null,null,null,null,null,null,null,null,null,null,null,null,null,null,null,null,null,null,null,null,null,null,null,null,null,null,null,null,null,null,null,null,null,null,null,null,null,null,null,null,null,null,null,null,null,null,null,null,null,null,null,null,null,null,null,null,null,null,null,null,null,null,null,null,null,null,null,null,null,null,null,null,null,null,null,null,null,null,null,null,null,null,null,null,null,null,null,null,null,null,null,null,null,null,null,null,null,null,null,null,null,null,null,null,null,null,null,null,null,null,null,null,null,null,null,null,null,null,null,null,null,null,null,null,null,null,null,null,null,null,null,null,null,null,null,null,null,null,null,null,null,null,null,null,null,null,null,null,null,null,null,null,null,null,null,null,null,null,null,null,null,null,null,null,null,null,null,null,null,null,null,null,null,null,null,null,null,null,null,null,null,null,null,null,null,null,null,null,null,null,null,null,null,null,null,null,null,null,null,null,null,null,null,null,null,null,null,null,null,null,null,null,null,null,null,null,null,null,null,null,null,null,null,null,null,null,null,null,null,null,null,null,null,null,null,null,null,null,null,null,null,null,null,null,null,null,null,null,null,null,null,null,null,null,null,null,null,null,null,null,null,null,null,null,null,null,null,null,null,null,null,null,null,null,null,null,null,null,null,null,null,null,null,null,null,null,null,null,null,null,null,null,null,null,null,null,null,null,null,null,null,null,null,null,null,null,null,null,null,null,null,null,null,null,null,null,null,null,null,null,null,null,null,null,null,null,null,null,null,null,null,null,null,null,null,null,null,null,null,null,null,null,null,null,null,null,null,null,null,null,null,null,null,null,null,null,null,null,null,null,null,null,null,null,null,null,null,null,null,null,null,null,null,null,null,null,null,null,null,null,null,null,null,null,null,null,null,null,null,null,null,null,null,null,null,null,null,null,null,null,null,null,null,null,null,null,null,null,null,null,null,null,null,null,null,null,null,null,null,null,null,null,null,null,null,null,null,null,null,null,null,null,null,null,null,null,null,null,null,null,null,null,null,null,null,null,null,null,null,null,null,null,null,null,null,null,null,null,null,null,null,null,null,null,null,null,null,null,null,null,null,null,null,null,null,null,null,null,null,null,null,null,null,null,null,null,null,null,null,null,null,null,null,null,null,null,null,null,null,null,null,null,null,null,null,null,null,null,null,null,null,null,null,null,null,null,null,null,null,null,null,null,null,null,null,null,null,null,null,null,null,null,null,null,null,null,null,null,null,null,null,null,null,null,null,null,null,null,null,null,null,null,null,null,null,null,null,null,null,null,null,null,null,null,null,null,null,null,null,null,null,null,null,null,null,null,null,null,null,null,null,null,null,null,null,null,null,null,null,null,null,null,null,null,null,null,null,null,null,null,null,null,null,null,null,null,null,null,null,null,null,null,null,null,null,null,null,null,null,null,null,null,null,null,null,null,null,null,null,null,null,null,null,null,null,null,null,null,null,null,null,null,null,null,null,null,null,null,null,null,null,null,null,null,null,null,null,null,null,null,null,null,null,null,null,null,null,null,null,null,null,null,null,null,null,null,null,null,null,null,null,null,null,null,null,null,null,null,null,null,null,null,null,null,null,null,null,null,null,null,null,null,null,null,null,null,null,null,null,null,null,null,null,null,null,null,null,null,null,null,null,null,null,null,null,null,null,null,null,null,null,null,null,null,null,null,null,null,null,null,null,null,null,null,null,null,null,null,null,null,null,null,null,null,null,null,null,null,null,null,null,null,null,null,null,null,null,null,null,null,null,null,null,null,null,null,null,null,null,null,null,null,null,null,null,null,null,null,null,null,null,null,null,null,null,null,null,null,null,null,null,null,null,null,null,null,null,null,null,null,null,null,null,null,null,null,null,null,null,null,null,null,null,null,null,null,null,null,null,null,null,null,null,null,null,null,null,null,null,null,null,null,null,null,null,null,null,null,null,null,null,null,null,null,null,null,null,null,null,null,null,null,null,null,null,null,null,null,null,null,null,null,null,null,null,null,null,null,null,null,null,null,null,null,null,null,null,null,null,null,null,null,null,null,null,null,null,null,null,null,null,null,null,null,null,null,null,null,null,null,null,null,null,null,null,null,null,null,null,null,null,null,null,null,null,null,null,null,null,null,null,null,null,null,null,null,null,null,null,null,null,null,null,null,null,null,null,null,null,null,null,null,null,null,null,null,null,null,null,null,null,null,null,null,null,null,null,null,null,null,null,null,null,null,null,null,null,null,null,null,null,null,null,null,null,null,null,null,null,null,null,null,null,null,null,null,null,null,null,null,null,null,null,null,null,null,null,null,null,null,null,null,null,null,null,null,null,null,null,null,null,null,null,null,null,null,null,null,null,null,null,null,null,null,null,null,null,null,null,null,null,null,null,null,null,null,null,null,null,null,null,null,null,null,null,null,null,null,null,null,null,null,null,null,null,null,null,null,null,null,null,null,null,null,null,null,null,null,null,null,null,null,null,null,null,null,null,null,null,null,null,null,null,null,null,null,null,null,null,null,null,null,null,null,null,null,null,null,null,null,null,null,null,null,null,null,null,null,null,null,null,null,null,null,null,null,null,null,null,null,null,null,null,null,null,null,null,null,null,null,null,null,null,null,null,null,null,null,null,null,null,null,null,null,null,null,null,null,null,null,null,null,null,null,null,null,null,null,null,null,null,null,null,null,null,null,null,null,null,null,null,null,null,null,null,null,null,null,null,null,null,null,null,null,null,null,null,null,null,null,null,null,null,null,null,null,null,null,null,null,null,null,null,null,null,null,null,null,null,null,null,null,null,null,null,null,null,null,null,null,null,null,null,null,null,null,null,null,null,null,null,null,null,null,null,null,null,null,null,null,null,null,null,null,null,null,null,null,null,null,null,null,null,null,null,null,null,null,null,null,null,null,null,null,null,null,null,null,null,null,null,null,null,null,null,null,null,null,null,null,null,null,null,null,null,null,null,null,null,null,null,null,null,null,null,null,null,null,null,null,null,null,null,null,null,null,null,null,null,null,null,null,null,null,null,null,null,null,null,null,null,null,null,null,null,null,null,null,null,null,null,null,null,null,null,null,null,null,null,null,null,null,null,null,null,null,null,null,null,null,null,null,null,null,null,null,null,null,null,null,null,null,null,null,null,null,null,null,null,null,null,null,null,null,null,null,null,null,null,null,null,null,null,null,null,null,null,null,null,null,null,null,null,null,null,null,null,null,null,null,null,null,null,null,null,null,null,null,null,null,null,null,null,null,null,null,null,null,null,null,null,null,null,null,null,null,null,null,null,null,null,null,null,null,null,null,null,null,null,null,null,null,null,null,null,null,null,null,null,null,null,null,null,null,null,null,null,null,null,null,null,null,null,null,null,null,null,null,null,null,null,null,null,null,null,null,null,null,null,null,null,null,null,null,null,null,null,null,null,null,null,null,null,null,null,null,null,null,null,null,null,null,null,null,null,null,null,null,null,null,null,null,null,null,null,null,null,null,null,null,null,null,null,null,null,null,null,null,null,null,null,null,null,null,null,null,null,null,null,null,null,null,null,null,null,null,null,null,null,null,null,null,null,null,null,null,null,null,null,null,null,null,null,null,null,null,null,null,null,null,null,null,null,null,null,null,null,null,null,null,null,null,null,null,null,null,null,null,null,null,null,null,null,null,null,null,null,null,null,null,null,null,null,null,null,null,null,null,null,null,null,null,null,null,null,null,null,null,null,null,null,null,null,null,null,null,null,null,null,null,null,null,null,null,null,null,null,null,null,null,null,null,null,null,null,null,null,null,null,null,null,null,null,null,null,null,null,null,null,null,null,null,null,null,null,null,null,null,null,null,null,null,null,null,null,null,null,null,null,null,null,null,null,null,null,null,null,null,null,null,null,null,null,null,null,null,null,null,null,null,null,null,null,null,null,null,null,null,null,null,null,null,null,null,null,null,null,null,null,null,null,null,null,null,null,null,null,null,null,null,null,null,null,null,null,null,null,null,null,null,null,null,null,null,null,null,null,null,null,null,null,null,null,null,null,null,null,null,null,null,null,null,null,null,null,null,null,null,null,null,null,null,null,null,null,null,null,null,null,null,null,null,null,null,null,null,null,null,null,null,null,null,null,null,null,null,null,null,null,null,null,null,null,null,null,null,null,null,null,null,null,null,null,null,null,null,null,null,null,null,null,null,null,null,null,null,null,null,null,null,null,null,null,null,null,null,null,null,null,null,null,null,null,null,null,null,null,null,null,null,null,null,null,null,null,null,null,null,null,null,null,null,null,null,null,null,null,null,null,null,null,null,null,null,null,null,null,null,null,null,null,null,null,null,null,null,null,null,null,null,null,null,null,null,null,null,null,null,null,null,null,null,null,null,null,null,null,null,null,null,null,null,null,null,null,null,null,null,null,null,null,null,null,null,null,null,null,null,null,null,null,null,null,null,null,null,null,null,null,null,null,null,null,null,null,null,null,null,null,null,null,null,null,null,null,null,null,null,null,null,null,null,null,null,null,null,null,null,null,null,null,null,null,null,null,null,null,null,null,null,null,null,null,null,null,null,null,null,null,null,null,null,null,null,null,null,null,null,null,null,null,null,null,null,null,null,null,null,null,null,null,null,null,null,null,null,null,null,null,null,null,null,null,null,null,null,null,null,null,null,null,null,null,null,null,null,null,null,null,null,null,null,null,null,null,null,null,null,null,null,null,null,null,null,null,null,null,null,null,null,null,null,null,null,null,null,null,null,null,null,null,null,null,null,null,null,null,null,null,null,null,null,null,null,null,null,null,null,null,null,null,null,null,null,null,null,null,null,null,null,null,null,null,null,null,null,null,null,null,null,null,null,null,null,null,null,null,null,null,null,null,null,null,null,null,null,null,null,null,null,null,null,null,null,null,null,null,null,null,null,null,null,null,null,null,null,null,null,null,null,null,null,null,null,null,null,null,null,null,null,null,null,null,null,null,null,null,null,null,null,null,null,null,null,null,null,null,null,null,null,null,null,null,null,null,null,null,null,null,null,null,null,null,null,null,null,null,null,null,null,null,null,null,null,null,null,null,null,null,null,null,null,null,null,null,null,null,null,null,null,null,null,null,null,null,null,null,null,null,null,null,null,null,null,null,null,null,null,null,null,null,null,null,null,null,null,null,null,null,null,null,null,null,null,null,null,null,null,null,null,null,null,null,null,null,null,null,null,null,null,null,null,null,null,null,null,null,null,null,null,null,null,null,null,null,null,null,null,null,null,null,null,null,null,null,null,null,null,null,null,null,null,null,null,null,null,null,null,null,null,null,null,null,null,null,null,null,null,null,null,null,null,null,null,null,null,null,null,null,null,null,null,null,null,null,null,null,null,null,null,null,null,null,null,null,null,null,null,null,null,null,null,null,null,null,null,null,null,null,null,null,null,null,null,null,null,null,null,null,null,null,null,null,null,null,null,null,null,null,null,null,null,null,null,null,null,null,null,null,null,null,null,null,null,null,null,null,null,null,null,null,null,null,null,null,null,null,null,null,null,null,null,null,null,null,null,null,null,null,null,null,null,null,null,null,null,null,null,null,null,null,null,null,null,null,null,null,null,null,null,null,null,null,null,null,null,null,null,null,null,null,null,null,null,null,null,null,null,null,null,null,null,null,null,null,null,null,null,null,null,null,null,null,null,null,null,null,null,null,null,null,null,null,null,null,null,null,null,null,null,null,null,null,null,null,null,null,null,null,null,null,null,null,null,null,null,null,null,null,null,null,null,null,null,null,null,null,null,null,null,null,null,null,null,null,null,null,null,null,null,null,null,null,null,null,null,null,null,null,null,null,null,null,null,null,null,null,null,null,null,null,null,null,null,null,null,null,null,null,null,null,null,null,null,null,null,null,null,null,null,null,null,null,null,null,null,null,null,null,null,null,null,null,null,null,null,null,null,null,null,null,null,null,null,null,null,null,null,null,null,null,null,null,null,null,null,null,null,null,null,null,null,null,null,null,null,null,null,null,null,null,null,null,null,null,null,null,null,null,null,null,null,null,null,null,null,null,null,null,null,null,null,null,null,null,null,null,null,null,null,null,null,null,null,null,null,null,null,null,null,null,null,null,null,null,null,null,null,null,null,null,null,null,null,null,null,null,null,null,null,null,null,null,null,null,null,null,null,null,null,null,null,null,null,null,null,null,null,null,null,null,null,null,null,null,null,null,null,null,null,null,null,null,null,null,null,null,null,null,null,null,null,null,null,null,null,null,null,null,null,null,null,null,null,null,null,null,null,null,null,null,null,null,null,null,null,null,null,null,null,null,null,null,null,null,null,null,null,null,null,null,null,null,null,null,null,null,null,null,null,null,null,null,null,null,null,null,null,null,null,null,null,null,null,null,null,null,null,null,null,null,null,null,null,null,null,null,null,null,null,null,null,null,null,null,null,null,null,null,null,null,null,null,null,null,null,null,null,null,null,null,null,null,null,null,null,null,null,null,null,null,null,null,null,null,null,null,null,null,null,null,null,null,null,null,null,null,null,null,null,null,null,null,null,null,null,null,null,null,null,null,null,null,null,null,null,null,null,null,null,null,null,null,null,null,null,null,null,null,null,null,null,null,null,null,null,null,null,null,null,null,null,null,null,null,null,null,null,null,null,null,null,null,null,null,null,null,null,null,null,null,null,null,null,null,null,null,null,null,null,null,null,null,null,null,null,null,null,null,null,null,null,null,null,null,null,null,null,null,null,null,null,null,null,null,null,null,null,null,null,null,null,null,null,null,null,null,null,null,null,null,null,null,null,null,null,null,null,null,null,null,null,null,null,null,null,null,null,null,null,null,null,null,null,null,null,null,null,null,null,null,null,null,null,null,null,null,null,null,null,null,null,null,null,null,null,null,null,null,null,null,null,null,null,null,null,null,null,null,null,null,null,null,null,null,null,null,null,null,null,null,null,null,null,null,null,null,null,null,null,null,null,null,null,null,null,null,null,null,null,null,null,null,null,null,null,null,null,null,null,null,null,null,null,null,null,null,null,null,null,null,null,null,null,null,null,null,null,null,null,null,null,null,null,null,null,null,null,null,null,null,null,null,null,null,null,null,null,null,null,null,null,null,null,null,null,null,null,null,null,null,null,null,null,null,null,null,null,null,null,null,null,null,null,null,null,null,null,null,null,null,null,null,null,null,null,null,null,null,null,null,null,null,null,null,null,null,null,null,null,null,null,null,null,null,null,null,null,null,null,null,null,null,null,null,null,null,null,null,null,null,null,null,null,null,null,null,null,null,null,null,null,null,null,null,null,null,null,null,null,null,null,null,null,null,null,null,null,null,null,null,null,null,null,null,null,null,null,null,null,null,null,null,null,null,null,null,null,null,null,null,null,null,null,null,null,null,null,null,null,null,null,null,null,null,null,null,null,null,null,null,null,null,null,null,null,null,null,null,null,null,null,null,null,null,null,null,null,null,null,null,null,null,null,null,null,null,null,null,null,null,null,null,null,null,null,null,null,null,null,null,null,null,null,null,null,null,null,null,null,null,null,null,null,null,null,null,null,null,null,null,null,null,null,null,null,null,null,null,null,null,null,null,null,null,null,null,null,null,null,null,null,null,null,null,null,null,null,null,null,null,null,null,null,null,null,null,null,null,null,null,null,null,null,null,null,null,null,null,null,null,null,null,null,null,null,null,null,null,null,null,null,null,null,null,null,null,null,null,null,null,null,null,null,null,null,null,null,null,null,null,null,null,null,null,null,null,null,null,null,null,null,null,null,null,null,null,null,null,null,null,null,null,null,null,null,null,null,null,null,null,null,null,null,null,null,null,null,null,null,null,null,null,null,null,null,null,null,null,null,null,null,null,null,null,null,null,null,null,null,null,null,null,null,null,null,null,null,null,null,null,null,null,null,null,null,null,null,null,null,null,null,null,null,null,null,null,null,null,null,null,null,null,null,null,null,null,null,null,null,null,null,null,null,null,null,null,null,null,null,null,null,null,null,null,null,null,null,null,null,null,null,null,null,null,null,null,null,null,null,null,null,null,null,null,null,null,null,null,null,null,null,null,null,null,null,null,null,null,null,null,null,null,null,null,null,null,null,null,null,null,null,null,null,null,null,null,null,null,null,null,null,null,null,null,null,null,null,null,null,null,null,null,null,null,null,null,null,null,null,null,null,null,null,null,null,null,null,null,null,null,null,null,null,null,null,null,null,null,null,null,null,null,null,null,null,null,null,null,null,null,null,null,null,null,null,null,null,null,null,null,null,null,null,null,null,null,null,null,null,null,null,null,null,null,null,null,null,null,null,null,null,null,null,null,null,null,null,null,null,null,null,null,null,null,null,null,null,null,null,null,null,null,null,null,null,null,null,null,null,null,null,null,null,null,null,null,null,null,null,null,null,null,null,null,null,null,null,null,null,null,null,null,null,null,null,null,null,null,null,null,null,null,null,null,null,null,null,null,null,null,null,null,null,null,null,null,null,null,null,null,null,null,null,null,null,null,null,null,null,null,null,null,null,null,null,null,null,null,null,null,null,null,null,null,null,null,null,null,null,null,null,null,null,null,null,null,null,null,null,null,null,null,null,null,null,null,null,null,null,null,null,null,null,null,null,null,null,null,null,null,null,null,null,null,null,null,null,null,null,null,null,null,null,null,null,null,null,null,null,null,null,null,null,null,null,null,null,null,null,null,null,null,null,null,null,null,null,null,null,null,null,null,null,null,null,null,null,null,null,null,null,null,null,null,null,null,null,null,null,null,null,null,null,null,null,null,null,null,null,null,null,null,null,null,null,null,null,null,null,null,null,null,null,null,null,null,null,null,null,null,null,null,null,null,null,null,null,null,null,null,null,null,null,null,null,null,null,null,null,null,null,null,null,null,null,null,null,null,null,null,null,null,null,null,null,null,null,null,null,null,null,null,null,null,null,null,null,null,null,null,null,null,null,null,null,null,null,null,null,null,null,null,null,null,null,null,null,null,null,null,null,null,null,null,null,null,null,null,null,null,null,null,null,null,null,null,null,null,null,null,null,null,null,null,null,null,null,null,null,null,null,null,null,null,null,null,null,null,null,null,null,null,null,null,null,null,null,null,null,null,null,null,null,null,null,null,null,null,null,null,null,null,null,null,null,null,null,null,null,null,null,null,null,null,null,null,null,null,null,null,null,null,null,null,null,null,null,null,null,null,null,null,null,null,null,null,null,null,null,null,null,null,null,null,null,null,null,null,null,null,null,null,null,null,null,null,null,null,null,null,null,null,null,null,null,null,null,null,null,null,null,null,null,null,null,null,null,null,null,null,null,null,null,null,null,null,null,null,null,null,null,null,null,null,null,null,null,null,null,null,null,null,null,null,null,null,null,null,null,null,null,null,null,null,null,null,null,null,null,null,null,null,null,null,null,null,null,null,null,null,null,null,null,null,null,null,null,null,null,null,null,null,null,null,null,null,null,null,null,null,null,null,null,null,null,null,null,null,null,null,null,null,null,null,null,null,null,null,null,null,null,null,null,null,null,null,null,null,null,null,null,null,null,null,null,null,null,null,null,null,null,null,null,null,null,null,null,null,null,null,null,null,null,null,null,null,null,null,null,null,null,null,null,null,null,null,null,null,null,null,null,null,null,null,null,null,null,null,null,null,null,null,null,null,null,null,null,null,null,null,null,null,null,null,null,null,null,null,null,null,null,null,null,null,null,null,null,null,null,null,null,null,null,null,null,null,null,null,null,null,null,null,null,null,null,null,null,null,null,null,null,null,null,null,null,null,null,null,null,null,null,null,null,null,null,null,null,null,null,null,null,null,null,null,null,null,null,null,null,null,null,null,null,null,null,null,null,null,null,null,null,null,null,null,null,null,null,null,null,null,null,null,null,null,null,null,null,null,null,null,null,null,null,null,null,null,null,null,null,null,null,null,null,null,null,null,null,null,null,null,null,null,null,null,null,null,null,null,null,null,null,null,null,null,null,null,null,null,null,null,null,null,null,null,null,null,null,null,null,null,null,null,null,null,null,null,null,null,null,null,null,null,null,null,null,null,null,null,null,null,null,null,null,null,null,null,null,null,null,null,null,null,null,null,null,null,null,null,null,null,null,null,null,null,null,null,null,null,null,null,null,null,null,null,null,null,null,null,null,null,null,null,null,null,null,null,null,null,null,null,null,null,null,null,null,null,null,null,null,null,null,null,null,null,null,null,null,null,null,null,null,null,null,null,null,null,null,null,null,null,null,null,null,null,null,null,null,null,null,null,null,null,null,null,null,null,null,null,null,null,null,null,null,null,null,null,null,null,null,null,null,null,null,null,null,null,null,null,null,null,null,null,null,null,null,null,null,null,null,null,null,null,null,null,null,null,null,null,null,null,null,null,null,null,null,null,null,null,null,null,null,null,null,null,null,null,null,null,null,null,null,null,null,null,null,null,null,null,null,null,null,null,null,null,null,null,null,null,null,null,null,null,null,null,null,null,null,null,null,null,null,null,null,null,null,null,null,null,null,null,null,null,null,null,null,null,null,null,null,null,null,null,null,null,null,null,null,null,null,null,null,null,null,null,null,null,null,null,null,null,null,null,null,null,null,null,null,null,null,null,null,null,null,null,null,null,null,null,null,null,null,null,null,null,null,null,null,null,null,null,null,null,null,null,null,null,null,null,null,null,null,null,null,null,null,null,null,null,null,null,null,null,null,null,null,null,null,null,null,null,null,null,null,null,null,null,null,null,null,null,null,null,null,null,null,null,null,null,null,null,null,null,null,null,null,null,null,null,null,null,null,null,null,null,null,null,null,null,null,null,null,null,null,null,null,null,null,null,null,null,null,null,null,null,null,null,null,null,null,null,null,null,null,null,null,null,null,null,null,null,null,null,null,null,null,null,null,null,null,null,null,null,null,null,null,null,null,null,null,null,null,null,null,null,null,null,null,null,null,null,null,null,null,null,null,null,null,null,null,null,null,null,null,null,null,null,null,null,null,null,null,null,null,null,null,null,null,null,null,null,null,null,null,null,null,null,null,null,null,null,null,null,null,null,null,null,null,null,null,null,null,null,null,null,null,null,null,null,null,null,null,null,null,null,null,null,null,null,null,null,null,null,null,null,null,null,null,null,null,null,null,null,null,null,null,null,null,null,null,null,null,null,null,null,null,null,null,null,null,null,null,null,null,null,null,null,null,null,null,null,null,null,null,null,null,null,null,null,null,null,null,null,null,null,null,null,null,null,null,null,null,null,null,null,null,null,null,null,null,null,null,null,null,null,null,null,null,null,null,null,null,null,null,null,null,null,null,null,null,null,null,null,null,null,null,null,null,null,null,null,null,null,null,null,null,null,null,null,null,null,null,null,null,null,null,null,null,null,null,null,null,null,null,null,null,null,null,null,null,null,null,null,null,null,null,null,null,null,null,null,null,null,null,null,null,null,null,null,null,null,null,null,null,null,null,null,null,null,null,null,null,null,null,null,null,null,null,null,null,null,null,null,null,null,null,null,null,null,null,null,null,null,null,null,null,null,null,null,null,null,null,null,null,null,null,null,null,null,null,null,null,null,null,null,null,null,null,null,null,null,null,null,null,null,null,null,null,null,null,null,null,null,null,null,null,null,null,null,null,null,null,null,null,null,null,null,null,null,null,null,null,null,null,null,null,null,null,null,null,null,null,null,null,null,null,null,null,null,null,null,null,null,null,null,null,null,null,null,null,null,null,null,null,null,null,null,null,null,null,null,null,null,null,null,null,null,null,null,null,null,null,null,null,null,null,null,null,null,null,null,null,null,null,null,null,null,null,null,null,null,null,null,null,null,null,null,null,null,null,null,null,null,null,null,null,null,null,null,null,null,null,null,null,null,null,null,null,null,null,null,null,null,null,null,null,null,null,null,null,null,null,null,null,null,null,null,null,null,null,null,null,null,null,null,null,null,null,null,null,null,null,null,null,null,null,null,null,null,null,null,null,null,null,null,null,null,null,null,null,null,null,null,null,null,null,null,null,null,null,null,null,null,null,null,null,null,null,null,null,null,null,null,null,null,null,null,null,null,null,null,null,null,null,null,null,null,null,null,null,null,null,null,null,null,null,null,null,null,null,null,null,null,null,null,null,null,null,null,null,null,null,null,null,null,null,null,null,null,null,null,null,null,null,null,null,null,null,null,null,null,null,null,null,null,null,null,null,null,null,null,null,null,null,null,null,null,null,null,null,null,null,null,null,null,null,null,null,null,null,null,null,null,null,null,null,null,null,null,null,null,null,null,null,null,null,null,null,null,null,null,null,null,null,null,null,null,null,null,null,null,null,null,null,null,null,null,null,null,null,null,null,null,null,null,null,null,null,null,null,null,null,null,null,null,null,null,null,null,null,null,null,null,null,null,null,null,null,null,null,null,null,null,null,null,null,null,null,null,null,null,null,null,null,null,null,null,null,null,null,null,null,null,null,null,null,null,null,null,null,null,null,null,null,null,null,null,null,null,null,null,null,null,null,null,null,null,null,null,null,null,null,null,null,null,null,null,null,null,null,null,null,null,null,null,null,null,null,null,null,null,null,null,null,null,null,null,null,null,null,null,null,null,null,null,null,null,null,null,null,null,null,null,null,null,null,null,null,null,null,null,null,null,null,null,null,null,null,null,null,null,null,null,null,null,null,null,null,null,null,null,null,null,null,null,null,null,null,null,null,null,null,null,null,null,null,null,null,null,null,null,null,null,null,null,null,null,null,null,null,null,null,null,null,null,null,null,null,null,null,null,null,null,null,null,null,null,null,null,null,null,null,null,null,null,null,null,null,null,null,null,null,null,null,null,null,null,null,null,null,null,null,null,null,null,null,null,null,null,null,null,null,null,null,null,null,null,null,null,null,null,null,null,null,null,null,null,null,null,null,null,null,null,null,null,null,null,null,null,null,null,null,null,null,null,null,null,null,"Paga","Alimentar"]
[null,"NÃO",null,null,"CONTROLE DO PAGAMENTO DE RPVs em 2023",null,null,null,null,null,null,null,null,null,null,null,null,null,null,null,null,null,null,null,null,null,null,null,null,null,null,null,null,null,null,null,null,null,null,null,null,null,null,null,null,null,null,null,null,null,null,null,{"$f":"27831.86/75393.36","v":0.36915532083992542},null,null,null,null,null,null,null,null,null,null,null,null,null,null,null,null,null,null,null,null,null,null,null,null,null,null,null,null,null,null,null,null,null,null,null,null,null,null,null,null,null,null,null,null,null,null,null,null,null,null,null,null,null,null,null,null,null,null,null,null,null,null,null,null,null,null,null,null,null,null,null,null,null,null,null,null,null,null,null,null,null,null,null,null,null,null,null,null,null,null,null,null,null,null,null,null,null,null,null,null,null,null,null,null,null,null,null,null,null,null,null,null,null,null,null,null,null,null,null,null,null,null,null,null,null,null,null,null,null,null,null,null,null,null,null,null,null,null,null,null,null,null,null,null,null,null,null,null,null,null,null,null,null,null,null,null,null,null,null,null,null,null,null,null,null,null,null,null,null,null,null,null,null,null,null,null,null,null,null,null,null,null,null,null,null,null,null,null,null,null,null,null,null,null,null,null,null,null,null,null,null,null,null,null,null,null,null,null,null,null,null,null,null,null,null,null,null,null,null,null,null,null,null,null,null,null,null,null,null,null,null,null,null,null,null,null,null,null,null,null,null,null,null,null,null,null,null,null,null,null,null,null,null,null,null,null,null,null,null,null,null,null,null,null,null,null,null,null,null,null,null,null,null,null,null,null,null,null,null,null,null,null,null,null,null,null,null,null,null,null,null,null,null,null,null,null,null,null,null,null,null,null,null,null,null,null,null,null,null,null,null,null,null,null,null,null,null,null,null,null,null,null,null,null,null,null,null,null,null,null,null,null,null,null,null,null,null,null,null,null,null,null,null,null,null,null,null,null,null,null,null,null,null,null,null,null,null,null,null,null,null,null,null,null,null,null,null,null,null,null,null,null,null,null,null,null,null,null,null,null,null,null,null,null,null,null,null,null,null,null,null,null,null,null,null,null,null,null,null,null,null,null,null,null,null,null,null,null,null,null,null,null,null,null,null,null,null,null,null,null,null,null,null,null,null,null,null,null,null,null,null,null,null,null,null,null,null,null,null,null,null,null,null,null,null,null,null,null,null,null,null,null,null,null,null,null,null,null,null,null,null,null,null,null,null,null,null,null,null,null,null,null,null,null,null,null,null,null,null,null,null,null,null,null,null,null,null,null,null,null,null,null,null,null,null,null,null,null,null,null,null,null,null,null,null,null,null,null,null,null,null,null,null,null,null,null,null,null,null,null,null,null,null,null,null,null,null,null,null,null,null,null,null,null,null,null,null,null,null,null,null,null,null,null,null,null,null,null,null,null,null,null,null,null,null,null,null,null,null,null,null,null,null,null,null,null,null,null,null,null,null,null,null,null,null,null,null,null,null,null,null,null,null,null,null,null,null,null,null,null,null,null,null,null,null,null,null,null,null,null,null,null,null,null,null,null,null,null,null,null,null,null,null,null,null,null,null,null,null,null,null,null,null,null,null,null,null,null,null,null,null,null,null,null,null,null,null,null,null,null,null,null,null,null,null,null,null,null,null,null,null,null,null,null,null,null,null,null,null,null,null,null,null,null,null,null,null,null,null,null,null,null,null,null,null,null,null,null,null,null,null,null,null,null,null,null,null,null,null,null,null,null,null,null,null,null,null,null,null,null,null,null,null,null,null,null,null,null,null,null,null,null,null,null,null,null,null,null,null,null,null,null,null,null,null,null,null,null,null,null,null,null,null,null,null,null,null,null,null,null,null,null,null,null,null,null,null,null,null,null,null,null,null,null,null,null,null,null,null,null,null,null,null,null,null,null,null,null,null,null,null,null,null,null,null,null,null,null,null,null,null,null,null,null,null,null,null,null,null,null,null,null,null,null,null,null,null,null,null,null,null,null,null,null,null,null,null,null,null,null,null,null,null,null,null,null,null,null,null,null,null,null,null,null,null,null,null,null,null,null,null,null,null,null,null,null,null,null,null,null,null,null,null,null,null,null,null,null,null,null,null,null,null,null,null,null,null,null,null,null,null,null,null,null,null,null,null,null,null,null,null,null,null,null,null,null,null,null,null,null,null,null,null,null,null,null,null,null,null,null,null,null,null,null,null,null,null,null,null,null,null,null,null,null,null,null,null,null,null,null,null,null,null,null,null,null,null,null,null,null,null,null,null,null,null,null,null,null,null,null,null,null,null,null,null,null,null,null,null,null,null,null,null,null,null,null,null,null,null,null,null,null,null,null,null,null,null,null,null,null,null,null,null,null,null,null,null,null,null,null,null,null,null,null,null,null,null,null,null,null,null,null,null,null,null,null,null,null,null,null,null,null,null,null,null,null,null,null,null,null,null,null,null,null,null,null,null,null,null,null,null,null,null,null,null,null,null,null,null,null,null,null,null,null,null,null,null,null,null,null,null,null,null,null,null,null,null,null,null,null,null,null,null,null,null,null,null,null,null,null,null,null,null,null,null,null,null,null,null,null,null,null,null,null,null,null,null,null,null,null,null,null,null,null,null,null,null,null,null,null,null,null,null,null,null,null,null,null,null,null,null,null,null,null,null,null,null,null,null,null,null,null,null,null,null,null,null,null,null,null,null,null,null,null,null,null,null,null,null,null,null,null,null,null,null,null,null,null,null,null,null,null,null,null,null,null,null,null,null,null,null,null,null,null,null,null,null,null,null,null,null,null,null,null,null,null,null,null,null,null,null,null,null,null,null,null,null,null,null,null,null,null,null,null,null,null,null,null,null,null,null,null,null,null,null,null,null,null,null,null,null,null,null,null,null,null,null,null,null,null,null,null,null,null,null,null,null,null,null,null,null,null,null,null,null,null,null,null,null,null,null,null,null,null,null,null,null,null,null,null,null,null,null,null,null,null,null,null,null,null,null,null,null,null,null,null,null,null,null,null,null,null,null,null,null,null,null,null,null,null,null,null,null,null,null,null,null,null,null,null,null,null,null,null,null,null,null,null,null,null,null,null,null,null,null,null,null,null,null,null,null,null,null,null,null,null,null,null,null,null,null,null,null,null,null,null,null,null,null,null,null,null,null,null,null,null,null,null,null,null,null,null,null,null,null,null,null,null,null,null,null,null,null,null,null,null,null,null,null,null,null,null,null,null,null,null,null,null,null,null,null,null,null,null,null,null,null,null,null,null,null,null,null,null,null,null,null,null,null,null,null,null,null,null,null,null,null,null,null,null,null,null,null,null,null,null,null,null,null,null,null,null,null,null,null,null,null,null,null,null,null,null,null,null,null,null,null,null,null,null,null,null,null,null,null,null,null,null,null,null,null,null,null,null,null,null,null,null,null,null,null,null,null,null,null,null,null,null,null,null,null,null,null,null,null,null,null,null,null,null,null,null,null,null,null,null,null,null,null,null,null,null,null,null,null,null,null,null,null,null,null,null,null,null,null,null,null,null,null,null,null,null,null,null,null,null,null,null,null,null,null,null,null,null,null,null,null,null,null,null,null,null,null,null,null,null,null,null,null,null,null,null,null,null,null,null,null,null,null,null,null,null,null,null,null,null,null,null,null,null,null,null,null,null,null,null,null,null,null,null,null,null,null,null,null,null,null,null,null,null,null,null,null,null,null,null,null,null,null,null,null,null,null,null,null,null,null,null,null,null,null,null,null,null,null,null,null,null,null,null,null,null,null,null,null,null,null,null,null,null,null,null,null,null,null,null,null,null,null,null,null,null,null,null,null,null,null,null,null,null,null,null,null,null,null,null,null,null,null,null,null,null,null,null,null,null,null,null,null,null,null,null,null,null,null,null,null,null,null,null,null,null,null,null,null,null,null,null,null,null,null,null,null,null,null,null,null,null,null,null,null,null,null,null,null,null,null,null,null,null,null,null,null,null,null,null,null,null,null,null,null,null,null,null,null,null,null,null,null,null,null,null,null,null,null,null,null,null,null,null,null,null,null,null,null,null,null,null,null,null,null,null,null,null,null,null,null,null,null,null,null,null,null,null,null,null,null,null,null,null,null,null,null,null,null,null,null,null,null,null,null,null,null,null,null,null,null,null,null,null,null,null,null,null,null,null,null,null,null,null,null,null,null,null,null,null,null,null,null,null,null,null,null,null,null,null,null,null,null,null,null,null,null,null,null,null,null,null,null,null,null,null,null,null,null,null,null,null,null,null,null,null,null,null,null,null,null,null,null,null,null,null,null,null,null,null,null,null,null,null,null,null,null,null,null,null,null,null,null,null,null,null,null,null,null,null,null,null,null,null,null,null,null,null,null,null,null,null,null,null,null,null,null,null,null,null,null,null,null,null,null,null,null,null,null,null,null,null,null,null,null,null,null,null,null,null,null,null,null,null,null,null,null,null,null,null,null,null,null,null,null,null,null,null,null,null,null,null,null,null,null,null,null,null,null,null,null,null,null,null,null,null,null,null,null,null,null,null,null,null,null,null,null,null,null,null,null,null,null,null,null,null,null,null,null,null,null,null,null,null,null,null,null,null,null,null,null,null,null,null,null,null,null,null,null,null,null,null,null,null,null,null,null,null,null,null,null,null,null,null,null,null,null,null,null,null,null,null,null,null,null,null,null,null,null,null,null,null,null,null,null,null,null,null,null,null,null,null,null,null,null,null,null,null,null,null,null,null,null,null,null,null,null,null,null,null,null,null,null,null,null,null,null,null,null,null,null,null,null,null,null,null,null,null,null,null,null,null,null,null,null,null,null,null,null,null,null,null,null,null,null,null,null,null,null,null,null,null,null,null,null,null,null,null,null,null,null,null,null,null,null,null,null,null,null,null,null,null,null,null,null,null,null,null,null,null,null,null,null,null,null,null,null,null,null,null,null,null,null,null,null,null,null,null,null,null,null,null,null,null,null,null,null,null,null,null,null,null,null,null,null,null,null,null,null,null,null,null,null,null,null,null,null,null,null,null,null,null,null,null,null,null,null,null,null,null,null,null,null,null,null,null,null,null,null,null,null,null,null,null,null,null,null,null,null,null,null,null,null,null,null,null,null,null,null,null,null,null,null,null,null,null,null,null,null,null,null,null,null,null,null,null,null,null,null,null,null,null,null,null,null,null,null,null,null,null,null,null,null,null,null,null,null,null,null,null,null,null,null,null,null,null,null,null,null,null,null,null,null,null,null,null,null,null,null,null,null,null,null,null,null,null,null,null,null,null,null,null,null,null,null,null,null,null,null,null,null,null,null,null,null,null,null,null,null,null,null,null,null,null,null,null,null,null,null,null,null,null,null,null,null,null,null,null,null,null,null,null,null,null,null,null,null,null,null,null,null,null,null,null,null,null,null,null,null,null,null,null,null,null,null,null,null,null,null,null,null,null,null,null,null,null,null,null,null,null,null,null,null,null,null,null,null,null,null,null,null,null,null,null,null,null,null,null,null,null,null,null,null,null,null,null,null,null,null,null,null,null,null,null,null,null,null,null,null,null,null,null,null,null,null,null,null,null,null,null,null,null,null,null,null,null,null,null,null,null,null,null,null,null,null,null,null,null,null,null,null,null,null,null,null,null,null,null,null,null,null,null,null,null,null,null,null,null,null,null,null,null,null,null,null,null,null,null,null,null,null,null,null,null,null,null,null,null,null,null,null,null,null,null,null,null,null,null,null,null,null,null,null,null,null,null,null,null,null,null,null,null,null,null,null,null,null,null,null,null,null,null,null,null,null,null,null,null,null,null,null,null,null,null,null,null,null,null,null,null,null,null,null,null,null,null,null,null,null,null,null,null,null,null,null,null,null,null,null,null,null,null,null,null,null,null,null,null,null,null,null,null,null,null,null,null,null,null,null,null,null,null,null,null,null,null,null,null,null,null,null,null,null,null,null,null,null,null,null,null,null,null,null,null,null,null,null,null,null,null,null,null,null,null,null,null,null,null,null,null,null,null,null,null,null,null,null,null,null,null,null,null,null,null,null,null,null,null,null,null,null,null,null,null,null,null,null,null,null,null,null,null,null,null,null,null,null,null,null,null,null,null,null,null,null,null,null,null,null,null,null,null,null,null,null,null,null,null,null,null,null,null,null,null,null,null,null,null,null,null,null,null,null,null,null,null,null,null,null,null,null,null,null,null,null,null,null,null,null,null,null,null,null,null,null,null,null,null,null,null,null,null,null,null,null,null,null,null,null,null,null,null,null,null,null,null,null,null,null,null,null,null,null,null,null,null,null,null,null,null,null,null,null,null,null,null,null,null,null,null,null,null,null,null,null,null,null,null,null,null,null,null,null,null,null,null,null,null,null,null,null,null,null,null,null,null,null,null,null,null,null,null,null,null,null,null,null,null,null,null,null,null,null,null,null,null,null,null,null,null,null,null,null,null,null,null,null,null,null,null,null,null,null,null,null,null,null,null,null,null,null,null,null,null,null,null,null,null,null,null,null,null,null,null,null,null,null,null,null,null,null,null,null,null,null,null,null,null,null,null,null,null,null,null,null,null,null,null,null,null,null,null,null,null,null,null,null,null,null,null,null,null,null,null,null,null,null,null,null,null,null,null,null,null,null,null,null,null,null,null,null,null,null,null,null,null,null,null,null,null,null,null,null,null,null,null,null,null,null,null,null,null,null,null,null,null,null,null,null,null,null,null,null,null,null,null,null,null,null,null,null,null,null,null,null,null,null,null,null,null,null,null,null,null,null,null,null,null,null,null,null,null,null,null,null,null,null,null,null,null,null,null,null,null,null,null,null,null,null,null,null,null,null,null,null,null,null,null,null,null,null,null,null,null,null,null,null,null,null,null,null,null,null,null,null,null,null,null,null,null,null,null,null,null,null,null,null,null,null,null,null,null,null,null,null,null,null,null,null,null,null,null,null,null,null,null,null,null,null,null,null,null,null,null,null,null,null,null,null,null,null,null,null,null,null,null,null,null,null,null,null,null,null,null,null,null,null,null,null,null,null,null,null,null,null,null,null,null,null,null,null,null,null,null,null,null,null,null,null,null,null,null,null,null,null,null,null,null,null,null,null,null,null,null,null,null,null,null,null,null,null,null,null,null,null,null,null,null,null,null,null,null,null,null,null,null,null,null,null,null,null,null,null,null,null,null,null,null,null,null,null,null,null,null,null,null,null,null,null,null,null,null,null,null,null,null,null,null,null,null,null,null,null,null,null,null,null,null,null,null,null,null,null,null,null,null,null,null,null,null,null,null,null,null,null,null,null,null,null,null,null,null,null,null,null,null,null,null,null,null,null,null,null,null,null,null,null,null,null,null,null,null,null,null,null,null,null,null,null,null,null,null,null,null,null,null,null,null,null,null,null,null,null,null,null,null,null,null,null,null,null,null,null,null,null,null,null,null,null,null,null,null,null,null,null,null,null,null,null,null,null,null,null,null,null,null,null,null,null,null,null,null,null,null,null,null,null,null,null,null,null,null,null,null,null,null,null,null,null,null,null,null,null,null,null,null,null,null,null,null,null,null,null,null,null,null,null,null,null,null,null,null,null,null,null,null,null,null,null,null,null,null,null,null,null,null,null,null,null,null,null,null,null,null,null,null,null,null,null,null,null,null,null,null,null,null,null,null,null,null,null,null,null,null,null,null,null,null,null,null,null,null,null,null,null,null,null,null,null,null,null,null,null,null,null,null,null,null,null,null,null,null,null,null,null,null,null,null,null,null,null,null,null,null,null,null,null,null,null,null,null,null,null,null,null,null,null,null,null,null,null,null,null,null,null,null,null,null,null,null,null,null,null,null,null,null,null,null,null,null,null,null,null,null,null,null,null,null,null,null,null,null,null,null,null,null,null,null,null,null,null,null,null,null,null,null,null,null,null,null,null,null,null,null,null,null,null,null,null,null,null,null,null,null,null,null,null,null,null,null,null,null,null,null,null,null,null,null,null,null,null,null,null,null,null,null,null,null,null,null,null,null,null,null,null,null,null,null,null,null,null,null,null,null,null,null,null,null,null,null,null,null,null,null,null,null,null,null,null,null,null,null,null,null,null,null,null,null,null,null,null,null,null,null,null,null,null,null,null,null,null,null,null,null,null,null,null,null,null,null,null,null,null,null,null,null,null,null,null,null,null,null,null,null,null,null,null,null,null,null,null,null,null,null,null,null,null,null,null,null,null,null,null,null,null,null,null,null,null,null,null,null,null,null,null,null,null,null,null,null,null,null,null,null,null,null,null,null,null,null,null,null,null,null,null,null,null,null,null,null,null,null,null,null,null,null,null,null,null,null,null,null,null,null,null,null,null,null,null,null,null,null,null,null,null,null,null,null,null,null,null,null,null,null,null,null,null,null,null,null,null,null,null,null,null,null,null,null,null,null,null,null,null,null,null,null,null,null,null,null,null,null,null,null,null,null,null,null,null,null,null,null,null,null,null,null,null,null,null,null,null,null,null,null,null,null,null,null,null,null,null,null,null,null,null,null,null,null,null,null,null,null,null,null,null,null,null,null,null,null,null,null,null,null,null,null,null,null,null,null,null,null,null,null,null,null,null,null,null,null,null,null,null,null,null,null,null,null,null,null,null,null,null,null,null,null,null,null,null,null,null,null,null,null,null,null,null,null,null,null,null,null,null,null,null,null,null,null,null,null,null,null,null,null,null,null,null,null,null,null,null,null,null,null,null,null,null,null,null,null,null,null,null,null,null,null,null,null,null,null,null,null,null,null,null,null,null,null,null,null,null,null,null,null,null,null,null,null,null,null,null,null,null,null,null,null,null,null,null,null,null,null,null,null,null,null,null,null,null,null,null,null,null,null,null,null,null,null,null,null,null,null,null,null,null,null,null,null,null,null,null,null,null,null,null,null,null,null,null,null,null,null,null,null,null,null,null,null,null,null,null,null,null,null,null,null,null,null,null,null,null,null,null,null,null,null,null,null,null,null,null,null,null,null,null,null,null,null,null,null,null,null,null,null,null,null,null,null,null,null,null,null,null,null,null,null,null,null,null,null,null,null,null,null,null,null,null,null,null,null,null,null,null,null,null,null,null,null,null,null,null,null,null,null,null,null,null,null,null,null,null,null,null,null,null,null,null,null,null,null,null,null,null,null,null,null,null,null,null,null,null,null,null,null,null,null,null,null,null,null,null,null,null,null,null,null,null,null,null,null,null,null,null,null,null,null,null,null,null,null,null,null,null,null,null,null,null,null,null,null,null,null,null,null,null,null,null,null,null,null,null,null,null,null,null,null,null,null,null,null,null,null,null,null,null,null,null,null,null,null,null,null,null,null,null,null,null,null,null,null,null,null,null,null,null,null,null,null,null,null,null,null,null,null,null,null,null,null,null,null,null,null,null,null,null,null,null,null,null,null,null,null,null,null,null,null,null,null,null,null,null,null,null,null,null,null,null,null,null,null,null,null,null,null,null,null,null,null,null,null,null,null,null,null,null,null,null,null,null,null,null,null,null,null,null,null,null,null,null,null,null,null,null,null,null,null,null,null,null,null,null,null,null,null,null,null,null,null,null,null,null,null,null,null,null,null,null,null,null,null,null,null,null,null,null,null,null,null,null,null,null,null,null,null,null,null,null,null,null,null,null,null,null,null,null,null,null,null,null,null,null,null,null,null,null,null,null,null,null,null,null,null,null,null,null,null,null,null,null,null,null,null,null,null,null,null,null,null,null,null,null,null,null,null,null,null,null,null,null,null,null,null,null,null,null,null,null,null,null,null,null,null,null,null,null,null,null,null,null,null,null,null,null,null,null,null,null,null,null,null,null,null,null,null,null,null,null,null,null,null,null,null,null,null,null,null,null,null,null,null,null,null,null,null,null,null,null,null,null,null,null,null,null,null,null,null,null,null,null,null,null,null,null,null,null,null,null,null,null,null,null,null,null,null,null,null,null,null,null,null,null,null,null,null,null,null,null,null,null,null,null,null,null,null,null,null,null,null,null,null,null,null,null,null,null,null,null,null,null,null,null,null,null,null,null,null,null,null,null,null,null,null,null,null,null,null,null,null,null,null,null,null,null,null,null,null,null,null,null,null,null,null,null,null,null,null,null,null,null,null,null,null,null,null,null,null,null,null,null,null,null,null,null,null,null,null,null,null,null,null,null,null,null,null,null,null,null,null,null,null,null,null,null,null,null,null,null,null,null,null,null,null,null,null,null,null,null,null,null,null,null,null,null,null,null,null,null,null,null,null,null,null,null,null,null,null,null,null,null,null,null,null,null,null,null,null,null,null,null,null,null,null,null,null,null,null,null,null,null,null,null,null,null,null,null,null,null,null,null,null,null,null,null,null,null,null,null,null,null,null,null,null,null,null,null,null,null,null,null,null,null,null,null,null,null,null,null,null,null,null,null,null,null,null,null,null,null,null,null,null,null,null,null,null,null,null,null,null,null,null,null,null,null,null,null,null,null,null,null,null,null,null,null,null,null,null,null,null,null,null,null,null,null,null,null,null,null,null,null,null,null,null,null,null,null,null,null,null,null,null,null,null,null,null,null,null,null,null,null,null,null,null,null,null,null,null,null,null,null,null,null,null,null,null,null,null,null,null,null,null,null,null,null,null,null,null,null,null,null,null,null,null,null,null,null,null,null,null,null,null,null,null,null,null,null,null,null,null,null,null,null,null,null,null,null,null,null,null,null,null,null,null,null,null,null,null,null,null,null,null,null,null,null,null,null,null,null,null,null,null,null,null,null,null,null,null,null,null,null,null,null,null,null,null,null,null,null,null,null,null,null,null,null,null,null,null,null,null,null,null,null,null,null,null,null,null,null,null,null,null,null,null,null,null,null,null,null,null,null,null,null,null,null,null,null,null,null,null,null,null,null,null,null,null,null,null,null,null,null,null,null,null,null,null,null,null,null,null,null,null,null,null,null,null,null,null,null,null,null,null,null,null,null,null,null,null,null,null,null,null,null,null,null,null,null,null,null,null,null,null,null,null,null,null,null,null,null,null,null,null,null,null,null,null,null,null,null,null,null,null,null,null,null,null,null,null,null,null,null,null,null,null,null,null,null,null,null,null,null,null,null,null,null,null,null,null,null,null,null,null,null,null,null,null,null,null,null,null,null,null,null,null,null,null,null,null,null,null,null,null,null,null,null,null,null,null,null,null,null,null,null,null,null,null,null,null,null,null,null,null,null,null,null,null,null,null,null,null,null,null,null,null,null,null,null,null,null,null,null,null,null,null,null,null,null,null,null,null,null,null,null,null,null,null,null,null,null,null,null,null,null,null,null,null,null,null,null,null,null,null,null,null,null,null,null,null,null,null,null,null,null,null,null,null,null,null,null,null,null,null,null,null,null,null,null,null,null,null,null,null,null,null,null,null,null,null,null,null,null,null,null,null,null,null,null,null,null,null,null,null,null,null,null,null,null,null,null,null,null,null,null,null,null,null,null,null,null,null,null,null,null,null,null,null,null,null,null,null,null,null,null,null,null,null,null,null,null,null,null,null,null,null,null,null,null,null,null,null,null,null,null,null,null,null,null,null,null,null,null,null,null,null,null,null,null,null,null,null,null,null,null,null,null,null,null,null,null,null,null,null,null,null,null,null,null,null,null,null,null,null,null,null,null,null,null,null,null,null,null,null,null,null,null,null,null,null,null,null,null,null,null,null,null,null,null,null,null,null,null,null,null,null,null,null,null,null,null,null,null,null,null,null,null,null,null,null,null,null,null,null,null,null,null,null,null,null,null,null,null,null,null,null,null,null,null,null,null,null,null,null,null,null,null,null,null,null,null,null,null,null,null,null,null,null,null,null,null,null,null,null,null,null,null,null,null,null,null,null,null,null,null,null,null,null,null,null,null,null,null,null,null,null,null,null,null,null,null,null,null,null,null,null,null,null,null,null,null,null,null,null,null,null,null,null,null,null,null,null,null,null,null,null,null,null,null,null,null,null,null,null,null,null,null,null,null,null,null,null,null,null,null,null,null,null,null,null,null,null,null,null,null,null,null,null,null,null,null,null,null,null,null,null,null,null,null,null,null,null,null,null,null,null,null,null,null,null,null,null,null,null,null,null,null,null,null,null,null,null,null,null,null,null,null,null,null,null,null,null,null,null,null,null,null,null,null,null,null,null,null,null,null,null,null,null,null,null,null,null,null,null,null,null,null,null,null,null,null,null,null,null,null,null,null,null,null,null,null,null,null,null,null,null,null,null,null,null,null,null,null,null,null,null,null,null,null,null,null,null,null,null,null,null,null,null,null,null,null,null,null,null,null,null,null,null,null,null,null,null,null,null,null,null,null,null,null,null,null,null,null,null,null,null,null,null,null,null,null,null,null,null,null,null,null,null,null,null,null,null,null,null,null,null,null,null,null,null,null,null,null,null,null,null,null,null,null,null,null,null,null,null,null,null,null,null,null,null,null,null,null,null,null,null,null,null,null,null,null,null,null,null,null,null,null,null,null,null,null,null,null,null,null,null,null,null,null,null,null,null,null,null,null,null,null,null,null,null,null,null,null,null,null,null,null,null,null,null,null,null,null,null,null,null,null,null,null,null,null,null,null,null,null,null,null,null,null,null,null,null,null,null,null,null,null,null,null,null,null,null,null,null,null,null,null,null,null,null,null,null,null,null,null,null,null,null,null,null,null,null,null,null,null,null,null,null,null,null,null,null,null,null,null,null,null,null,null,null,null,null,null,null,null,null,null,null,null,null,null,null,null,null,null,null,null,null,null,null,null,null,null,null,null,null,null,null,null,null,null,null,null,null,null,null,null,null,null,null,null,null,null,null,null,null,null,null,null,null,null,null,null,null,null,null,null,null,null,null,null,null,null,null,null,null,null,null,null,null,null,null,null,null,null,null,null,null,null,null,null,null,null,null,null,null,null,null,null,null,null,null,null,null,null,null,null,null,null,null,null,null,null,null,null,null,null,null,null,null,null,null,null,null,null,null,null,null,null,null,null,null,null,null,null,null,null,null,null,null,null,null,null,null,null,null,null,null,null,null,null,null,null,null,null,null,null,null,null,null,null,null,null,null,null,null,null,null,null,null,null,null,null,null,null,null,null,null,null,null,null,null,null,null,null,null,null,null,null,null,null,null,null,null,null,null,null,null,null,null,null,null,null,null,null,null,null,null,null,null,null,null,null,null,null,null,null,null,null,null,null,null,null,null,null,null,null,null,null,null,null,null,null,null,null,null,null,null,null,null,null,null,null,null,null,null,null,null,null,null,null,null,null,null,null,null,null,null,null,null,null,null,null,null,null,null,null,null,null,null,null,null,null,null,null,null,null,null,null,null,null,null,null,null,null,null,null,null,null,null,null,null,null,null,null,null,null,null,null,null,null,null,null,null,null,null,null,null,null,null,null,null,null,null,null,null,null,null,null,null,null,null,null,null,null,null,null,null,null,null,null,null,null,null,null,null,null,null,null,null,null,null,null,null,null,null,null,null,null,null,null,null,null,null,null,null,null,null,null,null,null,null,null,null,null,null,null,null,null,null,null,null,null,null,null,null,null,null,null,null,null,null,null,null,null,null,null,null,null,null,null,null,null,null,null,null,null,null,null,null,null,null,null,null,null,null,null,null,null,null,null,null,null,null,null,null,null,null,null,null,null,null,null,null,null,null,null,null,null,null,null,null,null,null,null,null,null,null,null,null,null,null,null,null,null,null,null,null,null,null,null,null,null,null,null,null,null,null,null,null,null,null,null,null,null,null,null,null,null,null,null,null,null,null,null,null,null,null,null,null,null,null,null,null,null,null,null,null,null,null,null,null,null,null,null,null,null,null,null,null,null,null,null,null,null,null,null,null,null,null,null,null,null,null,null,null,null,null,null,null,null,null,null,null,null,null,null,null,null,null,null,null,null,null,null,null,null,null,null,null,null,null,null,null,null,null,null,null,null,null,null,null,null,null,null,null,null,null,null,null,null,null,null,null,null,null,null,null,null,null,null,null,null,null,null,null,null,null,null,null,null,null,null,null,null,null,null,null,null,null,null,null,null,null,null,null,null,null,null,null,null,null,null,null,null,null,null,null,null,null,null,null,null,null,null,null,null,null,null,null,null,null,null,null,null,null,null,null,null,null,null,null,null,null,null,null,null,null,null,null,null,null,null,null,null,null,null,null,null,null,null,null,null,null,null,null,null,null,null,null,null,null,null,null,null,null,null,null,null,null,null,null,null,null,null,null,null,null,null,null,null,null,null,null,null,null,null,null,null,null,null,null,null,null,null,null,null,null,null,null,null,null,null,null,null,null,null,null,null,null,null,null,null,null,null,null,null,null,null,null,null,null,null,null,null,null,null,null,null,null,null,null,null,null,null,null,null,null,null,null,null,null,null,null,null,null,null,null,null,null,null,null,null,null,null,null,null,null,null,null,null,null,null,null,null,null,null,null,null,null,null,null,null,null,null,null,null,null,null,null,null,null,null,null,null,null,null,null,null,null,null,null,null,null,null,null,null,null,null,null,null,null,null,null,null,null,null,null,null,null,null,null,null,null,null,null,null,null,null,null,null,null,null,null,null,null,null,null,null,null,null,null,null,null,null,null,null,null,null,null,null,null,null,null,null,null,null,null,null,null,null,null,null,null,null,null,null,null,null,null,null,null,null,null,null,null,null,null,null,null,null,null,null,null,null,null,null,null,null,null,null,null,null,null,null,null,null,null,null,null,null,null,null,null,null,null,null,null,null,null,null,null,null,null,null,null,null,null,null,null,null,null,null,null,null,null,null,null,null,null,null,null,null,null,null,null,null,null,null,null,null,null,null,null,null,null,null,null,null,null,null,null,null,null,null,null,null,null,null,null,null,null,null,null,null,null,null,null,null,null,null,null,null,null,null,null,null,null,null,null,null,null,null,null,null,null,null,null,null,null,null,null,null,null,null,null,null,null,null,null,null,null,null,null,null,null,null,null,null,null,null,null,null,null,null,null,null,null,null,null,null,null,null,null,null,null,null,null,null,null,null,null,null,null,null,null,null,null,null,null,null,null,null,null,null,null,null,null,null,null,null,null,null,null,null,null,null,null,null,null,null,null,null,null,null,null,null,null,null,null,null,null,null,null,null,null,null,null,null,null,null,null,null,null,null,null,null,null,null,null,null,null,null,null,null,null,null,null,null,null,null,null,null,null,null,null,null,null,null,null,null,null,null,null,null,null,null,null,null,null,null,null,null,null,null,null,null,null,null,null,null,null,null,null,null,null,null,null,null,null,null,null,null,null,null,null,null,null,null,null,null,null,null,null,null,null,null,null,null,null,null,null,null,null,null,null,null,null,null,null,null,null,null,null,null,null,null,null,null,null,null,null,null,null,null,null,null,null,null,null,null,null,null,null,null,null,null,null,null,null,null,null,null,null,null,null,null,null,null,null,null,null,null,null,null,null,null,null,null,null,null,null,null,null,null,null,null,null,null,null,null,null,null,null,null,null,null,null,null,null,null,null,null,null,null,null,null,null,null,null,null,null,null,null,null,null,null,null,null,null,null,null,null,null,null,null,null,null,null,null,null,null,null,null,null,null,null,null,null,null,null,null,null,null,null,null,null,null,null,null,null,null,null,null,null,null,null,null,null,null,null,null,null,null,null,null,null,null,null,null,null,null,null,null,null,null,null,null,null,null,null,null,null,null,null,null,null,null,null,null,null,null,null,null,null,null,null,null,null,null,null,null,null,null,null,null,null,null,null,null,null,null,null,null,null,null,null,null,null,null,null,null,null,null,null,null,null,null,null,null,null,null,null,null,null,null,null,null,null,null,null,null,null,null,null,null,null,null,null,null,null,null,null,null,null,null,null,null,null,null,null,null,null,null,null,null,null,null,null,null,null,null,null,null,null,null,null,null,null,null,null,null,null,null,null,null,null,null,null,null,null,null,null,null,null,null,null,null,null,null,null,null,null,null,null,null,null,null,null,null,null,null,null,null,null,null,null,null,null,null,null,null,null,null,null,null,null,null,null,null,null,null,null,null,null,null,null,null,null,null,null,null,null,null,null,null,null,null,null,null,null,null,null,null,null,null,null,null,null,null,null,null,null,null,null,null,null,null,null,null,null,null,null,null,null,null,null,null,null,null,null,null,null,null,null,null,null,null,null,null,null,null,null,null,null,null,null,null,null,null,null,null,null,null,null,null,null,null,null,null,null,null,null,null,null,null,null,null,null,null,null,null,null,null,null,null,null,null,null,null,null,null,null,null,null,null,null,null,null,null,null,null,null,null,null,null,null,null,null,null,null,null,null,null,null,null,null,null,null,null,null,null,null,null,null,null,null,null,null,null,null,null,null,null,null,null,null,null,null,null,null,null,null,null,null,null,null,null,null,null,null,null,null,null,null,null,null,null,null,null,null,null,null,null,null,null,null,null,null,null,null,null,null,null,null,null,null,null,null,null,null,null,null,null,null,null,null,null,null,null,null,null,null,null,null,null,null,null,null,null,null,null,null,null,null,null,null,null,null,null,null,null,null,null,null,null,null,null,null,null,null,null,null,null,null,null,null,null,null,null,null,null,null,null,null,null,null,null,null,null,null,null,null,null,null,null,null,null,null,null,null,null,null,null,null,null,null,null,null,null,null,null,null,null,null,null,null,null,null,null,null,null,null,null,null,null,null,null,null,null,null,null,null,null,null,null,null,null,null,null,null,null,null,null,null,null,null,null,null,null,null,null,null,null,null,null,null,null,null,null,null,null,null,null,null,null,null,null,null,null,null,null,null,null,null,null,null,null,null,null,null,null,null,null,null,null,null,null,null,null,null,null,null,null,null,null,null,null,null,null,null,null,null,null,null,null,null,null,null,null,null,null,null,null,null,null,null,null,null,null,null,null,null,null,null,null,null,null,null,null,null,null,null,null,null,null,null,null,null,null,null,null,null,null,null,null,null,null,null,null,null,null,null,null,null,null,null,null,null,null,null,null,null,null,null,null,null,null,null,null,null,null,null,null,null,null,null,null,null,null,null,null,null,null,null,null,null,null,null,null,null,null,null,null,null,null,null,null,null,null,null,null,null,null,null,null,null,null,null,null,null,null,null,null,null,null,null,null,null,null,null,null,null,null,null,null,null,null,null,null,null,null,null,null,null,null,null,null,null,null,null,null,null,null,null,null,null,null,null,null,null,null,null,null,null,null,null,null,null,null,null,null,null,null,null,null,null,null,null,null,null,null,null,null,null,null,null,null,null,null,null,null,null,null,null,null,null,null,null,null,null,null,null,null,null,null,null,null,null,null,null,null,null,null,null,null,null,null,null,null,null,null,null,null,null,null,null,null,null,null,null,null,null,null,null,null,null,null,null,null,null,null,null,null,null,null,null,null,null,null,null,null,null,null,null,null,null,null,null,null,null,null,null,null,null,null,null,null,null,null,null,null,null,null,null,null,null,null,null,null,null,null,null,null,null,null,null,null,null,null,null,null,null,null,null,null,null,null,null,null,null,null,null,null,null,null,null,null,null,null,null,null,null,null,null,null,null,null,null,null,null,null,null,null,null,null,null,null,null,null,null,null,null,null,null,null,null,null,null,null,null,null,null,null,null,null,null,null,null,null,null,null,null,null,null,null,null,null,null,null,null,null,null,null,null,null,null,null,null,null,null,null,null,null,null,null,null,null,null,null,null,null,null,null,null,null,null,null,null,null,null,null,null,null,null,null,null,null,null,null,null,null,null,null,null,null,null,null,null,null,null,null,null,null,null,null,null,null,null,null,null,null,null,null,null,null,null,null,null,null,null,null,null,null,null,null,null,null,null,null,null,null,null,null,null,null,null,null,null,null,null,null,null,null,null,null,null,null,null,null,null,null,null,null,null,null,null,null,null,null,null,null,null,null,null,null,null,null,null,null,null,null,null,null,null,null,null,null,null,null,null,null,null,null,null,null,null,null,null,null,null,null,null,null,null,null,null,null,null,null,null,null,null,null,null,null,null,null,null,null,null,null,null,null,null,null,null,null,null,null,null,null,null,null,null,null,null,null,null,null,null,null,null,null,null,null,null,null,null,null,null,null,null,null,null,null,null,null,null,null,null,null,null,null,null,null,null,null,null,null,null,null,null,null,null,null,null,null,null,null,null,null,null,null,null,null,null,null,null,null,null,null,null,null,null,null,null,null,null,null,null,null,null,null,null,null,null,null,null,null,null,null,null,null,null,null,null,null,null,null,null,null,null,null,null,null,null,null,null,null,null,null,null,null,null,null,null,null,null,null,null,null,null,null,null,null,null,null,null,null,null,null,null,null,null,null,null,null,null,null,null,null,null,null,null,null,null,null,null,null,null,null,null,null,null,null,null,null,null,null,null,null,null,null,null,null,null,null,null,null,null,null,null,null,null,null,null,null,null,null,null,null,null,null,null,null,null,null,null,null,null,null,null,null,null,null,null,null,null,null,null,null,null,null,null,null,null,null,null,null,null,null,null,null,null,null,null,null,null,null,null,null,null,null,null,null,null,null,null,null,null,null,null,null,null,null,null,null,null,null,null,null,null,null,null,null,null,null,null,null,null,null,null,null,null,null,null,null,null,null,null,null,null,null,null,null,null,null,null,null,null,null,null,null,null,null,null,null,null,null,null,null,null,null,null,null,null,null,null,null,null,null,null,null,null,null,null,null,null,null,null,null,null,null,null,null,null,null,null,null,null,null,null,null,null,null,null,null,null,null,null,null,null,null,null,null,null,null,null,null,null,null,null,null,null,null,null,null,null,null,null,null,null,null,null,null,null,null,null,null,null,null,null,null,null,null,null,null,null,null,null,null,null,null,null,null,null,null,null,null,null,null,null,null,null,null,null,null,null,null,null,null,null,null,null,null,null,null,null,null,null,null,null,null,null,null,null,null,null,null,null,null,null,null,null,null,null,null,null,null,null,null,null,null,null,null,null,null,null,null,null,null,null,null,null,null,null,null,null,null,null,null,null,null,null,null,null,null,null,null,null,null,null,null,null,null,null,null,null,null,null,null,null,null,null,null,null,null,null,null,null,null,null,null,null,null,null,null,null,null,null,null,null,null,null,null,null,null,null,null,null,null,null,null,null,null,null,null,null,null,null,null,null,null,null,null,null,null,null,null,null,null,null,null,null,null,null,null,null,null,null,null,null,null,null,null,null,null,null,null,null,null,null,null,null,null,null,null,null,null,null,null,null,null,null,null,null,null,null,null,null,null,null,null,null,null,null,null,null,null,null,null,null,null,null,null,null,null,null,null,null,null,null,null,null,null,null,null,null,null,null,null,null,null,null,null,null,null,null,null,null,null,null,null,null,null,null,null,null,null,null,null,null,null,null,null,null,null,null,null,null,null,null,null,null,null,null,null,null,null,null,null,null,null,null,null,null,null,null,null,null,null,null,null,null,null,null,null,null,null,null,null,null,null,null,null,null,null,null,null,null,null,null,null,null,null,null,null,null,null,null,null,null,null,null,null,null,null,null,null,null,null,null,null,null,null,null,null,null,null,null,null,null,null,null,null,null,null,null,null,null,null,null,null,null,null,null,null,null,null,null,null,null,null,null,null,null,null,null,null,null,null,null,null,null,null,null,null,null,null,null,null,null,null,null,null,null,null,null,null,null,null,null,null,null,null,null,null,null,null,null,null,null,null,null,null,null,null,null,null,null,null,null,null,null,null,null,null,null,null,null,null,null,null,null,null,null,null,null,null,null,null,null,null,null,null,null,null,null,null,null,null,null,null,null,null,null,null,null,null,null,null,null,null,null,null,null,null,null,null,null,null,null,null,null,null,null,null,null,null,null,null,null,null,null,null,null,null,null,null,null,null,null,null,null,null,null,null,null,null,null,null,null,null,null,null,null,null,null,null,null,null,null,null,null,null,null,null,null,null,null,null,null,null,null,null,null,null,null,null,null,null,null,null,null,null,null,null,null,null,null,null,null,null,null,null,null,null,null,null,null,null,null,null,null,null,null,null,null,null,null,null,null,null,null,null,null,null,null,null,null,null,null,null,null,null,null,null,null,null,null,null,null,null,null,null,null,null,null,null,null,null,null,null,null,null,null,null,null,null,null,null,null,null,null,null,null,null,null,null,null,null,null,null,null,null,null,null,null,null,null,null,null,null,null,null,null,null,null,null,null,null,null,null,null,null,null,null,null,null,null,null,null,null,null,null,null,null,null,null,null,null,null,null,null,null,null,null,null,null,null,null,null,null,null,null,null,null,null,null,null,null,null,null,null,null,null,null,null,null,null,null,null,null,null,null,null,null,null,null,null,null,null,null,null,null,null,null,null,null,null,null,null,null,null,null,null,null,null,null,null,null,null,null,null,null,null,null,null,null,null,null,null,null,null,null,null,null,null,null,null,null,null,null,null,null,null,null,null,null,null,null,null,null,null,null,null,null,null,null,null,null,null,null,null,null,null,null,null,null,null,null,null,null,null,null,null,null,null,null,null,null,null,null,null,null,null,null,null,null,null,null,null,null,null,null,null,null,null,null,null,null,null,null,null,null,null,null,null,null,null,null,null,null,null,null,null,null,null,null,null,null,null,null,null,null,null,null,null,null,null,null,null,null,null,null,null,null,null,null,null,null,null,null,null,null,null,null,null,null,null,null,null,null,null,null,null,null,null,null,null,null,null,null,null,null,null,null,null,null,null,null,null,null,null,null,null,null,null,null,null,null,null,null,null,null,null,null,null,null,null,null,null,null,null,null,null,null,null,null,null,null,null,null,null,null,null,null,null,null,null,null,null,null,null,null,null,null,null,null,null,null,null,null,null,null,null,null,null,null,null,null,null,null,null,null,null,null,null,null,null,null,null,null,null,null,null,null,null,null,null,null,null,null,null,null,null,null,null,null,null,null,null,null,null,null,null,null,null,null,null,null,null,null,null,null,null,null,null,null,null,null,null,null,null,null,null,null,null,null,null,null,null,null,null,null,null,null,null,null,null,null,null,null,null,null,null,null,null,null,null,null,null,null,null,null,null,null,null,null,null,null,null,null,null,null,null,null,null,null,null,null,null,null,null,null,null,null,null,null,null,null,null,null,null,null,null,null,null,null,null,null,null,null,null,null,null,null,null,null,null,null,null,null,null,null,null,null,null,null,null,null,null,null,null,null,null,null,null,null,null,null,null,null,null,null,null,null,null,null,null,null,null,null,null,null,null,null,null,null,null,null,null,null,null,null,null,null,null,null,null,null,null,null,null,null,null,null,null,null,null,null,null,null,null,null,null,null,null,null,null,null,null,null,null,null,null,null,null,null,null,null,null,null,null,null,null,null,null,null,null,null,null,null,null,null,null,null,null,null,null,null,null,null,null,null,null,null,null,null,null,null,null,null,null,null,null,null,null,null,null,null,null,null,null,null,null,null,null,null,null,null,null,null,null,null,null,null,null,null,null,null,null,null,null,null,null,null,null,null,null,null,null,null,null,null,null,null,null,null,null,null,null,null,null,null,null,null,null,null,null,null,null,null,null,null,null,null,null,null,null,null,null,null,null,null,null,null,null,null,null,null,null,null,null,null,null,null,null,null,null,null,null,null,null,null,null,null,null,null,null,null,null,null,null,null,null,null,null,null,null,null,null,null,null,null,null,null,null,null,null,null,null,null,null,null,null,null,null,null,null,null,null,null,null,null,null,null,null,null,null,null,null,null,null,null,null,null,null,null,null,null,null,null,null,null,null,null,null,null,null,null,null,null,null,null,null,null,null,null,null,null,null,null,null,null,null,null,null,null,null,null,null,null,null,null,null,null,null,null,null,null,null,null,null,null,null,null,null,null,null,null,null,null,null,null,null,null,null,null,null,null,null,null,null,null,null,null,null,null,null,null,null,null,null,null,null,null,null,null,null,null,null,null,null,null,null,null,null,null,null,null,null,null,null,null,null,null,null,null,null,null,null,null,null,null,null,null,null,null,null,null,null,null,null,null,null,null,null,null,null,null,null,null,null,null,null,null,null,null,null,null,null,null,null,null,null,null,null,null,null,null,null,null,null,null,null,null,null,null,null,null,null,null,null,null,null,null,null,null,null,null,null,null,null,null,null,null,null,null,null,null,null,null,null,null,null,null,null,null,null,null,null,null,null,null,null,null,null,null,null,null,null,null,null,null,null,null,null,null,null,null,null,null,null,null,null,null,null,null,null,null,null,null,null,null,null,null,null,null,null,null,null,null,null,null,null,null,null,null,null,null,null,null,null,null,null,null,null,null,null,null,null,null,null,null,null,null,null,null,null,null,null,null,null,null,null,null,null,null,null,null,null,null,null,null,null,null,null,null,null,null,null,null,null,null,null,null,null,null,null,null,null,null,null,null,null,null,null,null,null,null,null,null,null,null,null,null,null,null,null,null,null,null,null,null,null,null,null,null,null,null,null,null,null,null,null,null,null,null,null,null,null,null,null,null,null,null,null,null,null,null,null,null,null,null,null,null,null,null,null,null,null,null,null,null,null,null,null,null,null,null,null,null,null,null,null,null,null,null,null,null,null,null,null,null,null,null,null,null,null,null,null,null,null,null,null,null,null,null,null,null,null,null,null,null,null,null,null,null,null,null,null,null,null,null,null,null,null,null,null,null,null,null,null,null,null,null,null,null,null,null,null,null,null,null,null,null,null,null,null,null,null,null,null,null,null,null,null,null,null,null,null,null,null,null,null,null,null,null,null,null,null,null,null,null,null,null,null,null,null,null,null,null,null,null,null,null,null,null,null,null,null,null,null,null,null,null,null,null,null,null,null,null,null,null,null,null,null,null,null,null,null,null,null,null,null,null,null,null,null,null,null,null,null,null,null,null,null,null,null,null,null,null,null,null,null,null,null,null,null,null,null,null,null,null,null,null,null,null,null,null,null,null,null,null,null,null,null,null,null,null,null,null,null,null,null,null,null,null,null,null,null,null,null,null,null,null,null,null,null,null,null,null,null,null,null,null,null,null,null,null,null,null,null,null,null,null,null,null,null,null,null,null,null,null,null,null,null,null,null,null,null,null,null,null,null,null,null,null,null,null,null,null,null,null,null,null,null,null,null,null,null,null,null,null,null,null,null,null,null,null,null,null,null,null,null,null,null,null,null,null,null,null,null,null,null,null,null,null,null,null,null,null,null,null,null,null,null,null,null,null,null,null,null,null,null,null,null,null,null,null,null,null,null,null,null,null,null,null,null,null,null,null,null,null,null,null,null,null,null,null,null,null,null,null,null,null,null,null,null,null,null,null,null,null,null,null,null,null,null,null,null,null,null,null,null,null,null,null,null,null,null,null,null,null,null,null,null,null,null,null,null,null,null,null,null,null,null,null,null,null,null,null,null,null,null,null,null,null,null,null,null,null,null,null,null,null,null,null,null,null,null,null,null,null,null,null,null,null,null,null,null,null,null,null,null,null,null,null,null,null,null,null,null,null,null,null,null,null,null,null,null,null,null,null,null,null,null,null,null,null,null,null,null,null,null,null,null,null,null,null,null,null,null,null,null,null,null,null,null,null,null,null,null,null,null,null,null,null,null,null,null,null,null,null,null,null,null,null,null,null,null,null,null,null,null,null,null,null,null,null,null,null,null,null,null,null,null,null,null,null,null,null,null,null,null,null,null,null,null,null,null,null,null,null,null,null,null,null,null,null,null,null,null,null,null,null,null,null,null,null,null,null,null,null,null,null,null,null,null,null,null,null,null,null,null,null,null,null,null,null,null,null,null,null,null,null,null,null,null,null,null,null,null,null,null,null,null,null,null,null,null,null,null,null,null,null,null,null,null,null,null,null,null,null,null,null,null,null,null,null,null,null,null,null,null,null,null,null,null,null,null,null,null,null,null,null,null,null,null,null,null,null,null,null,null,null,null,null,null,null,null,null,null,null,null,null,null,null,null,null,null,null,null,null,null,null,null,null,null,null,null,null,null,null,null,null,null,null,null,null,null,null,null,null,null,null,null,null,null,null,null,null,null,null,null,null,null,null,null,null,null,null,null,null,null,null,null,null,null,null,null,null,null,null,null,null,null,null,null,null,null,null,null,null,null,null,null,null,null,null,null,null,null,null,null,null,null,null,null,null,null,null,null,null,null,null,null,null,null,null,null,null,null,null,null,null,null,null,null,null,null,null,null,null,null,null,null,null,null,null,null,null,null,null,null,null,null,null,null,null,null,null,null,null,null,null,null,null,null,null,null,null,null,null,null,null,null,null,null,null,null,null,null,null,null,null,null,null,null,null,null,null,null,null,null,null,null,null,null,null,null,null,null,null,null,null,null,null,null,null,null,null,null,null,null,null,null,null,null,null,null,null,null,null,null,null,null,null,null,null,null,null,null,null,null,null,null,null,null,null,null,null,null,null,null,null,null,null,null,null,null,null,null,null,null,null,null,null,null,null,null,null,null,null,null,null,null,null,null,null,null,null,null,null,null,null,null,null,null,null,null,null,null,null,null,null,null,null,null,null,null,null,null,null,null,null,null,null,null,null,null,null,null,null,null,null,null,null,null,null,null,null,null,null,null,null,null,null,null,null,null,null,null,null,null,null,null,null,null,null,null,null,null,null,null,null,null,null,null,null,null,null,null,null,null,null,null,null,null,null,null,null,null,null,null,null,null,null,null,null,null,null,null,null,null,null,null,null,null,null,null,null,null,null,null,null,null,null,null,null,null,null,null,null,null,null,null,null,null,null,null,null,null,null,null,null,null,null,null,null,null,null,null,null,null,null,null,null,null,null,null,null,null,null,null,null,null,null,null,null,null,null,null,null,null,null,null,null,null,null,null,null,null,null,null,null,null,null,null,null,null,null,null,null,null,null,null,null,null,null,null,null,null,null,null,null,null,null,null,null,null,null,null,null,null,null,null,null,null,null,null,null,null,null,null,null,null,null,null,null,null,null,null,null,null,null,null,null,null,null,null,null,null,null,null,null,null,null,null,null,null,null,null,null,null,null,null,null,null,null,null,null,null,null,null,null,null,null,null,null,null,null,null,null,null,null,null,null,null,null,null,null,null,null,null,null,null,null,null,null,null,null,null,null,null,null,null,null,null,null,null,null,null,null,null,null,null,null,null,null,null,null,null,null,null,null,null,null,null,null,null,null,null,null,null,null,null,null,null,null,null,null,null,null,null,null,null,null,null,null,null,null,null,null,null,null,null,null,null,null,null,null,null,null,null,null,null,null,null,null,null,null,null,null,null,null,null,null,null,null,null,null,null,null,null,null,null,null,null,null,null,null,null,null,null,null,null,null,null,null,null,null,null,null,null,null,null,null,null,null,null,null,null,null,null,null,null,null,null,null,null,null,null,null,null,null,null,null,null,null,null,null,null,null,null,null,null,null,null,null,null,null,null,null,null,null,null,null,null,null,null,null,null,null,null,null,null,null,null,null,null,null,null,null,null,null,null,null,null,null,null,null,null,null,null,null,null,null,null,null,null,null,null,null,null,null,null,null,null,null,null,null,null,null,null,null,null,null,null,null,null,null,null,null,null,null,null,null,null,null,null,null,null,null,null,null,null,null,null,null,null,null,null,null,null,null,null,null,null,null,null,null,null,null,null,null,null,null,null,null,null,null,null,null,null,null,null,null,null,null,null,null,null,null,null,null,null,null,null,null,null,null,null,null,null,null,null,null,null,null,null,null,null,null,null,null,null,null,null,null,null,null,null,null,null,null,null,null,null,null,null,null,null,null,null,null,null,null,null,null,null,null,null,null,null,null,null,null,null,null,null,null,null,null,null,null,null,null,null,null,null,null,null,null,null,null,null,null,null,null,null,null,null,null,null,null,null,null,null,null,null,null,null,null,null,null,null,null,null,null,null,null,null,null,null,null,null,null,null,null,null,null,null,null,null,null,null,null,null,null,null,null,null,null,null,null,null,null,null,null,null,null,null,null,null,null,null,null,null,null,null,null,null,null,null,null,null,null,null,null,null,null,null,null,null,null,null,null,null,null,null,null,null,null,null,null,null,null,null,null,null,null,null,null,null,null,null,null,null,null,null,null,null,null,null,null,null,null,null,null,null,null,null,null,null,null,null,null,null,null,null,null,null,null,null,null,null,null,null,null,null,null,null,null,null,null,null,null,null,null,null,null,null,null,null,null,null,null,null,null,null,null,null,null,null,null,null,null,null,null,null,null,null,null,null,null,null,null,null,null,null,null,null,null,null,null,null,null,null,null,null,null,null,null,null,null,null,null,null,null,null,null,null,null,null,null,null,null,null,null,null,null,null,null,null,null,null,null,null,null,null,null,null,null,null,null,null,null,null,null,null,null,null,null,null,null,null,null,null,null,null,null,null,null,null,null,null,null,null,null,null,null,null,null,null,null,null,null,null,null,null,null,null,null,null,null,null,null,null,null,null,null,null,null,null,null,null,null,null,null,null,null,null,null,null,null,null,null,null,null,null,null,null,null,null,null,null,null,null,null,null,null,null,null,null,null,null,null,null,null,null,null,null,null,null,null,null,null,null,null,null,null,null,null,null,null,null,null,null,null,null,null,null,null,null,null,null,null,null,null,null,null,null,null,null,null,null,null,null,null,null,null,null,null,null,null,null,null,null,null,null,null,null,null,null,null,null,null,null,null,null,null,null,null,null,null,null,null,null,null,null,null,null,null,null,null,null,null,null,null,null,null,null,null,null,null,null,null,null,null,null,null,null,null,null,null,null,null,null,null,null,null,null,null,null,null,null,null,null,null,null,null,null,null,null,null,null,null,null,null,null,null,null,null,null,null,null,null,null,null,null,null,null,null,null,null,null,null,null,null,null,null,null,null,null,null,null,null,null,null,null,null,null,null,null,null,null,null,null,null,null,null,null,null,null,null,null,null,null,null,null,null,null,null,null,null,null,null,null,null,null,null,null,null,null,null,null,null,null,null,null,null,null,null,null,null,null,null,null,null,null,null,null,null,null,null,null,null,null,null,null,null,null,null,null,null,null,null,null,null,null,null,null,null,null,null,null,null,null,null,null,null,null,null,null,null,null,null,null,null,null,null,null,null,null,null,null,null,null,null,null,null,null,null,null,null,null,null,null,null,null,null,null,null,null,null,null,null,null,null,null,null,null,null,null,null,null,null,null,null,null,null,null,null,null,null,null,null,null,null,null,null,null,null,null,null,null,null,null,null,null,null,null,null,null,null,null,null,null,null,null,null,null,null,null,null,null,null,null,null,null,null,null,null,null,null,null,null,null,null,null,null,null,null,null,null,null,null,null,null,null,null,null,null,null,null,null,null,null,null,null,null,null,null,null,null,null,null,null,null,null,null,null,null,null,null,null,null,null,null,null,null,null,null,null,null,null,null,null,null,null,null,null,null,null,null,null,null,null,null,null,null,null,null,null,null,null,null,null,null,null,null,null,null,null,null,null,null,null,null,null,null,null,null,null,null,null,null,null,null,null,null,null,null,null,null,null,null,null,null,null,null,null,null,null,null,null,null,null,null,null,null,null,null,null,null,null,null,null,null,null,null,null,null,null,null,null,null,null,null,null,null,null,null,null,null,null,null,null,null,null,null,null,null,null,null,null,null,null,null,null,null,null,null,null,null,null,null,null,null,null,null,null,null,null,null,null,null,null,null,null,null,null,null,null,null,null,null,null,null,null,null,null,null,null,null,null,null,null,null,null,null,null,null,null,null,null,null,null,null,null,null,null,null,null,null,null,null,null,null,null,null,null,null,null,null,null,null,null,null,null,null,null,null,null,null,null,null,null,null,null,null,null,null,null,null,null,null,null,null,null,null,null,null,null,null,null,null,null,null,null,null,null,null,null,null,null,null,null,null,null,null,null,null,null,null,null,null,null,null,null,null,null,null,null,null,null,null,null,null,null,null,null,null,null,null,null,null,null,null,null,null,null,null,null,null,null,null,null,null,null,null,null,null,null,null,null,null,null,null,null,null,null,null,null,null,null,null,null,null,null,null,null,null,null,null,null,null,null,null,null,null,null,null,null,null,null,null,null,null,null,null,null,null,null,null,null,null,null,null,null,null,null,null,null,null,null,null,null,null,null,null,null,null,null,null,null,null,null,null,null,null,null,null,null,null,null,null,null,null,null,null,null,null,null,null,null,null,null,null,null,null,null,null,null,null,null,null,null,null,null,null,null,null,null,null,null,null,null,null,null,null,null,null,null,null,null,null,null,null,null,null,null,null,null,null,null,null,null,null,null,null,null,null,null,null,null,null,null,null,null,null,null,null,null,null,null,null,null,null,null,null,null,null,null,null,null,null,null,null,null,null,null,null,null,null,null,null,null,null,null,null,null,null,null,null,null,null,null,null,null,null,null,null,null,null,null,null,null,null,null,null,null,null,null,null,null,null,null,null,null,null,null,null,null,null,null,null,null,null,null,null,null,null,null,null,null,null,null,null,null,null,null,null,null,null,null,null,null,null,null,null,null,null,null,null,null,null,null,null,null,null,null,null,null,null,null,null,null,null,null,null,null,null,null,null,null,null,null,null,null,null,null,null,null,null,null,null,null,null,null,null,null,null,null,null,null,null,null,null,null,null,null,null,null,null,null,null,null,null,null,null,null,null,null,null,null,null,null,null,null,null,null,null,null,null,null,null,null,null,null,null,null,null,null,null,null,null,null,null,null,null,null,null,null,null,null,null,null,null,null,null,null,null,null,null,null,null,null,null,null,null,null,null,null,null,null,null,null,null,null,null,null,null,null,null,null,null,null,null,null,null,null,null,null,null,null,null,null,null,null,null,null,null,null,null,null,null,null,null,null,null,null,null,null,null,null,null,null,null,null,null,null,null,null,null,null,null,null,null,null,null,null,null,null,null,null,null,null,null,null,null,null,null,null,null,null,null,null,null,null,null,null,null,null,null,null,null,null,null,null,null,null,null,null,null,null,null,null,null,null,null,null,null,null,null,null,null,null,null,null,null,null,null,null,null,null,null,null,null,null,null,null,null,null,null,null,null,null,null,null,null,null,null,null,null,null,null,null,null,null,null,null,null,null,null,null,null,null,null,null,null,null,null,null,null,null,null,null,null,null,null,null,null,null,null,null,null,null,null,null,null,null,null,null,null,null,null,null,null,null,null,null,null,null,null,null,null,null,null,null,null,null,null,null,null,null,null,null,null,null,null,null,null,null,null,null,null,null,null,null,null,null,null,null,null,null,null,null,null,null,null,null,null,null,null,null,null,null,null,null,null,null,null,null,null,null,null,null,null,null,null,null,null,null,null,null,null,null,null,null,null,null,null,null,null,null,null,null,null,null,null,null,null,null,null,null,null,null,null,null,null,null,null,null,null,null,null,null,null,null,null,null,null,null,null,null,null,null,null,null,null,null,null,null,null,null,null,null,null,null,null,null,null,null,null,null,null,null,null,null,null,null,null,null,null,null,null,null,null,null,null,null,null,null,null,null,null,null,null,null,null,null,null,null,null,null,null,null,null,null,null,null,null,null,null,null,null,null,null,null,null,null,null,null,null,null,null,null,null,null,null,null,null,null,null,null,null,null,null,null,null,null,null,null,null,null,null,null,null,null,null,null,null,null,null,null,null,null,null,null,null,null,null,null,null,null,null,null,null,null,null,null,null,null,null,null,null,null,null,null,null,null,null,null,null,null,null,null,null,null,null,null,null,null,null,null,null,null,null,null,null,null,null,null,null,null,null,null,null,null,null,null,null,null,null,null,null,null,null,null,null,null,null,null,null,null,null,null,null,null,null,null,null,null,null,null,null,null,null,null,null,null,null,null,null,null,null,null,null,null,null,null,null,null,null,null,null,null,null,null,null,null,null,null,null,null,null,null,null,null,null,null,null,null,null,null,null,null,null,null,null,null,null,null,null,null,null,null,null,null,null,null,null,null,null,null,null,null,null,null,null,null,null,null,null,null,null,null,null,null,null,null,null,null,null,null,null,null,null,null,null,null,null,null,null,null,null,null,null,null,null,null,null,null,null,null,null,null,null,null,null,null,null,null,null,null,null,null,null,null,null,null,null,null,null,null,null,null,null,null,null,null,null,null,null,null,null,null,null,null,null,null,null,null,null,null,null,null,null,null,null,null,null,null,null,null,null,null,null,null,null,null,null,null,null,null,null,null,null,null,null,null,null,null,null,null,null,null,null,null,null,null,null,null,null,null,null,null,null,null,null,null,null,null,null,null,null,null,null,null,null,null,null,null,null,null,null,null,null,null,null,null,null,null,null,null,null,null,null,null,null,null,null,null,null,null,null,null,null,null,null,null,null,null,null,null,null,null,null,null,null,null,null,null,null,null,null,null,null,null,null,null,null,null,null,null,null,null,null,null,null,null,null,null,null,null,null,null,null,null,null,null,null,null,null,null,null,null,null,null,null,null,null,null,null,null,null,null,null,null,null,null,null,null,null,null,null,null,null,null,null,null,null,null,null,null,null,null,null,null,null,null,null,null,null,null,null,null,null,null,null,null,null,null,null,null,null,null,null,null,null,null,null,null,null,null,null,null,null,null,null,null,null,null,null,null,null,null,null,null,null,null,null,null,null,null,null,null,null,null,null,null,null,null,null,null,null,null,null,null,null,null,null,null,null,null,null,null,null,null,null,null,null,null,null,null,null,null,null,null,null,null,null,null,null,null,null,null,null,null,null,null,null,null,null,null,null,null,null,null,null,null,null,null,null,null,null,null,null,null,null,null,null,null,null,null,null,null,null,null,null,null,null,null,null,null,null,null,null,null,null,null,null,null,null,null,null,null,null,null,null,null,null,null,null,null,null,null,null,null,null,null,null,null,null,null,null,null,null,null,null,null,null,null,null,null,null,null,null,null,null,null,null,null,null,null,null,null,null,null,null,null,null,null,null,null,null,null,null,null,null,null,null,null,null,null,null,null,null,null,null,null,null,null,null,null,null,null,null,null,null,null,null,null,null,null,null,null,null,null,null,null,null,null,null,null,null,null,null,null,null,null,null,null,null,null,null,null,null,null,null,null,null,null,null,null,null,null,null,null,null,null,null,null,null,null,null,null,null,null,null,null,null,null,null,null,null,null,null,null,null,null,null,null,null,null,null,null,null,null,null,null,null,null,null,null,null,null,null,null,null,null,null,null,null,null,null,null,null,null,null,null,null,null,null,null,null,null,null,null,null,null,null,null,null,null,null,null,null,null,null,null,null,null,null,null,null,null,null,null,null,null,null,null,null,null,null,null,null,null,null,null,null,null,null,null,null,null,null,null,null,null,null,null,null,null,null,null,null,null,null,null,null,null,null,null,null,null,null,null,null,null,null,null,null,null,null,null,null,null,null,null,null,null,null,null,null,null,null,null,null,null,null,null,null,null,null,null,null,null,null,null,null,null,null,null,null,null,null,null,null,null,null,null,null,null,null,null,null,null,null,null,null,null,null,null,null,null,null,null,null,null,null,null,null,null,null,null,null,null,null,null,null,null,null,null,null,null,null,null,null,null,null,null,null,null,null,null,null,null,null,null,null,null,null,null,null,null,null,null,null,null,null,null,null,null,null,null,null,null,null,null,null,null,null,null,null,null,null,null,null,null,null,null,null,null,null,null,null,null,null,null,null,null,null,null,null,null,null,null,null,null,null,null,null,null,null,null,null,null,null,null,null,null,null,null,null,null,null,null,null,null,null,null,null,null,null,null,null,null,null,null,null,null,null,null,null,null,null,null,null,null,null,null,null,null,null,null,null,null,null,null,null,null,null,null,null,null,null,null,null,null,null,null,null,null,null,null,null,null,null,null,null,null,null,null,null,null,null,null,null,null,null,null,null,null,null,null,null,null,null,null,null,null,null,null,null,null,null,null,null,null,null,null,null,null,null,null,null,null,null,null,null,null,null,null,null,null,null,null,null,null,null,null,null,null,null,null,null,null,null,null,null,null,null,null,null,null,null,null,null,null,null,null,null,null,null,null,null,null,null,null,null,null,null,null,null,null,null,null,null,null,null,null,null,null,null,null,null,null,null,null,null,null,null,null,null,null,null,null,null,null,null,null,null,null,null,null,null,null,null,null,null,null,null,null,null,null,null,null,null,null,null,null,null,null,null,null,null,null,null,null,null,null,null,null,null,null,null,null,null,null,null,null,null,null,null,null,null,null,null,null,null,null,null,null,null,null,null,null,null,null,null,null,null,null,null,null,null,null,null,null,null,null,null,null,null,null,null,null,null,null,null,null,null,null,null,null,null,null,null,null,null,null,null,null,null,null,null,null,null,null,null,null,null,null,null,null,null,null,null,null,null,null,null,null,null,null,null,null,null,null,null,null,null,null,null,null,null,null,null,null,null,null,null,null,null,null,null,null,null,null,null,null,null,null,null,null,null,null,null,null,null,null,null,null,null,null,null,null,null,null,null,null,null,null,null,null,null,null,null,null,null,null,null,null,null,null,null,null,null,null,null,null,null,null,null,null,null,null,null,null,null,null,null,null,null,null,null,null,null,null,null,null,null,null,null,null,null,null,null,null,null,null,null,null,null,null,null,null,null,null,null,null,null,null,null,null,null,null,null,null,null,null,null,null,null,null,null,null,null,null,null,null,null,null,null,null,null,null,null,null,null,null,null,null,null,null,null,null,null,null,null,null,null,null,null,null,null,null,null,null,null,null,null,null,null,null,null,null,null,null,null,null,null,null,null,null,null,null,null,null,null,null,null,null,null,null,null,null,null,null,null,null,null,null,null,null,null,null,null,null,null,null,null,null,null,null,null,null,null,null,null,null,null,null,null,null,null,null,null,null,null,null,null,null,null,null,null,null,null,null,null,null,null,null,null,null,null,null,null,null,null,null,null,null,null,null,null,null,null,null,null,null,null,null,null,null,null,null,null,null,null,null,null,null,null,null,null,null,null,null,null,null,null,null,null,null,null,null,null,null,null,null,null,null,null,null,null,null,null,null,null,null,null,null,null,null,null,null,null,null,null,null,null,null,null,null,null,null,null,null,null,null,null,null,null,null,null,null,null,null,null,null,null,null,null,null,null,null,null,null,null,null,null,null,null,null,null,null,null,null,null,null,null,null,null,null,null,null,null,null,null,null,null,null,null,null,null,null,null,null,null,null,null,null,null,null,null,null,null,null,null,null,null,null,null,null,null,null,null,null,null,null,null,null,null,null,null,null,null,null,null,null,null,null,null,null,null,null,null,null,null,null,null,null,null,null,null,null,null,null,null,null,null,null,null,null,null,null,null,null,null,null,null,null,null,null,null,null,null,null,null,null,null,null,null,null,null,null,null,null,null,null,null,null,null,null,null,null,null,null,null,null,null,null,null,null,null,null,null,null,null,null,null,null,null,null,null,null,null,null,null,null,null,null,null,null,null,null,null,null,null,null,null,null,null,null,null,null,null,null,null,null,null,null,null,null,null,null,null,null,null,null,null,null,null,null,null,null,null,null,null,null,null,null,null,null,null,null,null,null,null,null,null,null,null,null,null,null,null,null,null,null,null,null,null,null,null,null,null,null,null,null,null,null,null,null,null,null,null,null,null,null,null,null,null,null,null,null,null,null,null,null,null,null,null,null,null,null,null,null,null,null,null,null,null,null,null,null,null,null,null,null,null,null,null,null,null,null,null,null,null,null,null,null,null,null,null,null,null,null,null,null,null,null,null,null,null,null,null,null,null,null,null,null,null,null,null,null,null,null,null,null,null,null,null,null,null,null,null,null,null,null,null,null,null,null,null,null,null,null,null,null,null,null,null,null,null,null,null,null,null,null,null,null,null,null,null,null,null,null,null,null,null,null,null,null,null,null,null,null,null,null,null,null,null,null,null,null,null,null,null,null,null,null,null,null,null,null,null,null,null,null,null,null,null,null,null,null,null,null,null,null,null,null,null,null,null,null,null,null,null,null,null,null,null,null,null,null,null,null,null,null,null,null,null,null,null,null,null,null,null,null,null,null,null,null,null,null,null,null,null,null,null,null,null,null,null,null,null,null,null,null,null,null,null,null,null,null,null,null,null,null,null,null,null,null,null,null,null,null,null,null,null,null,null,null,null,null,null,null,null,null,null,null,null,null,null,null,null,null,null,null,null,null,null,null,null,null,null,null,null,null,null,null,null,null,null,null,null,null,null,null,null,null,null,null,null,null,null,null,null,null,null,null,null,null,null,null,null,null,null,null,null,null,null,null,null,null,null,null,null,null,null,null,null,null,null,null,null,null,null,null,null,null,null,null,null,null,null,null,null,null,null,null,null,null,null,null,null,null,null,null,null,null,null,null,null,null,null,null,null,null,null,null,null,null,null,null,null,null,null,null,null,null,null,null,null,null,null,null,null,null,null,null,null,null,null,null,null,null,null,null,null,null,null,null,null,null,null,null,null,null,null,null,null,null,null,null,null,null,null,null,null,null,null,null,null,null,null,null,null,null,null,null,null,null,null,null,null,null,null,null,null,null,null,null,null,null,null,null,null,null,null,null,null,null,null,null,null,null,null,null,null,null,null,null,null,null,null,null,null,null,null,null,null,null,null,null,null,null,null,null,null,null,null,null,null,null,null,null,null,null,null,null,null,null,null,null,null,null,null,null,null,null,null,null,null,null,null,null,null,null,null,null,null,null,null,null,null,null,null,null,null,null,null,null,null,null,null,null,null,null,null,null,null,null,null,null,null,null,null,null,null,null,null,null,null,null,null,null,null,null,null,null,null,null,null,null,null,null,null,null,null,null,null,null,null,null,null,null,null,null,null,null,null,null,null,null,null,null,null,null,null,null,null,null,null,null,null,null,null,null,null,null,null,null,null,null,null,null,null,null,null,null,null,null,null,null,null,null,null,null,null,null,null,null,null,null,null,null,null,null,null,null,null,null,null,null,null,null,null,null,null,null,null,null,null,null,null,null,null,null,null,null,null,null,null,null,null,null,null,null,null,null,null,null,null,null,null,null,null,null,null,null,null,null,null,null,null,null,null,null,null,null,null,null,null,null,null,null,null,null,null,null,null,null,null,null,null,null,null,null,null,null,null,null,null,null,null,null,null,null,null,null,null,null,null,null,null,null,null,null,null,null,null,null,null,null,null,null,null,null,null,null,null,null,null,null,null,null,null,null,null,null,null,null,null,null,null,null,null,null,null,null,null,null,null,null,null,null,null,null,null,null,null,null,null,null,null,null,null,null,null,null,null,null,null,null,null,null,null,null,null,null,null,null,null,null,null,null,null,null,null,null,null,null,null,null,null,null,null,null,null,null,null,null,null,null,null,null,null,null,null,null,null,null,null,null,null,null,null,null,null,null,null,null,null,null,null,null,null,null,null,null,null,null,null,null,null,null,null,null,null,null,null,null,null,null,null,null,null,null,null,null,null,null,null,null,null,null,null,null,null,null,null,null,null,null,null,null,null,null,null,null,null,null,null,null,null,null,null,null,null,null,null,null,null,null,null,null,null,null,null,null,null,null,null,null,null,null,null,null,null,null,null,null,null,null,null,null,null,null,null,null,null,null,null,null,null,null,null,null,null,null,null,null,null,null,null,null,null,null,null,null,null,null,null,null,null,null,null,null,null,null,null,null,null,null,null,null,null,null,null,null,null,null,null,null,null,null,null,null,null,null,null,null,null,null,null,null,null,null,null,null,null,null,null,null,null,null,null,null,null,null,null,null,null,null,null,null,null,null,null,null,null,null,null,null,null,null,null,null,null,null,null,null,null,null,null,null,null,null,null,null,null,null,null,null,null,null,null,null,null,null,null,null,null,null,null,null,null,null,null,null,null,null,null,null,null,null,null,null,null,null,null,null,null,null,null,null,null,null,null,null,null,null,null,null,null,null,null,null,null,null,null,null,null,null,null,null,null,null,null,null,null,null,null,null,null,null,null,null,null,null,null,null,null,null,null,null,null,null,null,null,null,null,null,null,null,null,null,null,null,null,null,null,null,null,null,null,null,null,null,null,null,null,null,null,null,null,null,null,null,null,null,null,null,null,null,null,null,null,null,null,null,null,null,null,null,null,null,null,null,null,null,null,null,null,null,null,null,null,null,null,null,null,null,null,null,null,null,null,"Devolvida sem pgto","Comum"]
[null,"SIM",null,null,null,null,null,null,null,null,null,null,null,null,null,null,null,null,null,null,null,null,null,null,null,null,null,null,null,null,null,null,null,null,null,null,null,null,null,null,null,null,null,null,null,null,null,null,null,null,null,null,null,null,null,null,null,null,null,null,null,null,null,null,null,null,null,null,null,null,null,null,null,null,null,null,null,null,null,null,null,null,null,null,null,null,null,null,null,null,null,null,null,null,null,null,null,null,null,null,null,null,null,null,null,null,null,null,null,null,null,null,null,null,null,null,null,null,null,null,null,null,null,null,null,null,null,null,null,null,null,null,null,null,null,null,null,null,null,null,null,null,null,null,null,null,null,null,null,null,null,null,null,null,null,null,null,null,null,null,null,null,null,null,null,null,null,null,null,null,null,null,null,null,null,null,null,null,null,null,null,null,null,null,null,null,null,null,null,null,null,null,null,null,null,null,null,null,null,null,null,null,null,null,null,null,null,null,null,null,null,null,null,null,null,null,null,null,null,null,null,null,null,null,null,null,null,null,null,null,null,null,null,null,null,null,null,null,null,null,null,null,null,null,null,null,null,null,null,null,null,null,null,null,null,null,null,null,null,null,null,null,null,null,null,null,null,null,null,null,null,null,null,null,null,null,null,null,null,null,null,null,null,null,null,null,null,null,null,null,null,null,null,null,null,null,null,null,null,null,null,null,null,null,null,null,null,null,null,null,null,null,null,null,null,null,null,null,null,null,null,null,null,null,null,null,null,null,null,null,null,null,null,null,null,null,null,null,null,null,null,null,null,null,null,null,null,null,null,null,null,null,null,null,null,null,null,null,null,null,null,null,null,null,null,null,null,null,null,null,null,null,null,null,null,null,null,null,null,null,null,null,null,null,null,null,null,null,null,null,null,null,null,null,null,null,null,null,null,null,null,null,null,null,null,null,null,null,null,null,null,null,null,null,null,null,null,null,null,null,null,null,null,null,null,null,null,null,null,null,null,null,null,null,null,null,null,null,null,null,null,null,null,null,null,null,null,null,null,null,null,null,null,null,null,null,null,null,null,null,null,null,null,null,null,null,null,null,null,null,null,null,null,null,null,null,null,null,null,null,null,null,null,null,null,null,null,null,null,null,null,null,null,null,null,null,null,null,null,null,null,null,null,null,null,null,null,null,null,null,null,null,null,null,null,null,null,null,null,null,null,null,null,null,null,null,null,null,null,null,null,null,null,null,null,null,null,null,null,null,null,null,null,null,null,null,null,null,null,null,null,null,null,null,null,null,null,null,null,null,null,null,null,null,null,null,null,null,null,null,null,null,null,null,null,null,null,null,null,null,null,null,null,null,null,null,null,null,null,null,null,null,null,null,null,null,null,null,null,null,null,null,null,null,null,null,null,null,null,null,null,null,null,null,null,null,null,null,null,null,null,null,null,null,null,null,null,null,null,null,null,null,null,null,null,null,null,null,null,null,null,null,null,null,null,null,null,null,null,null,null,null,null,null,null,null,null,null,null,null,null,null,null,null,null,null,null,null,null,null,null,null,null,null,null,null,null,null,null,null,null,null,null,null,null,null,null,null,null,null,null,null,null,null,null,null,null,null,null,null,null,null,null,null,null,null,null,null,null,null,null,null,null,null,null,null,null,null,null,null,null,null,null,null,null,null,null,null,null,null,null,null,null,null,null,null,null,null,null,null,null,null,null,null,null,null,null,null,null,null,null,null,null,null,null,null,null,null,null,null,null,null,null,null,null,null,null,null,null,null,null,null,null,null,null,null,null,null,null,null,null,null,null,null,null,null,null,null,null,null,null,null,null,null,null,null,null,null,null,null,null,null,null,null,null,null,null,null,null,null,null,null,null,null,null,null,null,null,null,null,null,null,null,null,null,null,null,null,null,null,null,null,null,null,null,null,null,null,null,null,null,null,null,null,null,null,null,null,null,null,null,null,null,null,null,null,null,null,null,null,null,null,null,null,null,null,null,null,null,null,null,null,null,null,null,null,null,null,null,null,null,null,null,null,null,null,null,null,null,null,null,null,null,null,null,null,null,null,null,null,null,null,null,null,null,null,null,null,null,null,null,null,null,null,null,null,null,null,null,null,null,null,null,null,null,null,null,null,null,null,null,null,null,null,null,null,null,null,null,null,null,null,null,null,null,null,null,null,null,null,null,null,null,null,null,null,null,null,null,null,null,null,null,null,null,null,null,null,null,null,null,null,null,null,null,null,null,null,null,null,null,null,null,null,null,null,null,null,null,null,null,null,null,null,null,null,null,null,null,null,null,null,null,null,null,null,null,null,null,null,null,null,null,null,null,null,null,null,null,null,null,null,null,null,null,null,null,null,null,null,null,null,null,null,null,null,null,null,null,null,null,null,null,null,null,null,null,null,null,null,null,null,null,null,null,null,null,null,null,null,null,null,null,null,null,null,null,null,null,null,null,null,null,null,null,null,null,null,null,null,null,null,null,null,null,null,null,null,null,null,null,null,null,null,null,null,null,null,null,null,null,null,null,null,null,null,null,null,null,null,null,null,null,null,null,null,null,null,null,null,null,null,null,null,null,null,null,null,null,null,null,null,null,null,null,null,null,null,null,null,null,null,null,null,null,null,null,null,null,null,null,null,null,null,null,null,null,null,null,null,null,null,null,null,null,null,null,null,null,null,null,null,null,null,null,null,null,null,null,null,null,null,null,null,null,null,null,null,null,null,null,null,null,null,null,null,null,null,null,null,null,null,null,null,null,null,null,null,null,null,null,null,null,null,null,null,null,null,null,null,null,null,null,null,null,null,null,null,null,null,null,null,null,null,null,null,null,null,null,null,null,null,null,null,null,null,null,null,null,null,null,null,null,null,null,null,null,null,null,null,null,null,null,null,null,null,null,null,null,null,null,null,null,null,null,null,null,null,null,null,null,null,null,null,null,null,null,null,null,null,null,null,null,null,null,null,null,null,null,null,null,null,null,null,null,null,null,null,null,null,null,null,null,null,null,null,null,null,null,null,null,null,null,null,null,null,null,null,null,null,null,null,null,null,null,null,null,null,null,null,null,null,null,null,null,null,null,null,null,null,null,null,null,null,null,null,null,null,null,null,null,null,null,null,null,null,null,null,null,null,null,null,null,null,null,null,null,null,null,null,null,null,null,null,null,null,null,null,null,null,null,null,null,null,null,null,null,null,null,null,null,null,null,null,null,null,null,null,null,null,null,null,null,null,null,null,null,null,null,null,null,null,null,null,null,null,null,null,null,null,null,null,null,null,null,null,null,null,null,null,null,null,null,null,null,null,null,null,null,null,null,null,null,null,null,null,null,null,null,null,null,null,null,null,null,null,null,null,null,null,null,null,null,null,null,null,null,null,null,null,null,null,null,null,null,null,null,null,null,null,null,null,null,null,null,null,null,null,null,null,null,null,null,null,null,null,null,null,null,null,null,null,null,null,null,null,null,null,null,null,null,null,null,null,null,null,null,null,null,null,null,null,null,null,null,null,null,null,null,null,null,null,null,null,null,null,null,null,null,null,null,null,null,null,null,null,null,null,null,null,null,null,null,null,null,null,null,null,null,null,null,null,null,null,null,null,null,null,null,null,null,null,null,null,null,null,null,null,null,null,null,null,null,null,null,null,null,null,null,null,null,null,null,null,null,null,null,null,null,null,null,null,null,null,null,null,null,null,null,null,null,null,null,null,null,null,null,null,null,null,null,null,null,null,null,null,null,null,null,null,null,null,null,null,null,null,null,null,null,null,null,null,null,null,null,null,null,null,null,null,null,null,null,null,null,null,null,null,null,null,null,null,null,null,null,null,null,null,null,null,null,null,null,null,null,null,null,null,null,null,null,null,null,null,null,null,null,null,null,null,null,null,null,null,null,null,null,null,null,null,null,null,null,null,null,null,null,null,null,null,null,null,null,null,null,null,null,null,null,null,null,null,null,null,null,null,null,null,null,null,null,null,null,null,null,null,null,null,null,null,null,null,null,null,null,null,null,null,null,null,null,null,null,null,null,null,null,null,null,null,null,null,null,null,null,null,null,null,null,null,null,null,null,null,null,null,null,null,null,null,null,null,null,null,null,null,null,null,null,null,null,null,null,null,null,null,null,null,null,null,null,null,null,null,null,null,null,null,null,null,null,null,null,null,null,null,null,null,null,null,null,null,null,null,null,null,null,null,null,null,null,null,null,null,null,null,null,null,null,null,null,null,null,null,null,null,null,null,null,null,null,null,null,null,null,null,null,null,null,null,null,null,null,null,null,null,null,null,null,null,null,null,null,null,null,null,null,null,null,null,null,null,null,null,null,null,null,null,null,null,null,null,null,null,null,null,null,null,null,null,null,null,null,null,null,null,null,null,null,null,null,null,null,null,null,null,null,null,null,null,null,null,null,null,null,null,null,null,null,null,null,null,null,null,null,null,null,null,null,null,null,null,null,null,null,null,null,null,null,null,null,null,null,null,null,null,null,null,null,null,null,null,null,null,null,null,null,null,null,null,null,null,null,null,null,null,null,null,null,null,null,null,null,null,null,null,null,null,null,null,null,null,null,null,null,null,null,null,null,null,null,null,null,null,null,null,null,null,null,null,null,null,null,null,null,null,null,null,null,null,null,null,null,null,null,null,null,null,null,null,null,null,null,null,null,null,null,null,null,null,null,null,null,null,null,null,null,null,null,null,null,null,null,null,null,null,null,null,null,null,null,null,null,null,null,null,null,null,null,null,null,null,null,null,null,null,null,null,null,null,null,null,null,null,null,null,null,null,null,null,null,null,null,null,null,null,null,null,null,null,null,null,null,null,null,null,null,null,null,null,null,null,null,null,null,null,null,null,null,null,null,null,null,null,null,null,null,null,null,null,null,null,null,null,null,null,null,null,null,null,null,null,null,null,null,null,null,null,null,null,null,null,null,null,null,null,null,null,null,null,null,null,null,null,null,null,null,null,null,null,null,null,null,null,null,null,null,null,null,null,null,null,null,null,null,null,null,null,null,null,null,null,null,null,null,null,null,null,null,null,null,null,null,null,null,null,null,null,null,null,null,null,null,null,null,null,null,null,null,null,null,null,null,null,null,null,null,null,null,null,null,null,null,null,null,null,null,null,null,null,null,null,null,null,null,null,null,null,null,null,null,null,null,null,null,null,null,null,null,null,null,null,null,null,null,null,null,null,null,null,null,null,null,null,null,null,null,null,null,null,null,null,null,null,null,null,null,null,null,null,null,null,null,null,null,null,null,null,null,null,null,null,null,null,null,null,null,null,null,null,null,null,null,null,null,null,null,null,null,null,null,null,null,null,null,null,null,null,null,null,null,null,null,null,null,null,null,null,null,null,null,null,null,null,null,null,null,null,null,null,null,null,null,null,null,null,null,null,null,null,null,null,null,null,null,null,null,null,null,null,null,null,null,null,null,null,null,null,null,null,null,null,null,null,null,null,null,null,null,null,null,null,null,null,null,null,null,null,null,null,null,null,null,null,null,null,null,null,null,null,null,null,null,null,null,null,null,null,null,null,null,null,null,null,null,null,null,null,null,null,null,null,null,null,null,null,null,null,null,null,null,null,null,null,null,null,null,null,null,null,null,null,null,null,null,null,null,null,null,null,null,null,null,null,null,null,null,null,null,null,null,null,null,null,null,null,null,null,null,null,null,null,null,null,null,null,null,null,null,null,null,null,null,null,null,null,null,null,null,null,null,null,null,null,null,null,null,null,null,null,null,null,null,null,null,null,null,null,null,null,null,null,null,null,null,null,null,null,null,null,null,null,null,null,null,null,null,null,null,null,null,null,null,null,null,null,null,null,null,null,null,null,null,null,null,null,null,null,null,null,null,null,null,null,null,null,null,null,null,null,null,null,null,null,null,null,null,null,null,null,null,null,null,null,null,null,null,null,null,null,null,null,null,null,null,null,null,null,null,null,null,null,null,null,null,null,null,null,null,null,null,null,null,null,null,null,null,null,null,null,null,null,null,null,null,null,null,null,null,null,null,null,null,null,null,null,null,null,null,null,null,null,null,null,null,null,null,null,null,null,null,null,null,null,null,null,null,null,null,null,null,null,null,null,null,null,null,null,null,null,null,null,null,null,null,null,null,null,null,null,null,null,null,null,null,null,null,null,null,null,null,null,null,null,null,null,null,null,null,null,null,null,null,null,null,null,null,null,null,null,null,null,null,null,null,null,null,null,null,null,null,null,null,null,null,null,null,null,null,null,null,null,null,null,null,null,null,null,null,null,null,null,null,null,null,null,null,null,null,null,null,null,null,null,null,null,null,null,null,null,null,null,null,null,null,null,null,null,null,null,null,null,null,null,null,null,null,null,null,null,null,null,null,null,null,null,null,null,null,null,null,null,null,null,null,null,null,null,null,null,null,null,null,null,null,null,null,null,null,null,null,null,null,null,null,null,null,null,null,null,null,null,null,null,null,null,null,null,null,null,null,null,null,null,null,null,null,null,null,null,null,null,null,null,null,null,null,null,null,null,null,null,null,null,null,null,null,null,null,null,null,null,null,null,null,null,null,null,null,null,null,null,null,null,null,null,null,null,null,null,null,null,null,null,null,null,null,null,null,null,null,null,null,null,null,null,null,null,null,null,null,null,null,null,null,null,null,null,null,null,null,null,null,null,null,null,null,null,null,null,null,null,null,null,null,null,null,null,null,null,null,null,null,null,null,null,null,null,null,null,null,null,null,null,null,null,null,null,null,null,null,null,null,null,null,null,null,null,null,null,null,null,null,null,null,null,null,null,null,null,null,null,null,null,null,null,null,null,null,null,null,null,null,null,null,null,null,null,null,null,null,null,null,null,null,null,null,null,null,null,null,null,null,null,null,null,null,null,null,null,null,null,null,null,null,null,null,null,null,null,null,null,null,null,null,null,null,null,null,null,null,null,null,null,null,null,null,null,null,null,null,null,null,null,null,null,null,null,null,null,null,null,null,null,null,null,null,null,null,null,null,null,null,null,null,null,null,null,null,null,null,null,null,null,null,null,null,null,null,null,null,null,null,null,null,null,null,null,null,null,null,null,null,null,null,null,null,null,null,null,null,null,null,null,null,null,null,null,null,null,null,null,null,null,null,null,null,null,null,null,null,null,null,null,null,null,null,null,null,null,null,null,null,null,null,null,null,null,null,null,null,null,null,null,null,null,null,null,null,null,null,null,null,null,null,null,null,null,null,null,null,null,null,null,null,null,null,null,null,null,null,null,null,null,null,null,null,null,null,null,null,null,null,null,null,null,null,null,null,null,null,null,null,null,null,null,null,null,null,null,null,null,null,null,null,null,null,null,null,null,null,null,null,null,null,null,null,null,null,null,null,null,null,null,null,null,null,null,null,null,null,null,null,null,null,null,null,null,null,null,null,null,null,null,null,null,null,null,null,null,null,null,null,null,null,null,null,null,null,null,null,null,null,null,null,null,null,null,null,null,null,null,null,null,null,null,null,null,null,null,null,null,null,null,null,null,null,null,null,null,null,null,null,null,null,null,null,null,null,null,null,null,null,null,null,null,null,null,null,null,null,null,null,null,null,null,null,null,null,null,null,null,null,null,null,null,null,null,null,null,null,null,null,null,null,null,null,null,null,null,null,null,null,null,null,null,null,null,null,null,null,null,null,null,null,null,null,null,null,null,null,null,null,null,null,null,null,null,null,null,null,null,null,null,null,null,null,null,null,null,null,null,null,null,null,null,null,null,null,null,null,null,null,null,null,null,null,null,null,null,null,null,null,null,null,null,null,null,null,null,null,null,null,null,null,null,null,null,null,null,null,null,null,null,null,null,null,null,null,null,null,null,null,null,null,null,null,null,null,null,null,null,null,null,null,null,null,null,null,null,null,null,null,null,null,null,null,null,null,null,null,null,null,null,null,null,null,null,null,null,null,null,null,null,null,null,null,null,null,null,null,null,null,null,null,null,null,null,null,null,null,null,null,null,null,null,null,null,null,null,null,null,null,null,null,null,null,null,null,null,null,null,null,null,null,null,null,null,null,null,null,null,null,null,null,null,null,null,null,null,null,null,null,null,null,null,null,null,null,null,null,null,null,null,null,null,null,null,null,null,null,null,null,null,null,null,null,null,null,null,null,null,null,null,null,null,null,null,null,null,null,null,null,null,null,null,null,null,null,null,null,null,null,null,null,null,null,null,null,null,null,null,null,null,null,null,null,null,null,null,null,null,null,null,null,null,null,null,null,null,null,null,null,null,null,null,null,null,null,null,null,null,null,null,null,null,null,null,null,null,null,null,null,null,null,null,null,null,null,null,null,null,null,null,null,null,null,null,null,null,null,null,null,null,null,null,null,null,null,null,null,null,null,null,null,null,null,null,null,null,null,null,null,null,null,null,null,null,null,null,null,null,null,null,null,null,null,null,null,null,null,null,null,null,null,null,null,null,null,null,null,null,null,null,null,null,null,null,null,null,null,null,null,null,null,null,null,null,null,null,null,null,null,null,null,null,null,null,null,null,null,null,null,null,null,null,null,null,null,null,null,null,null,null,null,null,null,null,null,null,null,null,null,null,null,null,null,null,null,null,null,null,null,null,null,null,null,null,null,null,null,null,null,null,null,null,null,null,null,null,null,null,null,null,null,null,null,null,null,null,null,null,null,null,null,null,null,null,null,null,null,null,null,null,null,null,null,null,null,null,null,null,null,null,null,null,null,null,null,null,null,null,null,null,null,null,null,null,null,null,null,null,null,null,null,null,null,null,null,null,null,null,null,null,null,null,null,null,null,null,null,null,null,null,null,null,null,null,null,null,null,null,null,null,null,null,null,null,null,null,null,null,null,null,null,null,null,null,null,null,null,null,null,null,null,null,null,null,null,null,null,null,null,null,null,null,null,null,null,null,null,null,null,null,null,null,null,null,null,null,null,null,null,null,null,null,null,null,null,null,null,null,null,null,null,null,null,null,null,null,null,null,null,null,null,null,null,null,null,null,null,null,null,null,null,null,null,null,null,null,null,null,null,null,null,null,null,null,null,null,null,null,null,null,null,null,null,null,null,null,null,null,null,null,null,null,null,null,null,null,null,null,null,null,null,null,null,null,null,null,null,null,null,null,null,null,null,null,null,null,null,null,null,null,null,null,null,null,null,null,null,null,null,null,null,null,null,null,null,null,null,null,null,null,null,null,null,null,null,null,null,null,null,null,null,null,null,null,null,null,null,null,null,null,null,null,null,null,null,null,null,null,null,null,null,null,null,null,null,null,null,null,null,null,null,null,null,null,null,null,null,null,null,null,null,null,null,null,null,null,null,null,null,null,null,null,null,null,null,null,null,null,null,null,null,null,null,null,null,null,null,null,null,null,null,null,null,null,null,null,null,null,null,null,null,null,null,null,null,null,null,null,null,null,null,null,null,null,null,null,null,null,null,null,null,null,null,null,null,null,null,null,null,null,null,null,null,null,null,null,null,null,null,null,null,null,null,null,null,null,null,null,null,null,null,null,null,null,null,null,null,null,null,null,null,null,null,null,null,null,null,null,null,null,null,null,null,null,null,null,null,null,null,null,null,null,null,null,null,null,null,null,null,null,null,null,null,null,null,null,null,null,null,null,null,null,null,null,null,null,null,null,null,null,null,null,null,null,null,null,null,null,null,null,null,null,null,null,null,null,null,null,null,null,null,null,null,null,null,null,null,null,null,null,null,null,null,null,null,null,null,null,null,null,null,null,null,null,null,null,null,null,null,null,null,null,null,null,null,null,null,null,null,null,null,null,null,null,null,null,null,null,null,null,null,null,null,null,null,null,null,null,null,null,null,null,null,null,null,null,null,null,null,null,null,null,null,null,null,null,null,null,null,null,null,null,null,null,null,null,null,null,null,null,null,null,null,null,null,null,null,null,null,null,null,null,null,null,null,null,null,null,null,null,null,null,null,null,null,null,null,null,null,null,null,null,null,null,null,null,null,null,null,null,null,null,null,null,null,null,null,null,null,null,null,null,null,null,null,null,null,null,null,null,null,null,null,null,null,null,null,null,null,null,null,null,null,null,null,null,null,null,null,null,null,null,null,null,null,null,null,null,null,null,null,null,null,null,null,null,null,null,null,null,null,null,null,null,null,null,null,null,null,null,null,null,null,null,null,null,null,null,null,null,null,null,null,null,null,null,null,null,null,null,null,null,null,null,null,null,null,null,null,null,null,null,null,null,null,null,null,null,null,null,null,null,null,null,null,null,null,null,null,null,null,null,null,null,null,null,null,null,null,null,null,null,null,null,null,null,null,null,null,null,null,null,null,null,null,null,null,null,null,null,null,null,null,null,null,null,null,null,null,null,null,null,null,null,null,null,null,null,null,null,null,null,null,null,null,null,null,null,null,null,null,null,null,null,null,null,null,null,null,null,null,null,null,null,null,null,null,null,null,null,null,null,null,null,null,null,null,null,null,null,null,null,null,null,null,null,null,null,null,null,null,null,null,null,null,null,null,null,null,null,null,null,null,null,null,null,null,null,null,null,null,null,null,null,null,null,null,null,null,null,null,null,null,null,null,null,null,null,null,null,null,null,null,null,null,null,null,null,null,null,null,null,null,null,null,null,null,null,null,null,null,null,null,null,null,null,null,null,null,null,null,null,null,null,null,null,null,null,null,null,null,null,null,null,null,null,null,null,null,null,null,null,null,null,null,null,null,null,null,null,null,null,null,null,null,null,null,null,null,null,null,null,null,null,null,null,null,null,null,null,null,null,null,null,null,null,null,null,null,null,null,null,null,null,null,null,null,null,null,null,null,null,null,null,null,null,null,null,null,null,null,null,null,null,null,null,null,null,null,null,null,null,null,null,null,null,null,null,null,null,null,null,null,null,null,null,null,null,null,null,null,null,null,null,null,null,null,null,null,null,null,null,null,null,null,null,null,null,null,null,null,null,null,null,null,null,null,null,null,null,null,null,null,null,null,null,null,null,null,null,null,null,null,null,null,null,null,null,null,null,null,null,null,null,null,null,null,null,null,null,null,null,null,null,null,null,null,null,null,null,null,null,null,null,null,null,null,null,null,null,null,null,null,null,null,null,null,null,null,null,null,null,null,null,null,null,null,null,null,null,null,null,null,null,null,null,null,null,null,null,null,null,null,null,null,null,null,null,null,null,null,null,null,null,null,null,null,null,null,null,null,null,null,null,null,null,null,null,null,null,null,null,null,null,null,null,null,null,null,null,null,null,null,null,null,null,null,null,null,null,null,null,null,null,null,null,null,null,null,null,null,null,null,null,null,null,null,null,null,null,null,null,null,null,null,null,null,null,null,null,null,null,null,null,null,null,null,null,null,null,null,null,null,null,null,null,null,null,null,null,null,null,null,null,null,null,null,null,null,null,null,null,null,null,null,null,null,null,null,null,null,null,null,null,null,null,null,null,null,null,null,null,null,null,null,null,null,null,null,null,null,null,null,null,null,null,null,null,null,null,null,null,null,null,null,null,null,null,null,null,null,null,null,null,null,null,null,null,null,null,null,null,null,null,null,null,null,null,null,null,null,null,null,null,null,null,null,null,null,null,null,null,null,null,null,null,null,null,null,null,null,null,null,null,null,null,null,null,null,null,null,null,null,null,null,null,null,null,null,null,null,null,null,null,null,null,null,null,null,null,null,null,null,null,null,null,null,null,null,null,null,null,null,null,null,null,null,null,null,null,null,null,null,null,null,null,null,null,null,null,null,null,null,null,null,null,null,null,null,null,null,null,null,null,null,null,null,null,null,null,null,null,null,null,null,null,null,null,null,null,null,null,null,null,null,null,null,null,null,null,null,null,null,null,null,null,null,null,null,null,null,null,null,null,null,null,null,null,null,null,null,null,null,null,null,null,null,null,null,null,null,null,null,null,null,null,null,null,null,null,null,null,null,null,null,null,null,null,null,null,null,null,null,null,null,null,null,null,null,null,null,null,null,null,null,null,null,null,null,null,null,null,null,null,null,null,null,null,null,null,null,null,null,null,null,null,null,null,null,null,null,null,null,null,null,null,null,null,null,null,null,null,null,null,null,null,null,null,null,null,null,null,null,null,null,null,null,null,null,null,null,null,null,null,null,null,null,null,null,null,null,null,null,null,null,null,null,null,null,null,null,null,null,null,null,null,null,null,null,null,null,null,null,null,null,null,null,null,null,null,null,null,null,null,null,null,null,null,null,null,null,null,null,null,null,null,null,null,null,null,null,null,null,null,null,null,null,null,null,null,null,null,null,null,null,null,null,null,null,null,null,null,null,null,null,null,null,null,null,null,null,null,null,null,null,null,null,null,null,null,null,null,null,null,null,null,null,null,null,null,null,null,null,null,null,null,null,null,null,null,null,null,null,null,null,null,null,null,null,null,null,null,null,null,null,null,null,null,null,null,null,null,null,null,null,null,null,null,null,null,null,null,null,null,null,null,null,null,null,null,null,null,null,null,null,null,null,null,null,null,null,null,null,null,null,null,null,null,null,null,null,null,null,null,null,null,null,null,null,null,null,null,null,null,null,null,null,null,null,null,null,null,null,null,null,null,null,null,null,null,null,null,null,null,null,null,null,null,null,null,null,null,null,null,null,null,null,null,null,null,null,null,null,null,null,null,null,null,null,null,null,null,null,null,null,null,null,null,null,null,null,null,null,null,null,null,null,null,null,null,null,null,null,null,null,null,null,null,null,null,null,null,null,null,null,null,null,null,null,null,null,null,null,null,null,null,null,null,null,null,null,null,null,null,null,null,null,null,null,null,null,null,null,null,null,null,null,null,null,null,null,null,null,null,null,null,null,null,null,null,null,null,null,null,null,null,null,null,null,null,null,null,null,null,null,null,null,null,null,null,null,null,null,null,null,null,null,null,null,null,null,null,null,null,null,null,null,null,null,null,null,null,null,null,null,null,null,null,null,null,null,null,null,null,null,null,null,null,null,null,null,null,null,null,null,null,null,null,null,null,null,null,null,null,null,null,null,null,null,null,null,null,null,null,null,null,null,null,null,null,null,null,null,null,null,null,null,null,null,null,null,null,null,null,null,null,null,null,null,null,null,null,null,null,null,null,null,null,null,null,null,null,null,null,null,null,null,null,null,null,null,null,null,null,null,null,null,null,null,null,null,null,null,null,null,null,null,null,null,null,null,null,null,null,null,null,null,null,null,null,null,null,null,null,null,null,null,null,null,null,null,null,null,null,null,null,null,null,null,null,null,null,null,null,null,null,null,null,null,null,null,null,null,null,null,null,null,null,null,null,null,null,null,null,null,null,null,null,null,null,null,null,null,null,null,null,null,null,null,null,null,null,null,null,null,null,null,null,null,null,null,null,null,null,null,null,null,null,null,null,null,null,null,null,null,null,null,null,null,null,null,null,null,null,null,null,null,null,null,null,null,null,null,null,null,null,null,null,null,null,null,null,null,null,null,null,null,null,null,null,null,null,null,null,null,null,null,null,null,null,null,null,null,null,null,null,null,null,null,null,null,null,null,null,null,null,null,null,null,null,null,null,null,null,null,null,null,null,null,null,null,null,null,null,null,null,null,null,null,null,null,null,null,null,null,null,null,null,null,null,null,null,null,null,null,null,null,null,null,null,null,null,null,null,null,null,null,null,null,null,null,null,null,null,null,null,null,null,null,null,null,null,null,null,null,null,null,null,null,null,null,null,null,null,null,null,null,null,null,null,null,null,null,null,null,null,null,null,null,null,null,null,null,null,null,null,null,null,null,null,null,null,null,null,null,null,null,null,null,null,null,null,null,null,null,null,null,null,null,null,null,null,null,null,null,null,null,null,null,null,null,null,null,null,null,null,null,null,null,null,null,null,null,null,null,null,null,null,null,null,null,null,null,null,null,null,null,null,null,null,null,null,null,null,null,null,null,null,null,null,null,null,null,null,null,null,null,null,null,null,null,null,null,null,null,null,null,null,null,null,null,null,null,null,null,null,null,null,null,null,null,null,null,null,null,null,null,null,null,null,null,null,null,null,null,null,null,null,null,null,null,null,null,null,null,null,null,null,null,null,null,null,null,null,null,null,null,null,null,null,null,null,null,null,null,null,null,null,null,null,null,null,null,null,null,null,null,null,null,null,null,null,null,null,null,null,null,null,null,null,null,null,null,null,null,null,null,null,null,null,null,null,null,null,null,null,null,null,null,null,null,null,null,null,null,null,null,null,null,null,null,null,null,null,null,null,null,null,null,null,null,null,null,null,null,null,null,null,null,null,null,null,null,null,null,null,null,null,null,null,null,null,null,null,null,null,null,null,null,null,null,null,null,null,null,null,null,null,null,null,null,null,null,null,null,null,null,null,null,null,null,null,null,null,null,null,null,null,null,null,null,null,null,null,null,null,null,null,null,null,null,null,null,null,null,null,null,null,null,null,null,null,null,null,null,null,null,null,null,null,null,null,null,null,null,null,null,null,null,null,null,null,null,null,null,null,null,null,null,null,null,null,null,null,null,null,null,null,null,null,null,null,null,null,null,null,null,null,null,null,null,null,null,null,null,null,null,null,null,null,null,null,null,null,null,null,null,null,null,null,null,null,null,null,null,null,null,null,null,null,null,null,null,null,null,null,null,null,null,null,null,null,null,null,null,null,null,null,null,null,null,null,null,null,null,null,null,null,null,null,null,null,null,null,null,null,null,null,null,null,null,null,null,null,null,null,null,null,null,null,null,null,null,null,null,null,null,null,null,null,null,null,null,null,null,null,null,null,null,null,null,null,null,null,null,null,null,null,null,null,null,null,null,null,null,null,null,null,null,null,null,null,null,null,null,null,null,null,null,null,null,null,null,null,null,null,null,null,null,null,null,null,null,null,null,null,null,null,null,null,null,null,null,null,null,null,null,null,null,null,null,null,null,null,null,null,null,null,null,null,null,null,null,null,null,null,null,null,null,null,null,null,null,null,null,null,null,null,null,null,null,null,null,null,null,null,null,null,null,null,null,null,null,null,null,null,null,null,null,null,null,null,null,null,null,null,null,null,null,null,null,null,null,null,null,null,null,null,null,null,null,null,null,null,null,null,null,null,null,null,null,null,null,null,null,null,null,null,null,null,null,null,null,null,null,null,null,null,null,null,null,null,null,null,null,null,null,null,null,null,null,null,null,null,null,null,null,null,null,null,null,null,null,null,null,null,null,null,null,null,null,null,null,null,null,null,null,null,null,null,null,null,null,null,null,null,null,null,null,null,null,null,null,null,null,null,null,null,null,null,null,null,null,null,null,null,null,null,null,null,null,null,null,null,null,null,null,null,null,null,null,null,null,null,null,null,null,null,null,null,null,null,null,null,null,null,null,null,null,null,null,null,null,null,null,null,null,null,null,null,null,null,null,null,null,null,null,null,null,null,null,null,null,null,null,null,null,null,null,null,null,null,null,null,null,null,null,null,null,null,null,null,null,null,null,null,null,null,null,null,null,null,null,null,null,null,null,null,null,null,null,null,null,null,null,null,null,null,null,null,null,null,null,null,null,null,null,null,null,null,null,null,null,null,null,null,null,null,null,null,null,null,null,null,null,null,null,null,null,null,null,null,null,null,null,null,null,null,null,null,null,null,null,null,null,null,null,null,null,null,null,null,null,null,null,null,null,null,null,null,null,null,null,null,null,null,null,null,null,null,null,null,null,null,null,null,null,null,null,null,null,null,null,null,null,null,null,null,null,null,null,null,null,null,null,null,null,null,null,null,null,null,null,null,null,null,null,null,null,null,null,null,null,null,null,null,null,null,null,null,null,null,null,null,null,null,null,null,null,null,null,null,null,null,null,null,null,null,null,null,null,null,null,null,null,null,null,null,null,null,null,null,null,null,null,null,null,null,null,null,null,null,null,null,null,null,null,null,null,null,null,null,null,null,null,null,null,null,null,null,null,null,null,null,null,null,null,null,null,null,null,null,null,null,null,null,null,null,null,null,null,null,null,null,null,null,null,null,null,null,null,null,null,null,null,null,null,null,null,null,null,null,null,null,null,null,null,null,null,null,null,null,null,null,null,null,null,null,null,null,null,null,null,null,null,null,null,null,null,null,null,null,null,null,null,null,null,null,null,null,null,null,null,null,null,null,null,null,null,null,null,null,null,null,null,null,null,null,null,null,null,null,null,null,null,null,null,null,null,null,null,null,null,null,null,null,null,null,null,null,null,null,null,null,null,null,null,null,null,null,null,null,null,null,null,null,null,null,null,null,null,null,null,null,null,null,null,null,null,null,null,null,null,null,null,null,null,null,null,null,null,null,null,null,null,null,null,null,null,null,null,null,null,null,null,null,null,null,null,null,null,null,null,null,null,null,null,null,null,null,null,null,null,null,null,null,null,null,null,null,null,null,null,null,null,null,null,null,null,null,null,null,null,null,null,null,null,null,null,null,null,null,null,null,null,null,null,null,null,null,null,null,null,null,null,null,null,null,null,null,null,null,null,null,null,null,null,null,null,null,null,null,null,null,null,null,null,null,null,null,null,null,null,null,null,null,null,null,null,null,null,null,null,null,null,null,null,null,null,null,null,null,null,null,null,null,null,null,null,null,null,null,null,null,null,null,null,null,null,null,null,null,null,null,null,null,null,null,null,null,null,null,null,null,null,null,null,null,null,null,null,null,null,null,null,null,null,null,null,null,null,null,null,null,null,null,null,null,null,null,null,null,null,null,null,null,null,null,null,null,null,null,null,null,null,null,null,null,null,null,null,null,null,null,null,null,null,null,null,null,null,null,null,null,null,null,null,null,null,null,null,null,null,null,null,null,null,null,null,null,null,null,null,null,null,null,null,null,null,null,null,null,null,null,null,null,null,null,null,null,null,null,null,null,null,null,null,null,null,null,null,null,null,null,null,null,null,null,null,null,null,null,null,null,null,null,null,null,null,null,null,null,null,null,null,null,null,null,null,null,null,null,null,null,null,null,null,null,null,null,null,null,null,null,null,null,null,null,null,null,null,null,null,null,null,null,null,null,null,null,null,null,null,null,null,null,null,null,null,null,null,null,null,null,null,null,null,null,null,null,null,null,null,null,null,null,null,null,null,null,null,null,null,null,null,null,null,null,null,null,null,null,null,null,null,null,null,null,null,null,null,null,null,null,null,null,null,null,null,null,null,null,null,null,null,null,null,null,null,null,null,null,null,null,null,null,null,null,null,null,null,null,null,null,null,null,null,null,null,null,null,null,null,null,null,null,null,null,null,null,null,null,null,null,null,null,null,null,null,null,null,null,null,null,null,null,null,null,null,null,null,null,null,null,null,null,null,null,null,null,null,null,null,null,null,null,null,null,null,null,null,null,null,null,null,null,null,null,null,null,null,null,null,null,null,null,null,null,null,null,null,null,null,null,null,null,null,null,null,null,null,null,null,null,null,null,null,null,null,null,null,null,null,null,null,null,null,null,null,null,null,null,null,null,null,null,null,null,null,null,null,null,null,null,null,null,null,null,null,null,null,null,null,null,null,null,null,null,null,null,null,null,null,null,null,null,null,null,null,null,null,null,null,null,null,null,null,null,null,null,null,null,null,null,null,null,null,null,null,null,null,null,null,null,null,null,null,null,null,null,null,null,null,null,null,null,null,null,null,null,null,null,null,null,null,null,null,null,null,null,null,null,null,null,null,null,null,null,null,null,null,null,null,null,null,null,null,null,null,null,null,null,null,null,null,null,null,null,null,null,null,null,null,null,null,null,null,null,null,null,null,null,null,null,null,null,null,null,null,null,null,null,null,null,null,null,null,null,null,null,null,null,null,null,null,null,null,null,null,null,null,null,null,null,null,null,null,null,null,null,null,null,null,null,null,null,null,null,null,null,null,null,null,null,null,null,null,null,null,null,null,null,null,null,null,null,null,null,null,null,null,null,null,null,null,null,null,null,null,null,null,null,null,null,null,null,null,null,null,null,null,null,null,null,null,null,null,null,null,null,null,null,null,null,null,null,null,null,null,null,null,null,null,null,null,null,null,null,null,null,null,null,null,null,null,null,null,null,null,null,null,null,null,null,null,null,null,null,null,null,null,null,null,null,null,null,null,null,null,null,null,null,null,null,null,null,null,null,null,null,null,null,null,null,null,null,null,null,null,null,null,null,null,null,null,null,null,null,null,null,null,null,null,null,null,null,null,null,null,null,null,null,null,null,null,null,null,null,null,null,null,null,null,null,null,null,null,null,null,null,null,null,null,null,null,null,null,null,null,null,null,null,null,null,null,null,null,null,null,null,null,null,null,null,null,null,null,null,null,null,null,null,null,null,null,null,null,null,null,null,null,null,null,null,null,null,null,null,null,null,null,null,null,null,null,null,null,null,null,null,null,null,null,null,null,null,null,null,null,null,null,null,null,null,null,null,null,null,null,null,null,null,null,null,null,null,null,null,null,null,null,null,null,null,null,null,null,null,null,null,null,null,null,null,null,null,null,null,null,null,null,null,null,null,null,null,null,null,null,null,null,null,null,null,null,null,null,null,null,null,null,null,null,null,null,null,null,null,null,null,null,null,null,null,null,null,null,null,null,null,null,null,null,null,null,null,null,null,null,null,null,null,null,null,null,null,null,null,null,null,null,null,null,null,null,null,null,null,null,null,null,null,null,null,null,null,null,null,null,null,null,null,null,null,null,null,null,null,null,null,null,null,null,null,null,null,null,null,null,null,null,null,null,null,null,null,null,null,null,null,null,null,null,null,null,null,null,null,null,null,null,null,null,null,null,null,null,null,null,null,null,null,null,null,null,null,null,null,null,null,null,null,null,null,null,null,null,null,null,null,null,null,null,null,null,null,null,null,null,null,null,null,null,null,null,null,null,null,null,null,null,null,null,null,null,null,null,null,null,null,null,null,null,null,null,null,null,null,null,null,null,null,null,null,null,null,null,null,null,null,null,null,null,null,null,null,null,null,null,null,null,null,null,null,null,null,null,null,null,null,null,null,null,null,null,null,null,null,null,null,null,null,null,null,null,null,null,null,null,null,null,null,null,null,null,null,null,null,null,null,null,null,null,null,null,null,null,null,null,null,null,null,null,null,null,null,null,null,null,null,null,null,null,null,null,null,null,null,null,null,null,null,null,null,null,null,null,null,null,null,null,null,null,null,null,null,null,null,null,null,null,null,null,null,null,null,null,null,null,null,null,null,null,null,null,null,null,null,null,null,null,null,null,null,null,null,null,null,null,null,null,null,null,null,null,null,null,null,null,null,null,null,null,null,null,null,null,null,null,null,null,null,null,null,null,null,null,null,null,null,null,null,null,null,null,null,null,null,null,null,null,null,null,null,null,null,null,null,null,null,null,null,null,null,null,null,null,null,null,null,null,null,null,null,null,null,null,null,null,null,null,null,null,null,null,null,null,null,null,null,null,null,null,null,null,null,null,null,null,null,null,null,null,null,null,null,null,null,null,null,null,null,null,null,null,null,null,null,null,null,null,null,null,null,null,null,null,null,null,null,null,null,null,null,null,null,null,null,null,null,null,null,null,null,null,null,null,null,null,null,null,null,null,null,null,null,null,null,null,null,null,null,null,null,null,null,null,null,null,null,null,null,null,null,null,null,null,null,null,null,null,null,null,null,null,null,null,null,null,null,null,null,null,null,null,null,null,null,null,null,null,null,null,null,null,null,null,null,null,null,null,null,null,null,null,null,null,null,null,null,null,null,null,null,null,null,null,null,null,null,null,null,null,null,null,null,null,null,null,null,null,null,null,null,null,null,null,null,null,null,null,null,null,null,null,null,null,null,null,null,null,null,null,null,null,null,null,null,null,null,null,null,null,null,null,null,null,null,null,null,null,null,null,null,null,null,null,null,null,null,null,null,null,null,null,null,null,null,null,null,null,null,null,null,null,null,null,null,null,null,null,null,null,null,null,null,null,null,null,null,null,null,null,null,null,null,null,null,null,null,null,null,null,null,null,null,null,null,null,null,null,null,null,null,null,null,null,null,null,null,null,null,null,null,null,null,null,null,null,null,null,null,null,null,null,null,null,null,null,null,null,null,null,null,null,null,null,null,null,null,null,null,null,null,null,null,null,null,null,null,null,null,null,null,null,null,null,null,null,null,null,null,null,null,null,null,null,null,null,null,null,null,null,null,null,null,null,null,null,null,null,null,null,null,null,null,null,null,null,null,null,null,null,null,null,null,null,null,null,null,null,null,null,null,null,null,null,null,null,null,null,null,null,null,null,null,null,null,null,null,null,null,null,null,null,null,null,null,null,null,null,null,null,null,null,null,null,null,null,null,null,null,null,null,null,null,null,null,null,null,null,null,null,null,null,null,null,null,null,null,null,null,null,null,null,null,null,null,null,null,null,null,null,null,null,null,null,null,null,null,null,null,null,null,null,null,null,null,null,null,null,null,null,null,null,null,null,null,null,null,null,null,null,null,null,null,null,null,null,null,null,null,null,null,null,null,null,null,null,null,null,null,null,null,null,null,null,null,null,null,null,null,null,null,null,null,null,null,null,null,null,null,null,null,null,null,null,null,null,null,null,null,null,null,null,null,null,null,null,null,null,null,null,null,null,null,null,null,null,null,null,null,null,null,null,null,null,null,null,null,null,null,null,null,null,null,null,null,null,null,null,null,null,null,null,null,null,null,null,null,null,null,null,null,null,null,null,null,null,null,null,null,null,null,null,null,null,null,null,null,null,null,null,null,null,null,null,null,null,null,null,null,null,null,null,null,null,null,null,null,null,null,null,null,null,null,null,null,null,null,null,null,null,null,null,null,null,null,null,null,null,null,null,null,null,null,null,null,null,null,null,null,null,null,null,null,null,null,null,null,null,null,null,null,null,null,null,null,null,null,null,null,null,null,null,null,null,null,null,null,null,null,null,null,null,null,null,null,null,null,null,null,null,null,null,null,null,null,null,null,null,null,null,null,null,null,null,null,null,null,null,null,null,null,null,null,null,null,null,null,null,null,null,null,null,null,null,null,null,null,null,null,null,null,null,null,null,null,null,null,null,null,null,null,null,null,null,null,null,null,null,null,null,null,null,null,null,null,null,null,null,null,null,null,null,null,null,null,null,null,null,null,null,null,null,null,null,null,null,null,null,null,null,null,null,null,null,null,null,null,null,null,null,null,null,null,null,null,null,null,null,null,null,null,null,null,null,null,null,null,null,null,null,null,null,null,null,null,null,null,null,null,null,null,null,null,null,null,null,null,null,null,null,null,null,null,null,null,null,null,null,null,null,null,null,null,null,null,null,null,null,null,null,null,null,null,null,null,null,null,null,null,null,null,null,null,null,null,null,null,null,null,null,null,null,null,null,null,null,null,null,null,null,null,null,null,null,null,null,null,null,null,null,null,null,null,null,null,null,null,null,null,null,null,null,null,null,null,null,null,null,null,null,null,null,null,null,null,null,null,null,null,null,null,null,null,null,null,null,null,null,null,null,null,null,null,null,null,null,null,null,null,null,null,null,null,null,null,null,null,null,null,null,null,null,null,null,null,null,null,null,null,null,null,null,null,null,null,null,null,null,null,null,null,null,null,null,null,null,null,null,null,null,null,null,null,null,null,null,null,null,null,null,null,null,null,null,null,null,null,null,null,null,null,null,null,null,null,null,null,null,null,null,null,null,null,null,null,null,null,null,null,null,null,null,null,null,null,null,null,null,null,null,null,null,null,null,null,null,null,null,null,null,null,null,null,null,null,null,null,null,null,null,null,null,null,null,null,null,null,null,null,null,null,null,null,null,null,null,null,null,null,null,null,null,null,null,null,null,null,null,null,null,null,null,null,null,null,null,null,null,null,null,null,null,null,null,null,null,null,null,null,null,null,null,null,null,null,null,null,null,null,null,null,null,null,null,null,null,null,null,null,null,null,null,null,null,null,null,null,null,null,null,null,null,null,null,null,null,null,null,null,null,null,null,null,null,null,null,null,null,null,null,null,null,null,null,null,null,null,null,null,null,null,null,null,null,null,null,null,null,null,null,null,null,null,null,null,null,null,null,null,null,null,null,null,null,null,null,null,null,null,null,null,null,null,null,null,null,null,null,null,null,null,null,null,null,null,null,null,null,null,null,null,null,null,null,null,null,null,null,null,null,null,null,null,null,null,null,null,null,null,null,null,null,null,null,null,null,null,null,null,null,null,null,null,null,null,null,null,null,null,null,null,null,null,null,null,null,null,null,null,null,null,null,null,null,null,null,null,null,null,null,null,null,null,null,null,null,null,null,null,null,null,null,null,null,null,null,null,null,null,null,null,null,null,null,null,null,null,null,null,null,null,null,null,null,null,null,null,null,null,null,null,null,null,null,null,null,null,null,null,null,null,null,null,null,null,null,null,null,null,null,null,null,null,null,null,null,null,null,null,null,null,null,null,null,null,null,null,null,null,null,null,null,null,null,null,null,null,null,null,null,null,null,null,null,null,null,null,null,null,null,null,null,null,null,null,null,null,null,null,null,null,null,null,null,null,null,null,null,null,null,null,null,null,null,null,null,null,null,null,null,null,null,null,null,null,null,null,null,null,null,null,null,null,null,null,null,null,null,null,null,null,null,null,null,null,null,null,null,null,null,null,null,null,null,null,null,null,null,null,null,null,null,null,null,null,null,null,null,null,null,null,null,null,null,null,null,null,null,null,null,null,null,null,null,null,null,null,null,null,null,null,null,null,null,null,null,null,null,null,null,null,null,null,null,null,null,null,null,null,null,null,null,null,null,null,null,null,null,null,null,null,null,null,null,null,null,null,null,null,null,null,null,null,null,null,null,null,null,null,null,null,null,null,null,null,null,null,null,null,null,null,null,null,null,null,null,null,null,null,null,null,null,null,null,null,null,null,null,null,null,null,null,null,null,null,null,null,null,null,null,null,null,null,null,null,null,null,null,null,null,null,null,null,null,null,null,null,null,null,null,null,null,null,null,null,null,null,null,null,null,null,null,null,null,null,null,null,null,null,null,null,null,null,null,null,null,null,null,null,null,null,null,null,null,null,null,null,null,null,null,null,null,null,null,null,null,null,null,null,null,null,null,null,null,null,null,null,null,null,null,null,null,null,null,null,null,null,null,null,null,null,null,null,null,null,null,null,null,null,null,null,null,null,null,null,null,null,null,null,null,null,null,null,null,null,null,null,null,null,null,null,null,null,null,null,null,null,null,null,null,null,null,null,null,null,null,null,null,null,null,null,null,null,null,null,null,null,null,null,null,null,null,null,null,null,null,null,null,null,null,null,null,null,null,null,null,null,null,null,null,null,null,null,null,null,null,null,null,null,null,null,null,null,null,null,null,null,null,null,null,null,null,null,null,null,null,null,null,null,null,null,null,null,null,null,null,null,null,null,null,null,null,null,null,null,null,null,null,null,null,null,null,null,null,null,null,null,null,null,null,null,null,null,null,null,null,null,null,null,null,null,null,null,null,null,null,null,null,null,null,null,null,null,null,null,null,null,null,null,null,null,null,null,null,null,null,null,null,null,null,null,null,null,null,null,null,null,null,null,null,null,null,null,null,null,null,null,null,null,null,null,null,null,null,null,null,null,null,null,null,null,null,null,null,null,null,null,null,null,null,null,null,null,null,null,null,null,null,null,null,null,null,null,null,null,null,null,null,null,null,null,null,null,null,null,null,null,null,null,null,null,null,null,null,null,null,null,null,null,null,null,null,null,null,null,null,null,null,null,null,null,null,null,null,null,null,null,null,null,null,null,null,null,null,null,null,null,null,null,null,null,null,null,null,null,null,null,null,null,null,null,null,null,null,null,null,null,null,null,null,null,null,null,null,null,null,null,null,null,null,null,null,null,null,null,null,null,null,null,null,null,null,null,null,null,null,null,null,null,null,null,null,null,null,null,null,null,null,null,null,null,null,null,null,null,null,null,null,null,null,null,null,null,null,null,null,null,null,null,null,null,null,null,null,null,null,null,null,null,null,null,null,null,null,null,null,null,null,null,null,null,null,null,null,null,null,null,null,null,null,null,null,null,null,null,null,null,null,null,null,null,null,null,null,null,null,null,null,null,null,null,null,null,null,null,null,null,null,null,null,null,null,null,null,null,null,null,null,null,null,null,null,null,null,null,null,null,null,null,null,null,null,null,null,null,null,null,null,null,null,null,null,null,null,null,null,null,null,null,null,null,null,null,null,null,null,null,null,null,null,null,null,null,null,null,null,null,null,null,null,null,null,null,null,null,null,null,null,null,null,null,null,null,null,null,null,null,null,null,null,null,null,null,null,null,null,null,null,null,null,null,null,null,null,null,null,null,null,null,null,null,null,null,null,null,null,null,null,null,null,null,null,null,null,null,null,null,null,null,null,null,null,null,null,null,null,null,null,null,null,null,null,null,null,null,null,null,null,null,null,null,null,null,null,null,null,null,null,null,null,null,null,null,null,null,null,null,null,null,null,null,null,null,null,null,null,null,null,null,null,null,null,null,null,null,null,null,null,null,null,null,null,null,null,null,null,null,null,null,null,null,null,null,null,null,null,null,null,null,null,null,null,null,null,null,null,null,null,null,null,null,null,null,null,null,null,null,null,null,null,null,null,null,null,null,null,null,null,null,null,null,null,null,null,null,null,null,null,null,null,null,null,null,null,null,null,null,null,null,null,null,null,null,null,null,null,null,null,null,null,null,null,null,null,null,null,null,null,null,null,null,null,null,null,null,null,null,null,null,null,null,null,null,null,null,null,null,null,null,null,null,null,null,null,null,null,null,null,null,null,null,null,null,null,null,null,null,null,null,null,null,null,null,null,null,null,null,null,null,null,null,null,null,null,null,null,null,null,null,null,null,null,null,null,null,null,null,null,null,null,null,null,null,null,null,null,null,null,null,null,null,null,null,null,null,null,null,null,null,null,null,null,null,null,null,null,null,null,null,null,null,null,null,null,null,null,null,null,null,null,null,null,null,null,null,null,null,null,null,null,null,null,null,null,null,null,null,null,null,null,null,null,null,null,null,null,null,null,null,null,null,null,null,null,null,null,null,null,null,null,null,null,null,null,null,null,null,null,null,null,null,null,null,null,null,null,null,null,null,null,null,null,null,null,null,null,null,null,null,null,null,null,null,null,null,null,null,null,null,null,null,null,null,null,null,null,null,null,null,null,null,null,null,null,null,null,null,null,null,null,null,null,null,null,null,null,null,null,null,null,null,null,null,null,null,null,null,null,null,null,null,null,null,null,null,null,null,null,null,null,null,null,null,null,null,null,null,null,null,null,null,null,null,null,null,null,null,null,null,null,null,null,null,null,null,null,null,null,null,null,null,null,null,null,null,null,null,null,null,null,null,null,null,null,null,null,null,null,null,null,null,null,null,null,null,null,null,null,null,null,null,null,null,null,null,null,null,null,null,null,null,null,null,null,null,null,null,null,null,null,null,null,null,null,null,null,null,null,null,null,null,null,null,null,null,null,null,null,null,null,null,null,null,null,null,null,null,null,null,null,null,null,null,null,null,null,null,null,null,null,null,null,null,null,null,null,null,null,null,null,null,null,null,null,null,null,null,null,null,null,null,null,null,null,null,null,null,null,null,null,null,null,null,null,null,null,null,null,null,null,null,null,null,null,null,null,null,null,null,null,null,null,null,null,null,null,null,null,null,null,null,null,null,null,null,null,null,null,null,null,null,null,null,null,null,null,null,null,null,null,null,null,null,null,null,null,null,null,null,null,null,null,null,null,null,null,null,null,null,null,null,null,null,null,null,null,null,null,null,null,null,null,null,null,null,null,null,null,null,null,null,null,null,null,null,null,null,null,null,null,null,null,null,null,null,null,null,null,null,null,null,null,null,null,null,null,null,null,null,null,null,null,null,null,null,null,null,null,null,null,null,null,null,null,null,null,null,null,null,null,null,null,null,null,null,null,null,null,null,null,null,null,null,null,null,null,null,null,null,null,null,null,null,null,null,null,null,null,null,null,null,null,null,null,null,null,null,null,null,null,null,null,null,null,null,null,null,null,null,null,null,null,null,null,null,null,null,null,null,null,null,null,null,null,null,null,null,null,null,null,null,null,null,null,null,null,null,null,null,null,null,null,null,null,null,null,null,null,null,null,null,null,null,null,null,null,null,null,null,null,null,null,null,null,null,null,null,null,null,null,null,null,null,null,null,null,null,null,null,null,null,null,null,null,null,null,null,null,null,null,null,null,null,null,null,null,null,null,null,null,null,null,null,null,null,null,null,null,null,null,null,null,null,null,null,null,null,null,null,null,null,null,null,null,null,null,null,null,null,null,null,null,null,null,null,null,null,null,null,null,null,null,null,null,null,null,null,null,null,null,null,null,null,null,null,null,null,null,null,null,null,null,null,null,null,null,null,null,null,null,null,null,null,null,null,null,null,null,null,null,null,null,null,null,null,null,null,null,null,null,null,null,null,null,null,null,null,null,null,null,null,null,null,null,null,null,null,null,null,null,null,null,null,null,null,null,null,null,null,null,null,null,null,null,null,null,null,null,null,null,null,null,null,null,null,null,null,null,null,null,null,null,null,null,null,null,null,null,null,null,null,null,null,null,null,null,null,null,null,null,null,null,null,null,null,null,null,null,null,null,null,null,null,null,null,null,null,null,null,null,null,null,null,null,null,null,null,null,null,null,null,null,null,null,null,null,null,null,null,null,null,null,null,null,null,null,null,null,null,null,null,null,null,null,null,null,null,null,null,null,null,null,null,null,null,null,null,null,null,null,null,null,null,null,null,null,null,null,null,null,null,null,null,null,null,null,null,null,null,null,null,null,null,null,null,null,null,null,null,null,null,null,null,null,null,null,null,null,null,null,null,null,null,null,null,null,null,null,null,null,null,null,null,null,null,null,null,null,null,null,null,null,null,null,null,null,null,null,null,null,null,null,null,null,null,null,null,null,null,null,null,null,null,null,null,null,null,null,null,null,null,null,null,null,null,null,null,null,null,null,null,null,null,null,null,null,null,null,null,null,null,null,null,null,null,null,null,null,null,null,null,null,null,null,null,null,null,null,null,null,null,null,null,null,null,null,null,null,null,null,null,null,null,null,null,null,null,null,null,null,null,null,null,null,null,null,null,null,null,null,null,null,null,null,null,null,null,null,null,null,null,null,null,null,null,null,null,null,null,null,null,null,null,null,null,null,null,null,null,null,null,null,null,null,null,null,null,null,null,null,null,null,null,null,null,null,null,null,null,null,null,null,null,null,null,null,null,null,null,null,null,null,null,null,null,null,null,null,null,null,null,null,null,null,null,null,null,null,null,null,null,null,null,null,null,null,null,null,null,null,null,null,null,null,null,null,null,null,null,null,null,null,null,null,null,null,null,null,null,null,null,null,null,null,null,null,null,null,null,null,null,null,null,null,null,null,null,null,null,null,null,null,null,null,null,null,null,null,null,null,null,null,null,null,null,null,null,null,null,null,null,null,null,null,null,null,null,null,null,null,null,null,null,null,null,null,null,null,null,null,null,null,null,null,null,null,null,null,null,null,null,null,null,null,null,null,null,null,null,null,null,null,null,null,null,null,null,null,null,null,null,null,null,null,null,null,null,null,null,null,null,null,null,null,null,null,null,null,null,null,null,null,null,null,null,null,null,null,null,null,null,null,null,null,null,null,null,null,null,null,null,null,null,null,null,null,null,null,null,null,null,null,null,null,null,null,null,null,null,null,null,null,null,null,null,null,null,null,null,null,null,null,null,null,null,null,null,null,null,null,null,null,null,null,null,null,null,null,null,null,null,null,null,null,null,null,null,null,null,null,null,null,null,null,null,null,null,null,null,null,null,null,null,null,null,null,null,null,null,null,null,null,null,null,null,null,null,null,null,null,null,null,null,null,null,null,null,null,null,null,null,null,null,null,null,null,null,null,null,null,null,null,null,null,null,null,null,null,null,null,null,null,null,null,null,null,null,null,null,null,null,null,null,null,null,null,null,null,null,null,null,null,null,null,null,null,null,null,null,null,null,null,null,null,null,null,null,null,null,null,null,null,null,null,null,null,null,null,null,null,null,null,null,null,null,null,null,null,null,null,null,null,null,null,null,null,null,null,null,null,null,null,null,null,null,null,null,null,null,null,null,null,null,null,null,null,null,null,null,null,null,null,null,null,null,null,null,null,null,null,null,null,null,null,null,null,null,null,null,null,null,null,null,null,null,null,null,null,null,null,null,null,null,null,null,null,null,null,null,null,null,null,null,null,null,null,null,null,null,null,null,null,null,null,null,null,null,null,null,null,null,null,null,null,null,null,null,null,null,null,null,null,null,null,null,null,null,null,null,null,null,null,null,null,null,null,null,null,null,null,null,null,null,null,null,null,null,null,null,null,null,null,null,null,null,null,null,null,null,null,null,null,null,null,null,null,null,null,null,null,null,null,null,null,null,null,null,null,null,null,null,null,null,null,null,null,null,null,null,null,null,null,null,null,null,null,null,null,null,null,null,null,null,null,null,null,null,null,null,null,null,null,null,null,null,null,null,null,null,null,null,null,null,null,null,null,null,null,null,null,null,null,null,null,null,null,null,null,null,null,null,null,null,null,null,null,null,null,null,null,null,null,null,null,null,null,null,null,null,null,null,null,null,null,null,null,null,null,null,null,null,null,null,null,null,null,null,null,null,null,null,null,null,null,null,null,null,null,null,null,null,null,null,null,null,null,null,null,null,null,null,null,null,null,null,null,null,null,null,null,null,null,null,null,null,null,null,null,null,null,null,null,null,null,null,null,null,null,null,null,null,null,null,null,null,null,null,null,null,null,null,null,null,null,null,null,null,null,null,null,null,null,null,null,null,null,null,null,null,null,null,null,null,null,null,null,null,null,null,null,null,null,null,null,null,null,null,null,null,null,null,null,null,null,null,null,null,null,null,null,null,null,null,null,null,null,null,null,null,null,null,null,null,null,null,null,null,null,null,null,null,null,null,null,null,null,null,null,null,null,null,null,null,null,null,null,null,null,null,null,null,null,null,null,null,null,null,null,null,null,null,null,null,null,null,null,null,null,null,null,null,null,null,null,null,null,null,null,null,null,null,null,null,null,null,null,null,null,null,null,null,null,null,null,null,null,null,null,null,null,null,null,null,null,null,null,null,null,null,null,null,null,null,null,null,null,null,null,null,null,null,null,null,null,null,null,null,null,null,null,null,null,null,null,null,null,null,null,null,null,null,null,null,null,null,null,null,null,null,null,null,null,null,null,null,null,null,null,null,null,null,null,null,null,null,null,null,null,null,null,null,null,null,null,null,null,null,null,null,null,null,null,null,null,null,null,null,null,null,null,null,null,null,null,null,null,null,null,null,null,null,null,null,null,null,null,null,null,null,null,null,null,null,null,null,null,null,null,null,null,null,null,null,null,null,null,null,null,null,null,null,null,null,null,null,null,null,null,null,null,null,null,null,null,null,null,null,null,null,null,null,null,null,null,null,null,null,null,null,null,null,null,null,null,null,null,null,null,null,null,null,null,null,null,null,null,null,null,null,null,null,null,null,null,null,null,null,null,null,null,null,null,null,null,null,null,null,null,null,null,null,null,null,null,null,null,null,null,null,null,null,null,null,null,null,null,null,null,null,null,null,null,null,null,null,null,null,null,null,null,null,null,null,null,null,null,null,null,null,null,null,null,null,null,null,null,null,null,null,null,null,null,null,null,null,null,null,null,null,null,null,null,null,null,null,null,null,null,null,null,null,null,null,null,null,null,null,null,null,null,null,null,null,null,null,null,null,null,null,null,null,null,null,null,null,null,null,null,null,null,null,null,null,null,null,null,null,null,null,null,null,null,null,null,null,null,null,null,null,null,null,null,null,null,null,null,null,null,null,null,null,null,null,null,null,null,null,null,null,null,null,null,null,null,null,null,null,null,null,null,null,null,null,null,null,null,null,null,null,null,null,null,null,null,null,null,null,null,null,null,null,null,null,null,null,null,null,null,null,null,null,null,null,null,null,null,null,null,null,null,null,null,null,null,null,null,null,null,null,null,null,null,null,null,null,null,null,null,null,null,null,null,null,null,null,null,null,null,null,null,null,null,null,null,null,null,null,null,null,null,null,null,null,null,null,null,null,null,null,null,null,null,null,null,null,null,null,null,null,null,null,null,null,null,null,null,null,null,null,null,null,null,null,null,null,null,null,null,null,null,null,null,null,null,null,null,null,null,null,null,null,null,null,null,null,null,null,null,null,null,null,null,null,null,null,null,null,null,null,null,null,null,null,null,null,null,null,null,null,null,null,null,null,null,null,null,null,null,null,null,null,null,null,null,null,null,null,null,null,null,null,null,null,null,null,null,null,null,null,null,null,null,null,null,null,null,null,null,null,null,null,null,null,null,null,null,null,null,null,null,null,null,null,null,null,null,null,null,null,null,null,null,null,null,null,null,null,null,null,null,null,null,null,null,null,null,null,null,null,null,null,null,null,null,null,null,null,null,null,null,null,null,null,null,null,null,null,null,null,null,null,null,null,null,null,null,null,null,null,null,null,null,null,null,null,null,null,null,null,null,null,null,null,null,null,null,null,null,null,null,null,null,null,null,null,null,null,null,null,null,null,null,null,null,null,null,null,null,null,null,null,null,null,null,null,null,null,null,null,null,null,null,null,null,null,null,null,null,null,null,null,null,null,null,null,null,null,null,null,null,null,null,null,null,null,null,null,null,null,null,null,null,null,null,null,null,null,null,null,null,null,null,null,null,null,null,null,null,null,null,null,null,null,null,null,null,null,null,null,null,null,null,null,null,null,null,null,null,null,null,null,null,null,null,null,null,null,null,null,null,null,null,null,null,null,null,null,null,null,null,null,null,null,null,null,null,null,null,null,null,null,null,null,null,null,null,null,null,null,null,null,null,null,null,null,null,null,null,null,null,null,null,null,null,null,null,null,null,null,null,null,null,null,null,null,null,null,null,null,null,null,null,null,null,null,null,null,null,null,null,null,null,null,null,null,null,null,null,null,null,null,null,null,null,null,null,null,null,null,null,null,null,null,null,null,null,null,null,null,null,null,null,null,null,null,null,null,null,null,null,null,null,null,null,null,null,null,null,null,null,null,null,null,null,null,null,null,null,null,null,null,null,null,null,null,null,null,null,null,null,null,null,null,null,null,null,null,null,null,null,null,null,null,null,null,null,null,null,null,null,null,null,null,null,null,null,null,null,null,null,null,null,null,null,null,null,null,null,null,null,null,null,null,null,null,null,null,null,null,null,null,null,null,null,null,null,null,null,null,null,null,null,null,null,null,null,null,null,null,null,null,null,null,null,null,null,null,null,null,null,null,null,null,null,null,null,null,null,null,null,null,null,null,null,null,null,null,null,null,null,null,null,null,null,null,null,null,null,null,null,null,null,null,null,null,null,null,null,null,null,null,null,null,null,null,null,null,null,null,null,null,null,null,null,null,null,null,null,null,null,null,null,null,null,null,null,null,null,null,null,null,null,null,null,null,null,null,null,null,null,null,null,null,null,null,null,null,null,null,null,null,null,null,null,null,null,null,null,null,null,null,null,null,null,null,null,null,null,null,null,null,null,null,null,null,null,null,null,null,null,null,null,null,null,null,null,null,null,null,null,null,null,null,null,null,null,null,null,null,null,null,null,null,null,null,null,null,null,null,null,null,null,null,null,null,null,null,null,null,null,null,null,null,null,null,null,null,null,null,null,null,null,null,null,null,null,null,null,null,null,null,null,null,null,null,null,null,null,null,null,null,null,null,null,null,null,null,null,null,null,null,null,null,null,null,null,null,null,null,null,null,null,null,null,null,null,null,null,null,null,null,null,null,null,null,null,null,null,null,null,null,null,null,null,null,null,null,null,null,null,null,null,null,null,null,null,null,null,null,null,null,null,null,null,null,null,null,null,null,null,null,null,null,null,null,null,null,null,null,null,null,null,null,null,null,null,null,null,null,null,null,null,null,null,null,null,null,null,null,null,null,null,null,null,null,null,null,null,null,null,null,null,null,null,null,null,null,null,null,null,null,null,null,null,null,null,null,null,null,null,null,null,null,null,null,null,null,null,null,null,null,null,null,null,null,null,null,null,null,null,null,null,null,null,null,null,null,null,null,null,null,null,null,null,null,null,null,null,null,null,null,null,null,null,null,null,null,null,null,null,null,null,null,null,null,null,null,null,null,null,null,null,null,null,null,null,null,null,null,null,null,null,null,null,null,null,null,null,null,null,null,null,null,null,null,null,null,null,null,null,null,null,null,null,null,null,null,null,null,null,null,null,null,null,null,null,null,null,null,null,null,null,null,null,null,null,null,null,null,null,null,null,null,null,null,null,null,null,null,null,null,null,null,null,null,null,null,null,null,null,null,null,null,null,null,null,null,null,null,null,null,null,null,null,null,null,null,null,null,null,null,null,null,null,null,null,null,null,null,null,null,null,null,null,null,null,null,null,null,null,null,null,null,null,null,null,null,null,null,null,null,null,null,null,null,null,null,null,null,null,null,null,null,null,null,null,null,null,null,null,null,null,null,null,null,null,null,null,null,null,null,null,null,null,null,null,null,null,null,null,null,null,null,null,null,null,null,null,null,null,null,null,null,null,null,null,null,null,null,null,null,null,null,null,null,null,null,null,null,null,null,null,null,null,null,null,null,null,null,null,null,null,null,null,null,null,null,null,null,null,null,null,null,null,null,null,null,null,null,null,null,null,null,null,null,null,null,null,null,null,null,null,null,null,null,null,null,null,null,null,null,null,null,null,null,null,null,null,null,null,null,null,null,null,null,null,null,null,null,null,null,null,null,null,null,null,null,null,null,null,null,null,null,null,null,null,null,null,null,null,null,null,null,null,null,null,null,null,null,null,null,null,null,null,null,null,null,null,null,null,null,null,null,null,null,null,null,null,null,null,null,null,null,null,null,null,null,null,null,null,null,null,null,null,null,null,null,null,null,null,null,null,null,null,null,null,null,null,null,null,null,null,null,null,null,null,null,null,null,null,null,null,null,null,null,null,null,null,null,null,null,null,null,null,null,null,null,null,null,null,null,null,null,null,null,null,null,null,null,null,null,null,null,null,null,null,null,null,null,null,null,null,null,null,null,null,null,null,null,null,null,null,null,null,null,null,null,null,null,null,null,null,null,null,null,null,null,null,null,null,null,null,null,null,null,null,null,null,null,null,null,null,null,null,null,null,null,null,null,null,null,null,null,null,null,null,null,null,null,null,null,null,null,null,null,null,null,null,null,null,null,null,null,null,null,null,null,null,null,null,null,null,null,null,null,null,null,null,null,null,null,null,null,null,null,null,null,null,null,null,null,null,null,null,null,null,null,null,null,null,null,null,null,null,null,null,null,null,null,null,null,null,null,null,null,null,null,null,null,null,null,null,null,null,null,null,null,null,null,null,null,null,null,null,null,null,null,null,null,null,null,null,null,null,null,null,null,null,null,null,null,null,null,null,null,null,null,null,null,null,null,null,null,null,null,null,null,null,null,null,null,null,null,null,null,null,null,null,null,null,null,null,null,null,null,null,null,null,null,null,null,null,null,null,null,null,null,null,null,null,null,null,null,null,null,null,null,null,null,null,null,null,null,null,null,null,null,null,null,null,null,null,null,null,null,null,null,null,null,null,null,null,null,null,null,null,null,null,null,null,null,null,null,null,null,null,null,null,null,null,null,null,null,null,null,null,null,null,null,null,null,null,null,null,null,null,null,null,null,null,null,null,null,null,null,null,null,null,null,null,null,null,null,null,null,null,null,null,null,null,null,null,null,null,null,null,null,null,null,null,null,null,null,null,null,null,null,null,null,null,null,null,null,null,null,null,null,null,null,null,null,null,null,null,null,null,null,null,null,null,null,null,null,null,null,null,null,null,null,null,null,null,null,null,null,null,null,null,null,null,null,null,null,null,null,null,null,null,null,null,null,null,null,null,null,null,null,null,null,null,null,null,null,null,null,null,null,null,null,null,null,null,null,null,null,null,null,null,null,null,null,null,null,null,null,null,null,null,null,null,null,null,null,null,null,null,null,null,null,null,null,null,null,null,null,null,null,null,null,null,null,null,null,null,null,null,null,null,null,null,null,null,null,null,null,null,null,null,null,null,null,null,null,null,null,null,null,null,null,null,null,null,null,null,null,null,null,null,null,null,null,null,null,null,null,null,null,null,null,null,null,null,null,null,null,null,null,null,null,null,null,null,null,null,null,null,null,null,null,null,null,null,null,null,null,null,null,null,null,null,null,null,null,null,null,null,null,null,null,null,null,null,null,null,null,null,null,null,null,null,null,null,null,null,null,null,null,null,null,null,null,null,null,null,null,null,null,null,null,null,null,null,null,null,null,null,null,null,null,null,null,null,null,null,null,null,null,null,null,null,null,null,null,null,null,null,null,null,null,null,null,null,null,null,null,null,null,null,null,null,null,null,null,null,null,null,null,null,null,null,null,null,null,null,null,null,null,null,null,null,null,null,null,null,null,null,null,null,null,null,null,null,null,null,null,null,null,null,null,null,null,null,null,null,null,null,null,null,null,null,null,null,null,null,null,null,null,null,null,null,null,null,null,null,null,null,null,null,null,null,null,null,null,null,null,null,null,null,null,null,null,null,null,null,null,null,null,null,null,null,null,null,null,null,null,null,null,null,null,null,null,null,null,null,null,null,null,null,null,null,null,null,null,null,null,null,null,null,null,null,null,null,null,null,null,null,null,null,null,null,null,null,null,null,null,null,null,null,null,null,null,null,null,null,null,null,null,null,null,null,null,null,null,null,null,null,null,null,null,null,null,null,null,null,null,null,null,null,null,null,null,null,null,null,null,null,null,null,null,null,null,null,null,null,null,null,null,null,null,null,null,null,null,null,null,null,null,null,null,null,null,null,null,null,null,null,null,null,null,null,null,null,null,null,null,null,null,null,null,null,null,null,null,null,null,null,null,null,null,null,null,null,null,null,null,null,null,null,null,null,null,null,null,null,null,null,null,null,null,null,null,null,null,null,null,null,null,null,null,null,null,null,null,null,null,null,null,null,null,null,null,null,null,null,null,null,null,null,null,null,null,null,null,null,null,null,null,null,null,null,null,null,null,null,null,null,null,null,null,null,null,null,null,null,null,null,null,null,null,null,null,null,null,null,null,null,null,null,null,null,null,null,null,null,null,null,null,null,null,null,null,null,null,null,null,null,null,null,null,null,null,null,null,null,null,null,null,null,null,null,null,null,null,null,null,null,null,null,null,null,null,null,null,null,null,null,null,null,null,null,null,null,null,null,null,null,null,null,null,null,null,null,null,null,null,null,null,null,null,null,null,null,null,null,null,null,null,null,null,null,null,null,null,null,null,null,null,null,null,null,null,null,null,null,null,null,null,null,null,null,null,null,null,null,null,null,null,null,null,null,null,null,null,null,null,null,null,null,null,null,null,null,null,null,null,null,null,null,null,null,null,null,null,null,null,null,null,null,null,null,null,null,null,null,null,null,null,null,null,null,null,null,null,null,null,null,null,null,null,null,null,null,null,null,null,null,null,null,null,null,null,null,null,null,null,null,null,null,null,null,null,null,null,null,null,null,null,null,null,null,null,null,null,null,null,null,null,null,null,null,null,null,null,null,null,null,null,null,null,null,null,null,null,null,null,null,null,null,null,null,null,null,null,null,null,null,null,null,null,null,null,null,null,null,null,null,null,null,null,null,null,null,null,null,null,null,null,null,null,null,null,null,null,null,null,null,null,null,null,null,null,null,null,null,null,null,null,null,null,null,null,null,null,null,null,null,null,null,null,null,null,null,null,null,null,null,null,null,null,null,null,null,null,null,null,null,null,null,null,null,null,null,null,null,null,null,null,null,null,null,null,null,null,null,null,null,null,null,null,null,null,null,null,null,null,null,null,null,null,null,null,null,null,null,null,null,null,null,null,null,null,null,null,null,null,null,null,null,null,null,null,null,null,null,null,null,null,null,null,null,null,null,null,null,null,null,null,null,null,null,null,null,null,null,null,null,null,null,null,null,null,null,null,null,null,"pagando"]
[]
[]
["RPVs       PAGAS",null,"REQUSIÇÃO DE PEQUENO VALOR",null,null,null,"PAGAMENTO",null,null,null,null,null,"PROCESSO DE ORIGEM",null,null,null,"TIPO DE CAUSA","ÓRGÃO DE ORIGEM","ENTIDADE DEVEDORA","EXECUÇÃO",null,null,"R E Q U E R E N T E",null,null,null,null,"A D V O G A D O S",null,null,null,null,null,null,null,null,null,null,null,null,"INDICADORES DA RPV",null,null,null,null,null,null,null,"Indice de correção - IPCA-e","VALORES REQUISITADOS - (face)",null,null,null,null,null,null,null,null,null,null,null,null,null,null,null,null,null,null,null,null,null,null,null,null,null,null,null,"PENDENTES DE PAGAMENTO",null,null,null,null,null,"REFERENCIAS PARA RELATÓRIOS DASEXPEDIDAS"]
[null,null,null,null,null,null,null,null,null,null,null,null,null,null,null,null,null,null,null,null,null,null,null,null,null,null,null,null,null,null,null,null,null,null,null,null,null,null,null,null,null,null,null,null,null,null,null,null,null,"VALOR REQUISITADO",null,null,null,null,"ADVOGADO I",null,null,"ADVOGADO II",null,null,"ADVOGADO III",null,null,"ADVOGADO IV",null,null,"REQUERENTE",null,null,"P S S S",null,null,"R R A",null,null,"valor a DECOTAR (sucumb do exeqte)",null,"T O T A L",null,"ALIMENTAR",null,"COMUM",null,"EXPEDIDA EM",null,{"$f":"CONSULTA!R19","v":"2022-09-27"}]
[null,"Nº","Classe","Nº","Registro   STJ","Autuado em","STATUS","S I T U A Ç Ã O","data do PGTO","BLOQUEIO","recolhmento via GRU","REMESSA","Ação","Registro","Ajuizada em","Trânsito",null,null,null,null,null,null,"DADOS PESSOAIS",null,null,"CRÉDITO",null,"% hon","ADVOGADO I","CPF / CNPJ","% hon","ADVOGADO II","CPF / CNPJ","% hon","ADVOGADO III","CPF / CNPJ","% hon","ADVOGADO IV","CPF / CNPJ","Origem do crédito","Tributário","EC 94 2016","Lei 13.463 2017","PRC/RPV de origem","Nº DA GRU","DOENÇA GRAVE","Deficiência física","Isento de IR",null,"PARCELA SELIC sobre",null,"PARCELAS",null,"TOTAL   requisitado",null,null,null,null,null,null,null,null,null,null,null,null,null,null,null,null,null,null,null,null,null,"na data da requisição","na data do pgto","VALOR","QTDE","QTDE","TOTAL","QTDE","TOTAL","ultimo sequencial",null,{"$f":"SUM(CH12:CH2997)","v":125}]
[null,null,null,null,null,null,null,null,null,null,null,null,null,null,null,null,null,null,null,"PROCESSO","Registro","Trânsito","Nome","CPF / CNPJ","Situação Funcional","Origem do crédito","NATUREZA",null,null,null,null,null,null,null,null,null,null,null,null,null,null,null,null,null,null,null,null,null,"data base","principal","juros","principal","juros",null,"principal","juros","total","principal","juros","total","principal","juros","total","principal","juros","total","principal","juros","total","Base PSSS","Desc PSSS","Patronal","NMA","Exerc. Anteriores","Desc RRA",null,null,{"$f":"SUM(BZ12:BZ5820)","v":65395446.880000219},1578,1543,64350142.23000022,35,1045304.6499999998,null,null,null,{"$f":"SUM(CI12:CI833)","v":0}]
[null,null,null,1,{"$f":"D11+1","v":2},{"$f":"E11+1","v":3},4,5,6,7,8,9,10,11,12,13,14,15,16,17,18,19,20,21,22,23,24,25,26,27,28,29,30,31,32,33,34,35,36,37,38,39,40,41,42,43,44,45,46,47,48,49,50,51,52,53,54,55,56,57,58,59,60,61,62,63,64,65,66,{"$f":"BQ11+1","v":67},68,69,70,71,72,73,74]
[{"$f":"basePAGAS!B9","v":14159},2457,"RPV",2457,"2016/0099391-4","2016-04-05","Aguardando Pagamento","sem verba para pgto",null,null,null,null,"MS 6.864/DF",null,"2000-04-04","2006-05-03","Administrativo - Servidor Público Civil - Sistema Remuneratório e Benefícios","Ministério do Planejamento, Orçamento e Gestão","Instituto Nacional do Seguro Social - INSS","Mandado de Segurança 6.864/DF","2007/0262201-0","2014-09-24","Josina Neves Braz ","309.817.941-49","Pensionista Civil","Reajuste 3,17% - Lei 8.880/94","Alimentar",null,"Mota & Advogados Associados","03.996.810/0001-38",null,"-","-",null,"-","-",0," x x x "," x x x ","Dedução de Honorários Contratuais","Não","Não","Não","-","-","Não informado","Não informado","Não","2015-03-01",0,0,41572.25,0,41572.25,0,2494.33,2494.33,0,0,0,0,0,0,0,0,0,39077.919999999998,0,39077.919999999998,0,0,0,47,39077.919999999998,0,0,null,{"$f":"CC12+CE12","v":41572.25},{"$f":"IF(BZ12=0,0,1)","v":1},{"$f":"IF(CC12=0,0,1)","v":1},{"$f":"IF(I12=\"\",IF(AA12=\"alimentar\",BB12,0),0)","v":41572.25},{"$f":"IF(CE12=0,0,1)","v":0},{"$f":"IF(I12=\"\",IF(AA12=\"comum\",BB12,0),0)","v":0},{"$f":"IF(AND(MONTH(F12)=MONTH($CH$8),YEAR(F12)=YEAR($CH$8)),CF11+1,0)","v":0},{"$f":"IF(CF12=0,0,D12)","v":0},{"$f":"IF(AND(CF12>0,CF13=0),CF12,0)","v":0}]
[{"$f":"basePAGAS!B10","v":14164},2461,"RPV",2461,"2016/0099425-3","2016-04-05","Aguardando Pagamento","sem verba para pgto",null,null,null,null,"MS 6.864/DF",null,"2000-04-04","2006-05-03","Administrativo - Servidor Público Civil - Sistema Remuneratório e Benefícios","Ministério do Planejamento, Orçamento e Gestão","Instituto Nacional do Seguro Social - INSS","Mandado de Segurança 6.864/DF","2007/0262201-0","2014-09-24","Maria Do Carmo Pereira ","664.597.888-04","Pensionista Civil","Reajuste 3,17% - Lei 8.880/94","Alimentar",null,"Mota & Advogados Associados","03.996.810/0001-38",null,"-","-",null,"-","-",0," x x x "," x x x ","Dedução de Honorários Contratuais","Não","Não","Não","-","-","Não informado","Não informado","Não","2015-03-01",0,0,10809.67,0,10809.67,0,648.58000000000004,648.58000000000004,0,0,0,0,0,0,0,0,0,10161.09,0,10161.09,0,0,0,47,10161.09,0,0,null,10809.67,1,1,10809.67,0,0,0,0,0]
[{"$f":"basePAGAS!B11","v":14242},2463,"RPV",2463,"2016/0099433-0","2016-04-05","Aguardando Pagamento","sem verba para pgto",null,null,null,null,"MS 6.864/DF",null,"2000-04-04","2006-05-03","Administrativo - Servidor Público Civil - Sistema Remuneratório e Benefícios","Ministério do Planejamento, Orçamento e Gestão","Instituto Nacional do Seguro Social - INSS","Mandado de Segurança 6.864/DF","2007/0262201-0","2014-09-24","Vania Maria Galdino De Carvalho ","223.972.723-34","Pensionista Civil","Reajuste 3,17% - Lei 8.880/94","Alimentar",null,"Mota & Advogados Associados","03.996.810/0001-38",null,"-","-",null,"-","-",0," x x x "," x x x ","Dedução de Honorários Contratuais","Não","Não","Não","-","-","Não informado","Não informado","Não","2015-03-01",0,0,26237.03,0,26237.03,0,1574.22,1574.22,0,0,0,0,0,0,0,0,0,24662.81,0,24662.809999999998,0,0,0,47,24662.809999999998,0,0,null,26237.03,1,1,26237.03,0,0,0,0,0]
[{"$f":"basePAGAS!B12","v":14261},2606,"RPV",2606,"2016/0112977-6","2016-04-18","Aguardando Pagamento","sem verba para pgto",null,null,null,null,"MS 6.864/DF",null,"2000-04-04","2006-05-03","Administrativo - Servidor Público Civil - Sistema Remuneratório e Benefícios","Ministério do Planejamento, Orçamento e Gestão","Instituto Nacional do Seguro Social - INSS","Mandado de Segurança 6.864/DF","2007/0260595-5","2014-09-25","Clarice Sillos De Castro ","883.860.236-00","Pensionista Civil","Reajuste 3,17% - Lei 8.880/94","Alimentar",null,"Mota & Advogados Associados","03.996.810/0001-38",null,"-","-",null,"-","-",0," x x x "," x x x ","Dedução de Honorários Contratuais","Não","Não","Não","-","-","Não informado","Não informado","Não","2015-02-01",0,0,25344.87,0,25344.87,0,1520.69,1520.69,0,0,0,0,0,0,0,0,0,23824.18,0,23824.18,0,0,0,47,23824.18,0,0,null,25344.87,1,1,25344.87,0,0,0,0,0]
[{"$f":"basePAGAS!B13","v":14325},2612,"RPV",2612,"2016/0112997-8","2016-04-18","Aguardando Pagamento","sem verba para pgto","",null,null,null,"MS 6.864/DF",null,"2000-04-04","2006-05-03","Administrativo - Servidor Público Civil - Sistema Remuneratório e Benefícios","Ministério do Planejamento, Orçamento e Gestão","Instituto Nacional do Seguro Social - INSS","Mandado de Segurança 6.864/DF","2007/0260633-4","2014-09-25","Herculina Alves Lopes ","439.910.766-91","Pensionista Civil","Reajuste 3,17% - Lei 8.880/94","Alimentar",null,"Mota & Advogados Associados","03.996.810/0001-38",null,"-","-",null,"-","-",0," x x x "," x x x ","Dedução de Honorários Contratuais","Não","Não","Não","-","-","Não informado","Não informado","Não","2015-01-01",0,0,8587.89,12939.600000000002,21527.49,515.27,776.37000000000012,1291.6400000000001,0,0,0,0,0,0,0,0,0,8072.62,12163.230000000003,20235.850000000002,0,0,0,47,20235.850000000002,0,0,null,21527.49,1,1,21527.49,0,0,0,0,0]
[{"$f":"basePAGAS!B14","v":14339},2617,"RPV",2617,"2016/0113008-5","2016-04-18","Aguardando Pagamento","sem verba para pgto","",null,null,null,"MS 6.864/DF",null,"2000-04-04","2006-05-03","Administrativo - Servidor Público Civil - Sistema Remuneratório e Benefícios","Ministério do Planejamento, Orçamento e Gestão","Instituto Nacional do Seguro Social - INSS","Mandado de Segurança 6.864/DF","2007/0260633-4","2014-09-25","Iria Mudado Maletta ","482.465.496-34","Pensionista Civil","Reajuste 3,17% - Lei 8.880/94","Alimentar",null,"Mota & Advogados Associados","03.996.810/0001-38",null,"-","-",null,"-","-",0," x x x "," x x x ","Dedução de Honorários Contratuais","Não","Não","Não","-","-","Não informado","Não informado","Não","2015-01-01",0,0,10375.219999999999,16914.29,27289.51,622.51,1014.8599999999999,1637.37,0,0,0,0,0,0,0,0,0,9752.7099999999991,15899.43,25652.14,0,0,0,23,25652.14,0,0,null,27289.51,1,1,27289.51,0,0,0,0,0]
[{"$f":"basePAGAS!B15","v":14428},2703,"RPV",2703,"2016/0119458-6","2016-04-26","Aguardando Pagamento","sem verba para pgto","",null,null,null,"AR 1.169/CE",null,"1999-10-18","2004-06-07","Administrativo - Servidor Público Civil - Sistema Remuneratório e Benefícios","Instituto Nacional do Seguro Social - INSS","Instituto Nacional do Seguro Social - INSS","Ação Recisória nº 1.169/CE","2009/0055114-0","2014-05-20","Deilde Sombra Ferreira ","016.736.023-04","Servidor Público Civil Ativo","Anuênios","Alimentar",null,"Glayddes Sindeaux Advogados","17.291.820/0001-82",null,"-","-",null,"-","-",0," x x x "," x x x ","Dedução de Honorários Contratuais","Não","Não","Não","-","-","Não informado","Não informado","Não","2015-08-01",0,0,35187.71,0,35187.71,0,7037.54,7037.54,0,0,0,0,0,0,0,0,0,28150.17,0,28150.17,5831.71,641.48,1282.96,111,28150.17,641.48,0,null,35187.71,1,1,35187.71,0,0,0,0,0]
[{"$f":"basePAGAS!B16","v":14594},2723,"RPV",2723,"2016/0126015-9","2016-05-02","Aguardando Pagamento","sem verba para pgto","",null,null,null,"AR 1.169/CE",null,"1999-10-18","2004-06-07","Administrativo - Servidor Público Civil - Sistema Remuneratório e Benefícios","Instituto Nacional do Seguro Social - INSS","Instituto Nacional do Seguro Social - INSS","Ação Recisória nº 1.169/CE","2009/0055231-4","2014-12-04","Edith Rossas Medeiros ","013.513.893-00","Servidor Público Civil Ativo","Anuênios","Alimentar",null,"Glayddes Sindeaux Advogados","17.291.820/0001-82",null,"-","-",null,"-","-",0," x x x "," x x x ","Dedução de Honorários Contratuais","Não","Não","Não","-","-","Não informado","Não informado","Não","2015-08-01",0,0,23125,18832.839999999997,41957.84,4625,3766.5599999999995,8391.56,0,0,0,0,0,0,0,0,0,18500,15066.279999999999,33566.28,41957.84,4615.3599999999997,9230.7199999999993,116,33566.28,4615.3599999999997,0,null,41957.84,1,1,41957.84,0,0,{"$f":"IF(AND(MONTH(F19)=MONTH($CH$8),YEAR(F19)=YEAR($CH$8)),CF18+1,0)","v":0},{"$f":"IF(CF19=0,0,D19)","v":0},{"$f":"IF(AND(CF19>0,CF20=0),CF19,0)","v":0}]
[{"$f":"basePAGAS!B17","v":14661},3364,"RPV",3364,"2016/0265335-9","2016-09-30","Aguardando Pagamento","sem verba para pgto",null,null,null,null,"MS 10.424/DF",null,"2005-02-17","2005-10-27","Administrativo - Servidor Público Civil - Sistema Remuneratório e Benefícios - Gratificações","Ministério do Planejamento, Orçamento e Gestão","UNIÃO","Mandado de Segurança 10.424/DF","2006/0180813-2","2015-05-19","Zilda Francisca Cardoso","079.205.472-53","Servidor Público Civil  Ativo","Gratificação Específica de Atividade Docente - GEAD","Alimentar",null,"Fonseca e Assis Advogados Associados","01.971.231/0001-05",null,"-","-",null,"-","-",0," x x x "," x x x ","Dedução de Honorários Contratuais","Não","Não","Não","-","-","Não informado","Não informado","Não","2016-09-01",0,0,12294.7,0,12294.7,0,1352.41,1352.41,0,0,0,0,0,0,0,0,0,0,10942.29,10942.29,7345.86,808.04,1616.08,9,10942.29,808.04,0,null,12294.7,1,1,12294.7,0,0,0,0,0]
[{"$f":"basePAGAS!B18","v":14698},5557,"RPV",5557,"2017/0243833-2","2017-09-20","Aguardando Pagamento","sem verba para pgto",null,null,null,null,"AR 5.176/RS",null,"2013-04-12","2014-10-14","Administrativo - Contratos Administrativos - Pagamento Atrasado / Correção Monetária","x x x","Estado da Bahia","Ação Rescisória 5.176/RS","2015/0126801-2","2016-02-10","André Sigiliano Paradela","007.936.175-70","x . x . x","Honorários de Sucumbência","Alimentar",0,"x.x.x","x.x.x",0," x x x "," x x x ",null,"-","-",0," x x x "," x x x ","x.x.x","Não","Não","Não","-","-","Não informado","Não informado","Não","2016-08-01",0,0,10947.82,417.48999999999978,11365.31,0,0,0,0,0,0,0,0,0,0,0,0,10947.82,417.48999999999978,11365.31,0,0,0,0,0,0,0,null,11365.31,1,1,11365.31,0,0,0,0,0]
[{"$f":"basePAGAS!B19","v":14702},5951,"RPV",5951,"2017/0315910-4","2017-11-30","Aguardando Pagamento","sem verba para pgto",null,null,null,null,"AR 4.344/RS",null,"2009-10-02","2016-10-10","Tributário - Impostos - ICMS - Imposto sobre Circulação de Mercadorias","x x x","Estado do Rio Grande do Sul","Ação Rescisória 4.344/RS","2016/0303173-5","2017-09-18","Pimentel & Rohenkohl Advogados Associados","00.581.428/0001-75","x . x . x","Honorários de Sucumbência","Alimentar",0,"x.x.x","x.x.x",0," x x x "," x x x ",null,"-","-",0," x x x "," x x x ","x.x.x","Não","Não","Não","-","-","Não informado","Não informado","Não","2016-10-01",0,0,1534.94,0,1534.94,0,0,0,0,0,0,0,0,0,0,0,0,1534.94,0,1534.94,0,0,0,0,0,0,0,null,1534.94,1,1,1534.94,0,0,0,0,0]
[{"$f":"basePAGAS!B20","v":14719},6026,"RPV",6026,"2018/0058850-4","2018-03-15","Aguardando Pagamento","sem verba para pgto",null,null,null,null,"PET 8.911/BA",null,"2011-12-07","2012-06-19","Administrativo - Contratos Administrativos","x x x","Estado da Bahia","Petição 10.654/BA","2014/0204444-3","2017-10-04","André Sigiliano Paradela","007.936.175-70","x . x . x","Honorários de Sucumbência","Alimentar",0,"x.x.x","x.x.x",0," x x x "," x x x ",null,"-","-",0," x x x "," x x x ","x.x.x","Não","Não","Não","-","-","Não informado","Não informado","Não","2014-06-01",0,0,3295.76,0,3295.76,0,0,0,0,0,0,0,0,0,0,0,0,3295.76,0,3295.76,0,0,0,0,0,0,0,null,3295.76,1,1,3295.76,0,0,0,0,0]
[{"$f":"basePAGAS!B21","v":14720},6027,"RPV",6027,"2018/0058851-6","2018-03-15","Aguardando Pagamento","sem verba para pgto",null,null,null,null,"PET 8.911/BA",null,"2011-12-07","2012-06-19","Administrativo - Contratos Administrativos","x x x","Estado da Bahia","Petição 10.654/BA","2014/0204444-3","2017-10-04","Augusto César Ribeiro Lima","158.488.845-87","x . x . x","Honorários de Sucumbência","Alimentar",0,"x.x.x","x.x.x",0," x x x "," x x x ",null,"-","-",0," x x x "," x x x ","x.x.x","Não","Não","Não","-","-","Não informado","Não informado","Não","2014-06-01",0,0,3295.77,0,3295.77,0,0,0,0,0,0,0,0,0,0,0,0,3295.77,0,3295.77,0,0,0,0,0,0,0,null,3295.77,1,1,3295.77,0,0,0,0,0]
[{"$f":"basePAGAS!B22","v":14723},6028,"RPV",6028,"2018/0060240-2","2018-03-16","Aguardando Pagamento","sem verba para pgto",null,null,null,null,"AR 3.282/SP",null,"2005-04-04","2007-09-26","Administrativo - Intervenção do Estado na Propriedade - Desapropriação","x x x","Estado de São Paulo","Ação Rescisória 3.282/SP","2014/0260496-0","2017-07-03","Lazzarini Advocacia","02.803.770/0001-06","x . x . x","Honorários de Sucumbência","Alimentar",0,"x.x.x","x.x.x",0," x x x "," x x x ",null,"-","-",0," x x x "," x x x ","x.x.x","Não","Não","Não","-","-","Não informado","Não informado","Não","2015-05-01",0,0,14624.67,0,14624.67,0,0,0,0,0,0,0,0,0,0,0,0,14624.67,0,14624.67,0,0,0,0,0,0,0,null,14624.67,1,1,14624.67,0,0,0,0,0]
[{"$f":"basePAGAS!B23","v":14725},6995,"RPV",6995,"2018/0210213-4","2018-08-17","Aguardando Pagamento","sem verba para pgto",null,null,null,null,"AR 4.640/DF","2011/0034402-3","2011-02-22","2017-03-20","Tributário - Impostos - ICMS - Imposto sobre Circulação de Mercadorias","-","Distrito Federal","Ação Rescisória 4.640/DF","2017/0096334-6","2018-06-06","Fernanda Guimarães Hernandez Sociedade Individual de Advocacia","37.138.559/0001-92","-","Honorários de sucumbência","Alimentar",0,"x.x.x","x.x.x",0," x x x "," x x x ",null,"-","-",0," x x x "," x x x ","x.x.x","Não","Não","Não","-","-","Não informada","Não informada","Não","2017-04-01",0,0,5072.8999999999996,0,5072.8999999999996,0,0,0,0,0,0,0,0,0,0,0,0,5072.8999999999996,0,5072.8999999999996,0,0,0,0,0,0,0,null,5072.8999999999996,1,1,5072.8999999999996,0,0,0,0,0]
[{"$f":"basePAGAS!B24","v":14726},7545,"RPV",7545,"2019/0086156-6","2019-03-26","Aguardando Pagamento","sem verba para pgto",null,null,null,null,"AR 5.087/SC","2012/0241563-8","2012-11-09","2018-06-28","Tributário - Impostos - ICMS - Imposto sobre Circulação de Mercadorias","-","Estado de Santa Catarina","Ação Rescisória 5.087/SC","2018/0302138-0","2019-02-18","Cláudio Silva Malheiros","449.978.769-68","-","Honorários de sucumbência","Alimentar",0,"x.x.x","x.x.x",0," x x x "," x x x ",null,"-","-",0," x x x "," x x x ","x.x.x","Não","Não","Não","-","-","Não informada","Não informada","Não","2019-03-01",0,0,1517.41,0,1517.41,0,0,0,0,0,0,0,0,0,0,0,0,1517.41,0,1517.41,0,0,0,0,0,0,0,null,1517.41,1,1,1517.41,0,0,0,0,0]
[{"$f":"basePAGAS!B25","v":14727},7756,"RPV",7756,"2019/0174388-3","2019-06-14","Aguardando Pagamento","sem verba para pgto",null,null,null,null,"MS 16.202/DF","2011/0049106-9","2011-03-11","2018-08-10","Administrativo - Militar - Regime - Anistia Política","-","União","Mandado de Segurança 16.202/DF","20180270849-5","2019-06-04","Luis Eduardo da Graça Souto","920.007.541-04","-","Honorários de sucumbência","Alimentar",0,"x.x.x","x.x.x",0," x x x "," x x x ",null,"-","-",0," x x x "," x x x ","x.x.x","Não","Não","Não","-","-","Não informada","Não Informada","Não","2019-06-01",0,0,5000,0,5000,0,0,0,0,0,0,0,0,0,0,0,0,5000,0,5000,0,0,0,0,0,0,0,null,5000,1,1,5000,0,0,0,0,0]
[{"$f":"basePAGAS!B26","v":14729},7772,"RPV",7772,"2019/0184088-5","2019-06-25","Aguardando Pagamento","sem verba para pgto",null,null,null,null,"MS 17.145/DF","2011/0131067-9","2011-06-08","2018-08-10","Administrativo - Militar - Regime - Anistia Política","-","União","Mandado de Segurança 17.145/DF","2018/0229266-6","2019-04-09","Alexandre Ribeiro Bezerra","018.326.337-56","-","Destaque de honorários contratuais","Alimentar",null,"-","-",null,null,null,null,"-","-",0," x x x "," x x x ",null,"Não","Não","Não","-","-","Não informada","Não Informada","Não","2023-02-02",0,0,12737.7,0,12737.7,0,0,0,0,0,0,0,0,0,0,0,0,12737.7,0,12737.7,0,0,0,0,0,0,0,null,12737.7,1,1,12737.7,0,0,0,0,0]
[{"$f":"basePAGAS!B27","v":14730},7904,"RPV",7904,"2019/0240918-3","2019-08-14","Aguardando Pagamento","sem verba para pgto",null,null,null,null,"AR 4.175/SP","2009/0003031-1","2009-01-07","2016-12-07","Administrativo - Servidor Público Civil - Reajustes de Remuneração, Proventos ou Pensão","-","Município de Santos","Ação Rescisória 4.175/SP","2018/0064208-2","2019-04-25","Jair Caetano de Carvalho","037.128.648-41","-","Honorários de sucumbência","Alimentar",0,"x.x.x","x.x.x",0," x x x "," x x x ",null,"-","-",0," x x x "," x x x ","x.x.x","Não","Não","Não","-","-","Não informada","Não Informada","Não","2018-03-01",0,0,5329.59,0,5329.59,0,0,0,0,0,0,0,0,0,0,0,0,5329.59,0,5329.59,0,0,0,0,0,0,0,null,5329.59,1,1,5329.59,0,0,0,0,0]
[{"$f":"basePAGAS!B28","v":14731},7910,"RPV",7910,"2019/0255730-7","2019-08-27","Aguardando Pagamento","sem verba para pgto",null,null,null,null,"AR 5.343/PB","2014/0049747-4","2014-03-07","2018-08-10","Previdenciário - RMI - Renda Mensal Inicial, Reajustes e Revisões Específicas - Reajustes e Revisões Específicos - Expurgos inflacionários sobre os benefícios","Instituto Nacional do Seguro Social - INSS","Instituto Nacional do Seguro Social – INSS","Ação Rescisória 5.343/PB","2018/0224925-1","2019-04-26","Diamantina Cardoso dos Santos ","019.293.024-95","Aposentado pelo RGPS","Diferença de correção monetária de benefícios previdenciários","Alimentar",0,"Joaquim Daniel ","050.162.313-20",0,null,null,null,"-","-",0," x x x "," x x x ","Dedução de Honorários Contratuais","Não","Não","Não","-","-","Não informada","Não Informada","Não","2018-08-01",0,0,6289.22,0,6289.22,0,0,0,0,0,0,0,0,0,0,0,0,6289.22,0,6289.22,0,0,0,31,6289.22,0,0,null,6289.22,1,1,6289.22,0,0,0,0,0]
[{"$f":"basePAGAS!B29","v":14732},8207,"RPV",8207,"2019/0284342-0","2019-09-20","Aguardando Pagamento","sem verba para pgto",null,null,null,null,"MS 4.149/DF","1995/0038042-0","1995-07-20","1998-09-23","Administrativo - Servidor Público Civil - Sistema Remuneratório e Benefícios","INCRA","UNIÃO","Mandado de Segurança 4.149/DF","2008/0066440-0","2014-09-26","Geraldo Pereira de Paula","002.098.211-91","Servidor Público Civil Ativo","Diferença de remuneração - 3,17%","Alimentar",10,"Josilma Saraiva - Advocacia E Consultoria - Sociedade Individual De Advocacia","09.384.741/0001-98",0,null,null,null,"-","-",0," x x x "," x x x ","Dedução de Honorários Contratuais","Não","Não","Não","-","-","Não informada","Não Informada","Não","2019-08-01",0,0,803.06,4428.5,5231.5600000000004,80.3,442.85,523.15,0,0,0,0,0,0,0,0,0,722.76,3985.6500000000005,4708.4100000000008,1502.31,165.25,330.5,85,4708.4100000000008,165.25,0,null,5231.5600000000004,1,1,5231.5600000000004,0,0,0,0,0]
[{"$f":"basePAGAS!B30","v":14733},8917,"RPV",8917,"2019/0324479-1","2019-10-28","Aguardando Pagamento","sem verba para pgto",null,null,null,null,"AR 1.169/CE","1999/0096834-4","1999-10-18","2004-06-07","Administrativo - Servidor Público Civil - Sistema Remuneratório e Benefícios","Instituto Nacional do Seguro Social - INSS","Instituto Nacional do Seguro Social - INSS","Ação Rescisória 1.169/CE","2009/0055679-5","2014-09-30","Socorro Cavalcante Martins ","046.128.253-49","Servidor Público Civil Ativo","Anuênios","Alimentar",10,"Glayddes Sindeaux Advogados","17.291.820/0001-82",0,null,null,null,"-","-",0," x x x "," x x x ","Dedução de Honorários Contratuais","Não","Não","Não","-","-","Não informada","Não Informada","Não","2019-10-01",0,0,7038.94,8132.0800000000008,15171.02,703.89,813.21,1517.1,0,0,0,0,0,0,0,0,0,6335.05,7318.87,13653.92,7038.94,774.28,1548.56,47,13653.92,774.28,0,null,15171.02,1,1,15171.02,0,0,0,0,0]
[{"$f":"basePAGAS!B31","v":14734},8986,"RPV",8986,"2019/0327419-8","2019-10-30","Aguardando pagamento","sem verba para pgto",null,null,null,null,"AR 1.169/CE","1999/0096834-4","1999-10-18","2004-06-07","Administrativo - Servidor Público Civil - Sistema Remuneratório e Benefícios","Instituto Nacional do Seguro Social - INSS","Instituto Nacional do Seguro Social - INSS","Ação Rescisória 1.169/CE","2009/0056149-9","2015-03-26","Antônio Aldema Pereira De Morais ","157.030.963-91","Servidor Público Civil Ativo","Anuênios","Alimentar",10,"Glayddes Sindeaux Advogados","17.291.820/0001-82",0,null,null,null,"-","-",0," x x x "," x x x ","Dedução de Honorários Contratuais","Não","Não","Não","-","-","Não informada","Não Informada","Não","2019-10-01",0,0,1406.96,1625.4499999999998,3032.41,140.69,162.55000000000001,303.24,0,0,0,0,0,0,0,0,0,1266.27,1462.9,2729.17,1406.96,154.76,309.52,47,2729.17,154.76,0,null,3032.41,1,1,3032.41,0,0,0,0,0]
[{"$f":"basePAGAS!B32","v":14735},8995,"RPV",8995,"2019/0327499-5","2019-10-30","Aguardando Pagamento","sem verba para pgto",null,null,null,null,"MS 6.864/DF","2000/0024867-3","2000-04-05","2006-05-03","Administrativo - Servidor Público Civil - Sistema Remuneratório e Benefícios","Ministério do Planejamento, Orçamento e Gestão","Instituto Nacional do Seguro Social - INSS","Mandado de Segurança 6.864/DF","2007/0164377-4","2018-11-30","Marta Angélica Batista","712.279.626-49","Servidor Público Civil Ativo","Reajuste  3,17% - Lei 8.880/94","Alimentar",6,"Mota & Advogados Associados","03.996.810/0001-38",0,null,null,null,"-","-",0," x x x "," x x x ","Dedução de Honorários Contratuais","Não","Não","Não","-","-","Não informada","Não Informada","Não","2019-10-01",0,0,14178.79,29892.049999999996,44070.84,850.72,1793.53,2644.25,0,0,0,0,0,0,0,0,0,13328.07,28098.519999999997,41426.589999999997,14178.79,1559.66,3119.32,44,41426.589999999997,1559.66,0,null,44070.84,1,1,44070.84,0,0,0,0,0]
[{"$f":"basePAGAS!B33","v":14736},9100,"RPV",9100,"2019/0359933-3","2019-11-29","Aguardando Pagamento","sem verba para pgto",null,null,null,null,"MS 10.424/DF","2005/0021065-5","2005-02-17","2005-10-27","Administrativo - Servidor Público Civil - Sistema Remuneratório e Benefícios - Gratificações","Ministério do Planejamento, Orçamento e Gestão","UNIÃO","Mandado de Segurança 10.424/DF","2006/0199674-5","2018-12-07","Terezinha De Jesus Araújo Ferreira ","040.535.672-20","Servidor Público Civil Inativo","Gratificação Específica de Atividade Docente - GEAD","Alimentar",11,"Fonseca e Assis Advogados Associados","01.971.231/0001-05",0," x x x "," x x x ",null,"-","-",0," x x x "," x x x ","Dedução de Honorários Contratuais","Não","Não","Não","-","-","Não informada","Não Informada","Não","2019-11-01",0,0,8228.4500000000007,6763.4,14991.85,905.12,743.98,1649.1,0,0,0,0,0,0,0,0,0,7323.33,6019.42,13342.75,8228.4500000000007,905.12,0,9,13342.75,905.12,0,null,14991.85,1,1,14991.85,0,0,0,0,0]
[{"$f":"basePAGAS!B34","v":14737},9160,"RPV",9160,"2019/0365443-0","2019-12-04","Aguardando pagamento","sem verba para pgto",null,null,null,null,"MS 10.424/DF","2005/0021065-5","2005-02-17","2005-10-27","Administrativo - Servidor Público Civil - Sistema Remuneratório e Benefícios - Gratificações","Ministério do Planejamento, Orçamento e Gestão","UNIÃO","Mandado de Segurança 10.424/DF","2006/0199679-4","2019-02-27","Jorcelina Krauze De Almeida ","078.895.342-72","Servidor Público Civil Ativo","Gratificação Específica de Atividade Docente - GEAD","Alimentar",11,"Fonseca e Assis Advogados Associados","01.971.231/0001-05",0," x x x "," x x x ",null,"-","-",0," x x x "," x x x ","Dedução de Honorários Contratuais","Não","Não","Não","-","-","Não informada","Não Informada","Não","2019-11-01",0,0,8228.4500000000007,6763.4,14991.85,905.12,743.98,1649.1,0,0,0,0,0,0,0,0,0,7323.33,6019.42,13342.75,8228.4500000000007,905.12,1810.24,9,13342.75,905.12,0,null,14991.85,1,1,14991.85,0,0,0,0,0]
[{"$f":"basePAGAS!B35","v":14738},9184,"RPV",9184,"2019/0367853-9","2019-12-06","Aguardando pagamento","sem verba para pgto",null,null,null,null,"MS 10.424/DF","2005/0021065-5","2005-02-17","2005-10-27","Administrativo - Servidor Público Civil - Sistema Remuneratório e Benefícios - Gratificações","Ministério do Planejamento, Orçamento e Gestão","UNIÃO","Mandado de Segurança 10.424/DF","2006/0199709-6","2019-02-27","Clementina Magdalena Dalla Costa Da Silva ","284.029.102-97","Servidor Público Civil Inativo","Gratificação Específica de Atividade Docente - GEAD","Alimentar",11,"Fonseca e Assis Advogados Associados","01.971.231/0001-05",0," x x x "," x x x ",null,"-","-",0," x x x "," x x x ","Dedução de Honorários Contratuais","Não","Não","Não","-","-","Não informada","Não Informada","Não","2019-11-01",0,0,8228.4500000000007,6763.4,14991.85,905.12,743.98,1649.1,0,0,0,0,0,0,0,0,0,7323.33,6019.42,13342.75,8228.4500000000007,905.12,0,9,13342.75,905.12,0,null,14991.85,1,1,14991.85,0,0,0,0,0]
[{"$f":"basePAGAS!B36","v":14739},9232,"RPV",9232,"2019/0369585-5","2019-12-06","Aguardando pagamento","sem verba para pgto",null,null,null,null,"MS 10.424/DF","2005/0021065-5","2005-02-17","2005-10-27","Administrativo - Servidor Público Civil - Sistema Remuneratório e Benefícios - Gratificações","Ministério do Planejamento, Orçamento e Gestão","UNIÃO","Mandado de Segurança 10.424/DF","2006/0199711-2","2019-02-27","Nilza Loura Dos Santos Vital ","349.134.162-00","Servidor Público Civil Inativo","Gratificação Específica de Atividade Docente - GEAD","Alimentar",11,"Fonseca e Assis Advogados Associados","01.971.231/0001-05",0," x x x "," x x x ",null,"-","-",0," x x x "," x x x ","Dedução de Honorários Contratuais","Não","Não","Não","-","-","Não informada","Não Informada","Não","2019-11-01",0,0,8228.4500000000007,6763.4,14991.85,905.12,743.98,1649.1,0,0,0,0,0,0,0,0,0,7323.33,6019.42,13342.75,8228.4500000000007,905.12,0,9,13342.75,905.12,0,null,14991.85,1,1,14991.85,0,0,0,0,0]
[{"$f":"basePAGAS!B37","v":14740},9244,"RPV",9244,"2019/0369608-1","2019-12-07","Aguardando pagamento","sem verba para pgto",null,null,null,null,"MS 6.019/DF","1998/0079215-5","1998-10-22","2007-12-10","Administrativo - Servidor Público Civil - Sistema Remuneratório e Benefícios","Instituto Nacional do Seguro Social - INSS","Instituto Nacional do Seguro Social - INSS","Mandado de Segurança 6.019/DF","2013/0199240-4","2019-10-16","Cleonor Vasconcelos de Carvalho","030.020.557-00","Pensionista de Servidor Público Civil Inativo","Reajuste Salarial - Resíduo de 3,17%","Alimentar",6.5,"Mota & Advogados Associados","03.996.810/0001-38",0," x x x "," x x x ",null,"-","-",0," x x x "," x x x ","Dedução de Honorários Contratuais","Não","Não","Não","-","-","Não informada","Não Informada","Não","2019-11-01",0,0,7899.59,11289.23,19188.82,513.47,733.8,1247.27,0,0,0,0,0,0,0,0,0,7386.12,10555.43,17941.55,0,0,0,23,17941.55,0,0,null,19188.82,1,1,19188.82,0,0,0,0,0]
[{"$f":"basePAGAS!B38","v":14742},9273,"RPV",9273,"2019/0369637-2","2019-12-07","Aguardando pagamento","sem verba para pgto",null,null,null,null,"MS 6.019/DF","1998/0079215-5","1998-10-22","2007-12-10","Administrativo - Servidor Público Civil - Sistema Remuneratório e Benefícios","Instituto Nacional do Seguro Social - INSS","Instituto Nacional do Seguro Social - INSS","Mandado de Segurança 6.019/DF","2013/0222569-7","2019-10-16","Nancy Grobman ","051.471.227-96","Pensionista de Servidor Público Civil Inativo","Reajuste Salarial - Resíduo de 3,17%","Alimentar",6.5,"Mota & Advogados Associados","03.996.810/0001-38",0," x x x "," x x x ",null,"-","-",0," x x x "," x x x ","Dedução de Honorários Contratuais","Não","Não","Não","-","-","Não informada","Não Informada","Não","2019-11-01",0,0,7912.15,11365.449999999999,19277.599999999999,514.28,738.76,1253.04,0,0,0,0,0,0,0,0,0,7397.87,10626.689999999999,18024.559999999998,0,0,0,23,18024.559999999998,0,0,null,19277.599999999999,1,1,19277.599999999999,0,0,0,0,0]
[{"$f":"basePAGAS!B39","v":14743},9283,"RPV",9283,"2019/0370025-0","2019-12-07","Aguardando pagamento","sem verba para pgto",null,null,null,null,"MS 6.019/DF","1998/0079215-5","1998-10-22","2007-12-10","Administrativo - Servidor Público Civil - Sistema Remuneratório e Benefícios","Instituto Nacional do Seguro Social - INSS","Instituto Nacional do Seguro Social - INSS","Mandado de Segurança 6.019/DF","2013/0222679-6","2019-10-16","Marcia Roque de Chalup","637.322.546-15","Pensionista de Servidor Público Civil Inativo","Reajuste Salarial - Resíduo de 3,17%","Alimentar",6.5,"Mota & Advogados Associados","03.996.810/0001-38",0," x x x "," x x x ",null,"-","-",0," x x x "," x x x ","Dedução de Honorários Contratuais","Não","Não","Não","-","-","Não informada","Não Informada","Não","2019-11-01",0,0,1639.84,3355.34,4995.18,106.58,218.1,324.68,0,0,0,0,0,0,0,0,0,1533.26,3137.24,4670.5,0,0,0,23,4670.5,0,0,null,4995.18,1,1,4995.18,0,0,0,0,0]
[{"$f":"basePAGAS!B40","v":14745},9292,"RPV",9292,"2019/0370045-1","2019-12-07","Aguardando pagamento","sem verba para pgto",null,null,null,null,"MS 6.019/DF","1998/0079215-5","1998-10-22","2007-12-10","Administrativo - Servidor Público Civil - Sistema Remuneratório e Benefícios","Instituto Nacional do Seguro Social - INSS","Instituto Nacional do Seguro Social - INSS","Mandado de Segurança 6.019/DF","2013/0222679-6","2019-10-16","Maria Bernadete Stein de Melo e Sousa","116.307.318-03","Pensionista de Servidor Público Civil Inativo","Reajuste Salarial - Resíduo de 3,17%","Alimentar",6.5,"Mota & Advogados Associados","03.996.810/0001-38",0," x x x "," x x x ",null,"-","-",0," x x x "," x x x ","Dedução de Honorários Contratuais","Não","Não","Não","-","-","Não informada","Não Informada","Não","2019-11-01",0,0,1980.93,2837.8099999999995,4818.74,128.76,184.45,313.20999999999998,0,0,0,0,0,0,0,0,0,1852.17,2653.3599999999997,4505.53,0,0,0,23,4505.53,0,0,null,4818.74,1,1,4818.74,0,0,0,0,0]
[{"$f":"basePAGAS!B41","v":14746},9324,"RPV",9324,"2019/0373763-9","2019-12-11","Aguardando pagamento","sem verba para pgto",null,null,null,null,"MS 6.019/DF","1998/0079215-5","1998-10-22","2007-12-10","Administrativo - Servidor Público Civil - Sistema Remuneratório e Benefícios","Instituto Nacional do Seguro Social - INSS","Instituto Nacional do Seguro Social - INSS","Mandado de Segurança 6.019/DF","2013/0222649-3","2019-10-16","Vanessa Maria de Brito Pina ","699.106.005-44","Pensionista Civil","Reajuste Salarial - Resíduo de 3,17%","Alimentar",6.5,"Mota & Advogados Associados","03.996.810/0001-38",0," x x x "," x x x ",null,"-","-",0," x x x "," x x x ","Dedução de Honorários Contratuais","Não","Não","Não","-","-","Não informada","Não Informada","Não","2019-11-01",0,0,3654.95,4937.79,8592.74,237.57,320.95,558.52,0,0,0,0,0,0,0,0,0,3417.38,4616.8399999999992,8034.2199999999993,0,0,0,23,8034.2199999999993,0,0,null,8592.74,1,1,8592.74,0,0,0,0,0]
[{"$f":"basePAGAS!B42","v":14747},9340,"RPV",9340,"2019/0373893-0","2019-12-11","Aguardando pagamento","sem verba para pgto",null,null,null,null,"MS 6.019/DF","1998/0079215-5","1998-10-22","2007-12-10","Administrativo - Servidor Público Civil - Sistema Remuneratório e Benefícios","Instituto Nacional do Seguro Social - INSS","Instituto Nacional do Seguro Social - INSS","Mandado de Segurança 6.019/DF","2013/0222692-5","2019-10-16","Maria Eliete Evangelista Silvestre","008.188.778-71","Pensionista Civil","Reajuste Salarial - Resíduo de 3,17%","Alimentar",6.5,"Mota & Advogados Associados","03.996.810/0001-38",0," x x x "," x x x ",null,"-","-",0," x x x "," x x x ","Dedução de Honorários Contratuais","Não","Não","Não","-","-","Não informada","Não Informada","Não","2019-11-01",0,0,3985.7,5182.38,9168.08,259.07,336.85,595.91999999999996,0,0,0,0,0,0,0,0,0,3726.63,4845.53,8572.16,0,0,0,23,8572.16,0,0,null,9168.08,1,1,9168.08,0,0,0,0,0]
[{"$f":"basePAGAS!B43","v":14748},9353,"RPV",9353,"2019/0375280-9","2019-12-12","Aguardando pagamento","sem verba para pgto",null,null,null,null,"MS 6.019/DF","1998/0079215-5","1998-10-22","2007-12-10","Administrativo - Servidor Público Civil - Sistema Remuneratório e Benefícios","Instituto Nacional do Seguro Social - INSS","Instituto Nacional do Seguro Social - INSS","Mandado de Segurança 6.019/DF","2013/0222734-1","2019-10-16","Eunice Maria dos Santos Brandao","266.731.261-91","Pensionista Civil","Reajuste Salarial - Resíduo de 3,17%","Alimentar",6.5,"Mota & Advogados Associados","03.996.810/0001-38",0," x x x "," x x x ",null,"-","-",0," x x x "," x x x ","Dedução de Honorários Contratuais","Não","Não","Não","-","-","Não informada","Não Informada","Não","2019-11-01",0,0,3993.28,5726.66,9719.94,259.56,372.23,631.79,0,0,0,0,0,0,0,0,0,3733.72,5354.4300000000021,9088.1500000000015,0,0,0,23,9088.1500000000015,0,0,null,9719.94,1,1,9719.94,0,0,0,0,0]
[{"$f":"basePAGAS!B44","v":14749},9396,"RPV",9396,"2019/0379480-4","2019-12-16","Aguardando pagamento","sem verba para pgto",null,null,null,null,"MS 6.019/DF","1998/0079215-5","1998-10-22","2007-12-10","Administrativo - Servidor Público Civil - Sistema Remuneratório e Benefícios","Instituto Nacional do Seguro Social - INSS","Instituto Nacional do Seguro Social - INSS","Mandado de Segurança 6.019/DF","2013/0222576-2","2019-10-16","Rachel Teixeira Fares Menhem ","428.039.506-34","Pensionista Civil","Reajuste Salarial - Resíduo de 3,17%","Alimentar",6.5,"Mota & Advogados Associados","03.996.810/0001-38",0," x x x "," x x x ",null,"-","-",0," x x x "," x x x ","Dedução de Honorários Contratuais","Não","Não","Não","-","-","Não informada","Não Informada","Não","2019-12-01",0,0,7120.41,10648.349999999999,17768.759999999998,462.82,692.14,1154.96,0,0,0,0,0,0,0,0,0,6657.59,9956.2099999999991,16613.8,0,0,0,21,16613.8,0,0,null,17768.759999999998,1,1,17768.759999999998,0,0,0,0,0]
[{"$f":"basePAGAS!B45","v":14750},9408,"RPV",9408,"2019/0379499-1","2019-12-16","Aguardando pagamento","sem verba para pgto",null,null,null,null,"MS 6.019/DF","1998/0079215-5","1998-10-22","2007-12-10","Administrativo - Servidor Público Civil - Sistema Remuneratório e Benefícios","Instituto Nacional do Seguro Social - INSS","Instituto Nacional do Seguro Social - INSS","Mandado de Segurança 6.019/DF","2013/0222576-2","2019-10-16","Rosana Martins Leite","246.413.688-30","Pensionista Civil","Reajuste Salarial - Resíduo de 3,17%","Alimentar",6.5,"Mota & Advogados Associados","03.996.810/0001-38",0," x x x "," x x x ",null,"-","-",0," x x x "," x x x ","Dedução de Honorários Contratuais","Não","Não","Não","-","-","Não informada","Não Informada","Não","2019-12-01",0,0,1920.37,2636.6000000000004,4556.97,124.82,171.38,296.2,0,0,0,0,0,0,0,0,0,1795.55,2465.2200000000003,4260.7700000000004,0,0,0,23,4260.7700000000004,0,0,null,4556.97,1,1,4556.97,0,0,0,0,0]
[{"$f":"basePAGAS!B46","v":14751},9414,"RPV",9414,"2019/0379505-4","2019-12-16","Aguardando pagamento","sem verba para pgto",null,null,null,null,"MS 6.019/DF","1998/0079215-5","1998-10-22","2007-12-10","Administrativo - Servidor Público Civil - Sistema Remuneratório e Benefícios","Instituto Nacional do Seguro Social - INSS","Instituto Nacional do Seguro Social - INSS","Mandado de Segurança 6.019/DF","2013/0222590-3","2019-10-16","Cintia Oliveira Ferreira","031.441.077-51","Pensionista Civil","Reajuste Salarial - Resíduo de 3,17%","Alimentar",6.5,"Mota & Advogados Associados","03.996.810/0001-38",0," x x x "," x x x ",null,"-","-",0," x x x "," x x x ","Dedução de Honorários Contratuais","Não","Não","Não","-","-","Não informada","Não Informada","Não","2019-12-01",0,0,791.43,1050,1841.43,51.44,68.25,119.69,0,0,0,0,0,0,0,0,0,739.99,981.75,1721.74,0,0,0,11,1721.74,0,0,null,1841.43,1,1,1841.43,0,0,0,0,0]
[{"$f":"basePAGAS!B47","v":14752},9422,"RPV",9422,"2019/0379513-1","2019-12-16","Aguardando pagamento","sem verba para pgto",null,null,null,null,"MS 6.019/DF","1998/0079215-5","1998-10-22","2007-12-10","Administrativo - Servidor Público Civil - Sistema Remuneratório e Benefícios","Instituto Nacional do Seguro Social - INSS","Instituto Nacional do Seguro Social - INSS","Mandado de Segurança 6.019/DF","2013/0222590-3","2019-10-16","Yone Souza das Chagas","512.914.871-15","Pensionista Civil","Reajuste Salarial - Resíduo de 3,17%","Alimentar",6.5,"Mota & Advogados Associados","03.996.810/0001-38",0," x x x "," x x x ",null,"-","-",0," x x x "," x x x ","Dedução de Honorários Contratuais","Não","Não","Não","-","-","Não informada","Não Informada","Não","2019-12-01",0,0,3701.75,5040.2199999999993,8741.9699999999993,240.61,327.61,568.22,0,0,0,0,0,0,0,0,0,3461.14,4712.6099999999988,8173.7499999999991,0,0,0,23,8173.7499999999991,0,0,null,8741.9699999999993,1,1,8741.9699999999993,0,0,0,0,0]
[{"$f":"basePAGAS!B48","v":14753},9438,"RPV",9438,"2019/0379529-3","2019-12-16","Aguardando pagamento","sem verba para pgto",null,null,null,null,"MS 6.019/DF","1998/0079215-5","1998-10-22","2007-12-10","Administrativo - Servidor Público Civil - Sistema Remuneratório e Benefícios","Instituto Nacional do Seguro Social - INSS","Instituto Nacional do Seguro Social - INSS","Mandado de Segurança 6.019/DF","2013/0222664-6","2019-10-16","Jussara Martha Aquini Maciel","006.761.360-87","Pensionista Civil","Reajuste Salarial - Resíduo de 3,17%","Alimentar",6.5,"Mota & Advogados Associados","03.996.810/0001-38",0," x x x "," x x x ",null,"-","-",0," x x x "," x x x ","Dedução de Honorários Contratuais","Não","Não","Não","-","-","Não informada","Não Informada","Não","2019-12-01",0,0,9140.11,12203.89,21344,594.1,793.26,1387.36,0,0,0,0,0,0,0,0,0,8546.01,11410.63,19956.64,0,0,0,23,19956.64,0,0,null,21344,1,1,21344,0,0,0,0,0]
[{"$f":"basePAGAS!B49","v":14754},9457,"RPV",9457,"2019/0379548-3","2019-12-17","Aguardando pagamento","sem verba para pgto",null,null,null,null,"MS 6.019/DF","1998/0079215-5","1998-10-22","2007-12-10","Administrativo - Servidor Público Civil - Sistema Remuneratório e Benefícios","Instituto Nacional do Seguro Social - INSS","Instituto Nacional do Seguro Social - INSS","Mandado de Segurança 6.019/DF","2013/0222667-1","2019-10-16","Lucia Maria Paula de Carvalho","401.151.276-15","Pensionista Civil","Reajuste Salarial - Resíduo de 3,17%","Alimentar",6.5,"Mota & Advogados Associados","03.996.810/0001-38",0," x x x "," x x x ",null,"-","-",0," x x x "," x x x ","Dedução de Honorários Contratuais","Não","Não","Não","-","-","Não informada","Não Informada","Não","2019-12-01",0,0,2344.2800000000002,3113.3799999999997,5457.66,152.37,202.37,354.74,0,0,0,0,0,0,0,0,0,2191.91,2911.01,5102.92,0,0,0,23,5102.92,0,0,null,5457.66,1,1,5457.66,0,0,0,0,0]
[{"$f":"basePAGAS!B50","v":14755},9473,"RPV",9473,"2019/0380732-9","2019-12-17","Aguardando pagamento","sem verba para pgto",null,null,null,null,"MS 6.019/DF","1998/0079215-5","1998-10-22","2007-12-10","Administrativo - Servidor Público Civil - Sistema Remuneratório e Benefícios","Instituto Nacional do Seguro Social - INSS","Instituto Nacional do Seguro Social - INSS","Mandado de Segurança 6.019/DF","2013/0222684-8","2019-10-16","Maria Cruz da Silva Ramos","007.389.814-78","Pensionista Civil","Reajuste Salarial - Resíduo de 3,17%","Alimentar",6.5,"Mota & Advogados Associados","03.996.810/0001-38",0," x x x "," x x x ",null,"-","-",0," x x x "," x x x ","Dedução de Honorários Contratuais","Não","Não","Não","-","-","Não informada","Não Informada","Não","2019-12-01",0,0,4749.4799999999996,6298.9600000000009,11048.44,308.70999999999998,409.43,718.14,0,0,0,0,0,0,0,0,0,4440.7700000000004,5889.5300000000007,10330.300000000001,0,0,0,23,10330.300000000001,0,0,null,11048.44,1,1,11048.44,0,0,0,0,0]
[{"$f":"basePAGAS!B51","v":14756},9490,"RPV",9490,"2019/0381257-6","2019-12-17","Aguardando pagamento","sem verba para pgto",null,null,null,null,"MS 6.019/DF","1998/0079215-5","1998-10-22","2007-12-10","Administrativo - Servidor Público Civil - Sistema Remuneratório e Benefícios","Instituto Nacional do Seguro Social - INSS","Instituto Nacional do Seguro Social - INSS","Mandado de Segurança 6.019/DF","2013/0199253-0","2019-10-16","Adelaide Breda Destro ","033.361.668-53","Pensionista Civil","Reajuste Salarial - Resíduo de 3,17%","Alimentar",6.5,"Mota & Advogados Associados","03.996.810/0001-38",0," x x x "," x x x ",null,"-","-",0," x x x "," x x x ","Dedução de Honorários Contratuais","Não","Não","Não","-","-","Não informada","Não Informada","Não","2019-12-01",0,0,6718.34,9542.57,16260.91,436.69,620.26,1056.95,0,0,0,0,0,0,0,0,0,6281.65,8922.31,15203.96,0,0,0,23,15203.96,0,0,null,16260.91,1,1,16260.91,0,0,0,0,0]
[{"$f":"basePAGAS!B52","v":14758},9502,"RPV",9502,"2019/0381508-8","2019-12-17","Aguardando pagamento","sem verba para pgto",null,null,null,null,"MS 6.019/DF","1998/0079215-5","1998-10-22","2007-12-10","Administrativo - Servidor Público Civil - Sistema Remuneratório e Benefícios","Instituto Nacional do Seguro Social - INSS","Instituto Nacional do Seguro Social - INSS","Mandado de Segurança 6.019/DF","2013/0199253-0","2019-10-16","Ana Candelaria Maria Bocayuva Carvalho","860.817.137-68","Pensionista Civil","Reajuste Salarial - Resíduo de 3,17%","Alimentar",6.5,"Mota & Advogados Associados","03.996.810/0001-38",0," x x x "," x x x ",null,"-","-",0," x x x "," x x x ","Dedução de Honorários Contratuais","Não","Não","Não","-","-","Não informada","Não Informada","Não","2019-12-01",0,0,1977.96,2842.6899999999996,4820.6499999999996,128.56,184.78,313.33999999999997,0,0,0,0,0,0,0,0,0,1849.4,2657.9099999999994,4507.3099999999995,0,0,0,23,4507.3099999999995,0,0,null,4820.6499999999996,1,1,4820.6499999999996,0,0,0,0,0]
[{"$f":"basePAGAS!B53","v":14760},9504,"RPV",9504,"2019/0381524-2","2019-12-17","Aguardando pagamento","sem verba para pgto",null,null,null,null,"MS 6.019/DF","1998/0079215-5","1998-10-22","2007-12-10","Administrativo - Servidor Público Civil - Sistema Remuneratório e Benefícios","Instituto Nacional do Seguro Social - INSS","Instituto Nacional do Seguro Social - INSS","Mandado de Segurança 6.019/DF","2013/0199253-0","2019-10-16","Ana Rosa de Carvalho Cavalcanti","376.974.474-87","Pensionista Civil","Reajuste Salarial - Resíduo de 3,17%","Alimentar",6.5,"Mota & Advogados Associados","03.996.810/0001-38",0," x x x "," x x x ",null,"-","-",0," x x x "," x x x ","Dedução de Honorários Contratuais","Não","Não","Não","-","-","Não informada","Não Informada","Não","2019-12-01",0,0,2159.19,2862.7000000000003,5021.8900000000003,140.34,186.08,326.42,0,0,0,0,0,0,0,0,0,2018.85,2676.6200000000003,4695.47,0,0,0,23,4695.47,0,0,null,5021.8900000000003,1,1,5021.8900000000003,0,0,0,0,0]
[{"$f":"basePAGAS!B54","v":14761},9505,"RPV",9505,"2019/0381532-0","2019-12-17","Aguardando pagamento","sem verba para pgto",null,null,null,null,"MS 6.019/DF","1998/0079215-5","1998-10-22","2007-12-10","Administrativo - Servidor Público Civil - Sistema Remuneratório e Benefícios","Instituto Nacional do Seguro Social - INSS","Instituto Nacional do Seguro Social - INSS","Mandado de Segurança 6.019/DF","2013/0199253-0","2019-10-16","Ana Teresa Rodrigues Nogueira da Cruz","351.706.033-04","Pensionista Civil","Reajuste Salarial - Resíduo de 3,17%","Alimentar",6.5,"Mota & Advogados Associados","03.996.810/0001-38",0," x x x "," x x x ",null,"-","-",0," x x x "," x x x ","Dedução de Honorários Contratuais","Não","Não","Não","-","-","Não informada","Não Informada","Não","2019-12-01",0,0,3457.6,5001.9599999999991,8459.56,224.74,325.13,549.87,0,0,0,0,0,0,0,0,0,3232.86,4676.83,7909.69,0,0,0,23,7909.69,0,0,null,8459.56,1,1,8459.56,0,0,0,0,0]
[{"$f":"basePAGAS!B55","v":14762},9508,"RPV",9508,"2019/0381561-0","2019-12-17","Aguardando pagamento","sem verba para pgto",null,null,null,null,"MS 6.019/DF","1998/0079215-5","1998-10-22","2007-12-10","Administrativo - Servidor Público Civil - Sistema Remuneratório e Benefícios","Instituto Nacional do Seguro Social - INSS","Instituto Nacional do Seguro Social - INSS","Mandado de Segurança 6.019/DF","2013/0222720-3","2019-10-16","Valter Luis Cervo ","626.368.550-68","Servidor Público Civil Ativo","Reajuste Salarial - Resíduo de 3,17%","Alimentar",6.5,"Mota & Advogados Associados","03.996.810/0001-38",0," x x x "," x x x ",null,"-","-",0," x x x "," x x x ","Dedução de Honorários Contratuais","Não","Não","Não","-","-","Não informada","Não Informada","Não","2019-12-01",0,0,6710.29,8977.4199999999983,15687.71,436.16,583.54,1019.7,0,0,0,0,0,0,0,0,0,6274.13,8393.8799999999974,14668.009999999998,6710.29,738.13,1476.26,23,14668.009999999998,738.13,0,null,15687.71,1,1,15687.71,0,0,0,0,0]
[{"$f":"basePAGAS!B56","v":14763},9519,"RPV",9519,"2019/0381629-0","2019-12-17","Aguardando pagamento","sem verba para pgto",null,null,null,null,"AR 3.880/DF","2007/0279457-9","2007-11-14","2017-10-16","Administrativo - Militar - Sistema Remuneratório e Benefícios","-","Distrito Federal","Ação Rescisória 3.880/DF","2018/0045001-8","2019-12-03","Jorge Ademar da Silva","155.076.960-04","-","Honorários de Sucumbência","Alimentar",0,"x.x.x","x.x.x",0," x x x "," x x x ",null,"-","-",0," x x x "," x x x ","x.x.x","Não","Não","Não","-","-","Não informada","Não Informada","Não","2017-12-01",0,0,1000,0,1000,0,0,0,0,0,0,0,0,0,0,0,0,1000,0,1000,0,0,0,0,0,0,0,null,1000,1,1,1000,0,0,0,0,0]
[{"$f":"basePAGAS!B57","v":14764},9520,"RPV",9520,"2019/0381634-1","2019-12-17","Aguardando pagamento","sem verba para pgto",null,null,null,null,"AR 3.880/DF","2007/0279457-9","2007-11-14","2017-10-16","Administrativo - Militar - Sistema Remuneratório e Benefícios","-","Distrito Federal","Ação Rescisória 3.880/DF","2018/0045001-8","2019-12-03","Cibele Soares da Silva Ribeiro de Souza","962.111.641-49","-","Honorários de Sucumbência","Alimentar",0,"x.x.x","x.x.x",0," x x x "," x x x ",null,"-","-",0," x x x "," x x x ","x.x.x","Não","Não","Não","-","-","Não informada","Não Informada","Não","2017-12-01",0,0,1000,0,1000,0,0,0,0,0,0,0,0,0,0,0,0,1000,0,1000,0,0,0,0,0,0,0,null,1000,1,1,1000,0,0,0,0,0]
[{"$f":"basePAGAS!B58","v":14766},9546,"RPV",9546,"2019/0381788-1","2019-12-17","Aguardando pagamento","sem verba para pgto",null,null,null,null,"MS 6.019/DF","1998/0079215-5","1998-10-22","2007-12-10","Administrativo - Servidor Público Civil - Sistema Remuneratório e Benefícios","Instituto Nacional do Seguro Social - INSS","Instituto Nacional do Seguro Social - INSS","Mandado de Segurança 6.019/DF","2013/0197321-8","2019-10-16","Dirce Ribeiro de Almeida","102.847.617-53","Servidor Público Civil Ativo","Reajuste Salarial - Resíduo de 3,17%","Alimentar",6.5,"Mota & Advogados Associados","03.996.810/0001-38",0," x x x "," x x x ",null,"-","-",0," x x x "," x x x ","Dedução de Honorários Contratuais","Não","Não","Não","-","-","Não informada","Não Informada","Não","2019-12-01",0,0,6299.59,8425.65,14725.24,409.47,547.66999999999996,957.14,0,0,0,0,0,0,0,0,0,5890.12,7877.9800000000005,13768.1,6299.59,692.95,1385.9,20,13768.1,692.95,0,null,14725.24,1,1,14725.24,0,0,0,0,0]
[{"$f":"basePAGAS!B59","v":14767},9564,"RPV",9564,"2019/0383309-8","2019-12-18","Aguardando pagamento","sem verba para pgto",null,null,null,null,"MS 6.019/DF","1998/0079215-5","1998-10-22","2007-12-10","Administrativo - Servidor Público Civil - Sistema Remuneratório e Benefícios","Instituto Nacional do Seguro Social - INSS","Instituto Nacional do Seguro Social - INSS","Mandado de Segurança 6.019/DF","2013/0199197-3","2019-10-04","Áurea Delgado Leonel Ribeiro de Paula","986.303.428-20","Servidor Público Civil Ativo","Reajuste Salarial - Resíduo de 3,17%","Alimentar",6.5,"Mota & Advogados Associados","03.996.810/0001-38",0," x x x "," x x x ",null,"-","-",0," x x x "," x x x ","Dedução de Honorários Contratuais","Não","Não","Não","-","-","Não informada","Não Informada","Não","2019-12-01",0,0,4664.46,7093.7300000000005,11758.19,303.18,461.1,764.28,0,0,0,0,0,0,0,0,0,4361.28,6632.63,10993.91,4664.46,513.09,1026.18,20,10993.91,513.09,0,null,11758.19,1,1,11758.19,0,0,0,0,0]
[{"$f":"basePAGAS!B60","v":14768},9566,"RPV",9566,"2019/0383334-1","2019-12-18","Aguardando pagamento","sem verba para pgto",null,null,null,null,"MS 6.019/DF","1998/0079215-5","1998-10-22","2007-12-10","Administrativo - Servidor Público Civil - Sistema Remuneratório e Benefícios","Instituto Nacional do Seguro Social - INSS","Instituto Nacional do Seguro Social - INSS","Mandado de Segurança 6.019/DF","2013/0199197-3","2019-10-04","Carlos Alberto Considera","091.760.987-53","Servidor Público Civil Inativo","Reajuste Salarial - Resíduo de 3,17%","Alimentar",6.5,"Mota & Advogados Associados","03.996.810/0001-38",0," x x x "," x x x ",null,"-","-",0," x x x "," x x x ","Dedução de Honorários Contratuais","Não","Não","Não","-","-","Não informada","Não Informada","Não","2019-12-01",0,0,4571.83,7007.07,11578.9,297.16000000000003,455.46,752.62,0,0,0,0,0,0,0,0,0,4274.67,6551.6099999999988,10826.279999999999,0,0,0,20,10826.279999999999,0,0,null,11578.9,1,1,11578.9,0,0,0,0,0]
[{"$f":"basePAGAS!B61","v":14769},9573,"RPV",9573,"2019/0383415-0","2019-12-18","Aguardando pagamento","sem verba para pgto",null,null,null,null,"MS 4.149/DF","1995/0038042-0","1995-07-20","1998-09-23","Administrativo - Servidor Público Civil - Sistema Remuneratório e Benefícios","INCRA","UNIÃO","Mandado de Segurança 4.149/DF","2009/0011102-0","2014-09-26","Luani Santos da Rocha","116.840.461-49","Servidor Público Civil Ativo","Diferença de remuneração - 3,17%","Alimentar",10,"Josilma Saraiva - Advocacia E Consultoria - Sociedade Individual De Advocacia","09.384.741/0001-98",0," x x x "," x x x ",null,"-","-",0," x x x "," x x x ","Dedução de Honorários Contratuais","Não","Não","Não","-","-","Não informada","Não Informada","Não","2019-12-01",0,0,49.31,3054.23,3103.54,4.93,305.42,310.35000000000002,0,0,0,0,0,0,0,0,0,44.38,2748.81,2793.19,49.31,5.42,10.84,59,2793.19,5.42,0,null,3103.54,1,1,3103.54,0,0,0,0,0]
[{"$f":"basePAGAS!B62","v":14770},9586,"RPV",9586,"2019/0383525-9","2019-12-18","Aguardando pagamento","sem verba para pgto",null,null,null,null,"MS 4.149/DF","1995/0038042-0","1995-07-20","1998-09-23","Administrativo - Servidor Público Civil - Sistema Remuneratório e Benefícios","INCRA","UNIÃO","Mandado de Segurança 4.149/DF","2009/0011102-0","2014-09-26","Maria Rocha de Carvalho","372.143.651-20","Servidor Público Civil Inativo","Diferença de remuneração - 3,17%","Alimentar",10,"Josilma Saraiva - Advocacia E Consultoria - Sociedade Individual De Advocacia","09.384.741/0001-98",0," x x x "," x x x ",null,"-","-",0," x x x "," x x x ","Dedução de Honorários Contratuais","Não","Não","Não","-","-","Não informada","Não Informada","Não","2019-12-01",0,0,408.78,3906.17,4314.95,40.869999999999997,390.62,431.49,0,0,0,0,0,0,0,0,0,367.91,3515.55,3883.46,0,0,0,59,3883.46,0,0,null,4314.95,1,1,4314.95,0,0,0,0,0]
[{"$f":"basePAGAS!B63","v":14772},9597,"RPV",9597,"2019/0384018-0","2019-12-18","Aguardando pagamento","sem verba para pgto",null,null,null,null,"MS 6.864/DF","2000/0024867-3","2000-04-05","2006-05-03","Administrativo - Servidor Público Civil - Sistema Remuneratório e Benefícios","Ministério do Planejamento, Orçamento e Gestão","Instituto Nacional do Seguro Social - INSS","Mandado de Segurança 6.864/DF","2007/0172285-5","2015-03-24","Associação Nacional dos Auditores Fiscais da Receita Federal do Brasil","03.636.693/0001-00","-","Multa 1% (art. 538,parágrafo único, do CPC)","Comum",0," x x x "," x x x ",0," x x x "," x x x ",null,"-","-",0," x x x "," x x x ","X  X  X","Não","Não","Não","-","-","Não informada","Não Informada","Não","2019-12-01",0,0,11.67,0,11.67,0,0,0,0,0,0,0,0,0,0,0,0,11.67,0,11.67,0,0,0,47,11.67,0,0,null,11.67,1,0,0,1,11.67,0,0,0]
[{"$f":"basePAGAS!B64","v":14776},9615,"RPV",9615,"2019/0384067-2","2019-12-19","Aguardando pagamento","sem verba para pgto",null,null,null,null,"MS 10.424/DF","2005/0021065-5","2005-02-17","2005-10-27","Administrativo - Servidor Público Civil - Sistema Remuneratório e Benefícios - Gratificações","Ministério do Planejamento, Orçamento e Gestão","UNIÃO","Mandado de Segurança 10.424/DF","2006/0235265-1","2016-02-12","Alcides Antônio Corrêa ","143.232.222-20","Servidor Público Civil Ativo","Gratificação Específica de Atividade Docente - GEAD","Alimentar",11,"Fonseca e Assis Advogados Associados","01.971.231/0001-05",0," x x x "," x x x ",null,"-","-",0," x x x "," x x x ","Dedução de Honorários Contratuais","Não","Não","Não","-","-","Não informada","Não Informada","Não","2019-12-01",0,0,3464.96,2857.95,6322.91,381.14,314.38,695.52,0,0,0,0,0,0,0,0,0,3083.82,2543.5699999999993,5627.3899999999994,3464.96,381.14,762.28,9,5627.3899999999994,381.14,0,null,6322.91,1,1,6322.91,0,0,0,0,0]
[{"$f":"basePAGAS!B65","v":14777},9640,"RPV",9640,"2019/0385309-2","2019-12-19","Aguardando pagamento","sem verba para pgto",null,null,null,null,"MS 6.019/DF","1998/0079215-5","1998-10-22","2007-12-10","Administrativo - Servidor Público Civil - Sistema Remuneratório e Benefícios","Instituto Nacional do Seguro Social - INSS","Instituto Nacional do Seguro Social - INSS","Mandado de Segurança 6.019/DF","2013/0197368-4","2019-10-16","Francisco Helio Camelo Ferreira ","243.376.413-00","Servidor Público Civil Ativo","Reajuste Salarial - Resíduo de 3,17%","Alimentar",6.5,"Mota & Advogados Associados","03.996.810/0001-38",0," x x x "," x x x ",null,"-","-",0," x x x "," x x x ","Dedução de Honorários Contratuais","Não","Não","Não","-","-","Não informada","Não Informada","Não","2019-12-01",0,0,5763.93,7599.49,13363.42,374.65,493.97,868.62,0,0,0,0,0,0,0,0,0,5389.28,7105.5199999999995,12494.8,5763.93,634.03,1268.06,18,12494.8,634.03,0,null,13363.42,1,1,13363.42,0,0,0,0,0]
[{"$f":"basePAGAS!B66","v":14778},9739,"RPV",9739,"2020/0026223-8","2020-02-05","Aguardando pagamento","sem verba para pgto",null,null,null,null,"AR 1.169/CE","1999/0096834-4","1999-10-18","2004-06-07","Administrativo - Servidor Público Civil - Sistema Remuneratório e Benefícios","Instituto Nacional do Seguro Social - INSS","Instituto Nacional do Seguro Social - INSS","Ação Rescisória 1.169/CE","2009/0055220-1","2014-09-30","Almir Chagas Duarte ","010.723.233-20","Servidor Público Civil Ativo","Anuênios","Alimentar",10,"Glayddes Sindeaux Advogados","17.291.820/0001-82",0," x x x "," x x x ",null,"-","-",0," x x x "," x x x ","Dedução de Honorários Contratuais","Não","Não","Não","-","-","Não informada","Não Informada","Não","2020-02-01",0,0,10478.31,12219.99,22698.3,1047.83,1222,2269.83,0,0,0,0,0,0,0,0,0,9430.48,10997.990000000002,20428.47,1164.19,128.06,256.12,47,20428.47,128.06,0,null,22698.3,1,1,22698.3,0,0,0,0,0]
[{"$f":"basePAGAS!B67","v":14780},9740,"RPV",9740,"2020/0026275-6","2020-02-05","Aguardando pagamento","sem verba para pgto",null,null,null,null,"AR 1.169/CE","1999/0096834-4","1999-10-18","2004-06-07","Administrativo - Servidor Público Civil - Sistema Remuneratório e Benefícios","Instituto Nacional do Seguro Social - INSS","Instituto Nacional do Seguro Social - INSS","Ação Rescisória 1.169/CE","2009/0055220-1","2014-09-30","Aluízio Alves Martins ","071.757.443-15","Servidor Público Civil Ativo","Anuênios","Alimentar",10,"Glayddes Sindeaux Advogados","17.291.820/0001-82",0," x x x "," x x x ",null,"-","-",0," x x x "," x x x ","Dedução de Honorários Contratuais","Não","Não","Não","-","-","Não informada","Não Informada","Não","2020-02-01",0,0,2583.85,3013.3300000000004,5597.18,258.38,301.33,559.71,0,0,0,0,0,0,0,0,0,2325.4699999999998,2712.0000000000005,5037.47,2583.85,284.22000000000003,568.44000000000005,47,5037.47,284.22000000000003,0,null,5597.18,1,1,5597.18,0,0,0,0,0]
[{"$f":"basePAGAS!B68","v":14781},9743,"RPV",9743,"2020/0026278-1","2020-02-05","Aguardando pagamento","sem verba para pgto",null,null,null,null,"AR 1.169/CE","1999/0096834-4","1999-10-18","2004-06-07","Administrativo - Servidor Público Civil - Sistema Remuneratório e Benefícios","Instituto Nacional do Seguro Social - INSS","Instituto Nacional do Seguro Social - INSS","Ação Rescisória 1.169/CE","2009/0055220-1","2014-09-30","Espólio De Alzerina Ferreira Carvalho ","048.697.883-49","Servidor Público Civil Ativo","Anuênios","Alimentar",20,"Glayddes Sindeaux Advogados","17.291.820/0001-82",0," x x x "," x x x ",null,"-","-",0," x x x "," x x x ","Dedução de Honorários Contratuais","Não","Não","Não","-","-","Não informada","Não Informada","Não","2020-02-01",0,0,7222.33,8422.7900000000009,15645.12,1444.46,1684.56,3129.02,0,0,0,0,0,0,0,0,0,5777.87,6738.2300000000005,12516.1,7222.33,794.45,1588.9,47,12516.1,794.45,0,null,15645.12,1,1,15645.12,0,0,0,0,0]
[{"$f":"basePAGAS!B69","v":14782},9744,"RPV",9744,"2020/0026279-3","2020-02-05","Aguardando pagamento","sem verba para pgto",null,null,null,null,"AR 1.169/CE","1999/0096834-4","1999-10-18","2004-06-07","Administrativo - Servidor Público Civil - Sistema Remuneratório e Benefícios","Instituto Nacional do Seguro Social - INSS","Instituto Nacional do Seguro Social - INSS","Ação Rescisória 1.169/CE","2009/0055220-1","2014-09-30","Amélia Aguiar Batista ","037.415.403-15","Servidor Público Civil Ativo","Anuênios","Alimentar",10,"Glayddes Sindeaux Advogados","17.291.820/0001-82",0," x x x "," x x x ",null,"-","-",0," x x x "," x x x ","Dedução de Honorários Contratuais","Não","Não","Não","-","-","Não informada","Não Informada","Não","2020-02-01",0,0,6015.28,7015.11,13030.39,601.52,701.51,1303.03,0,0,0,0,0,0,0,0,0,5413.76,6313.5999999999985,11727.359999999999,6015.28,661.68,1323.36,47,11727.359999999999,661.68,0,null,13030.39,1,1,13030.39,0,0,0,0,0]
[{"$f":"basePAGAS!B70","v":14783},9750,"RPV",9750,"2020/0026306-0","2020-02-05","Aguardando pagamento","sem verba para pgto",null,null,null,null,"AR 1.169/CE","1999/0096834-4","1999-10-18","2004-06-07","Administrativo - Servidor Público Civil - Sistema Remuneratório e Benefícios","Instituto Nacional do Seguro Social - INSS","Instituto Nacional do Seguro Social - INSS","Ação Rescisória 1.169/CE","2009/0055220-1","2014-09-30","Ana Cristine de Matos Rolim","220.316.423-91","Servidor Público Civil Ativo","Anuênios","Alimentar",10,"Glayddes Sindeaux Advogados","17.291.820/0001-82",0," x x x "," x x x ",null,"-","-",0," x x x "," x x x ","Dedução de Honorários Contratuais","Não","Não","Não","-","-","Não informada","Não Informada","Não","2020-02-01",0,0,3431.7,4002.1000000000004,7433.8,343.17,400.21,743.38,0,0,0,0,0,0,0,0,0,3088.53,3601.89,6690.42,3431.7,377.48,754.96,47,6690.42,377.48,0,null,7433.8,1,1,7433.8,0,0,0,0,0]
[{"$f":"basePAGAS!B71","v":14785},9758,"RPV",9758,"2020/0026367-7","2020-02-05","Aguardando pagamento","sem verba para pgto",null,null,null,null,"AR 1.169/CE","1999/0096834-4","1999-10-18","2004-06-07","Administrativo - Servidor Público Civil - Sistema Remuneratório e Benefícios","Instituto Nacional do Seguro Social - INSS","Instituto Nacional do Seguro Social - INSS","Ação Rescisória 1.169/CE","2009/0055220-1","2014-09-30","Ana Maria Baima Cartaxo ","013.934.303-25","Servidor Público Civil Ativo","Anuênios","Alimentar",10,"Glayddes Sindeaux Advogados","17.291.820/0001-82",0," x x x "," x x x ",null,"-","-",0," x x x "," x x x ","Dedução de Honorários Contratuais","Não","Não","Não","-","-","Não informada","Não Informada","Não","2020-02-01",0,0,17330.97,20211.669999999998,37542.639999999999,1733.09,2021.17,3754.26,0,0,0,0,0,0,0,0,0,15597.88,18190.5,33788.379999999997,17330.97,1906.4,3812.8,47,33788.379999999997,1906.4,0,null,37542.639999999999,1,1,37542.639999999999,0,0,0,0,0]
[{"$f":"basePAGAS!B72","v":14786},9759,"RPV",9759,"2020/0026368-9","2020-02-05","Aguardando pagamento","sem verba para pgto",null,null,null,null,"AR 1.169/CE","1999/0096834-4","1999-10-18","2004-06-07","Administrativo - Servidor Público Civil - Sistema Remuneratório e Benefícios","Instituto Nacional do Seguro Social - INSS","Instituto Nacional do Seguro Social - INSS","Ação Rescisória 1.169/CE","2009/0055220-1","2014-09-30","Ana Maria Borges De Farias ","028.385.243-72","Servidor Público Civil Ativo","Anuênios","Alimentar",10,"Glayddes Sindeaux Advogados","17.291.820/0001-82",0," x x x "," x x x ",null,"-","-",0," x x x "," x x x ","Dedução de Honorários Contratuais","Não","Não","Não","-","-","Não informada","Não Informada","Não","2020-02-01",0,0,17538.59,20453.810000000001,37992.400000000001,1753.85,2045.39,3799.24,0,0,0,0,0,0,0,0,0,15784.74,18408.420000000006,34193.160000000003,2499.92,274.99,549.98,47,34193.160000000003,274.99,0,null,37992.400000000001,1,1,37992.400000000001,0,0,0,0,0]
[{"$f":"basePAGAS!B73","v":14787},9765,"RPV",9765,"2020/0029806-2","2020-02-07","Aguardando pagamento","sem verba para pgto",null,null,null,null,"AR 1.169/CE","1999/0096834-4","1999-10-18","2004-06-07","Administrativo - Servidor Público Civil - Sistema Remuneratório e Benefícios","Instituto Nacional do Seguro Social - INSS","Instituto Nacional do Seguro Social - INSS","Ação Rescisória 1.169/CE","2009/0057600-7","2014-09-30","Otacílio Agostinho Da Silva Fonseca ","220.315.453-53","Servidor Público Civil Ativo","Anuênios","Alimentar",10,"Glayddes Sindeaux Advogados","17.291.820/0001-82",0," x x x "," x x x ",null,"-","-",0," x x x "," x x x ","Dedução de Honorários Contratuais","Não","Não","Não","-","-","Não informada","Não Informada","Não","2020-02-01",0,0,1700.42,1983.04,3683.46,170.04,198.3,368.34,0,0,0,0,0,0,0,0,0,1530.38,1784.7399999999998,3315.12,1700.42,187.04,374.08,47,3315.12,187.04,0,null,{"$f":"CC76+CE76","v":3683.46},{"$f":"IF(BZ76=0,0,1)","v":1},{"$f":"IF(CC76=0,0,1)","v":1},{"$f":"IF(I76=\"\",IF(AA76=\"alimentar\",BB76,0),0)","v":3683.46},{"$f":"IF(CE76=0,0,1)","v":0},{"$f":"IF(I76=\"\",IF(AA76=\"comum\",BB76,0),0)","v":0},0,0,0]
[{"$f":"basePAGAS!B74","v":14788},9767,"RPV",9767,"2020/0029831-6","2020-02-07","Aguardando pagamento","sem verba para pgto",null,null,null,null,"AR 1.169/CE","1999/0096834-4","1999-10-18","2004-06-07","Administrativo - Servidor Público Civil - Sistema Remuneratório e Benefícios","Instituto Nacional do Seguro Social - INSS","Instituto Nacional do Seguro Social - INSS","Ação Rescisória 1.169/CE","2009/0057600-7","2014-09-30","Otacílio Carlos Queiroz ","098.131.361-20","Servidor Público Civil Ativo","Anuênios","Alimentar",10,"Glayddes Sindeaux Advogados","17.291.820/0001-82",0," x x x "," x x x ",null,"-","-",0," x x x "," x x x ","Dedução de Honorários Contratuais","Não","Não","Não","-","-","Não informada","Não Informada","Não","2020-02-01",0,0,2839.51,3311.4799999999996,6150.99,283.95,331.14,615.09,0,0,0,0,0,0,0,0,0,2555.56,2980.3399999999997,5535.9,2839.51,312.33999999999997,624.67999999999995,47,5535.9,312.33999999999997,0,null,6150.99,1,1,6150.99,0,0,0,0,0]
[{"$f":"basePAGAS!B75","v":14789},9768,"RPV",9768,"2020/0029838-9","2020-02-07","Aguardando pagamento","sem verba para pgto",null,null,null,null,"AR 1.169/CE","1999/0096834-4","1999-10-18","2004-06-07","Administrativo - Servidor Público Civil - Sistema Remuneratório e Benefícios","Instituto Nacional do Seguro Social - INSS","Instituto Nacional do Seguro Social - INSS","Ação Rescisória 1.169/CE","2009/0057600-7","2014-09-30","Ovídio Dos Santos Mariano ","105.108.003-78","Servidor Público Civil Ativo","Anuênios","Alimentar",10,"Glayddes Sindeaux Advogados","17.291.820/0001-82",0," x x x "," x x x ",null,"-","-",0," x x x "," x x x ","Dedução de Honorários Contratuais","Não","Não","Não","-","-","Não informada","Não Informada","Não","2020-02-01",0,0,2284.61,2664.3399999999997,4948.95,228.46,266.43,494.89,0,0,0,0,0,0,0,0,0,2056.15,2397.9099999999994,4454.0599999999995,2284.61,251.3,502.6,47,4454.0599999999995,251.3,0,null,4948.95,1,1,4948.95,0,0,0,0,0]
[{"$f":"basePAGAS!B76","v":14790},9777,"RPV",9777,"2020/0029879-4","2020-02-07","Aguardando pagamento","sem verba para pgto",null,null,null,null,"AR 1.169/CE","1999/0096834-4","1999-10-18","2004-06-07","Administrativo - Servidor Público Civil - Sistema Remuneratório e Benefícios","Instituto Nacional do Seguro Social - INSS","Instituto Nacional do Seguro Social - INSS","Ação Rescisória 1.169/CE","2009/0057600-7","2014-09-30","Paulo José De Carvalho Ponciano ","117.917.483-68","Servidor Público Civil Ativo","Anuênios","Alimentar",10,"Glayddes Sindeaux Advogados","17.291.820/0001-82",0," x x x "," x x x ",null,"-","-",0," x x x "," x x x ","Dedução de Honorários Contratuais","Não","Não","Não","-","-","Não informada","Não Informada","Não","2020-02-01",0,0,2061.44,2404.0800000000004,4465.5200000000004,206.14,240.41,446.55,0,0,0,0,0,0,0,0,0,1855.3,2163.67,4018.9700000000003,2061.44,226.75,453.5,47,4018.9700000000003,226.75,0,null,4465.5200000000004,1,1,4465.5200000000004,0,0,0,0,0]
[{"$f":"basePAGAS!B77","v":14791},9779,"RPV",9779,"2020/0029926-2","2020-02-07","Aguardando pagamento","sem verba para pgto",null,null,null,null,"AR 1.169/CE","1999/0096834-4","1999-10-18","2004-06-07","Administrativo - Servidor Público Civil - Sistema Remuneratório e Benefícios","Instituto Nacional do Seguro Social - INSS","Instituto Nacional do Seguro Social - INSS","Ação Rescisória 1.169/CE","2009/0057600-7","2014-09-30","Espólio de Paulo Nunes Chaves ","026.056.433-87","Servidor Público Civil Ativo","Anuênios","Alimentar",10,"Glayddes Sindeaux Advogados","17.291.820/0001-82",0," x x x "," x x x ",null,"-","-",0," x x x "," x x x ","Dedução de Honorários Contratuais","Não","Não","Não","-","-","Não informada","Não Informada","Não","2020-02-01",0,0,10128.68,11812.25,21940.93,1012.86,1181.23,2194.09,0,0,0,0,0,0,0,0,0,9115.82,10631.02,19746.84,1463.83,161.02000000000001,322.04000000000002,47,19746.84,161.02000000000001,0,null,21940.93,1,1,21940.93,0,0,0,0,0]
[{"$f":"basePAGAS!B78","v":14792},9784,"RPV",9784,"2020/0029939-9","2020-02-07","Aguardando pagamento","sem verba para pgto",null,null,null,null,"AR 1.169/CE","1999/0096834-4","1999-10-18","2004-06-07","Administrativo - Servidor Público Civil - Sistema Remuneratório e Benefícios","Instituto Nacional do Seguro Social - INSS","Instituto Nacional do Seguro Social - INSS","Ação Rescisória 1.169/CE","2009/0057600-7","2014-09-30","Pedro Castelo ","037.010.003-44","Servidor Público Civil Ativo","Anuênios","Alimentar",10,"Glayddes Sindeaux Advogados","17.291.820/0001-82",0," x x x "," x x x ",null,"-","-",0," x x x "," x x x ","Dedução de Honorários Contratuais","Não","Não","Não","-","-","Não informada","Não Informada","Não","2020-02-01",0,0,1925.44,2245.4699999999998,4170.91,192.54,224.55,417.09,0,0,0,0,0,0,0,0,0,1732.9,2020.9199999999996,3753.8199999999997,1925.44,211.79,423.58,47,3753.8199999999997,211.79,0,null,4170.91,1,1,4170.91,0,0,0,0,0]
[{"$f":"basePAGAS!B79","v":14793},9785,"RPV",9785,"2020/0029940-3","2020-02-07","Aguardando pagamento","sem verba para pgto",null,null,null,null,"AR 1.169/CE","1999/0096834-4","1999-10-18","2004-06-07","Administrativo - Servidor Público Civil - Sistema Remuneratório e Benefícios","-","Instituto Nacional do Seguro Social - INSS","Ação Rescisória 1.169/CE","2009/0057600-7","2014-09-30","Glayddes Sindeaux Advogados","17.291.820/0001-82","-","Honorários de sucumbência","Alimentar",0,"x.x.x","x.x.x",0," x x x "," x x x ",null,"-","-",0," x x x "," x x x ","x.x.x","Não","Não","Não","-","-","Não informada","Não Informada","Não","2020-02-01",0,0,29024.86,0,29024.86,0,0,0,0,0,0,0,0,0,0,0,0,29024.86,0,29024.86,0,0,0,0,0,0,0,null,29024.86,1,1,29024.86,0,0,0,0,0]
[{"$f":"basePAGAS!B80","v":14794},9788,"RPV",9788,"2020/0032365-0","2020-02-11","Aguardando pagamento","sem verba para pgto",null,null,null,null,"AR 1.169/CE","1999/0096834-4","1999-10-18","2004-06-07","Administrativo - Servidor Público Civil - Sistema Remuneratório e Benefícios","Instituto Nacional do Seguro Social - INSS","Instituto Nacional do Seguro Social - INSS","Ação Rescisória 1.169/CE","2009/0056184-3","2019-06-18","Maria Ione E Silva Linhares ","020.827.563-00","Servidor Público Civil Ativo","Anuênios","Alimentar",10,"Glayddes Sindeaux Advogados","17.291.820/0001-82",0," x x x "," x x x ",null,"-","-",0," x x x "," x x x ","Dedução de Honorários Contratuais","Não","Não","Não","-","-","Não informada","Não Informada","Não","2020-02-01",0,0,9220.91,10753.580000000002,19974.490000000002,922.09,1075.3499999999999,1997.44,0,0,0,0,0,0,0,0,0,8298.82,9678.2300000000032,17977.050000000003,904.49,99.49,198.98,47,17977.050000000003,99.49,0,null,19974.490000000002,1,1,19974.490000000002,0,0,{"$f":"IF(AND(MONTH(F83)=MONTH($CH$8),YEAR(F83)=YEAR($CH$8)),CF82+1,0)","v":0},{"$f":"IF(CF83=0,0,D83)","v":0},{"$f":"IF(AND(CF83>0,CF84=0),CF83,0)","v":0}]
[{"$f":"basePAGAS!B81","v":14795},9792,"RPV",9792,"2020/0032402-8","2020-02-11","Aguardando pagamento","sem verba para pgto",null,null,null,null,"AR 1.169/CE","1999/0096834-4","1999-10-18","2004-06-07","Administrativo - Servidor Público Civil - Sistema Remuneratório e Benefícios","Instituto Nacional do Seguro Social - INSS","Instituto Nacional do Seguro Social - INSS","Ação Rescisória 1.169/CE","2009/0056184-3","2019-06-18","Maria Iracilda Nobre ","014.916.953-15","Servidor Público Civil Ativo","Anuênios","Alimentar",10,"Glayddes Sindeaux Advogados","17.291.820/0001-82",0," x x x "," x x x ",null,"-","-",0," x x x "," x x x ","Dedução de Honorários Contratuais","Não","Não","Não","-","-","Não informada","Não Informada","Não","2020-02-01",0,0,9255.23,10793.600000000002,20048.830000000002,925.52,1079.3599999999999,2004.88,0,0,0,0,0,0,0,0,0,8329.7099999999991,9714.2400000000016,18043.95,7353.39,808.87,1617.74,47,18043.95,808.87,0,null,20048.830000000002,1,1,20048.830000000002,0,0,0,0,0]
[{"$f":"basePAGAS!B82","v":14796},9793,"RPV",9793,"2020/0032403-0","2020-02-11","Aguardando pagamento","sem verba para pgto",null,null,null,null,"AR 1.169/CE","1999/0096834-4","1999-10-18","2004-06-07","Administrativo - Servidor Público Civil - Sistema Remuneratório e Benefícios","Instituto Nacional do Seguro Social - INSS","Instituto Nacional do Seguro Social - INSS","Ação Rescisória 1.169/CE","2009/0056184-3","2019-06-18","Maria Iranir Gonçalves De Medeiros ","053.046.103-00","Servidor Público Civil Ativo","Anuênios","Alimentar",10,"Glayddes Sindeaux Advogados","17.291.820/0001-82",0," x x x "," x x x ",null,"-","-",0," x x x "," x x x ","Dedução de Honorários Contratuais","Não","Não","Não","-","-","Não informada","Não Informada","Não","2020-02-01",0,0,2875.6,3353.56,6229.16,287.56,335.35,622.91,0,0,0,0,0,0,0,0,0,2588.04,3018.21,5606.25,2875.6,316.31,632.62,47,5606.25,316.31,0,null,6229.16,1,1,6229.16,0,0,0,0,0]
[{"$f":"basePAGAS!B83","v":14797},9818,"RPV",9818,"2020/0032641-6","2020-02-11","Aguardando pagamento","sem verba para pgto",null,null,null,null,"AR 1.169/CE","1999/0096834-4","1999-10-18","2004-06-07","Administrativo - Servidor Público Civil - Sistema Remuneratório e Benefícios","Instituto Nacional do Seguro Social - INSS","Instituto Nacional do Seguro Social - INSS","Ação Rescisória 1.169/CE","2009/0056184-3","2019-06-18","Maria José Barbosa De Oliveira ","828.482.038-20","Servidor Público Civil Ativo","Anuênios","Alimentar",10,"Glayddes Sindeaux Advogados","17.291.820/0001-82",0," x x x "," x x x ",null,"-","-",0," x x x "," x x x ","Dedução de Honorários Contratuais","Não","Não","Não","-","-","Não informada","Não Informada","Não","2020-02-01",0,0,6068.09,7076.7099999999991,13144.8,606.79999999999995,707.68,1314.48,0,0,0,0,0,0,0,0,0,5461.29,6369.03,11830.32,6068.09,667.48,1334.96,47,11830.32,667.48,0,null,13144.8,1,1,13144.8,0,0,0,0,0]
[{"$f":"basePAGAS!B84","v":14798},9824,"RPV",9824,"2020/0033875-0","2020-02-12","Aguardando pagamento","sem verba para pgto",null,null,null,null,"MS 6.864/DF","2000/0024867-3","2000-04-05","2006-05-03","Administrativo - Servidor Público Civil - Sistema Remuneratório e Benefícios","Ministério do Planejamento, Orçamento e Gestão","Instituto Nacional do Seguro Social - INSS","Mandado de Segurança 6.864/DF","2007/0262666-7","2019-04-16"," Izabel Carvalho de Carvalho  ","778.149.325-72","Pensionista de Servidor Público Civil Inativo","Reajuste  3,17% - Lei 8.880/94","Alimentar",6,"Mota & Advogados Associados","03.996.810/0001-38",0," x x x "," x x x ",null,"-","-",0," x x x "," x x x ","Dedução de Honorários Contratuais","Não","Não","Não","-","-","Não informada","Não Informada","Não","2020-02-01",0,0,8112.26,17540.690000000002,25652.95,486.73,1052.44,1539.17,0,0,0,0,0,0,0,0,0,7625.53,16488.25,24113.78,0,0,0,47,24113.78,0,0,null,25652.95,1,1,25652.95,0,0,0,0,0]
[{"$f":"basePAGAS!B85","v":14800},9829,"RPV",9829,"2020/0033960-8","2020-02-12","Paga","Paga em MAR-2023 - 1ª remessa","2023-03-01","NÃO","NÃO",1,"MS 6.864/DF","2000/0024867-3","2000-04-05","2006-05-03","Administrativo - Servidor Público Civil - Sistema Remuneratório e Benefícios","Ministério do Planejamento, Orçamento e Gestão","Instituto Nacional do Seguro Social - INSS","Mandado de Segurança 6.864/DF","2007/0262666-7","2019-04-16"," Maria de Lourdes Vital Cerqueira  ","002.119.585-49","Pensionista de Servidor Público Civil Inativo","Reajuste  3,17% - Lei 8.880/94","Alimentar",6,"Mota & Advogados Associados","03.996.810/0001-38",0," x x x "," x x x ",null,"-","-",0," x x x "," x x x ","Dedução de Honorários Contratuais","Não","Não","Não","-","-","Não informada","Não Informada","Não","2020-02-01",0,0,11007.99,23884.630000000005,34892.620000000003,660.47,1433.08,2093.5500000000002,0,0,0,0,0,0,0,0,0,10347.52,22451.55,32799.07,0,0,0,47,32799.07,0,0,null,0,0,0,0,0,0,0,0,0]
[{"$f":"basePAGAS!B86","v":14801},9904,"RPV",9904,"2020/0042849-3","2020-02-20","Aguardando pagamento","sem verba para pgto",null,null,null,null,"MS 10.424/DF","2005/0021065-5","2005-02-17","2005-10-27","Administrativo - Servidor Público Civil - Sistema Remuneratório e Benefícios - Gratificações","Ministério do Planejamento, Orçamento e Gestão","UNIÃO","Mandado de Segurança 10.424/DF","2006/0235261-4","2019-02-27","Ignacio De Loiola Barros Reis ","021.613.112-04","Servidor Público Civil Inativo","Gratificação Específica de Atividade Docente - GEAD","Alimentar",11,"Fonseca e Assis Advogados Associados","01.971.231/0001-05",0," x x x "," x x x ",null,"-","-",0," x x x "," x x x ","Dedução de Honorários Contratuais","Não","Não","Não","-","-","Não informada","Não Informada","Não","2020-02-01",0,0,3479.44,2888.22,6367.66,382.73,317.70999999999998,700.44,0,0,0,0,0,0,0,0,0,3096.71,2570.5099999999993,5667.2199999999993,3479.44,382.73,0,9,5667.2199999999993,382.73,0,null,6367.66,1,1,6367.66,0,0,0,0,0]
[{"$f":"basePAGAS!B87","v":14802},9916,"RPV",9916,"2020/0048613-7","2020-02-28","Aguardando pagamento","sem verba para pgto",null,null,null,null,"MS 10.424/DF","2005/0021065-5","2005-02-17","2005-10-27","Administrativo - Servidor Público Civil - Sistema Remuneratório e Benefícios - Gratificações","Ministério do Planejamento, Orçamento e Gestão","UNIÃO","Mandado de Segurança 10.424/DF","2006/0235313-1","2016-02-12","Ana Maria De Carvalho ","191.439.822-04","Servidor Público Civil Ativo","Gratificação Específica de Atividade Docente - GEAD","Alimentar",11,"Fonseca e Assis Advogados Associados","01.971.231/0001-05",0," x x x "," x x x ",null,"-","-",0," x x x "," x x x ","Dedução de Honorários Contratuais","Não","Não","Não","-","-","Não informada","Não Informada","Não","2020-02-01",0,0,3464.96,2875.8999999999996,6340.86,381.14,316.35000000000002,697.49,0,0,0,0,0,0,0,0,0,3083.82,2559.5499999999997,5643.37,3464.96,381.14,762.28,9,5643.37,381.14,0,null,6340.86,1,1,6340.86,0,0,0,0,0]
[{"$f":"basePAGAS!B88","v":14804},9956,"RPV",9956,"2020/0051103-0","2020-03-02","Aguardando pagamento","sem verba para pgto",null,null,null,null,"MS 6.864/DF","2000/0024867-3","2000-04-05","2006-05-03","Administrativo - Servidor Público Civil - Sistema Remuneratório e Benefícios","Ministério do Planejamento, Orçamento e Gestão","Instituto Nacional do Seguro Social - INSS","Mandado de Segurança 6.864/DF","2007/0177641-3","2015-03-24","Espólio de Geraldo Ribeiro Franzen","026.791.088-68","Servidor Público Civil Inativo","Reajuste  3,17% - Lei 8.880/94","Alimentar",6,"Mota & Advogados Associados","03.996.810/0001-38",0," x x x "," x x x ",null,"-","-",0," x x x "," x x x ","Dedução de Honorários Contratuais","Não","Não","Não","-","-","Não informada","Não Informada","Não","2020-02-01",0,0,6956.1,16108.6,23064.7,417.36,966.52,1383.88,0,0,0,0,0,0,0,0,0,6538.74,15142.08,21680.82,0,0,0,15,21680.82,0,0,null,23064.7,1,1,23064.7,0,0,0,0,0]
[{"$f":"basePAGAS!B89","v":14805},10044,"RPV",10044,"2020/0063120-8","2020-03-11","Aguardando pagamento","sem verba para pgto",null,null,null,null,"MS 7.386/DF","2001/0010437-1","2001-01-31","2003-12-04","Administrativo - Servidor Público Civil - Sistema Remuneratório e Benefícios - Gratificações da Lei 8.112/1990","Ministério do Planejamento, Orçamento e Gestão","UNIÃO","Mandado de Segurança 7.386/DF","2014/0104418-2","2012-06-13","Alderinda Ferreira do Nascimento","019.123.212-20","Pensionista Civil","Gratificação de Operações Especiais - GOE","Alimentar",15,"Marcelo Lavocat Galvão","515.873.001-68",15,"Paulo Sérgio Cunha","515.212.887-04",null,"-","-",0," x x x "," x x x ","Dedução de Honorários Contratuais","Não","Não","Não","-","-","Não informada","Não Informada","Não","2020-02-01",0,0,1018.24,3249.1800000000003,4267.42,152.72999999999999,487.38,640.11,152.72999999999999,487.38,640.11,0,0,0,0,0,0,712.78,2274.42,2987.2,0,0,0,50,2987.2,0,0,null,4267.42,1,1,4267.42,0,0,0,0,0]
[{"$f":"basePAGAS!B90","v":14806},10045,"RPV",10045,"2020/0063141-1","2020-03-11","Aguardando pagamento","sem verba para pgto",null,null,null,null,"MS 7.386/DF","2001/0010437-1","2001-01-31","2003-12-04","Administrativo - Servidor Público Civil - Sistema Remuneratório e Benefícios - Gratificações da Lei 8.112/1990","Ministério do Planejamento, Orçamento e Gestão","UNIÃO","Mandado de Segurança 7.386/DF","2014/0104418-2","2012-06-13","Aline Waldeck Ribeiro","507.891.202-91","Pensionista Civil","Gratificação de Operações Especiais - GOE","Alimentar",15,"Marcelo Lavocat Galvão","515.873.001-68",15,"Paulo Sérgio Cunha","515.212.887-04",null,"-","-",0," x x x "," x x x ","Dedução de Honorários Contratuais","Não","Não","Não","-","-","Não informada","Não Informada","Não","2020-02-01",0,0,1532.5,5698.9,7231.4,229.87,854.84,1084.71,229.87,854.84,1084.71,0,0,0,0,0,0,1072.76,3989.2199999999993,5061.9799999999996,0,0,0,50,5061.9799999999996,0,0,null,7231.4,1,1,7231.4,0,0,0,0,0]
[{"$f":"basePAGAS!B91","v":14807},10047,"RPV",10047,"2020/0063143-5","2020-03-11","Aguardando pagamento","sem verba para pgto",null,null,null,null,"MS 7.386/DF","2001/0010437-1","2001-01-31","2003-12-04","Administrativo - Servidor Público Civil - Sistema Remuneratório e Benefícios - Gratificações da Lei 8.112/1990","Ministério do Planejamento, Orçamento e Gestão","UNIÃO","Mandado de Segurança 7.386/DF","2014/0104418-2","2012-06-13","Ana Caroline Vaz dos Santos","511.307.852-20","Pensionista Civil","Gratificação de Operações Especiais - GOE","Alimentar",15,"Marcelo Lavocat Galvão","515.873.001-68",15,"Paulo Sérgio Cunha","515.212.887-04",null,"-","-",0," x x x "," x x x ","Dedução de Honorários Contratuais","Não","Não","Não","-","-","Não informada","Não Informada","Não","2020-02-01",0,0,1039.8800000000001,3681.79,4721.67,155.97999999999999,552.27,708.25,155.97999999999999,552.27,708.25,0,0,0,0,0,0,727.92,2577.25,3305.17,0,0,0,50,3305.17,0,0,null,4721.67,1,1,4721.67,0,0,0,0,0]
[{"$f":"basePAGAS!B92","v":14601},10050,"RPV",10050,"2020/0063148-4","2020-03-11","Aguardando pagamento","sem verba para pgto",null,null,null,null,"MS 7.386/DF","2001/0010437-1","2001-01-31","2003-12-04","Administrativo - Servidor Público Civil - Sistema Remuneratório e Benefícios - Gratificações da Lei 8.112/1990","Ministério do Planejamento, Orçamento e Gestão","UNIÃO","Mandado de Segurança 7.386/DF","2014/0104418-2","2012-06-13","Ana Goreth Rocha da Silva","249.130.652-20","Pensionista Civil","Gratificação de Operações Especiais - GOE","Alimentar",15,"Marcelo Lavocat Galvão","515.873.001-68",15,"Paulo Sérgio Cunha","515.212.887-04",null,"-","-",0," x x x "," x x x ","Dedução de Honorários Contratuais","Não","Não","Não","-","-","Não informada","Não Informada","Não","2020-02-01",0,0,2079.29,6542.47,8621.76,311.89,981.37,1293.26,311.89,981.37,1293.26,0,0,0,0,0,0,1455.51,4579.7299999999996,6035.24,0,0,0,50,6035.24,0,0,null,8621.76,1,1,8621.76,0,0,0,0,0]
[{"$f":"basePAGAS!B93","v":14710},10051,"RPV",10051,"2020/0063149-6","2020-03-11","Aguardando pagamento","sem verba para pgto",null,null,null,null,"MS 7.386/DF","2001/0010437-1","2001-01-31","2003-12-04","Administrativo - Servidor Público Civil - Sistema Remuneratório e Benefícios - Gratificações da Lei 8.112/1990","Ministério do Planejamento, Orçamento e Gestão","UNIÃO","Mandado de Segurança 7.386/DF","2014/0104418-2","2012-06-13","Ana Iza do Nascimento Oliveira","341.444.802-59","Pensionista Civil","Gratificação de Operações Especiais - GOE","Alimentar",15,"Marcelo Lavocat Galvão","515.873.001-68",15,"Paulo Sérgio Cunha","515.212.887-04",null,"-","-",0," x x x "," x x x ","Dedução de Honorários Contratuais","Não","Não","Não","-","-","Não informada","Não Informada","Não","2020-02-01",0,0,1551.79,5718.19,7269.98,232.76,857.73,1090.49,232.76,857.73,1090.49,0,0,0,0,0,0,1086.27,4002.73,5089,0,0,0,50,5089,0,0,null,7269.98,1,1,7269.98,0,0,0,0,0]
[{"$f":"basePAGAS!B94","v":14724},10058,"RPV",10058,"2020/0063467-9","2020-03-11","Aguardando pagamento","sem verba para pgto",null,null,null,null,"MS 7.386/DF","2001/0010437-1","2001-01-31","2003-12-04","Administrativo - Servidor Público Civil - Sistema Remuneratório e Benefícios - Gratificações da Lei 8.112/1990","Ministério do Planejamento, Orçamento e Gestão","UNIÃO","Mandado de Segurança 7.386/DF","2014/0104418-2","2012-06-13","Cid Vilhena de Araújo","512.374.152-68","Pensionista Civil","Gratificação de Operações Especiais - GOE","Alimentar",15,"Marcelo Lavocat Galvão","515.873.001-68",15,"Paulo Sérgio Cunha","515.212.887-04",null,"-","-",0," x x x "," x x x ","Dedução de Honorários Contratuais","Não","Não","Não","-","-","Não informada","Não Informada","Não","2020-02-01",0,0,3275.72,5752.6900000000005,9028.41,491.35,862.91,1354.26,491.35,862.91,1354.26,0,0,0,0,0,0,2293.02,4026.8699999999994,6319.8899999999994,135.15,14.86,0,50,6319.8899999999994,14.86,0,null,9028.41,1,1,9028.41,0,0,0,0,0]
[{"$f":"basePAGAS!B95","v":14922},10414,"RPV",10414,"2020/0080473-3","2020-04-02","Aguardando pagamento","sem verba para pgto",null,null,null,null,"MS 6.019/DF","1998/0079215-5","1998-10-22","2007-12-10","Administrativo - Servidor Público Civil - Sistema Remuneratório e Benefícios","Instituto Nacional do Seguro Social - INSS","Instituto Nacional do Seguro Social - INSS","Mandado de Segurança 6.019/DF","2013/0197300-4","2019-10-04","Ermirio Rosa Pedra Coutinho ","000.072.699-00","Servidor Público Civil Inativo","Reajuste Salarial - Resíduo de 3,17%","Alimentar",6.5,"Mota & Advogados Associados","03.996.810/0001-38",0," x x x "," x x x ",null,"-","-",0," x x x "," x x x ","Dedução de Honorários Contratuais","Não","Não","Não","-","-","Não informada","Não Informada","Não","2020-03-01",0,0,8506.19,11334.519999999999,19840.71,552.9,736.74,1289.6400000000001,0,0,0,0,0,0,0,0,0,7953.29,10597.779999999999,18551.07,0,0,0,23,18551.07,0,0,null,19840.71,1,1,19840.71,0,0,0,0,0]
[{"$f":"basePAGAS!B96","v":14923},10852,"RPV",10852,"2020/0115621-9","2020-05-20","Aguardando pagamento","sem verba para pgto",null,null,null,null,"MS 6.318/DF","1999/0035300-5","1999-04-30","2003-02-17","Administrativo - Servidor Público Civil - Reajustes de Remuneração, Proventos ou Pensão - Índice da URV Lei 8.880/1994","Ministério da Fazenda","UNIÃO","Mandado de Segurança 6.318/DF","2007/0150144-4","2018-10-29"," Terezinha Balestrim Cestare ","593.142.818-68","Servidor Público Civil Inativo","Reajuste 3,17%","Alimentar",5,"Teixeira e Lopes Advogados Associados Sociedade Simples","02.993.181/0001-20",3,"Mendes Plutarco Advocacia e Consultoria","17.171.343/0001-11",null,"-","-",0," x x x "," x x x ","Dedução de Honorários Contratuais","Não","Não","Não","-","-","Não informada","Não Informada","Não","2020-05-01",0,0,18769.240000000002,23784.539999999997,42553.78,938.46,1189.22,2127.6799999999998,563.07000000000005,713.53999999999985,1276.6099999999999,0,0,0,0,0,0,17267.71,21881.78,39149.49,0,0,0,36,39149.49,0,0,null,42553.78,1,1,42553.78,0,0,0,0,0]
[{"$f":"basePAGAS!B97","v":14521},11532,"RPV",11532,"2020/0288940-5","2020-10-23","Aguardando pagamento","sem verba para pgto",null,null,null,null,"AR 3.948/MG","2008/0063763-0","2008-03-18","2016-02-10","Administrativo - Servidor Público Civil - Sistema Remuneratório e Benefícios - Gratificações da Lei 8.112/1990 (PRINCIPAL)","-","Departamento de Edificações e Estradas de Rodagem do Estado de Minas Gerais - DEER-MG","Ação Rescisória 3.948/MG","2016/0058639-5","2020-09-28","Henrique de Abreu Costa","004.582.056-21","-","Honorários de Sucumbência","Alimentar",0,"x.x.x","x.x.x",0," x x x "," x x x ",null,"-","-",0," x x x "," x x x ","x.x.x","Não","Não","Não","-","-","Não informada","Não Informada","Não","2020-10-01",0,0,2378.3200000000002,508.67999999999984,2887,0,0,0,0,0,0,0,0,0,0,0,0,2378.3200000000002,508.67999999999984,2887,0,0,0,0,0,0,0,null,2887,1,1,2887,0,0,0,0,0]
[{"$f":"basePAGAS!B98","v":14829},11586,"RPV",11586,"2020/0294562-5","2020-10-28","Aguardando pagamento","sem verba para pgto",null,null,null,null,"AR 6.6136/CE","2017/0274685-0","2017-10-19","2019-11-20","Administrativo - Militar - Regime - Promoção (PRINCIPAL)","-","Estado do Ceará","Ação Rescisória 6.136/CE","2019/0370417-5","2020-07-01","Reginaldo Patrício de Sousa","506.016.363-68","-","Honorários de Sucumbência","Alimentar",0,"x.x.x","x.x.x",0," x x x "," x x x ",null,"-","-",0," x x x "," x x x ","x.x.x","Não","Não","Não","-","-","Não informada","Não Informada","Não","2020-10-01",0,0,3082.35,66.190000000000055,3148.54,0,0,0,0,0,0,0,0,0,0,0,0,3082.35,66.190000000000055,3148.54,0,0,0,0,0,0,0,null,3148.54,1,1,3148.54,0,0,0,0,0]
[{"$f":"basePAGAS!B99","v":14728},11946,"RPV",11946,"2021/0118389-0","2021-04-21","Aguardando pagamento","sem verba para pgto",null,null,null,null,"MS 7.386/DF","2001/0010437-1","2001-01-31","2003-12-04","Administrativo - Servidor Público Civil - Sistema Remuneratório e Benefícios - Gratificações da Lei 8.112/1990","Ministério do Planejamento, Orçamento e Gestão","UNIÃO","Mandado de Segurança 7.386/DF","2016/0317916-6","2012-06-13","Maria Conceição Moraes Ribeiro","042.525.272-87","Pensionista Civil","Gratificação de Operações Especiais - GOE","Alimentar",15,"Marcelo Lavocat Galvão","515.873.001-68",15,"Paulo Sérgio Cunha","515.212.887-04",null,"-","-",0," x x x "," x x x ","Dedução de Honorários Contratuais","Não","Não","Não","-","-","Não informada","Não Informada","Não","2021-04-01",0,0,35869.97,47487.94,83357.91,5380.49,7123.1900000000005,12503.68,5380.49,7123.1900000000005,12503.68,0,0,0,0,0,0,25108.99,33241.560000000012,58350.55000000001,0,0,0,26,58350.55000000001,0,0,null,83357.91,1,1,83357.91,0,0,0,0,0]
[{"$f":"basePAGAS!B100","v":14784},11954,"RPV",11954,"2021/0119357-0","2021-04-22","Aguardando pagamento","sem verba para pgto",null,null,null,null,"AR 6.322/RJ","2018/0242408-2","2018-09-14","2020-03-19","Administrativo - Servidor Público Civil - Reajustes de Remuneração, Proventos ou Pensão (PRINCIPAL)","-","Estado do Rio de Janeiro","Ação Rescisória 6.322/RJ","2020/0102260-0","2021-03-26","Cassel Ruzzarin Santos Rodrigues Advogados","07.922.894/0001-16","-","Honorários de sucumbência","Alimentar",0,"x.x.x","x.x.x",0," x x x "," x x x ",null,"-","-",0," x x x "," x x x ","x.x.x","Não","Não","Não","-","-","Não informada","Não Informada","Não","2021-04-01",0,0,1055.42,19.679999999999836,1075.0999999999999,0,0,0,0,0,0,0,0,0,0,0,0,1055.42,19.679999999999836,1075.0999999999999,0,0,0,0,0,0,0,null,1075.0999999999999,1,1,1075.0999999999999,0,0,0,0,0]
[{"$f":"basePAGAS!B101","v":14809},13264,"RPV",13264,"2022/0076633-0","2022-03-18","Aguardando pagamento","sem verba para pgto",null,null,null,null,"MS 20.517/DF","2013/0342788-1","2013-09-26","2017-11-10","Administrativo - Militar - Regime - Anistia Política (PRINCIPAL)","-","UNIÃO","Mandado de Segurança 20.517/DF","2017/0310939-6","2022-03-11","Enok Barreto Desidério","314.415.807-00","-","Honorários de sucumbência","Alimentar",0,"x x x","x x x",0," x x x "," x x x ",0," x x x "," x x x ",0," x x x "," x x x ","x.x.x","Não","Não","Não","-","-","Não informada","Não Informada","Não","2022-03-01",0,0,15430.67,0,15430.67,0,0,0,0,0,0,0,0,0,0,0,0,15430.67,0,15430.67,0,0,0,0,15430.67,0,0,null,15430.67,1,1,15430.67,0,0,0,0,0]
[{"$f":"basePAGAS!B102","v":14810},13329,"RPV",13329,"2022/0077872-6","2022-03-21","Aguardando pagamento","sem verba para pgto",null,null,null,null,"MS 6.318/DF","1999/0035300-5","1999-04-30","2003-02-17","Administrativo - Servidor Público Civil - Reajustes de Remuneração, Proventos ou Pensão - Índice da URV Lei 8.880/1994","Ministério da Fazenda","UNIÃO","Mandado de Segurança 6.318/DF","2008/0093901-6","2020-11-23","Marcia Maria Corsetti Guimaraes ","396.962.198-49","Servidor Público Civil Ativo","Reajuste 3,17%","Alimentar",5,"Teixeira e Lopes Advogados Associados Sociedade Simples","02.993.181/0001-20",3,"Mendes Plutarco Advocacia e Consultoria","17.171.343/0001-11",0," x x x "," x x x ",0," x x x "," x x x ","Dedução de Honorários Contratuais","Não","Não","Não","-","-","Não informada","Não Informada","Não","2022-03-01",132.51,0,5863.44,12153.22,18149.169999999998,299.79000000000002,607.66000000000008,907.45,179.87,364.6,544.47,0,0,0,0,0,0,5516.29,11180.959999999995,16697.249999999996,5995.9537439999995,659.55,1319.1,36,4544.03,659.55,0,null,18149.169999999998,1,1,18149.169999999998,0,0,0,0,0]
[{"$f":"basePAGAS!B103","v":14811},13813,"RPV",13813,"2022/0151896-4","2022-05-20","Aguardando pagamento","sem verba para pgto",null,null,null,null,"MS 4.151/DF","1995/0038195-8","1995-07-21","1999-02-12","Administrativo - Servidor Público Civil - Reajustes de Remuneração, Proventos ou Pensão","Ministério da Fazenda","UNIÃO","Mandado de Segurança 4.151/DF","2016/0164475-8","2022-04-04","Espólio de Raphael Tarcitano","068.824.397-53","Servidor Público Civil Inativo","Diferença de remuneração - 3,17%","Alimentar",4,"Mota & Advogados Associados","03.996.810/0001-38",1,"Mauro Menezes e Advogados","32.901.423/0001-79",1,"Caputo, Bastos e Serra Advogados","12.291.813/0001-67",5,"Ibaneis Advocacia e Consultoria Sociedade Simples","05.613.437/0001-14","Dedução de Honorários Contratuais","Não","Não","Não","-","-","Não informada","Não Informada","Não","2022-05-01",0,0,25787.17,46932.83,72720,1031.48,1877.3200000000002,2908.8,257.87,469.33000000000004,727.2,257.87,469.33000000000004,727.2,1289.3499999999999,2346.65,3636,22950.6,41770.200000000004,64720.800000000003,0,0,0,53,17787.973687507634,0,0,0,72720,1,1,72720,0,0,0,0,0]
[{"$f":"basePAGAS!B104","v":14812},13907,"RPV",13907,"2022/0157946-1","2022-05-25","Aguardando pagamento","sem verba para pgto",null,null,null,null,"MS 4.146/DF","1995/0037048-4","1995-07-17","1999-10-15","Administrativo - Servidor Público Civil - Reajustes de Remuneração, Proventos ou Pensão","Ministério da Fazenda","UNIÃO","Mandado de Segurança 4.146/DF","2011/0233194-4","2020-05-04","Carmem Virginia de Andrade Bandeira do Nascimento","247.099.645-72","Servidor Público Civil Ativo","Reajuste  3,17% - Lei 8.880/94","Alimentar",15,"Mota & Advogados Associados","03.996.810/0001-38",0," x x x "," x x x ",0," x x x "," x x x ",0," x x x "," x x x ","Dedução de Honorários Contratuais","Não","Não","Não","-","-","Não informada","Não Informada","Não","2022-05-01",24.56,138.72999999999999,611,3451.1499999999996,4225.4399999999996,95.33,538.4799999999999,633.80999999999995,0,0,0,0,0,0,0,0,0,564.79,3026.8399999999997,3591.6299999999997,635.55999999999995,69.91,139.82,48,1.75,69.91,0,0,4225.4399999999996,1,1,4225.4399999999996,0,0,0,0,0]
[{"$f":"basePAGAS!B105","v":14813},13915,"RPV",13915,"2022/0158027-5","2022-05-25","Paga","Paga em MAR-2023 - 2ª remessa","2023-03-01","SIM","SIM",2,"MS 4.146/DF","1995/0037048-4","1995-07-17","1999-10-15","Administrativo - Servidor Público Civil - Reajustes de Remuneração, Proventos ou Pensão","Ministério da Fazenda","UNIÃO","Mandado de Segurança 4.146/DF","2011/0234544-0","2020-05-04","Ignez Sbano Assunção","100.247.947-91","Servidor Público Civil Inativo","Reajuste  3,17% - Lei 8.880/94","Alimentar",15,"Mota & Advogados Associados","03.996.810/0001-38",0," x x x "," x x x ",0," x x x "," x x x ",0," x x x "," x x x ","Dedução de Honorários Contratuais","Não","Não","Não","-","-","Não informada","Não Informada","Não","2022-05-01",205.24,466.77,5105.71,11611.32,17389.04,796.64,1811.71,2608.35,0,0,0,0,0,0,0,0,0,4719.55,10061.14,14780.69,0,0,0,85,2702.6,0,0,0,0,0,0,0,0,0,0,0,0]
[{"$f":"basePAGAS!B106","v":14814},14159,"RPV",14159,"2022/0181319-0","2022-06-10","Paga","Paga em FEV-2023 - 1ª remessa","2023-02-01","NÃO","NÃO",1,"MS 4.151/DF","1995/0038195-8","1995-07-21","1999-02-12","Administrativo - Servidor Público Civil - Reajustes de Remuneração, Proventos ou Pensão","Ministério da Fazenda","UNIÃO","Mandado de Segurança 4.151/DF","2016/0153098-9","2022-05-09","Luis Carlos Cebrian","027.592.378-93","Servidor Público Civil Ativo","Diferença de remuneração - 3,17%","Alimentar",6,"Mota & Advogados Associados","03.996.810/0001-38",1,"Mauro Menezes e Advogados","32.901.423/0001-79",1,"Caputo, Bastos e Serra Advogados","12.291.813/0001-67",0," x x x "," x x x ","Dedução de Honorários Contratuais","Não","Não","Não","-","-","Não informada","Não Informada","Não","2022-06-01",0,0,18612.080000000002,38053.449999999997,56665.53,1116.72,2283.21,3399.93,186.12,380.53,566.65,186.12,380.53,566.65,0,0,0,17123.12,35009.179999999993,52132.299999999996,29261.97,3218.81,6437.62,53,14078.85,3218.81,0,0,0,0,0,0,0,0,0,0,0]
[{"$f":"basePAGAS!B107","v":14816},14164,"RPV",14164,"2022/0182810-2","2022-06-13","Paga","Paga em FEV-2023 - 1ª remessa","2023-02-01","NÃO","NÃO",1,"MS 4.151/DF","1995/0038195-8","1995-07-21","1999-02-12","Administrativo - Servidor Público Civil - Reajustes de Remuneração, Proventos ou Pensão","Ministério da Fazenda","UNIÃO","Mandado de Segurança 4.151/DF","2016/0156082-9","2022-05-12","Maruchia Mialik","167.257.279-72","Servidor Público Civil Inativo","Diferença de remuneração - 3,17%","Alimentar",9,"Mota & Advogados Associados","03.996.810/0001-38",2,"Mauro Menezes e Advogados","32.901.423/0001-79",1,"Caputo, Bastos e Serra Advogados","12.291.813/0001-67",0," x x x "," x x x ","Dedução de Honorários Contratuais","Não","Não","Não","-","-","Não informada","Não Informada","Não","2022-06-01",0,0,23630.14,43994.34,67624.479999999996,2126.71,3959.49,6086.2,472.6,879.88,1352.48,236.3,439.94,676.24,0,0,0,20794.53,38715.03,59509.56,0,0,0,53,15515.22,0,0,0,0,0,0,0,0,0,0,0,0]
[{"$f":"basePAGAS!B108","v":14817},14205,"RPV",14205,"2022/0186052-3","2022-06-15","Paga","Paga em MAI-2023 - 1ª remessa","2023-05-01","NÃO","NÃO",1,"MS 4.151/DF","1995/0038195-8","1995-07-21","1999-02-12","Administrativo - Servidor Público Civil - Reajustes de Remuneração, Proventos ou Pensão","Ministério da Fazenda","UNIÃO","Mandado de Segurança 4.151/DF","2016/0157146-8","2022-05-12","Nileda Marta Augusto El Huaick","384.546.106-34","Servidor Público Civil Ativo","Diferença de remuneração - 3,17%","Alimentar",6,"Mota & Advogados Associados","03.996.810/0001-38",1,"Mauro Menezes e Advogados","32.901.423/0001-79",1,"Caputo, Bastos e Serra Advogados","12.291.813/0001-67",0," x x x "," x x x ","Dedução de Honorários Contratuais","Não","Não","Não","-","-","Não informada","Não Informada","Não","2022-06-01",0,0,24456.34,42915.89,67372.23,1467.38,2574.9499999999998,4042.33,244.56,429.16,673.72,244.56,429.16,673.72,0,0,0,22499.84,39482.619999999995,61982.459999999992,28969.27,3186.61,6373.22,53,19066.57,3186.61,0,0,0,0,0,0,0,0,0,0,0]
[{"$f":"basePAGAS!B109","v":14818},14209,"RPV",14209,"2022/0186088-7","2022-06-15","Paga","Paga em MAR-2023 - 1ª remessa","2023-03-01","NÃO","NÃO",1,"MS 4.151/DF","1995/0038195-8","1995-07-21","1999-02-12","Administrativo - Servidor Público Civil - Reajustes de Remuneração, Proventos ou Pensão","Ministério da Fazenda","UNIÃO","Mandado de Segurança 4.151/DF","2016/0157146-8","2022-05-12","Nildea de Brito Falcão","639.362.598-87","Servidor Público Civil Ativo","Diferença de remuneração - 3,17%","Alimentar",6,"Mota & Advogados Associados","03.996.810/0001-38",1,"Mauro Menezes e Advogados","32.901.423/0001-79",1,"Caputo, Bastos e Serra Advogados","12.291.813/0001-67",0," x x x "," x x x ","Dedução de Honorários Contratuais","Não","Não","Não","-","-","Não informada","Não Informada","Não","2022-06-01",0,0,22310.34,41338.160000000003,63648.5,1338.62,2480.29,3818.91,223.1,413.38,636.48,223.1,413.38,636.48,0,0,0,20525.52,38031.109999999986,58556.62999999999,29987.41,3298.61,6597.22,53,17218.47,3298.61,0,0,0,0,0,0,0,0,0,0,0]
[{"$f":"basePAGAS!B110","v":14819},14228,"RPV",14228,"2022/0186920-0","2022-06-15","Paga","Paga em MAR-2023 - 1ª remessa","2023-03-01","NÃO","NÃO",1,"MS 4.151/DF","1995/0038195-8","1995-07-21","1999-02-12","Administrativo - Servidor Público Civil - Reajustes de Remuneração, Proventos ou Pensão","Ministério da Fazenda","UNIÃO","Mandado de Segurança 4.151/DF","2016/0128321-1","2022-05-27","Elsa Geralda dos Santos Zaidan","333.205.786-34","Servidor Público Civil Ativo","Diferença de remuneração - 3,17%","Alimentar",6,"Mota & Advogados Associados","03.996.810/0001-38",1,"Mauro Menezes e Advogados","32.901.423/0001-79",1,"Caputo, Bastos e Serra Advogados","12.291.813/0001-67",0," x x x "," x x x ","Dedução de Honorários Contratuais","Não","Não","Não","-","-","Não informada","Não Informada","Não","2022-06-01",0,0,26525.56,46194.44,72720,1591.53,2771.67,4363.2,265.25,461.95000000000005,727.2,265.25,461.95000000000005,727.2,0,0,0,24403.53,42498.87000000001,66902.400000000009,33554.67,3691.01,7382.02,53,20707.96,3691.01,0,0,0,0,0,0,0,0,0,0,0]
[{"$f":"basePAGAS!B111","v":14820},14242,"RPV",14242,"2022/0189497-0","2022-06-20","Paga","Paga em FEV-2023 - 1ª remessa","2023-02-01","NÃO","NÃO",1,"MS 4.151/DF","1995/0038195-8","1995-07-21","1999-02-12","Administrativo - Servidor Público Civil - Reajustes de Remuneração, Proventos ou Pensão","Ministério da Fazenda","UNIÃO","Mandado de Segurança 4.151/DF","2016/0164400-2","2022-05-12","Paulo Roberto Pereira Raymundo","000.689.618-98","Servidor Público Civil Ativo","Diferença de remuneração - 3,17%","Alimentar",6,"Mota & Advogados Associados","03.996.810/0001-38",1,"Mauro Menezes e Advogados","32.901.423/0001-79",1,"Caputo, Bastos e Serra Advogados","12.291.813/0001-67",0," x x x "," x x x ","Dedução de Honorários Contratuais","Não","Não","Não","-","-","Não informada","Não Informada","Não","2022-06-01",0,0,25165.8,43679.05,68844.850000000006,1509.94,2620.75,4130.6899999999996,251.65,436.79000000000008,688.44,251.65,436.79000000000008,688.44,0,0,0,23152.560000000001,40184.720000000001,63337.279999999999,29250.94,3217.6,6435.2,53,19658.23,3217.6,0,0,0,0,0,0,0,0,0,0,0]
[{"$f":"basePAGAS!B112","v":14821},14261,"RPV",14261,"2022/0191560-1","2022-06-22","Paga","Paga em FEV-2023 - 1ª remessa","2023-02-01","NÃO","NÃO",1,"MS 4.151/DF","1995/0038195-8","1995-07-21","1999-02-12","Administrativo - Servidor Público Civil - Reajustes de Remuneração, Proventos ou Pensão","Ministério da Fazenda","UNIÃO","Mandado de Segurança 4.151/DF","2016/0174803-7","2022-05-12","Rosana da Costa Ferreira","660.088.407-04","Servidor Público Civil Ativo","Diferença de remuneração - 3,17%","Alimentar",6,"Mota & Advogados Associados","03.996.810/0001-38",1,"Mauro Menezes e Advogados","32.901.423/0001-79",1,"Caputo, Bastos e Serra Advogados","12.291.813/0001-67",0," x x x "," x x x ","Dedução de Honorários Contratuais","Não","Não","Não","-","-","Não informada","Não Informada","Não","2022-06-01",0,0,11706.94,31817.589999999997,43524.53,702.41,1909.06,2611.4699999999998,117.06,318.18,435.24,117.06,318.18,435.24,0,0,0,10770.41,29272.170000000002,40042.58,29608.25,3256.9,6513.8,53,8224.99,3256.9,0,0,0,0,0,0,0,0,0,0,0]
[{"$f":"basePAGAS!B113","v":14822},14325,"RPV",14325,"2022/0258571-5","2022-08-18","Paga","Paga em FEV-2023 - 1ª remessa","2023-02-01","NÃO","NÃO",1,"MS 4.151/DF","1995/0038195-8","1995-07-21","1999-02-12","Administrativo - Servidor Público Civil - Reajustes de Remuneração, Proventos ou Pensão","Ministério da Fazenda","UNIÃO","Mandado de Segurança 4.151/DF","2016/0128419-3","2022-06-07","Domitilde Aparecida de Almeida Quintino","477.877.087-00","Servidor Público Civil Ativo","Diferença de remuneração - 3,17%","Alimentar",6,"Mota & Advogados Associados","03.996.810/0001-38",1,"Mauro Menezes e Advogados","32.901.423/0001-79",1,"Caputo, Bastos e Serra Advogados","12.291.813/0001-67",0," x x x "," x x x ","Dedução de Honorários Contratuais","Não","Não","Não","-","-","Não informada","Não Informada","Não","2022-08-01",0,0,23991.200000000001,43147.06,67138.260000000009,1439.47,2588.8199999999997,4028.29,239.91,431.47,671.38,239.91,431.47,671.38,0,0,0,22071.91,39695.300000000017,61767.210000000014,29916.87,3290.85,6581.7,53,18620.149999999998,3290.85,0,0,0,0,0,0,0,0,0,0,0]
[{"$f":"basePAGAS!B114","v":14823},14339,"RPV",14339,"2022/0258850-6","2022-08-18","Paga","Paga em FEV-2023 - 1ª remessa","2023-02-01","NÃO","NÃO",1,"MS 4.151/DF","1995/0038195-8","1995-07-21","1999-02-12","Administrativo - Servidor Público Civil - Reajustes de Remuneração, Proventos ou Pensão","Ministério da Fazenda","UNIÃO","Mandado de Segurança 4.151/DF","2016/0129411-6","2022-06-06","Azulmar Amaral de Mattos","075.528.587-53","Servidor Público Civil Inativo","Diferença de remuneração - 3,17%","Alimentar",6,"Mota & Advogados Associados","03.996.810/0001-38",1,"Mauro Menezes e Advogados","32.901.423/0001-79",1,"Caputo, Bastos e Serra Advogados","12.291.813/0001-67",0," x x x "," x x x ","Dedução de Honorários Contratuais","Não","Não","Não","-","-","Não informada","Não Informada","Não","2022-08-01",0,0,24067.22,44595.38,68662.600000000006,1444.03,2675.7200000000003,4119.75,240.67,445.95000000000005,686.62,240.67,445.95000000000005,686.62,0,0,0,22141.850000000006,41027.759999999995,63169.61,0,0,0,53,18574.230000000003,0,0,0,0,0,0,0,0,0,0,0,0]
[{"$f":"basePAGAS!B115","v":14825},14390,"RPV",14390,"2022/0265511-4","2022-08-23","Paga","Paga em MAI-2023 - 1ª remessa","2023-05-01","NÃO","NÃO",1,"AR 1.169/CE","1999/0096834-4","1999-10-18","2004-06-07","Administrativo - Servidor Público Civil - Sistema Remuneratório e Benefícios","Instituto Nacional do Seguro Social - INSS","Instituto Nacional do Seguro Social – INSS","Ação Rescisória 1.169/CE","2009/0055222-5","2014-10-17","Geraldina Rodrigues Dantas ","081.633.913-91","Servidor Público Civil Ativo","Anuênios","Alimentar",10,"Glayddes Sindeaux Advogados","17.291.820/0001-82",0," x x x "," x x x ",0," x x x "," x x x ",0," x x x "," x x x ","Dedução de Honorários Contratuais","Não","Não","Não","-","-","Não informada","Não Informada","Não","2022-08-01",222.2,334.16,3129.61,4706.55,8392.52,335.18,504.07,839.25,0,0,0,0,0,0,0,0,0,3238.83,4314.4400000000005,7553.27,3351.81,368.69,737.38,47,2512.56,368.69,0,0,0,0,0,0,0,0,0,0,0]
[{"$f":"basePAGAS!B116","v":14826},14420,"RPV",14420,"2022/0266290-2","2022-08-24","Paga","Paga em ABR-2023 - 1ª remessa","2023-04-01","NÃO","NÃO",1,"AR 1.169/CE","1999/0096834-4","1999-10-18","2004-06-07","Administrativo - Servidor Público Civil - Sistema Remuneratório e Benefícios","Instituto Nacional do Seguro Social - INSS","Instituto Nacional do Seguro Social – INSS","Ação Rescisória 1.169/CE","2009/0055585-0","2014-09-30","Oceano Vilagran Pinheiro ","059.030.413-53","Servidor Público Civil Ativo","Anuênios","Alimentar",10,"Glayddes Sindeaux Advogados","17.291.820/0001-82",0," x x x "," x x x ",0," x x x "," x x x ",0," x x x "," x x x ","Dedução de Honorários Contratuais","Não","Não","Não","-","-","Não informada","Não Informada","Não","2022-08-01",452.05,726.78,6367.03,10236.35,17782.21,681.9,1096.3200000000002,1778.22,0,0,0,0,0,0,0,0,0,6589.2300000000005,9414.7599999999984,16003.99,6819.08,750.09,1500.18,47,5040.8599999999997,750.09,0,0,0,0,0,0,0,0,0,0,0]
[{"$f":"basePAGAS!B117","v":14828},14428,"RPV",14428,"2022/0266299-9","2022-08-24","Paga","Paga em FEV-2023 - 1ª remessa","2023-02-01","NÃO","NÃO",1,"AR 1.169/CE","1999/0096834-4","1999-10-18","2004-06-07","Administrativo - Servidor Público Civil - Sistema Remuneratório e Benefícios","Instituto Nacional do Seguro Social - INSS","Instituto Nacional do Seguro Social – INSS","Ação Rescisória 1.169/CE","2009/0055585-0","2014-09-30","Orlanilza Cavalcante Costa ","262.545.143-20","Servidor Público Civil Ativo","Anuênios","Alimentar",10,"Glayddes Sindeaux Advogados","17.291.820/0001-82",0," x x x "," x x x ",0," x x x "," x x x ",0," x x x "," x x x ","Dedução de Honorários Contratuais","Não","Não","Não","-","-","Não informada","Não Informada","Não","2022-08-01",73.739999999999995,118.56,1038.73,1669.97,2900.9999999999995,111.24,178.86,290.10000000000002,0,0,0,0,0,0,0,0,0,1074.97,1535.9299999999996,2610.8999999999996,1112.47,122.37,244.74,47,822.37,122.37,0,0,0,0,0,0,0,0,0,0,0]
[{"$f":"basePAGAS!B118","v":14830},14521,"RPV",14521,"2022/0270363-6","2022-08-26","Paga","Paga em FEV-2023 - 3ª remessa","2023-02-01","SIM","SIM",3,"MS 6.318/DF","1999/0035300-5","1999-04-30","2003-02-17","Administrativo - Servidor Público Civil - Reajustes de Remuneração, Proventos ou Pensão - Índice da URV Lei 8.880/1994","Ministério da Fazenda","UNIÃO","Mandado de Segurança 6.318/DF","2010/0014673-1","2020-11-23","Luiz Eduardo Almeida Vieira Barbosa","032.166.558-90","Servidor Público Civil Ativo","Reajuste 3,17%","Alimentar",5,"Teixeira e Lopes Advogados Associados Sociedade Simples","02.993.181/0001-20",3,"Mendes Plutarco Advocacia e Consultoria","17.171.343/0001-11",0," x x x "," x x x ",0," x x x "," x x x ","Dedução de Honorários Contratuais","Não","Não","Não","-","-","Não informada","Não Informada","Não","2022-08-01",312.82,446.85,4405.93,6293.77,11459.37,235.93,337.03000000000003,572.96,141.56,202.21999999999997,343.78,0,0,0,0,0,0,4341.2599999999993,6201.37,10542.63,4718.75,519.05999999999995,1038.1199999999999,19,3802.01,519.05999999999995,127.11,134.85,0,0,0,0,0,0,0,0,0]
[{"$f":"basePAGAS!B119","v":14831},14549,"RPV",14549,"2022/0273224-8","2022-08-29","Paga","Paga em MAR-2023 - 1ª remessa","2023-03-01","NÃO","NÃO",1,"AR 1.169/CE","1999/0096834-4","1999-10-18","2004-06-07","Administrativo - Servidor Público Civil - Sistema Remuneratório e Benefícios","Instituto Nacional do Seguro Social - INSS","Instituto Nacional do Seguro Social – INSS","Ação Rescisória 1.169/CE","2009/0056134-9","2013-08-01","Maria De Fátima Fontenele De Oliveira","123.462.173-87","Servidor Público Civil Ativo","Anuênios","Alimentar",10,"Glayddes Sindeaux Advogados","17.291.820/0001-82",0," x x x "," x x x ",0," x x x "," x x x ",0," x x x "," x x x ","Dedução de Honorários Contratuais","Não","Não","Não","-","-","Não informada","Não Informada","Não","2022-08-01",253.34,372.53,3568.23,5246.97,9441.0700000000015,382.15,561.95000000000005,944.1,0,0,0,0,0,0,0,0,0,3439.42,5057.5500000000011,8496.9700000000012,3821.57,420.37,840.74,111,2877.4700000000003,420.37,0,0,0,0,0,0,0,0,0,0,0]
[{"$f":"basePAGAS!B120","v":14832},14554,"RPV",14554,"2022/0273265-3","2022-08-29","Paga","Paga em ABR-2023 - 1ª remessa","2023-04-01","NÃO","NÃO",1,"AR 1.169/CE","1999/0096834-4","1999-10-18","2004-06-07","Administrativo - Servidor Público Civil - Sistema Remuneratório e Benefícios","Instituto Nacional do Seguro Social - INSS","Instituto Nacional do Seguro Social – INSS","Ação Rescisória 1.169/CE","2009/0056134-9","2013-08-01","Maria Isabel Barreira Portella","310.651.473-68","Servidor Público Civil Ativo","Anuênios","Alimentar",10,"Glayddes Sindeaux Advogados","17.291.820/0001-82",0," x x x "," x x x ",0," x x x "," x x x ",0," x x x "," x x x ","Dedução de Honorários Contratuais","Não","Não","Não","-","-","Não informada","Não Informada","Não","2022-08-01",102.47,150.16,1443.24,2114.9899999999998,3810.8599999999992,154.57,226.51,381.08,0,0,0,0,0,0,0,0,0,1391.14,2038.6399999999992,3429.7799999999993,1545.71,170.02,340.04,111,1164.6300000000001,170.02,0,0,0,0,0,0,0,0,0,0,0]
[{"$f":"basePAGAS!B121","v":14833},14594,"RPV",14594,"2022/0274815-5","2022-08-30","Paga","Paga em FEV-2023 - 1ª remessa","2023-02-01","NÃO","NÃO",1,"AR 4.837/RJ","2011/0265624-2","2011-10-26","2020-06-30","Tributário - Taxas - Federais - Taxa de Saúde Suplementar (PRINCIPAL)","-","Agência Nacional de Saúde Suplementar","Ação Rescisória 4.837/RJ","2021/0116982-1","2022-06-08","Barroso, Muzzi, Barros, Guerra e Associados – Advocacia e Consultoria Empresarial","01.206.487/0001-26","-","Honorários de sucumbência","Alimentar",0,"x x x","x x x",0," x x x "," x x x ",0," x x x "," x x x ",0," x x x "," x x x ","x.x.x","Não","Não","Não","-","-","Não informada","Não Informada","Não","2022-08-01",257.04000000000002,0,3620.38,0,3877.42,0,0,0,0,0,0,0,0,0,0,0,0,3877.42,0,3877.42,0,0,0,0,0,0,0,0,0,0,0,0,0,0,0,0,0]
[{"$f":"basePAGAS!B122","v":14834},14601,"RPV",14601,"2022/0299151-3","2022-09-19","Paga","Paga em FEV-2023 - 2ª remessa","2023-02-01","SIM","NÃO",2,"MS 4.151/DF","1995/0038195-8","1995-07-21","1999-02-12","Administrativo - Servidor Público Civil - Reajustes de Remuneração, Proventos ou Pensão","Ministério da Fazenda","UNIÃO","Mandado de Segurança 4.151/DF","2016/0130360-1","2022-06-30","Evandro Cesar De Almeida Carneiro","236.301.756-00","Servidor Público Civil Ativo","Diferença de remuneração - 3,17%","Alimentar",6,"Mota & Advogados Associados","03.996.810/0001-38",1,"Mauro Menezes e Advogados","32.901.423/0001-79",1,"Caputo, Bastos e Serra Advogados","12.291.813/0001-67",0," x x x "," x x x ","Dedução de Honorários Contratuais","Não","Não","Não","-","-","Não informada","Não Informada","Não","2022-08-01",0,0,19509.349999999999,39481.299999999996,58990.649999999994,1170.56,2368.87,3539.43,195.09,394.80999999999995,589.9,195.09,394.80999999999995,589.9,0,0,0,17948.609999999997,36322.81,54271.419999999991,29646.61,3261.12,6522.24,53,14790.119999999999,3261.12,0,0,0,0,0,0,0,0,1,14601,0]
[{"$f":"basePAGAS!B126","v":14839},14666,"RPV",14666,"2022/0301429-0","2022-09-20","Paga","Paga em MAR-2023 - 1ª remessa","2023-03-01","NÃO","NÃO",1,"AR 1.169/CE","1999/0096834-4","1999-10-18","2004-06-07","Administrativo - Servidor Público Civil - Sistema Remuneratório e Benefícios","Instituto Nacional do Seguro Social - INSS","Instituto Nacional do Seguro Social – INSS","Ação Rescisória 1.169/CE","2009/0056303-0","2014-11-04","Maria Dalila Ferreira Bastos ","189.988.443-20","Servidor Público Civil Ativo","Anuênios","Alimentar",10,"Glayddes Sindeaux Advogados","17.291.820/0001-82",0," x x x "," x x x ",0," x x x "," x x x ",0," x x x "," x x x ","Dedução de Honorários Contratuais","Não","Não","Não","-","-","Não informada","Não Informada","Não","2022-09-01",173.84,252.49,2317.92,3366.6000000000004,6110.85,249.17,361.91000000000008,611.08000000000004,0,0,0,0,0,0,0,0,0,2242.59,3257.1800000000003,5499.77,2491.7600000000002,274.08999999999997,548.17999999999995,47,1880.6800000000003,274.08999999999997,0,0,0,0,0,0,0,0,5,14666,0]
[{"$f":"basePAGAS!B150","v":14865},14733,"RPV",14733,"2022/0306709-9","2022-09-23","Paga","Paga em FEV-2023 - 1ª remessa","2023-02-01","NÃO","NÃO",1,"MS 4.151/DF","1995/0038195-8","1995-07-21","1999-02-12","Administrativo - Servidor Público Civil - Reajustes de Remuneração, Proventos ou Pensão","Ministério da Fazenda","UNIÃO","Mandado de Segurança 4.151/DF","2016/0128402-0","2022-04-25","Douglas Gerson Braga","006.307.858-99","Servidor Público Civil Ativo","Diferença de remuneração - 3,17%","Alimentar",6,"Mota & Advogados Associados","03.996.810/0001-38",1,"Mauro Menezes e Advogados","32.901.423/0001-79",1,"Caputo, Bastos e Serra Advogados","12.291.813/0001-67",0," x x x "," x x x ","Dedução de Honorários Contratuais","Não","Não","Não","-","-","Não informada","Não Informada","Não","2022-09-01",0,0,23413.03,42552.87,65965.899999999994,1404.78,2553.17,3957.95,234.13,425.52,659.65,234.13,425.52,659.65,0,0,0,21539.989999999998,39148.659999999996,60688.649999999994,10121.879999999999,1113.4000000000001,2226.8000000000002,53,18135.779999999995,1113.4000000000001,0,0,0,0,0,0,0,0,29,14733,0]
[{"$f":"basePAGAS!B172","v":14889},14755,"RPV",14755,"2022/0307500-3","2022-09-23","Paga","Paga em FEV-2023 - 1ª remessa","2023-02-01","NÃO","NÃO",1,"MS 4.151/DF","1995/0038195-8","1995-07-21","1999-02-12","Administrativo - Servidor Público Civil - Reajustes de Remuneração, Proventos ou Pensão","Ministério da Fazenda","UNIÃO","Mandado de Segurança 4.151/DF","2016/0153187-4","2022-08-03","Maria Beatriz Pacetti Miranda Rodrigues","929.405.368-72","Servidor Público Civil Ativo","Diferença de remuneração - 3,17%","Alimentar",6,"Mota & Advogados Associados","03.996.810/0001-38",1,"Mauro Menezes e Advogados","32.901.423/0001-79",1,"Caputo, Bastos e Serra Advogados","12.291.813/0001-67",0," x x x "," x x x ","Dedução de Honorários Contratuais","Não","Não","Não","-","-","Não informada","Não Informada","Não","2022-09-01",0,0,17976.53,38339.980000000003,56316.51,1078.5899999999999,2300.3999999999996,3378.99,179.76,383.4,563.16,179.76,383.4,563.16,0,0,0,16538.420000000002,35272.78,51811.199999999997,30182.86,3320.11,6640.22,53,13471.22,3320.11,0,0,0,0,0,0,0,0,51,14755,0]
[{"$f":"basePAGAS!B209","v":14945},14792,"RPV",14792,"2022/0309579-0","2022-09-26","Paga","Paga em FEV-2023 - 1ª remessa","2023-02-01","NÃO","NÃO",1,"AR 1.169/CE","1999/0096834-4","1999-10-18","2004-06-07","Administrativo - Servidor Público Civil - Sistema Remuneratório e Benefícios","Instituto Nacional do Seguro Social - INSS","Instituto Nacional do Seguro Social – INSS","Ação Rescisória 1.169/CE","2009/0056219-4","2022-08-19","Joaquim Bernardino Neto","018.389.973-34","Servidor Público Civil Ativo","Anuênios","Alimentar",10,"Glayddes Sindeaux Advogados","17.291.820/0001-82",0," x x x "," x x x ",0," x x x "," x x x ",0," x x x "," x x x ","Dedução de Honorários Contratuais","Não","Não","Não","-","-","Não informada","Não Informada","Não","2022-09-01",522.45000000000005,1067.17,6966.13,14229.01,22784.760000000002,748.85,1529.62,2278.4699999999998,0,0,0,0,0,0,0,0,0,6739.73,13766.560000000001,20506.29,6996.98,769.66,1539.32,111,5210.1100000000006,769.66,0,0,0,0,0,0,0,0,88,14792,0]
[{"$f":"basePAGAS!B227","v":14965},14810,"RPV",14810,"2022/0309661-3","2022-09-27","Paga","Paga em FEV-2023 - 4ª remessa","2023-02-01","NÃO","NÃO",4,"MS 4.151/DF","1995/0038195-8","1995-07-21","1999-02-12","Administrativo - Servidor Público Civil - Reajustes de Remuneração, Proventos ou Pensão","Ministério da Fazenda","UNIÃO","Mandado de Segurança 4.151/DF","2016/0164353-4","2022-08-03","Paulo Hidenobu Koja","992.675.198-91","Servidor Público Civil Ativo","Diferença de remuneração - 3,17%","Alimentar",6,"Mota & Advogados Associados","03.996.810/0001-38",1,"Mauro Menezes e Advogados","32.901.423/0001-79",1,"Caputo, Bastos e Serra Advogados","12.291.813/0001-67",0," x x x "," x x x ","Dedução de Honorários Contratuais","Não","Não","Não","-","-","Não informada","Não Informada","Não","2022-09-01",0,0,22006.79,40978.1,62984.89,1320.4,2458.69,3779.09,220.06,409.78000000000003,629.84,220.06,409.78000000000003,629.84,0,0,0,20246.269999999997,37699.850000000013,57946.12000000001,29275.77,3220.33,6440.66,53,16968.02,3220.33,0,0,0,0,0,0,0,0,106,14810,0]
[{"$f":"basePAGAS!B249","v":14815},14832,"RPV",14832,"2022/0336760-7","2022-10-19","Paga","Paga em FEV-2023 - 4ª remessa","2023-02-01","NÃO","NÃO",4,"MS 4.151/DF","1995/0038195-8","1995-07-21","1999-02-12","Administrativo - Servidor Público Civil - Reajustes de Remuneração, Proventos ou Pensão","Ministério da Fazenda","UNIÃO","Mandado de Segurança 4.151/DF","2016/0144611-9","2022-02-09","José Tomasulo","018.425.368-34","Servidor Público Civil Inativo","Diferença de remuneração - 3,17%","Alimentar",6,"Mota & Advogados Associados","03.996.810/0001-38",1,"Mauro Menezes e Advogados","32.901.423/0001-79",1,"Caputo, Bastos e Serra Advogados","12.291.813/0001-67",0," x x x "," x x x ","Dedução de Honorários Contratuais","Não","Não","Não","-","-","Não informada","Não Informada","Não","2022-10-01",0,0,21242.51,49685.25,70927.759999999995,1274.55,2981.11,4255.66,212.42,496.85,709.27,212.42,496.85,709.27,0,0,0,19543.12,45710.44,65253.56,0,0,0,53,15568.31,0,0,0,0,0,0,0,0,0,0,0,0]
[{"$f":"basePAGAS!B260","v":14914},14843,"RPV",14843,"2022/0337005-0","2022-10-19","Paga","Paga em JUN-2023 - 1ª remessa","2023-06-01","NÃO","NÃO",1,"MS 4.151/DF","1995/0038195-8","1995-07-21","1999-02-12","Administrativo - Servidor Público Civil - Reajustes de Remuneração, Proventos ou Pensão","Ministério da Fazenda","UNIÃO","Mandado de Segurança 4.151/DF","2016/0174812-6","2022-08-03","Rubia de Souza Carollo","767.607.908-04","Servidor Público Civil Ativo","Diferença de remuneração - 3,17%","Alimentar",6,"Mota & Advogados Associados","03.996.810/0001-38",1,"Mauro Menezes e Advogados","32.901.423/0001-79",1,"Caputo, Bastos e Serra Advogados","12.291.813/0001-67",0," x x x "," x x x ","Dedução de Honorários Contratuais","Não","Não","Não","-","-","Não informada","Não Informada","Não","2022-10-01",0,0,22949.67,42857.369999999995,65807.039999999994,1376.98,2571.44,3948.42,229.49,428.58,658.07,229.49,428.58,658.07,0,0,0,21113.71,39428.769999999997,60542.48,30631.17,3369.42,6738.84,53,17685.11,3369.42,0,0,0,0,0,0,0,0,0,0,0]
[{"$f":"basePAGAS!B284","v":14987},14867,"RPV",14867,"2022/0338196-6","2022-10-20","Paga","Paga em FEV-2023 - 4ª remessa","2023-02-01","NÃO","NÃO",4,"MS 4.151/DF","1995/0038195-8","1995-07-21","1999-02-12","Administrativo - Servidor Público Civil - Reajustes de Remuneração, Proventos ou Pensão","Ministério da Fazenda","UNIÃO","Mandado de Segurança 4.151/DF","2016/0164449-2","2021-10-07","Rita de Cassia Moraes Leonel","072.109.188-17","Servidor Público Civil Ativo","Diferença de remuneração - 3,17%","Alimentar",6,"Mota & Advogados Associados","03.996.810/0001-38",1,"Mauro Menezes e Advogados","32.901.423/0001-79",1,"Caputo, Bastos e Serra Advogados","12.291.813/0001-67",0," x x x "," x x x ","Dedução de Honorários Contratuais","Não","Não","Não","-","-","Não informada","Não Informada","Não","2022-10-01",0,0,22926.39,43534.539999999994,66460.929999999993,1375.58,2612.0700000000002,3987.65,229.26,435.34,664.6,229.26,435.34,664.6,0,0,0,21092.29,40051.79,61144.08,31458.65,3460.45,6920.9,53,17609.54,3460.45,0,0,0,0,0,0,0,0,0,0,0]
[{"$f":"basePAGAS!B315","v":15114},14898,"RPV",14898,"2022/0342910-6","2022-10-24","Paga","Paga em FEV-2023 - 4ª remessa","2023-02-01","NÃO","NÃO",4,"MS 4.151/DF","1995/0038195-8","1995-07-21","1999-02-12","Administrativo - Servidor Público Civil - Reajustes de Remuneração, Proventos ou Pensão","Ministério da Fazenda","UNIÃO","Mandado de Segurança 4.151/DF","2016/0174886-0","2022-08-03","Solange Contador Sneideris","798.048.888-15","Servidor Público Civil Ativo","Diferença de remuneração - 3,17%","Alimentar",6,"Mota & Advogados Associados","03.996.810/0001-38",1,"Mauro Menezes e Advogados","32.901.423/0001-79",1,"Caputo, Bastos e Serra Advogados","12.291.813/0001-67",0," x x x "," x x x ","Dedução de Honorários Contratuais","Não","Não","Não","-","-","Não informada","Não Informada","Não","2022-10-01",0,0,24911.06,43958.210000000006,68869.27,1494.66,2637.49,4132.1499999999996,249.11,439.58,688.69,249.11,439.58,688.69,0,0,0,22918.18,40441.56,63359.74,29208.86,3212.97,6425.94,53,19401.53,3212.97,0,0,0,0,0,0,0,0,0,0,0]
[{"$f":"basePAGAS!B337","v":15077},14920,"RPV",14920,"2022/0344704-0","2022-10-25","Paga","Paga em JUN-2023 - 1ª remessa","2023-06-01","NÃO","NÃO",1,"MS 4.151/DF","1995/0038195-8","1995-07-21","1999-02-12","Administrativo - Servidor Público Civil - Reajustes de Remuneração, Proventos ou Pensão","Ministério da Fazenda","UNIÃO","Mandado de Segurança 4.151/DF","2016/0129581-0","2022-02-09","Carlos Eduardo Laube","013.782.808-06","Servidor Público Civil Ativo","Diferença de remuneração - 3,17%","Alimentar",6,"Mota & Advogados Associados","03.996.810/0001-38",1,"Mauro Menezes e Advogados","32.901.423/0001-79",1,"Caputo, Bastos e Serra Advogados","12.291.813/0001-67",0," x x x "," x x x ","Dedução de Honorários Contratuais","Não","Não","Não","-","-","Não informada","Não Informada","Não","2022-10-01",0,0,21759.72,41380.65,63140.37,1305.58,2482.84,3788.42,217.59,413.81,631.4,217.59,413.81,631.4,0,0,0,20018.96,38070.19,58089.15,30064.959999999999,3307.14,6614.28,53,16708.5,3307.14,0,0,0,0,0,0,0,0,0,0,0]
[{"$f":"basePAGAS!B359","v":14721},14942,"RPV",14942,"2022/0347510-0","2022-10-26","Paga","Paga em FEV-2023 - 4ª remessa","2023-02-01","NÃO","NÃO",4,"MS 21.586/DF","2015/0029227-2","2015-02-12","2020-05-29","Administrativo - Servidor Público Civil","Ministério da Saúde","União","Mandado de Segurança 21.586/DF","2022/0034206-0","2022-10-06","Neri Luiz Cenzi","242.957.449-72","Servidor Público Civil Inativo","Reestabelecimento de aposentadoria cassada","Alimentar",0,"x x x","x x x",0," x x x "," x x x ",0," x x x "," x x x ",0," x x x "," x x x ","x.x.x","Não","Não","Não","-","-","Não informada","Não Informada","Não","2022-10-01",4624.75,183.4,65321.39,2590.4600000000009,72720,0,0,0,0,0,0,0,0,0,0,0,0,69946.14,2773.86,72720,69946.14,7694.07,0,8,69946.14,7694.07,0,0,0,0,0,0,0,0,0,0,0]
[{"$f":"basePAGAS!B385","v":15143},14968,"RPV",14968,"2022/0348788-4","2022-10-28","Paga","Paga em FEV-2023 - 4ª remessa","2023-02-01","NÃO","NÃO",4,"AR 1.169/CE","1999/0096834-4","1999-10-18","2004-06-07","Administrativo - Servidor Público Civil - Sistema Remuneratório e Benefícios","Instituto Nacional do Seguro Social - INSS","Instituto Nacional do Seguro Social – INSS","Ação Rescisória 1.169/CE","2009/0055213-6","2014-05-22","Francisco Assis Santos Mano Barreto ","236.060.103-20","Servidor Público Civil Ativo","Anuênios","Alimentar",10,"Glayddes Sindeaux Advogados","17.291.820/0001-82",0," x x x "," x x x ",0," x x x "," x x x ",0," x x x "," x x x ","Dedução de Honorários Contratuais","Não","Não","Não","-","-","Não informada","Não Informada","Não","2022-10-01",254.22,424.85,2721.88,4548.7399999999989,7949.69,297.61,497.35,794.96,0,0,0,0,0,0,0,0,0,2678.49,4476.24,7154.73,2976.1,327.37,654.74,116,2181.14,327.37,0,0,0,0,0,0,0,0,0,0,0]
[{"$f":"basePAGAS!B414","v":15174},14999,"RPV",14999,"2022/0369124-2","2022-11-17","Paga","Paga em JUN-2023 - 2ª remessa","2023-06-01","NÃO","NÃO",2,"MS 10.438/DF","2005/0023175-9","2005-02-22","2007-09-13","Administrativo - Militar - Pensão","Ministério da Fazenda","UNIÃO","Mandado de Segurança 10.438/DF","2021/0347384-3","2022-10-14","Luceno José da Silva","063.608.768-92","Servidor Público Militar Inativo","Soldo previsto na Lei Estadual 1.063/2002","Alimentar",20.5,"Leon e Advogados Associados","17.858.268/0001-61",10.5,"Silveira Cruz Advogados","07.419.539/0001-29",0," x x x "," x x x ",0," x x x "," x x x ","Dedução de Honorários Contratuais","Não","Não","Não","-","-","Não informada","Não Informada","Não","2022-11-01",4118.8100000000004,1132.6400000000001,39756.86,10932.889999999996,55941.2,8994.51,2473.4299999999998,11467.94,4606.9399999999996,1266.8800000000001,5873.82,0,0,0,0,0,0,30274.22,8325.2199999999993,38599.440000000002,0,0,0,18,26533.91,0,0,0,0,0,0,0,0,0,0,0,0]
[{"$f":"basePAGAS!B436","v":15190},15021,"RPV",15021,"2022/0373554-0","2022-11-21","Paga","Paga em JUN-2023 - 1ª remessa","2023-06-01","NÃO","NÃO",1,"MS 10.438/DF","2005/0023175-9","2005-02-22","2007-09-13","Administrativo - Militar - Pensão","Ministério da Fazenda","UNIÃO","Mandado de Segurança 10.438/DF","2021/0274873-3","2022-10-14","Alexandre Antunes Barakat","023.751.198-35","Servidor Público Militar Inativo","Soldo previsto na Lei Estadual 1.063/2002","Alimentar",20.5,"Leon e Advogados Associados","17.858.268/0001-61",10.5,"Silveira Cruz Advogados","07.419.539/0001-29",0," x x x "," x x x ",0," x x x "," x x x ","Dedução de Honorários Contratuais","Não","Não","Não","-","-","Não informada","Não Informada","Não","2022-11-01",3047.96,838.78,29420.54,8096.3999999999987,41403.68,6656.04,1831.71,8487.75,3409.19,938.19,4347.38,0,0,0,0,0,0,22403.27,6165.28,28568.55,0,0,0,26,19633.37,0,0,0,0,0,0,0,0,0,0,0,0]
[{"$f":"basePAGAS!B447","v":15201},15032,"RPV",15032,"2022/0373654-9","2022-11-21","Paga","Paga em MAR-2023 - 1ª remessa","2023-03-01","NÃO","NÃO",1,"MS 10.438/DF","2005/0023175-9","2005-02-22","2007-09-13","Administrativo - Militar - Pensão","Ministério da Fazenda","UNIÃO","Mandado de Segurança 10.438/DF","2021/0283436-1","2022-10-14","Gilson Dorigheto","834.249.627-91","Servidor Público Militar Inativo","Soldo previsto na Lei Estadual 1.063/2002","Alimentar",20.5,"Leon e Advogados Associados","17.858.268/0001-61",10.5,"Silveira Cruz Advogados","07.419.539/0001-29",0," x x x "," x x x ",0," x x x "," x x x ","Dedução de Honorários Contratuais","Não","Não","Não","-","-","Não informada","Não Informada","Não","2022-11-01",1218.21,340.37,11758.82,3285.4499999999989,16602.849999999999,2660.29,743.29,3403.58,1362.58,380.71,1743.29,0,0,0,0,0,0,8954.16,2501.8200000000002,11455.98,0,0,0,26,7830.16,0,0,0,0,0,0,0,0,0,0,0,0]
[{"$f":"basePAGAS!B482","v":15236},15067,"RPV",15067,"2022/0381608-3","2022-11-29","Paga","Paga em MAR-2023 - 1ª remessa","2023-03-01","NÃO","NÃO",1,"MS 3.099/DF","1993/0025151-1","1993-09-15","2000-06-07","Administrativo - Servidor Público Civil - Reajustes de Remuneração, Proventos ou Pensão - Índice de 28,86% Lei 8.622/1993 e 8.627/1993","Ministério da Saúde","UNIÃO","Mandado de Segurança 3.099/DF","2014/0104328-5","2019-11-25","Maria Dos Anjos Praxedes","509.417.041-49","Servidor Público Militar Ativo","Índice de 28,86% Lei 8.622/1993 e 8.627/1993","Alimentar",10,"Machado & Machado Advogados Associados","12.709.672/0001-50",0," x x x "," x x x ",0," x x x "," x x x ",0," x x x "," x x x ","Dedução de Honorários Contratuais","Não","Não","Não","-","-","Não informada","Não Informada","Não","2022-11-01",61.7,128.4,595.64,1239.3900000000001,2025.13,65.73,136.78,202.51,0,0,0,0,0,0,0,0,0,591.61,1231.01,1822.62,657.34,72.3,144.6,63,454.83,72.3,0,0,0,0,0,0,0,0,0,0,0]
[{"$f":"basePAGAS!B502","v":15147},15087,"RPV",15087,"2022/0383374-2","2022-11-30","Paga","Paga em MAR-2023 - 2ª remessa","2023-03-01","SIM","SIM",2,"MS 4.146/DF","1995/0037048-4","1995-07-17","1999-10-15","Administrativo - Servidor Público Civil - Reajustes de Remuneração, Proventos ou Pensão","Ministério da Fazenda","UNIÃO","Mandado de Segurança 4.146/DF","2011/0232476-3","2022-03-21","Marlúcio Rodrigues Abreu","081.121.345-53","Servidor Público Civil Inativo","Reajuste  3,17% - Lei 8.880/94","Alimentar",15,"Mota & Advogados Associados","03.996.810/0001-38",0," x x x "," x x x ",0," x x x "," x x x ",0," x x x "," x x x ","Dedução de Honorários Contratuais","Não","Não","Não","-","-","Não informada","Não Informada","Não","2022-11-01",208.63,390.92,2013.89,3773.3899999999994,6386.83,333.37,624.65,958.02,0,0,0,0,0,0,0,0,0,1889.15,3539.66,5428.81,0,0,0,13,1264.5,0,0,0,0,0,0,0,0,0,0,0,0]
[{"$f":"basePAGAS!B524","v":15271},15109,"RPV",15109,"2022/0391688-7","2022-12-07","Paga","Paga em MAR-2023 - 1ª remessa","2023-03-01","NÃO","NÃO",1,"AR 1.169/CE","1999/0096834-4","1999-10-18","2004-06-07","Administrativo - Servidor Público Civil - Sistema Remuneratório e Benefícios","Instituto Nacional do Seguro Social - INSS","Instituto Nacional do Seguro Social – INSS","Ação Rescisória 1.169/CE","2009/0055634-2","2014-09-30","João Alfredo Do Nascimento ","037.732.213-04","Servidor Público Civil Ativo","Anuênios","Alimentar",20,"Glayddes Sindeaux Advogados","17.291.820/0001-82",0," x x x "," x x x ",0," x x x "," x x x ",0," x x x "," x x x ","Dedução de Honorários Contratuais","Não","Não","Não","-","-","Não informada","Não Informada","Não","2022-12-01",217.8,350.17,1913.96,3077.1099999999997,5559.04,382.79,729.01,1111.8,0,0,0,0,0,0,0,0,0,1705.4100000000003,2741.8299999999995,4447.24,2131.7600000000002,234.49,468.98,47,1019.9600000000003,234.49,0,0,0,0,0,0,0,0,0,0,0]
[{"$f":"basePAGAS!B539","v":15288},15124,"RPV",15124,"2022/0391733-1","2022-12-07","Paga","Paga em MAR-2023 - 1ª remessa","2023-03-01","NÃO","NÃO",1,"AR 1.169/CE","1999/0096834-4","1999-10-18","2004-06-07","Administrativo - Servidor Público Civil - Sistema Remuneratório e Benefícios","Instituto Nacional do Seguro Social - INSS","Instituto Nacional do Seguro Social – INSS","Ação Rescisória 1.169/CE","2009/0055634-2","2014-09-30","João Silva Filho ","045.450.953-72","Servidor Público Civil Ativo","Anuênios","Alimentar",10,"Glayddes Sindeaux Advogados","17.291.820/0001-82",0," x x x "," x x x ",0," x x x "," x x x ",0," x x x "," x x x ","Dedução de Honorários Contratuais","Não","Não","Não","-","-","Não informada","Não Informada","Não","2022-12-01",712.96,1146.24,6265.08,10072.480000000003,18196.760000000002,626.5,1193.17,1819.67,0,0,0,0,0,0,0,0,0,6280.24,10096.850000000002,16377.090000000002,4439.5600000000004,488.35,976.7,47,5158.37,488.35,0,0,0,0,0,0,0,0,0,0,0]
[{"$f":"basePAGAS!B556","v":15306},15141,"RPV",15141,"2022/0391926-2","2022-12-07","Paga","Paga em JUN-2023 - 1ª remessa","2023-06-01","NÃO","NÃO",1,"AR 1.169/CE","1999/0096834-4","1999-10-18","2004-06-07","Administrativo - Servidor Público Civil - Sistema Remuneratório e Benefícios","Instituto Nacional do Seguro Social - INSS","Instituto Nacional do Seguro Social – INSS","Ação Rescisória 1.169/CE","2009/0055105-0","2014-11-04","Maria Gleidimar Silva Magalhães ","049.220.773-91","Servidor Público Civil Ativo","Anuênios","Alimentar",10,"Glayddes Sindeaux Advogados","17.291.820/0001-82",0," x x x "," x x x ",0," x x x "," x x x ",0," x x x "," x x x ","Dedução de Honorários Contratuais","Não","Não","Não","-","-","Não informada","Não Informada","Não","2022-12-01",858.82,1251.04,7546.79,10993.380000000001,20650.030000000002,754.67,1310.33,2065,0,0,0,0,0,0,0,0,0,7565.0500000000011,11019.980000000001,18585.030000000002,8405.61,924.61,1849.22,47,6340.6100000000006,924.61,0,0,0,0,0,0,0,0,0,0,0]
[{"$f":"basePAGAS!B578","v":15328},15163,"RPV",15163,"2022/0395990-7","2022-12-12","Paga","Paga em ABR-2023 - 1ª remessa","2023-04-01","NÃO","NÃO",1,"MS 24.175/DF","2018/0066975-5","2018-03-23","2020-11-23","Administrativo - Servidor Público Civil - Regime Estatutário - Enquadramento (PRINCIPAL)","Advocacia Geral da União","UNIÃO","Mandado de Segurança 24.175/DF","2022/0114276-0","2022-10-27","Judas Tadeu Costa de Lima","343.535.424-00","Servidor Público Civil Ativo","Enquadramento","Alimentar",20,"Forte, Luckwu e Diniz Sociedade de Advogados","31.008.946/0001-28",0," x x x "," x x x ",0," x x x "," x x x ",0," x x x "," x x x ","Dedução de Honorários Contratuais","Não","Não","Não","-","-","Não informada","Não Informada","Não","2022-11-01",3148.65,201.35,30392.38,1943.6199999999985,35686,6078.47,1058.7299999999996,7137.2,0,0,0,0,0,0,0,0,0,26832.829999999998,1715.9700000000012,28548.799999999999,33541.03,3689.51,7379.02,36,26403.829999999998,3689.51,0,0,0,0,0,0,0,0,0,0,0]
[{"$f":"basePAGAS!B612","v":15363},15197,"RPV",15197,"2022/0396331-1","2022-12-12","Paga","Paga em ABR-2023 - 2ª remessa","2023-04-01","NÃO","NÃO",2,"AR 1.169/CE","1999/0096834-4","1999-10-18","2004-06-07","Administrativo - Servidor Público Civil - Sistema Remuneratório e Benefícios","Instituto Nacional do Seguro Social - INSS","Instituto Nacional do Seguro Social – INSS","Ação Rescisória 1.169/CE","2009/0056215-7","2013-04-12","Maria Denise Barboza Pinto ","220.849.323-00","Servidor Público Civil Ativo","Anuênios","Alimentar",10,"Glayddes Sindeaux Advogados","17.291.820/0001-82",0," x x x "," x x x ",0," x x x "," x x x ",0," x x x "," x x x ","Dedução de Honorários Contratuais","Não","Não","Não","-","-","Não informada","Não Informada","Não","2022-12-01",186.92,0,1642.58,2491.3899999999994,4320.8899999999994,164.25,267.83,432.08,0,0,0,0,0,0,0,0,0,1646.55,2242.2599999999993,3888.8099999999995,1829.5,201.24,402.48,116,1397.42,201.24,0,0,0,0,0,0,0,0,0,0,0]
[{"$f":"basePAGAS!B640","v":15391},15225,"RPV",15225,"2022/0396484-0","2022-12-12","Paga","Paga em ABR-2023 - 2ª remessa","2023-04-01","NÃO","NÃO",2,"MS 6.040/DF","1998/0088415-7","1998-11-16","2003-10-01","Administrativo - Servidor Público Civil - Sistema Remuneratório e Benefícios (PRINCIPAL)","Ministério da Administração Federal e Reforma do Estado","União","Mandado de Segurança 6.040/DF","2021/0371394-0","2022-11-24","Sandra de Castro Villar","160.171.107-72","Servidor Público Civil Inativo","Incorporação da diferença de 3,17%","Alimentar",5,"Sonia Ananias Citele Jardim","864.928.967-34",5,"Milene Serafim de Assis Pires","080.056.547-90",0," x x x "," x x x ",0," x x x "," x x x ","Dedução de Honorários Contratuais","Não","Não","Não","-","-","Não informada","Não Informada","Não","2022-12-01",0,0,4358.6899999999996,6774.06,11132.75,217.93,338.7,556.63,217.93,338.7,556.63,0,0,0,0,0,0,3922.8299999999995,6096.6600000000017,10019.490000000002,0,0,0,42,3245.4299999999994,0,0,0,0,0,0,0,0,0,0,0,0]
[{"$f":"basePAGAS!B655","v":15014},15240,"RPV",15240,"2022/0397218-1","2022-12-13","Paga","Paga em ABR-2023 - 2ª remessa","2023-04-01","NÃO","NÃO",2,"MS 6.040/DF","1998/0088415-7","1998-11-16","2003-10-01","Administrativo - Servidor Público Civil - Sistema Remuneratório e Benefícios (PRINCIPAL)","Ministério da Administração Federal e Reforma do Estado","União","Mandado de Segurança 6.040/DF","2021/0371330-7","2022-11-24","Maria do Carmo Teixeira Rainho","809.791.817-04","Servidor Público Civil Ativo","Incorporação da diferença de 3,17%","Alimentar",5,"Sonia Ananias Citele Jardim","864.928.967-34",5,"Milene Serafim de Assis Pires","080.056.547-90",0," x x x "," x x x ",0," x x x "," x x x ","Dedução de Honorários Contratuais","Não","Não","Não","-","-","Não informada","Não Informada","Não","2022-12-01",0,0,6111.16,9583.02,15694.18,305.55,479.15000000000003,784.7,305.55,479.15000000000003,784.7,0,0,0,0,0,0,5500.0599999999995,8624.7199999999993,14124.779999999999,14547.94,1600.27,3200.54,42,4541.76,1600.27,0,0,0,0,0,0,0,0,0,0,0]
[{"$f":"basePAGAS!B689","v":15057},15274,"RPV",15274,"2022/0397704-4","2022-12-13","Paga","Paga em MAI-2023 - 1ª remessa","2023-05-01","NÃO","NÃO",1,"AR 1.169/CE","1999/0096834-4","1999-10-18","2004-06-07","Administrativo - Servidor Público Civil - Sistema Remuneratório e Benefícios","Instituto Nacional do Seguro Social - INSS","Instituto Nacional do Seguro Social – INSS","Ação Rescisória 1.169/CE","2009/0055158-0","2013-04-12","Maria Alves Da Silva ","285.063.753-04","Servidor Público Civil Ativo","Anuênios","Alimentar",20,"Glayddes Sindeaux Advogados","17.291.820/0001-82",0," x x x "," x x x ",0," x x x "," x x x ",0," x x x "," x x x ","Dedução de Honorários Contratuais","Não","Não","Não","-","-","Não informada","Não Informada","Não","2022-12-01",289.68,445.15,2545.54,3911.77,7192.1399999999994,509.1,929.32,1438.42,0,0,0,0,0,0,0,0,0,2268.1799999999998,3485.5399999999995,5753.7199999999993,2835.22,311.87,623.74,110,1396.7999999999997,311.87,0,0,0,0,0,0,0,0,0,0,0]
[{"$f":"basePAGAS!B711","v":15400},15296,"RPV",15296,"2022/0397840-9","2022-12-13","Paga","Paga em MAI-2023 - 1ª remessa","2023-05-01","NÃO","NÃO",1,"AR 1.169/CE","1999/0096834-4","1999-10-18","2004-06-07","Administrativo - Servidor Público Civil - Sistema Remuneratório e Benefícios","Instituto Nacional do Seguro Social - INSS","Instituto Nacional do Seguro Social – INSS","Ação Rescisória 1.169/CE","2009/0055158-0","2013-04-12","Maria Das Dores Sales Nobre ","046.744.723-34","Servidor Público Civil Ativo","Anuênios","Alimentar",10,"Glayddes Sindeaux Advogados","17.291.820/0001-82",0," x x x "," x x x ",0," x x x "," x x x ",0," x x x "," x x x ","Dedução de Honorários Contratuais","Não","Não","Não","-","-","Não informada","Não Informada","Não","2022-12-01",707.74,1087.6400000000001,6219.13,9557.5500000000011,17572.060000000001,621.91,1135.29,1757.2,0,0,0,0,0,0,0,0,0,6234.19,9580.6700000000019,15814.86,{"$f":"AX714+AZ714","v":6926.87},761.95,1523.9,116,5169.67,761.95,0,0,0,0,0,0,0,0,0,0,0]
[{"$f":"basePAGAS!B715","v":15404},15300,"RPV",15300,"2022/0397871-3","2022-12-13","Paga","Paga em MAI-2023 - 1ª remessa","2023-05-01","NÃO","NÃO",1,"AR 1.169/CE","1999/0096834-4","1999-10-18","2004-06-07","Administrativo - Servidor Público Civil - Sistema Remuneratório e Benefícios","Instituto Nacional do Seguro Social - INSS","Instituto Nacional do Seguro Social – INSS","Ação Rescisória 1.169/CE","2009/0055171-0","2014-09-30","Francisco Claudio Costa Nogueira ","164.910.843-53","Servidor Público Civil Ativo","Anuênios","Alimentar",10,"Glayddes Sindeaux Advogados","17.291.820/0001-82",0," x x x "," x x x ",0," x x x "," x x x ",0," x x x "," x x x ","Dedução de Honorários Contratuais","Não","Não","Não","-","-","Não informada","Não Informada","Não","2022-12-01",155.62,187.76,1367.54,1649.9700000000003,3360.8900000000003,136.75,199.32999999999998,336.08,0,0,0,0,0,0,0,0,0,1370.85,1653.9600000000005,3024.8100000000004,1523.1599999999999,167.54,335.08,47,1187.08,167.54,0,0,0,0,0,0,0,0,0,0,0]
[{"$f":"basePAGAS!B743","v":15438},15328,"RPV",15328,"2022/0398915-0","2022-12-14","Paga","Paga em MAI-2023 - 1ª remessa","2023-05-01","NÃO","NÃO",1,"MS 6.040/DF","1998/0088415-7","1998-11-16","2003-10-01","Administrativo - Servidor Público Civil - Sistema Remuneratório e Benefícios (PRINCIPAL)","Ministério da Administração Federal e Reforma do Estado","União","Mandado de Segurança 6.040/DF","2021/0370092-4","2022-11-24","Denise Gomes Gonçalves","504.051.107-82","Servidor Público Civil Ativo","Incorporação da diferença de 3,17%","Alimentar",5,"Sonia Ananias Citele Jardim","864.928.967-34",5,"Milene Serafim de Assis Pires","080.056.547-90",0," x x x "," x x x ",0," x x x "," x x x ","Dedução de Honorários Contratuais","Não","Não","Não","-","-","Não informada","Não Informada","Não","2022-12-01",0,0,2551.31,4195.9800000000014,6747.2900000000009,127.56,209.8,337.36,127.56,209.8,337.36,0,0,0,0,0,0,2296.19,3776.3800000000015,6072.5700000000015,7201.13,792.12,1584.24,42,1876.5899999999997,792.12,0,0,0,0,0,0,0,0,0,0,0]
[{"$f":"basePAGAS!B765","v":15463},15350,"RPV",15350,"2022/0400263-4","2022-12-15","Paga","Paga em MAI-2023 - 1ª remessa","2023-05-01","NÃO","NÃO",1,"MS 6.040/DF","1998/0088415-7","1998-11-16","2003-10-01","Administrativo - Servidor Público Civil - Sistema Remuneratório e Benefícios (PRINCIPAL)","Ministério da Administração Federal e Reforma do Estado","União","Mandado de Segurança 6.040/DF","2021/0369646-5","2022-11-24","Claudia Barbosa Reis","337.882.197-34","Servidor Público Civil Ativo","Incorporação da diferença de 3,17%","Alimentar",5,"Sonia Ananias Citele Jardim","864.928.967-34",5,"Milene Serafim de Assis Pires","080.056.547-90",0," x x x "," x x x ",0," x x x "," x x x ","Dedução de Honorários Contratuais","Não","Não","Não","-","-","Não informada","Não Informada","Não","2022-12-01",0,0,4998.91,7841.25,12840.16,249.94,392.06,642,249.94,392.06,642,0,0,0,0,0,0,4499.0300000000007,7057.1299999999992,11556.16,12524.05,1377.64,2755.28,42,3714.91,1377.64,0,0,0,0,0,0,0,0,0,0,0]
[{"$f":"basePAGAS!B799","v":15501},15384,"RPV",15384,"2022/0401285-7","2022-12-15","Paga","Paga em MAI-2023 - 1ª remessa","2023-05-01","NÃO","NÃO",1,"MS 21.601/DF","2015/0033856-5","2015-02-20","2017-06-27","Administrativo - Servidor Público Civil - Sistema Remuneratório e Benefícios (PRINCIPAL)","Ministério do Planejamento, Orçamento e Gestão","UNIÃO","Mandado de Segurança 21.601/DF","2021/0100436-3","2022-11-24","Damiana Pereira de Oliveira","408.123.405-15","Pensionista Civil","Incorporação de gratificação de apoio - GCEPLAC - Lei 12.702/12","Alimentar",10,"Amanda Ale Franzosi Sociedade Individual de Advocacia","39.611.750/0001-35",5,"Miranda, Moraes e Sales Advocacia","30.933.366/0001-84",0," x x x "," x x x ",0," x x x "," x x x ","Dedução de Honorários Contratuais","Não","Não","Não","-","-","Não informada","Não Informada","Não","2022-12-01",459.86,30.06,4041,264.18999999999971,4795.1099999999997,404.1,75.409999999999968,479.51,202.05,37.699999999999989,239.75,0,0,0,0,0,0,3825.74,250.10999999999967,4075.8499999999995,4500.8599999999997,495.09,0,38,3781.5999999999995,495.09,0,0,0,0,0,0,0,0,0,0,0]
[{"$f":"basePAGAS!B816","v":15518},15401,"RPV",15401,"2022/0401763-2","2022-12-15","Paga","Paga em JUN-2023 - 1ª remessa","2023-06-01","NÃO","NÃO",1,"MS 10.424/DF","2005/0021065-5","2005-02-17","2005-10-27","Administrativo - Servidor Público Civil - Sistema Remuneratório e Benefícios - Gratificações","Ministério do Planejamento, Orçamento e Gestão","UNIÃO","Mandado de Segurança 10.424/DF","2006/0199696-0","2016-02-12","Adélia Rodrigues Da Conceição ","040.772.882-15","Servidor Público Civil Inativo","Gratificação Específica de Atividade Docente - GEAD","Alimentar",11,"Fonseca e Assis Advogados Associados","01.971.231/0001-05",0," x x x "," x x x ",0," x x x "," x x x ",0," x x x "," x x x ","Dedução de Honorários Contratuais","Não","Não","Não","-","-","Não informada","Não Informada","Não","2022-12-01",1771.55,1541.81,15567.31,13548.500000000002,32429.17,1712.4,1854.7999999999997,3567.2,0,0,0,0,0,0,0,0,0,15431.59,13430.379999999997,28861.969999999998,17338.86,1907.27,0,9,13771.66,1907.27,0,0,0,0,0,0,0,0,0,0,0]
[{"$f":"basePAGAS!B842","v":15548},15427,"RPV",15427,"2023/0042646-2","2023-02-13","Paga","Paga em JUN-2023 - 1ª remessa","2023-06-01","NÃO","NÃO",1,"MS 4.151/DF","1995/0038195-8","1995-07-21","1999-02-12","Administrativo - Servidor Público Civil - Reajustes de Remuneração, Proventos ou Pensão","Ministério da Fazenda","UNIÃO","Mandado de Segurança 4.151/DF","20160130533-0","2022-11-30","Geraldo Aparecido Mendes","023.206.579-91","Servidor Público Civil Inativo","Diferença de remuneração - 3,17%","Alimentar",6,"Mota & Advogados Associados","03.996.810/0001-38",1,"Mauro Menezes e Advogados","32.901.423/0001-79",1,"Caputo, Bastos e Serra Advogados","12.291.813/0001-67",0," x x x "," x x x ","Dedução de Honorários Contratuais","Não","Não","Não","-","-","Não informada","Não Informada","NÃO","2023-02-01",0,0,21340.87,40740.47,62081.34,1280.45,2444.4300000000003,3724.88,213.4,407.40999999999997,620.80999999999995,213.4,407.40999999999997,620.80999999999995,0,0,0,19633.619999999995,37481.220000000008,57114.840000000004,0,0,0,53,16374.369999999997,0,null,null,0,0,0,0,0,0,0,0,0]
[{"$f":"basePAGAS!B853","v":15559},15438,"RPV",15438,"2023/0042794-1","2023-02-13","Paga","Paga em JUN-2023 - 1ª remessa","2023-06-01","NÃO","NÃO",1,"MS 4.151/DF","1995/0038195-8","1995-07-21","1999-02-12","Administrativo - Servidor Público Civil - Reajustes de Remuneração, Proventos ou Pensão","Ministério da Fazenda","UNIÃO","Mandado de Segurança 4.151/DF","20160144645-9","2022-11-04","Espólio de Liliano Ravetti","132.529.928-68","Servidor Público Civil Inativo","Diferença de remuneração - 3,17%","Alimentar",4,"Mota & Advogados Associados","03.996.810/0001-38",1,"Mauro Menezes e Advogados","32.901.423/0001-79",1,"Caputo, Bastos e Serra Advogados","12.291.813/0001-67",5,"Ibaneis Advocacia e Consultoria Sociedade Simples","05.613.437/0001-14","Dedução de Honorários Contratuais","Não","Não","Não","-","-","Não informada","Não Informada","NÃO","2003-02-06",0,0,26432.240000000002,51687.759999999995,78120,1057.28,2067.5200000000004,3124.8,264.32,516.88000000000011,781.2,264.32,516.88000000000011,781.2,1321.61,2584.3900000000003,3906,23524.710000000003,46002.09,69526.8,0,0,0,53,17839.04,0,null,null,0,0,0,0,0,0,0,0,0]
[{"$f":"basePAGAS!B875","v":15588},15460,"RPV",15460,"2023/0048877-7","2023-02-17","Paga","Paga em JUN-2023 - 1ª remessa","2023-06-01","NÃO","NÃO",1,"MS 4.151/DF","1995/0038195-8","1995-07-21","1999-02-12","Administrativo - Servidor Público Civil - Reajustes de Remuneração, Proventos ou Pensão","Ministério da Fazenda","UNIÃO","Mandado de Segurança 4.151/DF","20160128338-5","2023-02-02","Edna Lucia dos Santos","244.684.446-49","Servidor Público Civil Ativo","Diferença de remuneração - 3,17%","Alimentar",6,"Mota & Advogados Associados","03.996.810/0001-38",1,"Mauro Menezes e Advogados","32.901.423/0001-79",1,"Caputo, Bastos e Serra Advogados","12.291.813/0001-67",0," x x x "," x x x ","Dedução de Honorários Contratuais","Não","Não","Não","-","-","Não informada","Não Informada","NÃO","2023-02-01",0,0,25343.42,45482.950000000012,70826.37000000001,1520.6,2728.98,4249.58,253.43,454.83,708.26,253.43,454.83,708.26,0,0,0,23315.96,41844.310000000012,65160.270000000011,29948.12,3294.29,6588.58,53,19677.32,3294.29,null,null,0,0,0,0,0,0,0,0,0]
[{"$f":"basePAGAS!B913","v":0},15498,"RPV",15498,"2023/0049725-8","2023-02-17","Paga","Paga em JUN-2023 - 2ª remessa","2023-06-01","NÃO","NÃO",2,"MS 4.151/DF","1995/0038195-8","1995-07-21","1999-02-12","Administrativo - Servidor Público Civil - Reajustes de Remuneração, Proventos ou Pensão","Ministério da Fazenda","UNIÃO","Mandado de Segurança 4.151/DF","2016/0128272-0","2023-02-02","Elisabete Regina da Silva Bege","375.419.199-34","Servidor Público Civil Ativo","Diferença de remuneração - 3,17%","Alimentar",6,"Mota & Advogados Associados","03.996.810/0001-38",1,"Mauro Menezes e Advogados","32.901.423/0001-79",1,"Caputo, Bastos e Serra Advogados","12.291.813/0001-67",0," x x x "," x x x ","Dedução de Honorários Contratuais","Não","Não","Não","-","-","Não informada","Não Informada","NÃO","2023-02-01",0,0,22129.98,42358.399999999994,64488.38,1327.79,2541.5100000000002,3869.3,221.29,423.59000000000003,644.88,221.29,423.59000000000003,644.88,0,0,0,20359.609999999997,38969.710000000006,59329.32,30205.1,3322.56,6645.12,53,16970.919999999998,3322.56,null,null,0,0,0,0,0,0,0,0,0]
[{"$f":"basePAGAS!B930","v":0},15515,"RPV",15515,"2023/0055100-5","2023-02-24","Paga","Paga em JUN-2023 - 2ª remessa","2023-06-01","NÃO","NÃO",2,"MS 22.854/DF","2016/0250884-0","2016-09-15","2015-06-02","Administrativo - Militar - Regime - Anistia Política","-","UNIÃO","Mandado de Segurança 22.854/DF","2017/0107638-3","2022-12-07","Bárbara Costa Pessoa Gomes Tardin","055.754.507-24","-","Honorários de sucumbência","Alimentar",0,"x x x","x x x",0," x x x "," x x x ",0," x x x "," x x x ",0," x x x "," x x x ","x.x.x","Não","Não","Não","-","-","Não informada","Não Informada","NÃO","2023-02-01",0,316.08,2320.7199999999998,{"$f":"IF(BB933=\"\",\"\",BB933-AX933-AY933-AZ933)","v":0},2636.7999999999997,0,0,0,0,0,0,0,0,0,0,0,0,2320.7199999999998,316.07999999999993,2636.7999999999997,0,0,0,0,0,0,null,null,0,0,0,0,0,0,0,0,0]
[{"$f":"basePAGAS!B952","v":0},15537,"RPV",15537,"2023/0057613-7","2023-02-27","Aguardando pagamento","sem verba para pgto",null,null,null,null,"AR 1.169/CE","1999/0096834-4","1999-10-18","2004-06-07","Administrativo - Servidor Público Civil - Sistema Remuneratório e Benefícios","Instituto Nacional do Seguro Social - INSS","Instituto Nacional do Seguro Social – INSS","Ação Rescisória 1.169/CE","2009/0055120-3","2014-09-30","Lucia Fatima Ferreira Da Silva ","070.689.723-49","Servidor Público Civil Ativo","Anuênios","Alimentar",10,"Glayddes Sindeaux Advogados","17.291.820/0001-82",0," x x x "," x x x ",0," x x x "," x x x ",0," x x x "," x x x ","Dedução de Honorários Contratuais","Não","Não","Não","-","-","Não informada","Não Informada","NÃO","2023-02-01",129.9,183.67,953.81,1348.6,2615.98,108.37,153.21999999999997,261.58999999999997,0,0,0,0,0,0,0,0,0,975.34,1379.0499999999997,2354.39,1083.71,119.2,238.4,47,822.12000000000012,119.2,null,null,2615.98,1,1,2615.98,0,0,0,0,0]
[{"$f":"basePAGAS!B974","v":0},15559,"RPV",15559,"2023/0057819-4","2023-02-27","Paga","Paga em JUN-2023 - 2ª remessa","2023-06-01","NÃO","NÃO",2,"AR 1.169/CE","1999/0096834-4","1999-10-18","2004-06-07","Administrativo - Servidor Público Civil - Sistema Remuneratório e Benefícios","Instituto Nacional do Seguro Social - INSS","Instituto Nacional do Seguro Social – INSS","Ação Rescisória 1.169/CE","2009/0055261-7","2014-09-30","Margarida Maria De Andrade Furtado ","081.849.923-00","Servidor Público Civil Ativo","Anuênios","Alimentar",10,"Glayddes Sindeaux Advogados","17.291.820/0001-82",0," x x x "," x x x ",0," x x x "," x x x ",0," x x x "," x x x ","Dedução de Honorários Contratuais","Não","Não","Não","-","-","Não informada","Não Informada","NÃO","2023-02-01",558.95000000000005,770.76,4103.95,5659.0900000000011,11092.750000000002,466.29,642.98,1109.27,0,0,0,0,0,0,0,0,0,4196.6099999999997,5786.8700000000017,9983.4800000000014,4662.8999999999996,512.91,1025.82,47,3553.6299999999997,512.91,null,null,0,0,0,0,0,0,0,0,0]
[{"$f":"basePAGAS!B1007","v":0},15592,"RPV",15592,"2023/0059640-9","2023-02-28","Paga","Paga em JUN-2023 - 2ª remessa","2023-06-01","NÃO","NÃO",2,"MS 20.231/DF","2013/0180077-1","2013-06-06","2017-04-29","Administrativo - Servidor Público Civil - Sistema Remuneratório e Benefícios (PRINCIPAL)","Ministério do Planejamento, Orçamento e Gestão","UNIÃO","Mandado de Segurança 20.231/DF","2021/0075811-0","2023-02-09","Geraldo Gonçalves dos Santos","104.481.875-15","Servidor Público Civil Inativo","Gratificação de Apoio à Execução de Atividades da Comissão Executiva do Plano da Lavoura Cacaueira - GECEPLAC","Alimentar",10,"Mota & Advogados Associados","03.996.810/0001-38",0," x x x "," x x x ",0," x x x "," x x x ",0," x x x "," x x x ","Dedução de Honorários Contratuais","Não","Não","Não","-","-","Não informada","Não Informada","NÃO","2023-02-01",3565.7,1001.67,26179.89,7354.4700000000012,38101.729999999996,2974.55,835.61999999999989,3810.17,0,0,0,0,0,0,0,0,0,26771.040000000001,7520.5199999999968,34291.56,29745.59,3272.01,0,60,25935.42,3272.01,null,null,0,0,0,0,0,0,0,0,0]
[{"$f":"basePAGAS!B1029","v":0},15614,"RPV",15614,"2023/0061455-0","2023-03-01","Aguardando pagamento","sem verba para pgto",null,null,null,null,"MS 20.231/DF","2013/0180077-1","2013-06-06","2017-04-29","Administrativo - Servidor Público Civil - Sistema Remuneratório e Benefícios (PRINCIPAL)","Ministério do Planejamento, Orçamento e Gestão","UNIÃO","Mandado de Segurança 20.231/DF","2021/0075816-0","2023-02-09","Jandira Rique Costa Frota","007.816.222-04","Servidor Público Civil Inativo","Gratificação de Apoio à Execução de Atividades da Comissão Executiva do Plano da Lavoura Cacaueira - GECEPLAC","Alimentar",10,"Mota & Advogados Associados","03.996.810/0001-38",0," x x x "," x x x ",0," x x x "," x x x ",0," x x x "," x x x ","Dedução de Honorários Contratuais","Não","Não","Não","-","-","Não informada","Não Informada","NÃO","2023-02-01",4847.66,1557.82,35592.25,11437.810000000005,53435.54,4043.99,1299.5600000000004,5343.55,0,0,0,0,0,0,0,0,0,36395.920000000006,11696.069999999992,48091.99,40439.910000000003,4448.3900000000003,0,54,35096.36,4448.3900000000003,null,null,53435.54,1,1,53435.54,0,0,0,0,0]
[{"$f":"basePAGAS!B1040","v":0},15625,"RPV",15625,"2023/0061502-9","2023-03-01","Aguardando pagamento","sem verba para pgto",null,null,null,null,"MS 20.231/DF","2013/0180077-1","2013-06-06","2017-04-29","Administrativo - Servidor Público Civil - Sistema Remuneratório e Benefícios (PRINCIPAL)","Ministério do Planejamento, Orçamento e Gestão","UNIÃO","Mandado de Segurança 20.231/DF","2021/0075816-0","2023-02-09","João Osmar do Amaral","062.727.115-49","Servidor Público Civil Inativo","Gratificação de Apoio à Execução de Atividades da Comissão Executiva do Plano da Lavoura Cacaueira - GECEPLAC","Alimentar",10,"Mota & Advogados Associados","03.996.810/0001-38",0," x x x "," x x x ",0," x x x "," x x x ",0," x x x "," x x x ","Dedução de Honorários Contratuais","Não","Não","Não","-","-","Não informada","Não Informada","NÃO","2023-02-01",4847.66,1557.82,35592.25,11437.810000000005,53435.54,4043.99,1299.5600000000004,5343.55,0,0,0,0,0,0,0,0,0,36395.920000000006,11696.069999999992,48091.99,40439.910000000003,4448.3900000000003,0,54,35096.36,4448.3900000000003,null,null,53435.54,1,1,53435.54,0,0,{"$f":"IF(AND(MONTH(F1043)=MONTH($CH$8),YEAR(F1043)=YEAR($CH$8)),CF1042+1,0)","v":0},{"$f":"IF(CF1043=0,0,D1043)","v":0},{"$f":"IF(AND(CF1043>0,CF1044=0),CF1043,0)","v":0}]
[{"$f":"basePAGAS!B1071","v":0},15656,"RPV",15656,"2023/0064993-3","2023-03-03","Aguardando pagamento","sem verba para pgto",null,null,null,null,"MS 22.218/DF","2015/0290587-2","2015-11-06","2017-05-01","Administrativo - Militar - Regime - Anistia Política","-","UNIÃO","Mandado de Segurança 22.218/DF","2017/0242250-2","2023-02-27","Paulo Roberto Manes","017.428.738-04","-","Honorários de sucumbência","Alimentar",0,"x x x","x x x",0," x x x "," x x x ",0," x x x "," x x x ",0," x x x "," x x x ","x.x.x","Não","Não","Não","-","-","Não informada","Não Informada","NÃO","2023-03-01",0,0,26184.12,0,26184.12,0,0,0,0,0,0,0,0,0,0,0,0,26184.12,0,26184.12,0,0,0,"-",0,0,null,null,26184.12,1,1,26184.12,0,0,0,0,0]
[{"$f":"basePAGAS!B1095","v":0},15680,"RPV",15680,"2023/0068590-4","2023-03-06","Aguardando pagamento","sem verba para pgto",null,null,null,null,"MS 10.438/DF","2005/0023175-9","2005-02-22","2007-09-13","Administrativo - Militar - Pensão","Ministério da Fazenda","UNIÃO","Mandado de Segurança 10.438/DF","2022/0134703-1","2023-02-23","Júlio César Veloso","051.083.628-38","Servidor Público Militar Inativo","Soldo previsto na Lei Estadual 1.063/2002","Alimentar",20.5,"Leon e Advogados Associados","17.858.268/0001-61",10.5,"Silveira Cruz Advogados","07.419.539/0001-29",0," x x x "," x x x ",0," x x x "," x x x ","Dedução de Honorários Contratuais","Não","Não","Não","-","-","Não informada","Não Informada","NÃO","2023-03-01",6521.6,1800.56,44852.86,12383.55000000001,65558.570000000007,10531.76,2907.74,13439.5,5394.31,1489.33,6883.64,0,0,0,0,0,0,35448.39,9787.0400000000081,45235.430000000008,0,0,0,19,31051.32,0,null,null,65558.570000000007,1,1,65558.570000000007,0,0,0,0,0]
[{"$f":"basePAGAS!B1117","v":0},15702,"RPV",15702,"2023/0070780-8","2023-03-07","Aguardando pagamento","sem verba para pgto",null,null,null,null,"MS 20.231/DF","2013/0180077-1","2013-06-06","2017-04-29","Administrativo - Servidor Público Civil - Sistema Remuneratório e Benefícios (PRINCIPAL)","Ministério do Planejamento, Orçamento e Gestão","UNIÃO","Mandado de Segurança 20.231/DF","2021/0077020-9","2023-02-10","Dionice Batista dos Santos","108.240.495-00","Pensionista Civil","Gratificação de Apoio à Execução de Atividades da Comissão Executiva do Plano da Lavoura Cacaueira - GECEPLAC","Alimentar",10,"Mota & Advogados Associados","03.996.810/0001-38",0," x x x "," x x x ",0," x x x "," x x x ",0," x x x "," x x x ","Dedução de Honorários Contratuais","Não","Não","Não","-","-","Não informada","Não Informada","NÃO","2023-03-01",0,192.06,0,1320.92,1512.98,0,151.29,151.29,0,0,0,0,0,0,0,0,0,0,1361.69,1361.69,0,0,0,"-",0,0,null,null,1512.98,1,1,1512.98,0,0,0,0,0]
[{"$f":"basePAGAS!B1139","v":0},15724,"RPV",15724,"2023/0071813-2","2023-03-08","Aguardando pagamento","sem verba para pgto",null,null,null,null,"MS 20.231/DF","2013/0180077-1","2013-06-06","2017-04-29","Administrativo - Servidor Público Civil - Sistema Remuneratório e Benefícios (PRINCIPAL)","Ministério do Planejamento, Orçamento e Gestão","UNIÃO","Mandado de Segurança 20.231/DF","2021/0075808-2","2023-02-09","Benevaldo Machado dos Reis","084.781.715-68","Servidor Público Civil Inativo","Gratificação de Apoio à Execução de Atividades da Comissão Executiva do Plano da Lavoura Cacaueira - GECEPLAC","Alimentar",10,"Mota & Advogados Associados","03.996.810/0001-38",0," x x x "," x x x ",0," x x x "," x x x ",0," x x x "," x x x ","Dedução de Honorários Contratuais","Não","Não","Não","-","-","Não informada","Não Informada","NÃO","2023-03-01",6050.51,1966.62,41612.910000000003,13525.589999999997,63155.630000000005,4766.34,1549.2200000000003,6315.56,0,0,0,0,0,0,0,0,0,42897.08,13942.990000000005,56840.070000000007,47663.420000000006,5242.97,0,60,41347.860000000008,5242.97,null,null,63155.630000000005,1,1,63155.630000000005,0,0,0,0,0]
[{"$f":"basePAGAS!B1150","v":0},15735,"RPV",15735,"2023/0071908-9","2023-03-08","Aguardando pagamento","sem verba para pgto",null,null,null,null,"MS 16.664/DF","2011/0088653-7","2011-04-27","2018-06-07","Administrativo - Garantias Constitucionais - Anistia Política","-","União","Mandado de Segurança 16.664/DF","2018/0280981-9","2023-02-22","Torreão, Machado & Linhares Dias Advocacia ","08.955.980/0001-98","-","Honorários de sucumbência","Alimentar",0,"x x x","x x x",0," x x x "," x x x ",0," x x x "," x x x ",0," x x x "," x x x ","x.x.x","Não","Não","Não","-","-","Não informada","Não Informada","NÃO","2023-03-01",8927.07,0,61396.68,0,70323.75,0,0,0,0,0,0,0,0,0,0,0,0,70323.75,0,70323.75,0,0,0,"-",0,0,null,null,70323.75,1,1,70323.75,0,0,0,0,0]
[{"$f":"basePAGAS!B1171","v":0},15756,"RPV",15756,"2023/0072953-1","2023-03-09","Aguardando pagamento","sem verba para pgto",null,null,null,null,"MS 10.438/DF","2005/0023175-9","2005-02-22","2007-09-13","Administrativo - Militar - Pensão","Ministério da Fazenda","UNIÃO","Mandado de Segurança 10.438/DF","2022/0125004-7","2023-02-23","José Venâncio de Medeiros","045.440.238-40","Servidor Público Militar Inativo","Soldo previsto na Lei Estadual 1.063/2002","Alimentar",20.5,"Leon e Advogados Associados","17.858.268/0001-61",10.5,"Silveira Cruz Advogados","07.419.539/0001-29",0," x x x "," x x x ",0," x x x "," x x x ","Dedução de Honorários Contratuais","Não","Não","Não","-","-","Não informada","Não Informada","NÃO","2023-03-01",7360.95,2023.13,50625.55,13914.270000000011,73923.900000000009,11887.23,3267.16,15154.39,6088.58,1673.42,7762,0,0,0,0,0,0,40010.69,10996.820000000007,51007.510000000009,0,0,0,18,35070.11,0,null,null,73923.900000000009,1,1,73923.900000000009,0,0,0,0,0]
[{"$f":"basePAGAS!B1193","v":0},15778,"RPV",15778,"2023/0073603-0","2023-03-09","Aguardando pagamento","sem verba para pgto",null,null,null,null,"MS 10.438/DF","2005/0023175-9","2005-02-22","2007-09-13","Administrativo - Militar - Pensão","Ministério da Fazenda","UNIÃO","Mandado de Segurança 10.438/DF","2022/0134360-9","2023-02-23","Francisco Ferreira Lima","152.012.952-15","Servidor Público Militar Inativo","Soldo previsto na Lei Estadual 1.063/2002","Alimentar",20.5,"Leon e Advogados Associados","17.858.268/0001-61",10.5,"Silveira Cruz Advogados","07.419.539/0001-29",0," x x x "," x x x ",0," x x x "," x x x ","Dedução de Honorários Contratuais","Não","Não","Não","-","-","Não informada","Não Informada","NÃO","2023-03-01",6521.51,1800.54,44852.26,12383.370000000003,65557.680000000008,10531.62,2907.6999999999989,13439.32,5394.24,1489.3100000000004,6883.55,0,0,0,0,0,0,35447.910000000003,9786.9000000000015,45234.810000000005,0,0,0,19,31050.900000000005,0,null,null,65557.680000000008,1,1,65557.680000000008,0,0,0,0,0]
[{"$f":"basePAGAS!B1227","v":0},15812,"RPV",15812,"2023/0075014-8","2023-03-10","Aguardando pagamento","sem verba para pgto",null,null,null,null,"MS 20.231/DF","2013/0180077-1","2013-06-06","2017-04-29","Administrativo - Servidor Público Civil - Sistema Remuneratório e Benefícios (PRINCIPAL)","Ministério do Planejamento, Orçamento e Gestão","UNIÃO","Mandado de Segurança 20.231/DF","2021/0075891-8","2023-02-10","Manoelito Costa","002.814.415-53","Servidor Público Civil Inativo","Gratificação de Apoio à Execução de Atividades da Comissão Executiva do Plano da Lavoura Cacaueira - GECEPLAC","Alimentar",10,"Mota & Advogados Associados","03.996.810/0001-38",0," x x x "," x x x ",0," x x x "," x x x ",0," x x x "," x x x ","Dedução de Honorários Contratuais","Não","Não","Não","-","-","Não informada","Não Informada","NÃO","2023-03-01",7233.1,2477.46,49746.28,17038.97,76495.810000000012,5697.93,1951.6499999999996,7649.58,0,0,0,0,0,0,0,0,0,51281.45,17564.780000000013,68846.23000000001,56979.38,6267.73,0,65,49329.799999999996,6267.73,null,null,76495.810000000012,1,1,76495.810000000012,0,0,0,0,0]
[{"$f":"basePAGAS!B1247","v":0},15832,"RPV",15832,"2023/0075737-2","2023-03-10","Aguardando pagamento","sem verba para pgto",null,null,null,null,"MS 20.231/DF","2013/0180077-1","2013-06-06","2017-04-29","Administrativo - Servidor Público Civil - Sistema Remuneratório e Benefícios (PRINCIPAL)","Ministério do Planejamento, Orçamento e Gestão","UNIÃO","Mandado de Segurança 20.231/DF","2021/0077006-8","2023-02-13","Valdinea Rodrigues Monteiro","155.894.715-91","Servidor Público Civil Inativo","Gratificação de Apoio à Execução de Atividades da Comissão Executiva do Plano da Lavoura Cacaueira - GECEPLAC","Alimentar",10,"Mota & Advogados Associados","03.996.810/0001-38",0," x x x "," x x x ",0," x x x "," x x x ",0," x x x "," x x x ","Dedução de Honorários Contratuais","Não","Não","Não","-","-","Não informada","Não Informada","NÃO","2023-03-01",3939.35,1139.9000000000001,27093.19,7839.7600000000057,40012.200000000004,3103.25,897.9699999999998,4001.22,0,0,0,0,0,0,0,0,0,27929.289999999997,8081.690000000006,36010.980000000003,31032.53,3413.57,0,63,27031.319999999996,3413.57,null,null,40012.200000000004,1,1,40012.200000000004,0,0,0,0,0]
[{"$f":"basePAGAS!B1259","v":0},15844,"RPV",15844,"2023/0075864-8","2023-03-10","Aguardando pagamento","sem verba para pgto",null,null,null,null,"MS 20.231/DF","2013/0180077-1","2013-06-06","2017-04-29","Administrativo - Servidor Público Civil - Sistema Remuneratório e Benefícios (PRINCIPAL)","Ministério do Planejamento, Orçamento e Gestão","UNIÃO","Mandado de Segurança 20.231/DF","2021/0075952-4","2023-02-22","Pedro Rodrigues de Souza Filho","035.009.775-53","Servidor Público Civil Inativo","Gratificação de Apoio à Execução de Atividades da Comissão Executiva do Plano da Lavoura Cacaueira - GECEPLAC","Alimentar",10,"Mota & Advogados Associados","03.996.810/0001-38",0," x x x "," x x x ",0," x x x "," x x x ",0," x x x "," x x x ","Dedução de Honorários Contratuais","Não","Não","Não","-","-","Não informada","Não Informada","NÃO","2023-03-01",6262.32,1875.4,43069.64,12898.25,64105.61,4933.1899999999996,1477.3700000000008,6410.56,0,0,0,0,0,0,0,0,0,44398.77,13296.280000000006,57695.05,49331.96,5426.51,0,63,42921.4,5426.51,null,null,64105.61,1,1,64105.61,0,0,0,0,0]
[{"$f":"basePAGAS!B1304","v":0},15889,"RPV",15889,"2023/0078656-6","2023-03-13","Aguardando pagamento","sem verba para pgto",null,null,null,null,"MS 10.438/DF","2005/0023175-9","2005-02-22","2007-09-13","Administrativo - Militar - Pensão","Ministério da Fazenda","UNIÃO","Mandado de Segurança 10.438/DF","2022/0207182-6","2023-02-23","João Gabriel Gomes de Oliveira","050.260.468-94","Servidor Público Militar Inativo","Soldo previsto na Lei Estadual 1.063/2002","Alimentar",20.5,"Leon e Advogados Associados","17.858.268/0001-61",10.5,"Silveira Cruz Advogados","07.419.539/0001-29",0," x x x "," x x x ",0," x x x "," x x x ","Dedução de Honorários Contratuais","Não","Não","Não","-","-","Não informada","Não Informada","NÃO","2023-03-01",5742.5,1581.06,39494.51,10873.879999999997,57691.95,9273.58,2553.2600000000002,11826.84,4749.88,1307.7699999999995,6057.65,0,0,0,0,0,0,31213.55,8593.91,39807.46,0,0,0,18,27352.519999999997,0,null,null,57691.95,1,1,57691.95,0,0,0,0,0]
[{"$f":"basePAGAS!B1326","v":0},15911,"RPV",15911,"2023/0081823-0","2023-03-14","Aguardando pagamento","sem verba para pgto",null,null,null,null,"MS 20.231/DF","2013/0180077-1","2013-06-06","2017-04-29","Administrativo - Servidor Público Civil - Sistema Remuneratório e Benefícios (PRINCIPAL)","Ministério do Planejamento, Orçamento e Gestão","UNIÃO","Mandado de Segurança 20.231/DF","2021/0283450-2","2023-02-27","Ednolia dos Reis Passos","108.363.492-53","Servidor Público Civil Inativo","Gratificação de Apoio à Execução de Atividades da Comissão Executiva do Plano da Lavoura Cacaueira - GECEPLAC","Alimentar",10,"Mota & Advogados Associados","03.996.810/0001-38",0," x x x "," x x x ",0," x x x "," x x x ",0," x x x "," x x x ","Dedução de Honorários Contratuais","Não","Não","Não","-","-","Não informada","Não Informada","NÃO","2023-03-01",6822.99,1688.93,46925.71,11615.759999999987,67053.389999999985,5374.87,1330.46,6705.33,0,0,0,0,0,0,0,0,0,48373.829999999994,11974.229999999989,60348.059999999983,53748.7,5912.35,0,59,47043.369999999995,5912.35,null,null,67053.389999999985,1,1,67053.389999999985,0,0,0,0,0]
[{"$f":"basePAGAS!B1348","v":0},15933,"RPV",15933,"2023/0083266-4","2023-03-15","Aguardando pagamento","sem verba para pgto",null,null,null,null,"MS 20.231/DF","2013/0180077-1","2013-06-06","2017-04-29","Administrativo - Servidor Público Civil - Sistema Remuneratório e Benefícios (PRINCIPAL)","Ministério do Planejamento, Orçamento e Gestão","UNIÃO","Mandado de Segurança 20.231/DF","2021/0075896-7","2022-12-16","Odete Garcia Crispim de Carvalho","372.857.775-87","Servidor Público Civil Inativo","Gratificação de Apoio à Execução de Atividades da Comissão Executiva do Plano da Lavoura Cacaueira - GECEPLAC","Alimentar",10,"Mota & Advogados Associados","03.996.810/0001-38",0," x x x "," x x x ",0," x x x "," x x x ",0," x x x "," x x x ","Dedução de Honorários Contratuais","Não","Não","Não","-","-","Não informada","Não Informada","NÃO","2023-03-01",7005.65,1955.9,48181.96,13451.859999999979,70595.369999999981,5518.76,1540.7699999999995,7059.53,0,0,0,0,0,0,0,0,0,49668.85,13866.989999999983,63535.839999999982,55187.61,6070.63,0,59,48128.08,6070.63,null,null,70595.369999999981,1,1,70595.369999999981,0,0,0,0,0]
[{"$f":"basePAGAS!B1358","v":0},15943,"RPV",15943,"2023/0083317-0","2023-03-15","Aguardando pagamento","sem verba para pgto",null,null,null,null,"MS 20.231/DF","2013/0180077-1","2013-06-06","2017-04-29","Administrativo - Servidor Público Civil - Sistema Remuneratório e Benefícios (PRINCIPAL)","Ministério do Planejamento, Orçamento e Gestão","UNIÃO","Mandado de Segurança 20.231/DF","2021/0075884-2","2022-12-16","Ladislau Carvalho Filho","054.551.205-06","Servidor Público Civil Inativo","Gratificação de Apoio à Execução de Atividades da Comissão Executiva do Plano da Lavoura Cacaueira - GECEPLAC","Alimentar",10,"Mota & Advogados Associados","03.996.810/0001-38",0," x x x "," x x x ",0," x x x "," x x x ",0," x x x "," x x x ","Dedução de Honorários Contratuais","Não","Não","Não","-","-","Não informada","Não Informada","NÃO","2023-03-01",3029.64,870.78,20836.63,5988.8999999999978,30725.949999999997,2386.62,685.97000000000025,3072.59,0,0,0,0,0,0,0,0,0,21479.65,6173.7099999999955,27653.359999999997,23866.27,2625.28,0,63,20793.68,2625.28,null,null,30725.949999999997,1,1,30725.949999999997,0,0,0,0,0]
[{"$f":"basePAGAS!B1392","v":0},15977,"RPV",15977,"2023/0092796-7","2023-03-22","Aguardando pagamento","sem verba para pgto",null,null,null,null,"MS 3.099/DF","1993/0025151-1","1993-09-15","2000-06-07","Administrativo - Servidor Público Civil - Reajustes de Remuneração, Proventos ou Pensão - Índice de 28,86% Lei 8.622/1993 e 8.627/1993","Ministério da Saúde","UNIÃO","Mandado de Segurança 3.099/DF","2014/0108223-7","2019-11-25","Gerson Joaquim Dos Santos","123.281.541-15","Servidor Público Civil Ativo","Índice de 28,86% Lei 8.622/1993 e 8.627/1993","Alimentar",10,"Machado & Machado Advogados Associados","12.709.672/0001-50",0," x x x "," x x x ",0," x x x "," x x x ",0," x x x "," x x x ","Dedução de Honorários Contratuais","Não","Não","Não","-","-","Não informada","Não Informada","NÃO","2023-03-01",3061.54,5408.35,21056.05,37196.36,66722.3,2411.75,4260.4799999999996,6672.23,0,0,0,0,0,0,0,0,0,21705.84,38344.230000000003,60050.07,24117.59,2652.93,5305.86,63,17445.36,2652.93,null,null,66722.3,1,1,66722.3,0,0,0,0,0]
[{"$f":"basePAGAS!B1405","v":0},15990,"RPV",15990,"2023/0093072-8","2023-03-22","Aguardando pagamento","sem verba para pgto",null,null,null,null,"MS 10.438/DF","2005/0023175-9","2005-02-22","2007-09-13","Administrativo - Militar - Pensão","Ministério da Fazenda","UNIÃO","Mandado de Segurança 10.438/DF","2022/0125082-0","2023-02-17","Paulo de Souza Mendes","834.397.147-72","Servidor Público Militar Inativo","Soldo previsto na Lei Estadual 1.063/2002","Alimentar",20.5,"Leon e Advogados Associados","17.858.268/0001-61",10.5,"Silveira Cruz Advogados","07.419.539/0001-29",0," x x x "," x x x ",0," x x x "," x x x ","Dedução de Honorários Contratuais","Não","Não","Não","-","-","Não informada","Não Informada","NÃO","2023-03-01",7439.16,2052.09,51163.47,14113.470000000001,74768.19,12013.53,3313.94,15327.47,6153.27,1697.38,7850.65,0,0,0,0,0,0,40435.83,11154.24,51590.07,0,0,0,19,35424.51,0,null,null,74768.19,1,1,74768.19,0,0,0,0,0]
[{"$f":"basePAGAS!B1435","v":0},16020,"RPV",16020,"2023/0093272-4","2023-03-22","Aguardando pagamento","sem verba para pgto",null,null,null,null,"MS 4.151/DF","1995/0038195-8","1995-07-21","1999-02-12","Administrativo - Servidor Público Civil - Reajustes de Remuneração, Proventos ou Pensão","Ministério da Fazenda","UNIÃO","Mandado de Segurança 4.151/DF","20160127268-2","2022-12-02","Adriana Goncalves Alkmim Rocha","810.877.487-04","Servidor Público Civil Ativo","Diferença de remuneração - 3,17%","Alimentar",6,"Mota & Advogados Associados","03.996.810/0001-38",1,"Mauro Menezes e Advogados","32.901.423/0001-79",1,"Caputo, Bastos e Serra Advogados","12.291.813/0001-67",0," x x x "," x x x ","Dedução de Honorários Contratuais","Não","Não","Não","-","-","Não informada","Não Informada","NÃO","2023-03-01",0,0,25084.61,45184.520000000004,70269.13,1505.07,2711.07,4216.1400000000003,250.84,451.85,702.69,250.84,451.85,702.69,0,0,0,23077.86,41569.75,64647.61,29724.81,3269.72,6539.44,53,19463.09,3269.72,null,null,70269.13,1,1,70269.13,0,0,0,0,0]
[{"$f":"basePAGAS!B1446","v":0},16031,"RPV",16031,"2023/0093610-8","2023-03-22","Aguardando pagamento","sem verba para pgto",null,null,null,null,"MS 4.151/DF","1995/0038195-8","1995-07-21","1999-02-12","Administrativo - Servidor Público Civil - Reajustes de Remuneração, Proventos ou Pensão","Ministério da Fazenda","UNIÃO","Mandado de Segurança 4.151/DF","2016/0153084-0","2022-08-03","Luzia Bernadete Lucas de Faria Videira","748.291.498-68","Servidor Público Civil Ativo","Diferença de remuneração - 3,17%","Alimentar",6,"Mota & Advogados Associados","03.996.810/0001-38",1,"Mauro Menezes e Advogados","32.901.423/0001-79",1,"Caputo, Bastos e Serra Advogados","12.291.813/0001-67",0," x x x "," x x x ","Dedução de Honorários Contratuais","Não","Não","Não","-","-","Não informada","Não Informada","NÃO","2023-03-01",0,0,21675.35,43158.69,64834.04,1300.52,2589.52,3890.04,216.75,431.59,648.34,216.75,431.59,648.34,0,0,0,19941.330000000002,39705.99,59647.32,31648.97,3481.38,6962.76,53,16488.63,3481.38,null,null,64834.04,1,1,64834.04,0,0,0,0,0]
[{"$f":"basePAGAS!B1468","v":0},16053,"RPV",16053,"2023/0093890-1","2023-03-22","Aguardando pagamento","sem verba para pgto",null,null,null,null,"MS 19.431/DF","2012/0241656-0","2012-11-09","2020-09-18","Administrativo - Garantias Constitucionais - Anistia Política","Ministério do Planejamento, Orçamento e Gestão","UNIÃO","Mandado de Segurança 19.431/DF","2021/0112839-2","2022-11-23","Aliquix Parandiuc","094.504.918-87","Herdeiro de Anistiado Político Civil","Anistia Política - Reparação Econômica","Comum",10,"W. Quinteiro Advogados Associados","30.140.189/0001-89",0," x x x "," x x x ",0," x x x "," x x x ",0," x x x "," x x x ","Dedução de Honorários Contratuais","Não","Não","Não","-","-","Não informada","Não Informada","SIM","2023-03-01",4844.05,0,33315.32,18321.43,56480.800000000003,3815.93,1832.15,5648.08,0,0,0,0,0,0,0,0,0,34343.440000000002,16489.28,50832.72,0,0,0,0,0,0,null,null,56480.800000000003,1,0,0,1,56480.800000000003,0,0,0]
[{"$f":"basePAGAS!B1502","v":0},16087,"RPV",16087,"2023/0094978-0","2023-03-23","Aguardando pagamento","sem verba para pgto",null,null,null,null,"MS 10.438/DF","2005/0023175-9","2005-02-22","2007-09-13","Administrativo - Militar - Pensão","Ministério da Fazenda","UNIÃO","Mandado de Segurança 10.438/DF","2022/0204148-1","2022-11-28","Eronides Rodrigues dos Santos","025.705.228-30","Servidor Público Militar Inativo","Soldo previsto na Lei Estadual 1.063/2002","Alimentar",20.5,"Leon e Advogados Associados","17.858.268/0001-61",10.5,"Silveira Cruz Advogados","07.419.539/0001-29",0," x x x "," x x x ",0," x x x "," x x x ","Dedução de Honorários Contratuais","Não","Não","Não","-","-","Não informada","Não Informada","NÃO","2023-03-01",6171.93,1720.27,44821.599999999999,12492.940000000002,65206.74,10453.67,2913.7099999999991,13367.38,5354.32,1492.38,6846.7,0,0,0,0,0,0,35185.54,9807.1200000000026,44992.66,0,0,0,19,30779.45,0,null,null,65206.74,1,1,65206.74,0,0,0,0,0]
[{"$f":"basePAGAS!B1523","v":0},16108,"RPV",16108,"2023/0095056-8","2023-03-23","Aguardando pagamento","sem verba para pgto",null,null,null,null,"MS 10.438/DF","2005/0023175-9","2005-02-22","2007-09-13","Administrativo - Militar - Pensão","Ministério da Fazenda","UNIÃO","Mandado de Segurança 10.438/DF","2022/0134702-0","2023-02-23","Jocely Correa de Souza","096.450.472-34","Servidor Público Militar Inativo","Soldo previsto na Lei Estadual 1.063/2002","Alimentar",20.5,"Leon e Advogados Associados","17.858.268/0001-61",10.5,"Silveira Cruz Advogados","07.419.539/0001-29",0," x x x "," x x x ",0," x x x "," x x x ","Dedução de Honorários Contratuais","Não","Não","Não","-","-","Não informada","Não Informada","NÃO","2023-03-01",6328.18,1747.2,43522.62,12016.519999999997,63614.52,10219.41,2821.5599999999995,13040.97,5234.33,1445.1900000000005,6679.52,0,0,0,0,0,0,34397.06,9496.9700000000012,43894.03,0,0,0,19,30130.31,0,null,null,63614.52,1,1,63614.52,0,0,0,0,0]
[{"$f":"basePAGAS!B1545","v":0},16130,"RPV",16130,"2023/0095282-0","2023-03-23","Aguardando pagamento","sem verba para pgto",null,null,null,null,"MS 6.864/DF","2000/0024867-3","2000-04-05","2006-05-03","Administrativo - Servidor Público Civil - Sistema Remuneratório e Benefícios","-","Instituto Nacional do Seguro Social – INSS","Mandado de Segurança 6.864/DF","2007/0155539-1","2015-03-24","Associação Nacional dos Auditores Fiscais da Receita Federal do Brasil","03.636.693/0001-00","-","Multa 1% (art. 538,parágrafo único, do CPC)","Comum",0,"x x x","x x x",0," x x x "," x x x ",0," x x x "," x x x ",0," x x x "," x x x ","Dedução de Honorários Contratuais","Não","Não","Não","-","-","Não informada","Não Informada","NÃO","2023-03-01",332.22,0,2284.91,0,2617.13,0,0,0,0,0,0,0,0,0,0,0,0,2617.13,0,2617.13,0,0,0,0,0,0,null,null,2617.13,1,0,0,1,2617.13,0,0,0]
[{"$f":"basePAGAS!B1556","v":0},16141,"RPV",16141,"2023/0095403-0","2023-03-23","Aguardando pagamento","sem verba para pgto",null,null,null,null,"MS 3.099/DF","1993/0025151-1","1993-09-15","2000-06-07","Administrativo - Servidor Público Civil - Reajustes de Remuneração, Proventos ou Pensão - Índice de 28,86% Lei 8.622/1993 e 8.627/1993","Ministério da Saúde","UNIÃO","Mandado de Segurança 3.099/DF","2014/0108198-4","2019-11-25","Maria Aparecida De Sousa Barbosa","530.606.951-72","Servidor Público Civil Ativo","Índice de 28,86% Lei 8.622/1993 e 8.627/1993","Alimentar",10,"Machado & Machado Advogados Associados","12.709.672/0001-50",0," x x x "," x x x ",0," x x x "," x x x ",0," x x x "," x x x ","Dedução de Honorários Contratuais","Não","Não","Não","-","-","Não informada","Não Informada","NÃO","2023-03-01",2935.83,5193.3500000000004,20191.43,35717.74,64038.35,2312.7199999999998,4091.11,6403.83,0,0,0,0,0,0,0,0,0,20814.54,36819.979999999996,57634.52,23127.260000000002,2543.9899999999998,5087.9799999999996,63,16723.43,2543.9899999999998,null,null,64038.35,1,1,64038.35,0,0,0,0,0]
[{"$f":"basePAGAS!B1581","v":0},16166,"RPV",16166,"2023/0104842-6","2023-03-29","Aguardando pagamento","sem verba para pgto",null,null,null,null,"MS 9.638/DF","2004/0048891-6","2004-04-06","2005-02-25","Administrativo - Servidor Público Civil - Sistema Remuneratório e Benefícios - Gratificações de Atividade","Ministério do Planejamento, Orçamento e Gestão","UNIÃO","Mandado de Segurança 9.638/DF","2006/0045345-3","2022-10-18","Zilda Francisca dos Santos","196.903.552-87","Pensionista Civil","Gratificação de Operações Especiais - GOE","Alimentar",7,"Pedro Paulo Castelo Branco Coêlho - Sociedade Individual de Advocacia","04.027.005/0001-69",13,"Couto & Nascimento Advogados Associados","04.329.675/0001-30",0," x x x "," x x x ",0," x x x "," x x x ","Dedução de Honorários Contratuais","Não","Não","Não","-","-","Não informada","Não Informada","NÃO","2023-03-01",1050.73,1236.99,7226.53,8507.5299999999988,18021.78,579.4,682.12,1261.52,1076.04,1266.79,2342.83,0,0,0,0,0,0,6621.8200000000006,7795.6099999999979,14417.429999999998,8277.26,910.49,0,16,4672.91,910.49,null,null,18021.78,1,1,18021.78,0,0,0,0,0]
[{"$f":"basePAGAS!B1622","v":0},16207,"RPV",16207,"2023/0107377-9","2023-03-31","Aguardando pagamento","sem verba para pgto",null,null,null,null,"MS 9.007/DF","2003/0056763-7","2003-04-11","2005-11-21","Administrativo - Militar - Sistema Remuneratório e Benefícios","Ministério da Fazenda","UNIÃO","Mandado de Segurança 9.007/DF","2006/0258460-3","2022-05-27","Samanta Cristina de Oliveira Silva","899.999.752-91","Pensionista Militar","Soldo previsto na Lei Estadual 1.063/2002","Alimentar",10,"Vieira & Vasconcelos Advogados ","30.299.557/0001-36",10,"Salatiel Soares de Souza","091.027.521-15",0," x x x "," x x x ",0," x x x "," x x x ","Dedução de Honorários Contratuais","Não","Não","Não","-","-","Não informada","Não Informada","NÃO","2023-03-01",2049.4,1935.1,14094.96,13308.830000000002,31388.29,1614.43,1524.39,3138.82,1614.43,1524.39,3138.82,0,0,0,0,0,0,12915.499999999998,12195.150000000003,25110.65,0,0,0,36,9866.7199999999993,0,null,null,31388.29,1,1,31388.29,0,0,0,0,0]
[{"$f":"basePAGAS!B1633","v":0},16218,"RPV",16218,"2023/0108416-7","2023-03-31","Aguardando pagamento","sem verba para pgto",null,null,null,null,"MS 7.200/DF","2000/0107854-2","2000-10-02","2005-11-22","Administrativo - Anistia","Ministério de Minas e Energia","UNIÃO","Mandado de Segurança 7.200/DF","2006/0092363-1","2021-06-10","Deise Fernandes Teixeira Kropf","337.473.857-53","Anistia - Empregado Público","Anistia - Lei nº 8.878/94","Alimentar",10,"Otávio Pupp Degrazia","816.831.111-68",0," x x x "," x x x ",0," x x x "," x x x ",0," x x x "," x x x ","Dedução de Honorários Contratuais","Não","Não","Não","-","-","Não informada","Não Informada","NÃO","2023-03-01",928.53,413.79,6386.05,2845.9400000000014,10574.310000000003,731.45,325.98,1057.43,0,0,0,0,0,0,0,0,0,6583.13,2933.7500000000027,9516.8800000000028,0,0,0,2,6257.15,0,null,null,10574.310000000003,1,1,10574.310000000003,0,0,0,0,0]
[{"$f":"basePAGAS!B1655","v":0},16240,"RPV",16240,"2023/0108673-3","2023-03-31","Aguardando pagamento","sem verba para pgto",null,null,null,null,"MS 15.462/DF","2010/0121038-8","2010-07-30","2014-11-19","Administrativo - Servidor Público Civil - Processo Administrativo Disciplinar ou Sindicância","-","UNIÃO","Mandado de Segurança 15.462/DF","2018/0173888-3","2023-03-28","Stela Anicácio - Sociedade Individual de Advocacia","29.630.626/0001-63","-","Honorários de sucumbência","Alimentar",0,"x x x","x x x",0," x x x "," x x x ",0," x x x "," x x x ",0," x x x "," x x x ","x.x.x","Não","Não","Não","-","-","Não informada","Não Informada","NÃO","2023-03-01",0,0,2730.95,0,2730.95,0,0,0,0,0,0,0,0,0,0,0,0,2730.95,0,2730.95,0,0,0,"-",0,0,null,null,2730.95,1,1,2730.95,0,0,0,0,0]
[{"$f":"basePAGAS!B1678","v":0},{"$f":"IF(D1681=\"\",\"\",D1681)","v":16269},"RPV",16269,"2023/0138845-0","2023-04-27","Aguardando pagamento","sem verba para pgto",null,null,null,null,"MS 6.019/DF","1998/0079215-5","1998-10-22","2007-12-10","Administrativo - Servidor Público Civil - Sistema Remuneratório e Benefícios","Instituto Nacional do Seguro Social - INSS","Instituto Nacional do Seguro Social – INSS","Mandado de Segurança 6.019/DF","2013/0197682-0","2019-12-18","Helder Adenias de Souza ","411.349.076-72","Servidor Público Civil Ativo","Reajuste Salarial - Resíduo de 3,17%","Alimentar",6.5,"Mota & Advogados Associados","03.996.810/0001-38",0," x x x "," x x x ",0," x x x "," x x x ",0," x x x "," x x x ","Dedução de Honorários Contratuais","Não","Não","Não","-","-","Não informada","Não Informada",{"$f":"IF($D1681=\"\",\"\",IF(Z1681=\"Anistia Política - Reparação Econômica\",\"SIM\",\"NÃO\"))","v":"NÃO"},"2023-04-01",2613.15,3056.05,16633.7,{"$f":"IF(BB1681=\"\",\"\",BB1681-AX1681-AY1681-AZ1681)","v":19452.919999999995},41755.82,1251.04,1463.08,2714.12,0,0,0,0,0,0,0,0,0,17995.810000000001,21045.889999999996,39041.699999999997,19246.850000000002,2117.15,4234.3,25,16532.730000000003,2117.15,null,null,{"$f":"CC1681+CE1681","v":41755.82},{"$f":"IF(BZ1681=0,0,1)","v":1},{"$f":"IF(CC1681=0,0,1)","v":1},{"$f":"IF(I1681=\"\",IF(AA1681=\"alimentar\",BB1681,0),0)","v":41755.82},{"$f":"IF(CE1681=0,0,1)","v":0},{"$f":"IF(I1681=\"\",IF(AA1681=\"comum\",BB1681,0),0)","v":0},{"$f":"IF(AND(MONTH(F1681)=MONTH($CH$8),YEAR(F1681)=YEAR($CH$8)),CF1680+1,0)","v":0},{"$f":"IF(CF1681=0,0,D1681)","v":0},{"$f":"IF(AND(CF1681>0,CF1682=0),CF1681,0)","v":0}]
[{"$f":"basePAGAS!B1710","v":0},16301,"RPV",16301,"2023/0139517-3","2023-04-27","Aguardando pagamento","sem verba para pgto",null,null,null,null,"AR 1.169/CE","1999/0096834-4","1999-10-18","2004-06-07","Administrativo - Servidor Público Civil - Sistema Remuneratório e Benefícios","Instituto Nacional do Seguro Social - INSS","Instituto Nacional do Seguro Social – INSS","Ação Rescisória 1.169/CE","2009/0055216-1","2013-08-01","Maria Julia Silva Do Nascimento","230.781.033-15","Servidor Público Civil Ativo","Anuênios","Alimentar",10,"Glayddes Sindeaux Advogados","17.291.820/0001-82",0," x x x "," x x x ",0," x x x "," x x x ",0," x x x "," x x x ","Dedução de Honorários Contratuais","Não","Não","Não","-","-","Não informada","Não Informada","NÃO","2023-04-01",222.47,349.58,1416.13,2225.2600000000007,4213.4400000000005,163.86,257.47999999999996,421.34,0,0,0,0,0,0,0,0,0,1474.7400000000002,2317.36,3792.1000000000004,1638.6,180.24,360.48,111,1217.2600000000002,180.24,null,null,4213.4400000000005,1,1,4213.4400000000005,0,0,0,0,0]
[{"$f":"basePAGAS!B1732","v":0},16323,"RPV",16323,"2023/0139745-9","2023-04-27","Aguardando pagamento","sem verba para pgto",null,null,null,null,"AR 1.169/CE","1999/0096834-4","1999-10-18","2004-06-07","Administrativo - Servidor Público Civil - Sistema Remuneratório e Benefícios","Instituto Nacional do Seguro Social - INSS","Instituto Nacional do Seguro Social – INSS","Ação Rescisória 1.169/CE","2009/0056458-2","2014-09-30","Maria Das Graças Pereira De Sousa ","161.265.483-53","Servidor Público Civil Ativo","Anuênios","Alimentar",10,"Glayddes Sindeaux Advogados","17.291.820/0001-82",0," x x x "," x x x ",0," x x x "," x x x ",0," x x x "," x x x ","Dedução de Honorários Contratuais",{"$f":"IF($D1735=\"\",\"\",AO1734)","v":"Não"},"Não","Não","-","-","Não informada","Não Informada","NÃO","2023-04-01",67.540000000000006,81.489999999999995,429.93,518.73,1097.69,49.74,60.02,109.76,0,0,0,0,0,0,0,0,0,447.73,540.20000000000005,987.93000000000006,497.47,54.72,109.44,17,387.71000000000004,54.72,null,null,1097.69,1,1,1097.69,0,0,0,0,0]
[{"$f":"basePAGAS!B1739","v":0},16330,"RPV",16330,"2023/0139765-0","2023-04-27","Aguardando pagamento","sem verba para pgto",null,null,null,null,"AR 1.169/CE","1999/0096834-4","1999-10-18","2004-06-07","Administrativo - Servidor Público Civil - Sistema Remuneratório e Benefícios","Instituto Nacional do Seguro Social - INSS","Instituto Nacional do Seguro Social – INSS","Ação Rescisória 1.169/CE","2009/0056443-2","2014-09-30","Arima Loiola Franco ","195.620.121-15","Servidor Público Civil Ativo","Anuênios","Alimentar",10,"Glayddes Sindeaux Advogados","17.291.820/0001-82",0," x x x "," x x x ",0," x x x "," x x x ",0," x x x "," x x x ","Dedução de Honorários Contratuais",{"$f":"IF($D1742=\"\",\"\",AO1741)","v":"Não"},"Não","Não","-","-","Não informada","Não Informada","NÃO","2023-04-01",346.83,418.46,2207.71,2663.67,5636.67,255.45,308.20999999999998,563.66,0,0,0,0,0,0,0,0,0,2299.09,2773.92,5073.01,2554.54,280.99,561.98,47,1990.88,280.99,null,null,5636.67,1,1,5636.67,0,0,0,0,0]
[{"$f":"basePAGAS!B1764","v":0},16355,"RPV",16355,"2023/0140070-6","2023-04-28","Aguardando pagamento","sem verba para pgto",null,null,null,null,"AR 1.169/CE","1999/0096834-4","1999-10-18","2004-06-07","Administrativo - Servidor Público Civil - Sistema Remuneratório e Benefícios","Instituto Nacional do Seguro Social - INSS","Instituto Nacional do Seguro Social – INSS","Ação Rescisória 1.169/CE","2009/0056178-0","2014-09-30","Maurício Cabral Benevides ","001.077.193-04","Servidor Público Civil Ativo","Anuênios","Alimentar",10,"Glayddes Sindeaux Advogados","17.291.820/0001-82",0," x x x "," x x x ",0," x x x "," x x x ",0," x x x "," x x x ","Dedução de Honorários Contratuais",{"$f":"IF($D1767=\"\",\"\",AO1766)","v":"Não"},"Não","Não","-","-","Não informada","Não Informada","NÃO","2023-04-01",1198.06,1598.36,7626.13,10174.189999999999,20596.740000000002,882.41,1177.2600000000002,2059.67,0,0,0,0,0,0,0,0,0,7941.7800000000007,10595.289999999999,18537.07,8824.19,970.66,1941.32,47,6764.52,970.66,null,null,20596.740000000002,1,1,20596.740000000002,0,0,0,0,0]
[{"$f":"basePAGAS!B1786","v":0},16377,"RPV",16377,"2023/0140344-5","2023-04-28","Aguardando pagamento","sem verba para pgto",null,null,null,null,"AR 1.169/CE","1999/0096834-4","1999-10-18","2004-06-07","Administrativo - Servidor Público Civil - Sistema Remuneratório e Benefícios","Instituto Nacional do Seguro Social - INSS","Instituto Nacional do Seguro Social – INSS","Ação Rescisória 1.169/CE","2009/0055210-0","2014-11-18","Iazete Maciel De Carvalho ","013.918.443-00","Servidor Público Civil Ativo","Anuênios","Alimentar",10,"Glayddes Sindeaux Advogados","17.291.820/0001-82",0," x x x "," x x x ",0," x x x "," x x x ",0," x x x "," x x x ","Dedução de Honorários Contratuais",{"$f":"IF($D1789=\"\",\"\",AO1788)","v":"Não"},"Não","Não","-","-","Não informada","Não Informada","NÃO","2023-04-01",1109.56,1338.72,7062.82,8521.4800000000014,18032.580000000002,817.23,986.02,1803.25,0,0,0,0,0,0,0,0,0,7355.15,8874.1800000000021,16229.330000000002,3493.49,384.28,768.56,47,6369.1299999999992,384.28,null,null,18032.580000000002,1,1,18032.580000000002,0,0,0,0,0]
[{"$f":"basePAGAS!B1820","v":0},16411,"RPV",16411,"2023/0140472-2","2023-04-28","Aguardando pagamento","sem verba para pgto",null,null,null,null,"MS 10.424/DF","2005/0021065-5","2005-02-17","2005-10-27","Administrativo - Servidor Público Civil - Sistema Remuneratório e Benefícios - Gratificações","Ministério do Planejamento, Orçamento e Gestão","UNIÃO","Mandado de Segurança 10.424/DF","2006/0235339-4","2020-03-18","José Pimentel Da Costa ","036.987.932-53","Servidor Público Civil Ativo","Gratificação Específica de Atividade Docente - GEAD","Alimentar",11,"Fonseca e Assis Advogados Associados","01.971.231/0001-05",0," x x x "," x x x ",0," x x x "," x x x ",0," x x x "," x x x ","Dedução de Honorários Contratuais",{"$f":"IF($D1823=\"\",\"\",AO1822)","v":"Não"},"Não","Não","-","-","Não informada","Não Informada","NÃO","2023-04-01",2445.62,2128.46,15567.32,13548.480000000007,33689.880000000005,1981.42,1724.46,3705.88,0,0,0,0,0,0,0,0,0,16031.519999999999,13952.480000000005,29984.000000000004,18012.939999999999,1981.42,3962.84,9,14307.059999999998,1981.42,null,null,33689.880000000005,1,1,33689.880000000005,0,0,0,0,0]
[{"$f":"basePAGAS!B1836","v":0},16427,"RPV",16427,"2023/0140590-9","2023-04-28","Aguardando pagamento","sem verba para pgto",null,null,null,null,"AR 1.169/CE","1999/0096834-4","1999-10-18","2004-06-07","Administrativo - Servidor Público Civil - Sistema Remuneratório e Benefícios","Instituto Nacional do Seguro Social - INSS","Instituto Nacional do Seguro Social – INSS","Ação Rescisória 1.169/CE","2009/0055208-4","2014-10-17","Maria De Lourdes Nogueira De Souza ","045.719.243-72","Servidor Público Civil Ativo","Anuênios","Alimentar",10,"Glayddes Sindeaux Advogados","17.291.820/0001-82",0," x x x "," x x x ",0," x x x "," x x x ",0," x x x "," x x x ","Dedução de Honorários Contratuais",{"$f":"IF($D1839=\"\",\"\",AO1838)","v":"Não"},"Não","Não","-","-","Não informada","Não Informada","NÃO","2023-04-01",386.09,539.80999999999995,2457.67,3436.1499999999996,6819.7199999999993,284.37,397.6,681.97,0,0,0,0,0,0,0,0,0,2559.3900000000003,3578.3599999999988,6137.7499999999991,2501.12,275.12,550.24,47,2161.79,275.12,null,null,6819.7199999999993,1,1,6819.7199999999993,0,0,0,0,0]
[{"$f":"basePAGAS!B1852","v":0},16443,"RPV",16443,"2023/0140635-0","2023-04-28","Aguardando pagamento","sem verba para pgto",null,null,null,null,"MS 4.151/DF","1995/0038195-8","1995-07-21","1999-02-12","Administrativo - Servidor Público Civil - Reajustes de Remuneração, Proventos ou Pensão","Ministério da Fazenda","UNIÃO","Mandado de Segurança 4.151/DF","2016/0164346-9","2023-03-30","Paulo Batista Conrado","207.301.366-04","Servidor Público Civil Ativo","Diferença de remuneração - 3,17%","Alimentar",6,"Mota & Advogados Associados","03.996.810/0001-38",1,"Mauro Menezes e Advogados","32.901.423/0001-79",1,"Caputo, Bastos e Serra Advogados","12.291.813/0001-67",0," x x x "," x x x ","Dedução de Honorários Contratuais",{"$f":"IF($D1855=\"\",\"\",AO1854)","v":"Não"},"Não","Não","-","-","Não informada","Não Informada","NÃO","2023-04-01",0,0,25575.29,51511.890000000007,77087.180000000008,1534.51,3090.7199999999993,4625.2299999999996,255.75,515.12,770.87,255.75,515.12,770.87,0,0,0,23529.280000000002,47390.930000000022,70920.210000000021,36900.54,4059.05,8118.1,53,19408.320000000003,4059.05,null,null,77087.180000000008,1,1,77087.180000000008,0,0,0,0,0]
[{"$f":"basePAGAS!B1874","v":0},16465,"RPV",16465,"2023/0140738-4","2023-04-28","Aguardando pagamento","sem verba para pgto",null,null,null,null,"AR 1.169/CE","1999/0096834-4","1999-10-18","2004-06-07","Administrativo - Servidor Público Civil - Sistema Remuneratório e Benefícios","Instituto Nacional do Seguro Social - INSS","Instituto Nacional do Seguro Social – INSS","Ação Rescisória 1.169/CE","2009/0055208-4","2014-10-17","Maria Do Livramento Amorim E Souza ","003.273.363-15","Servidor Público Civil Ativo","Anuênios","Alimentar",10,"Glayddes Sindeaux Advogados","17.291.820/0001-82",0," x x x "," x x x ",0," x x x "," x x x ",0," x x x "," x x x ","Dedução de Honorários Contratuais",{"$f":"IF($D1877=\"\",\"\",AO1876)","v":"Não"},"Não","Não","-","-","Não informada","Não Informada","NÃO","2023-04-01",1105.5899999999999,1529.17,7037.52,9733.7899999999972,19406.07,814.31,1126.29,1940.6,0,0,0,0,0,0,0,0,0,7328.8000000000011,10136.67,17465.47,1018.28,112.01,224.02,47,6202.51,112.01,null,null,19406.07,1,1,19406.07,0,0,0,0,0]
[{"$f":"basePAGAS!B1896","v":0},16487,"RPV",16487,"2023/0158150-7","2023-05-12","Aguardando pagamento","sem verba para pgto",null,null,null,null,"AR 1.169/CE","1999/0096834-4","1999-10-18","2004-06-07","Administrativo - Servidor Público Civil - Sistema Remuneratório e Benefícios","Instituto Nacional do Seguro Social - INSS","Instituto Nacional do Seguro Social – INSS","Ação Rescisória 1.169/CE","2009/0056492-5","2014-09-30","José Edmilson De Farias ","073.961.983-72","Servidor Público Civil Ativo","Anuênios","Alimentar",10,"Glayddes Sindeaux Advogados","17.291.820/0001-82",0," x x x "," x x x ",0," x x x "," x x x ",0," x x x "," x x x ","Dedução de Honorários Contratuais","Não","Não","Não","-","-","Não informada","Não Informada","NÃO","2023-05-01",234.78,283.27,1411.84,1703.41,3633.3,164.66,198.67,363.33,0,0,0,0,0,0,0,0,0,1481.9599999999998,1788.0100000000004,3269.9700000000003,1646.62,181.12,362.24,47,1283.29,181.12,0,null,3633.3,1,1,3633.3,0,0,0,0,0]
[{"$f":"basePAGAS!B1937","v":0},16528,"RPV",16528,"2023/0158432-3","2023-05-12","Aguardando pagamento","sem verba para pgto",null,null,null,null,"AR 1.169/CE","1999/0096834-4","1999-10-18","2004-06-07","Administrativo - Servidor Público Civil - Sistema Remuneratório e Benefícios","Instituto Nacional do Seguro Social - INSS","Instituto Nacional do Seguro Social – INSS","Ação Rescisória 1.169/CE","2009/0057584-3","2014-09-30","Antônia De Araújo Martins ","020.843.333-34","Servidor Público Civil Ativo","Anuênios","Alimentar",10,"Glayddes Sindeaux Advogados","17.291.820/0001-82",0," x x x "," x x x ",0," x x x "," x x x ",0," x x x "," x x x ","Dedução de Honorários Contratuais",{"$f":"IF($D1940=\"\",\"\",AO1939)","v":"Não"},"Não","Não","-","-","Não informada","Não Informada","NÃO","2023-05-01",433.77,640.16999999999996,2608.41,3849.51,7531.8600000000006,304.20999999999998,448.96999999999997,753.18,0,0,0,0,0,0,0,0,0,2737.97,4040.7100000000005,6778.68,278.14999999999998,30.59,61.18,47,2289,30.59,0,null,7531.8600000000006,1,1,7531.8600000000006,0,0,0,0,0]
[{"$f":"basePAGAS!B1951","v":0},16542,"RPV",16542,"2023/0158533-3","2023-05-12","Aguardando pagamento","sem verba para pgto",null,null,null,null,"MS 10.438/DF","2005/0023175-9","2005-02-22","2007-09-13","Administrativo - Militar - Pensão","Ministério da Fazenda","UNIÃO","Mandado de Segurança 10.438/DF","2022/0124842-5","2023-02-23","Sirlene Moreira de Lima","533.959.489-00","Servidor Público Militar Inativo","Soldo previsto na Lei Estadual 1.063/2002","Alimentar",20.5,"Leon e Advogados Associados","17.858.268/0001-61",10.5,"Silveira Cruz Advogados","07.419.539/0001-29",0," x x x "," x x x ",0," x x x "," x x x ","Dedução de Honorários Contratuais",{"$f":"IF($D1954=\"\",\"\",AO1953)","v":"Não"},"Não","Não","-","-","Não informada","Não Informada","NÃO","2023-05-01",3759.71,1038.92,22608.02,6247.2900000000045,33653.94,5405.38,1493.67,6899.05,2768.61,765.04999999999973,3533.66,0,0,0,0,0,0,18193.739999999998,5027.4900000000052,23221.230000000003,0,0,0,19,15935.02,0,0,null,33653.94,1,1,33653.94,0,0,0,0,0]
[{"$f":"basePAGAS!B1973","v":0},16564,"RPV",16564,"2023/0158580-2","2023-05-12","Aguardando pagamento","sem verba para pgto",null,null,null,null,"MS 10.438/DF","2005/0023175-9","2005-02-22","2007-09-13","Administrativo - Militar - Pensão","Ministério da Fazenda","UNIÃO","Mandado de Segurança 10.438/DF","2022/0167611-1","2023-02-23","José Moreira de Barros","040.241.128-56","Servidor Público Militar Inativo","Soldo previsto na Lei Estadual 1.063/2002","Alimentar",20.5,"Leon e Advogados Associados","17.858.268/0001-61",10.5,"Silveira Cruz Advogados","07.419.539/0001-29",0," x x x "," x x x ",0," x x x "," x x x ","Dedução de Honorários Contratuais",{"$f":"IF($D1976=\"\",\"\",AO1975)","v":"Não"},"Não","Não","-","-","Não informada","Não Informada","NÃO","2023-05-01",6789.15,1875.47,40824.720000000001,11277.68,60767.020000000004,9760.84,2696.3899999999994,12457.23,4999.45,1381.08,6380.53,0,0,0,0,0,0,32853.58,9075.6800000000076,41929.260000000009,0,0,0,19,28776.11,0,0,null,60767.020000000004,1,1,60767.020000000004,0,0,0,0,0]
[{"$f":"basePAGAS!B2007","v":0},16599,"RPV",16599,"2023/0166212-7","2023-05-17","Aguardando pagamento","sem verba para pgto",null,null,null,null,"MS 21.601/DF","2015/0033856-5","2015-02-20","2017-06-27","Administrativo - Servidor Público Civil - Sistema Remuneratório e Benefícios (PRINCIPAL)","Ministério do Planejamento, Orçamento e Gestão","UNIÃO","Mandado de Segurança 21.601/DF","2021/0100371-0","2023-02-07","Ivan da Costa Pinto Gramacho","002.885.005-04","Servidor Público Civil Inativo","Incorporação de gratificação de apoio - GCEPLAC - Lei 12.702/12","Alimentar",10,"Amanda Ale Franzosi Sociedade Individual de Advocacia","39.611.750/0001-35",5,"Miranda, Moraes e Sales Advocacia","30.933.366/0001-84",0," x x x "," x x x ",0," x x x "," x x x ","Dedução de Honorários Contratuais",{"$f":"IF($D2010=\"\",\"\",AO2009)","v":"Não"},"Não","Não","-","-","Não informada","Não Informada","NÃO","2023-05-01",5805.95,1172.42,34912.559999999998,7050.0500000000029,48940.979999999996,4071.85,822.24000000000024,4894.09,2035.92,411.11999999999989,2447.04,0,0,0,0,0,0,34610.74,6989.1100000000006,41599.85,40718.509999999995,4479.03,0,75,33377.379999999997,4479.03,0,null,48940.979999999996,1,1,48940.979999999996,0,0,0,0,0]
[{"$f":"basePAGAS!B2012","v":0},16604,"RPV",16604,"2023/0166309-7","2023-05-17","Aguardando pagamento","sem verba para pgto",null,null,null,null,"MS 21.601/DF","2015/0033856-5","2015-02-20","2017-06-27","Administrativo - Servidor Público Civil - Sistema Remuneratório e Benefícios (PRINCIPAL)","Ministério do Planejamento, Orçamento e Gestão","UNIÃO","Mandado de Segurança 21.601/DF","2021/0100371-0","2023-02-07","Joel dos Santos","251.195.915-15","Servidor Público Civil Inativo","Incorporação de gratificação de apoio - GCEPLAC - Lei 12.702/12","Alimentar",10,"Amanda Ale Franzosi Sociedade Individual de Advocacia","39.611.750/0001-35",5,"Miranda, Moraes e Sales Advocacia","30.933.366/0001-84",0," x x x "," x x x ",0," x x x "," x x x ","Dedução de Honorários Contratuais",{"$f":"IF($D2015=\"\",\"\",AO2014)","v":"Não"},"Não","Não","-","-","Não informada","Não Informada","NÃO","2023-05-01",1238.72,249.88,7448.75,1502.6000000000004,10439.949999999999,868.74,175.25,1043.99,434.37,87.62,521.99,0,0,0,0,0,0,7384.36,1489.6099999999997,8873.9699999999993,8687.4699999999993,955.62,0,75,7121.49,955.62,0,null,10439.949999999999,1,1,10439.949999999999,0,0,0,0,0]
[{"$f":"basePAGAS!B2039","v":0},16631,"RPV",16631,"2023/0166664-8","2023-05-17","Aguardando pagamento","sem verba para pgto",null,null,null,null,"AR 4.200/RJ","2009/0024225-4","2009-02-10","2018-11-30","Tributário - Impostos - IPI/ Imposto sobre Produtos Industrializados (PRINCIPAL)","-","Fazenda Nacional","Ação Rescisória 4.200/RJ","2022/0355497-3","2023-03-28","Dias de Souza - Advogados Associados","69.105.914/0001-13","-","Honorários de sucumbência","Alimentar",0,"x x x","x x x",0," x x x "," x x x ",0," x x x "," x x x ",0," x x x "," x x x ","x.x.x",{"$f":"IF($D2042=\"\",\"\",AO2041)","v":"Não"},"Não","Não","-","-","Não informada","Não Informada","NÃO","2023-05-01",993.65,0,6671.93,0,7665.58,0,0,0,0,0,0,0,0,0,0,0,0,7665.58,0,7665.58,0,0,0,0,0,0,0,null,7665.58,1,1,7665.58,0,0,0,0,0]
[{"$f":"basePAGAS!B2061","v":0},16653,"RPV",16653,"2023/0171012-0","2023-05-20","Aguardando pagamento","sem verba para pgto",null,null,null,null,"MS 12.215/DF","2006/0195293-3","2006-09-11","2012-10-24","Administrativo - Servidor Público Civil - Sistema Remuneratório e Benefícios - Gratificações de Atividade (PRINCIPAL)","Ministério do Planejamento, Orçamento e Gestão","UNIÃO","Mandado de Segurança 12.215/DF","2016/0035622-7","2021-04-19","Maria Floricea Ramos da Cruz","016.317.465-29","Pensionista Civil","Gratificação de Desempenho de Atividade Técnico-Administrativa- GDPGTAS","Alimentar",5,"Mota & Advogados Associados","03.996.810/0001-38",0," x x x "," x x x ",0," x x x "," x x x ",0," x x x "," x x x ","Dedução de Honorários Contratuais",{"$f":"IF($D2064=\"\",\"\",AO2063)","v":"Não"},"Não","Não","-","-","Não informada","Não Informada","NÃO","2023-05-01",1866.41,1396.61,11223.18,8398.1899999999987,22884.39,654.47,489.74,1144.21,0,0,0,0,0,0,0,0,0,12435.12,9305.06,21740.18,13089.59,1439.85,0,23,11945.380000000001,1439.85,49.97,null,22884.39,1,1,22884.39,0,0,0,0,0]
[{"$f":"basePAGAS!B2083","v":0},16675,"RPV",16675,"2023/0171060-1","2023-05-20","Aguardando pagamento","sem verba para pgto",null,null,null,null,"MS 12.215/DF","2006/0195293-3","2006-09-11","2012-10-24","Administrativo - Servidor Público Civil - Sistema Remuneratório e Benefícios - Gratificações de Atividade (PRINCIPAL)","Ministério do Planejamento, Orçamento e Gestão","UNIÃO","Mandado de Segurança 12.215/DF","2016/0035637-7","2021-04-19","Dolores Guilhermina Lins","898.852.105-63","Pensionista Civil","Gratificação de Desempenho de Atividade Técnico-Administrativa- GDPGTAS","Alimentar",5,"Mota & Advogados Associados","03.996.810/0001-38",0," x x x "," x x x ",0," x x x "," x x x ",0," x x x "," x x x ","Dedução de Honorários Contratuais",{"$f":"IF($D2086=\"\",\"\",AO2085)","v":"Não"},"Não","Não","-","-","Não informada","Não Informada","NÃO","2023-05-01",1011.79,750.21,6084.16,4511.2200000000012,12357.380000000001,354.79,263.07,617.86,0,0,0,0,0,0,0,0,0,6741.16,4998.3600000000006,11739.52,7095.95,780.55,0,23,6478.09,780.55,45.290000000000006,null,12357.380000000001,1,1,12357.380000000001,0,0,0,0,0]
[{"$f":"basePAGAS!B2113","v":0},16705,"RPV",16705,"2023/0171270-9","2023-05-22","Aguardando pagamento","sem verba para pgto",null,null,null,null,"MS 4.151/DF","1995/0038195-8","1995-07-21","1999-02-12","Administrativo - Servidor Público Civil - Reajustes de Remuneração, Proventos ou Pensão","Ministério da Fazenda","UNIÃO","Mandado de Segurança 4.151/DF","2016/0141643-3","2023-03-31","Hamilton Betine","012.008.289-68","Servidor Público Civil Inativo","Diferença de remuneração - 3,17%","Alimentar",6,"Mota & Advogados Associados","03.996.810/0001-38",1,"Mauro Menezes e Advogados","32.901.423/0001-79",1,"Caputo, Bastos e Serra Advogados","12.291.813/0001-67",0," x x x "," x x x ","Dedução de Honorários Contratuais",{"$f":"IF($D2116=\"\",\"\",AO2115)","v":"Não"},"Não","Não","-","-","Não informada","Não Informada","NÃO","2023-05-01",0,0,24368.46,45734.239999999998,70102.7,1462.1,2744.06,4206.16,243.68,457.34,701.02,243.68,457.34,701.02,0,0,0,22419,42075.5,64494.5,0,0,0,53,18760.259999999998,0,0,null,70102.7,1,1,70102.7,0,0,0,0,0]
[{"$f":"basePAGAS!B2138","v":0},16730,"RPV",16730,"2023/0172917-0","2023-05-22","Aguardando pagamento","sem verba para pgto",null,null,null,null,"MS 4.149/DF","1995/0038042-0","1995-07-21","1998-09-23","Administrativo - Servidor Público Civil - Sistema Remuneratório e Benefícios","INCRA","UNIÃO","Mandado de Segurança 4.149/DF","2007/0282234-0","2014-09-26","Aurélio de Jesus Silva","184.396.401-53","Servidor Público Civil Ativo","Diferença de remuneração - 3,17%","Alimentar",10,"Josilma Saraiva - Advocacia E Consultoria - Sociedade Individual De Advocacia","09.384.741/0001-98",0," x x x "," x x x ",0," x x x "," x x x ",0," x x x "," x x x ","Dedução de Honorários Contratuais",{"$f":"IF($D2141=\"\",\"\",AO2140)","v":"Não"},"Não","Não","-","-","Não informada","Não Informada","NÃO","2023-05-01",573.54,1634.12,3448.84,9826.3499999999985,15482.849999999999,402.23,1146.05,1548.28,0,0,0,0,0,0,0,0,0,3620.15,10314.419999999998,13934.569999999998,4022.38,442.46,884.92,65,2474.1000000000004,442.46,0,null,15482.849999999999,1,1,15482.849999999999,0,0,0,0,0]
[{"$f":"basePAGAS!B2160","v":0},16752,"RPV",16752,"2023/0173394-0","2023-05-23","Aguardando pagamento","sem verba para pgto",null,null,null,null,"MS 10.424/DF","2005/0021065-5","2005-02-17","2005-10-27","Administrativo - Servidor Público Civil - Sistema Remuneratório e Benefícios - Gratificações","Ministério do Planejamento, Orçamento e Gestão","UNIÃO","Mandado de Segurança 10.424/DF","2006/0199670-8","2016-02-12","Maria Ohnesorge Linhares","113.529.812-20","Servidor Público Civil Inativo","Gratificação Específica de Atividade Docente - GEAD","Alimentar",11,"Fonseca e Assis Advogados Associados","01.971.231/0001-05",0," x x x "," x x x ",0," x x x "," x x x ",0," x x x "," x x x ","Dedução de Honorários Contratuais",{"$f":"IF($D2163=\"\",\"\",AO2162)","v":"Não"},"Não","Não","-","-","Não informada","Não Informada","NÃO","2023-05-01",1236.8499999999999,1222.8599999999999,7437.5,7353.3899999999976,17250.599999999999,954.17,943.39,1897.56,0,0,0,0,0,0,0,0,0,7720.18,7632.8599999999988,15353.039999999999,8674.35,954.17,0,9,6776.7900000000009,954.17,0,null,17250.599999999999,1,1,17250.599999999999,0,0,0,0,0]
[{"$f":"basePAGAS!B2170","v":0},16762,"RPV",16762,"2023/0173460-9","2023-05-23","Aguardando pagamento","sem verba para pgto",null,null,null,null,"MS 4.151/DF","1995/0038195-8","1995-07-21","1999-02-12","Administrativo - Servidor Público Civil - Reajustes de Remuneração, Proventos ou Pensão","Ministério da Fazenda","UNIÃO","Mandado de Segurança 4.151/DF","2016/0144502-1","2023-05-04","Jussara Dias","003.863.858-40","Servidor Público Civil Ativo","Diferença de remuneração - 3,17%","Alimentar",6,"Mota & Advogados Associados","03.996.810/0001-38",1,"Mauro Menezes e Advogados","32.901.423/0001-79",1,"Caputo, Bastos e Serra Advogados","12.291.813/0001-67",0," x x x "," x x x ","Dedução de Honorários Contratuais",{"$f":"IF($D2173=\"\",\"\",AO2172)","v":"Não"},"Não","Não","-","-","Não informada","Não Informada","NÃO","2023-05-01",0,0,6809.52,31002.3,37811.82,408.57,1860.1299999999999,2268.6999999999998,68.09,310.02,378.11,68.09,310.02,378.11,0,0,0,6264.77,28522.13,34786.9,31677.63,3484.53,6969.06,53,3784.6000000000008,3484.53,0,null,37811.82,1,1,37811.82,0,0,0,0,0]
[{"$f":"basePAGAS!B2192","v":0},16784,"RPV",16784,"2023/0174851-0","2023-05-23","Aguardando pagamento","sem verba para pgto",null,null,null,null,"MS 21.601/DF","2015/0033856-5","2015-02-20","2017-06-27","Administrativo - Servidor Público Civil - Sistema Remuneratório e Benefícios (PRINCIPAL)","Ministério do Planejamento, Orçamento e Gestão","UNIÃO","Mandado de Segurança 21.601/DF","2021/0099349-9","2022-12-13","Raimundo Cosme de Araújo","002.705.715-15","Servidor Público Civil Inativo","Incorporação de gratificação de apoio - GCEPLAC - Lei 12.702/12","Alimentar",10,"Amanda Ale Franzosi Sociedade Individual de Advocacia","39.611.750/0001-35",5,"Miranda, Moraes e Sales Advocacia","30.933.366/0001-84",0," x x x "," x x x ",0," x x x "," x x x ","Dedução de Honorários Contratuais",{"$f":"IF($D2195=\"\",\"\",AO2194)","v":"Não"},"Não","Não","-","-","Não informada","Não Informada","NÃO","2023-05-01",5752.71,966.88,34592.379999999997,5814.1200000000026,47126.09,4034.5,678.10000000000036,4712.6000000000004,2017.25,339.05000000000018,2356.3000000000002,0,0,0,0,0,0,34293.339999999997,5763.8499999999985,40057.189999999995,40345.089999999997,4437.95,0,77,33276.189999999995,4437.95,0,null,47126.09,1,1,47126.09,0,0,0,0,0]
[{"$f":"basePAGAS!B2226","v":0},16818,"RPV",16818,"2023/0177180-5","2023-05-25","Aguardando pagamento","sem verba para pgto",null,null,null,null,"MS 4.151/DF","1995/0038195-8","1995-07-21","1999-02-12","Administrativo - Servidor Público Civil - Reajustes de Remuneração, Proventos ou Pensão","Ministério da Fazenda","UNIÃO","Mandado de Segurança 4.151/DF","2016/0144650-0","2023-05-05","Leoni Schneider","069.059.439-91","Servidor Público Civil Inativo","Diferença de remuneração - 3,17%","Alimentar",6,"Mota & Advogados Associados","03.996.810/0001-38",1,"Mauro Menezes e Advogados","32.901.423/0001-79",1,"Caputo, Bastos e Serra Advogados","12.291.813/0001-67",0," x x x "," x x x ","Dedução de Honorários Contratuais",{"$f":"IF($D2229=\"\",\"\",AO2228)","v":"Não"},"Não","Não","-","-","Não informada","Não Informada","NÃO","2023-05-01",0,0,28519.279999999999,48268.869999999995,76788.149999999994,1711.15,2896.1299999999997,4607.28,285.19,482.69,767.88,285.19,482.69,767.88,0,0,0,26237.75,44407.359999999986,70645.109999999986,0,0,0,53,22376.239999999998,0,0,null,76788.149999999994,1,1,76788.149999999994,0,0,0,0,0]
[{"$f":"basePAGAS!B2248","v":0},16840,"RPV",16840,"2022/0305057-5","2023-06-09","Paga","Paga em JUN-2023 - 2ª remessa","2023-06-01","NÃO","NÃO",2,"MS 4.151/DF","1995/0038195-8","1995-07-21","1999-02-12","Administrativo - Servidor Público Civil - Reajustes de Remuneração, Proventos ou Pensão","Ministério da Fazenda","UNIÃO","Mandado de Segurança 4.151/DF","2016/0143373-6","2022-08-03","Ivone Gonçalves","894.982.598-87","Servidor Público Civil Ativo","Diferença de remuneração - 3,17%","Alimentar",6,"Mota & Advogados Associados","03.996.810/0001-38",1,"Mauro Menezes e Advogados","32.901.423/0001-79",1,"Caputo, Bastos e Serra Advogados","12.291.813/0001-67",0," x x x "," x x x ","Dedução de Honorários Contratuais",{"$f":"IF($D2251=\"\",\"\",AO2250)","v":"Não"},"Não","Não","-","-","Não informada","Não Informada","NÃO","2022-09-01",0,0,28803.3,50396.7,79200,1728.19,3023.81,4752,288.02999999999997,503.97,792,288.02999999999997,503.97,792,0,0,0,26499.050000000003,46364.95,72864,21117.22,2322.89,4645.78,53,22467.300000000003,{"$f":"BS2251","v":2322.89},null,null,0,0,0,0,0,0,0,0,0]
[{"$f":"basePAGAS!B2267","v":0},16859,"RPV",16859,"2023/0209410-9","2023-06-19","Aguardando pagamento","sem verba para pgto",null,null,null,null,"AR 1.169/CE","1999/0096834-4","1999-10-18","2004-06-07","Administrativo - Servidor Público Civil - Sistema Remuneratório e Benefícios","Instituto Nacional do Seguro Social - INSS","Instituto Nacional do Seguro Social – INSS","Ação Rescisória 1.169/CE","2009/0055149-1","2013-06-27","Auri Moreira De Melo ","018.365.443-91","Servidor Público Civil Ativo","Anuênios","Alimentar",10,"Glayddes Sindeaux Advogados","17.291.820/0001-82",0," x x x "," x x x ",0," x x x "," x x x ",0," x x x "," x x x ","Dedução de Honorários Contratuais",{"$f":"IF($D2270=\"\",\"\",AO2269)","v":"Não"},"Não","Não","-","-","Não informada","Não Informada","NÃO","2023-06-01",1280.3599999999999,1925.17,7213.28,10846.070000000007,21264.880000000005,849.36,1277.1199999999999,2126.48,0,0,0,0,0,0,0,0,0,7644.28,11494.120000000006,19138.400000000005,2101.84,231.2,462.4,111,6367.16,231.2,null,null,21264.880000000005,1,1,21264.880000000005,0,0,0,0,0]
[{"$f":"basePAGAS!B2303","v":0},16895,"RPV",16895,"2023/0209764-5","2023-06-19","Aguardando pagamento","sem verba para pgto",null,null,null,null,"MS 3.099/DF","1993/0025151-1","1993-09-15","2000-06-07","Administrativo - Servidor Público Civil - Reajustes de Remuneração, Proventos ou Pensão - Índice de 28,86% Lei 8.622/1993 e 8.627/1993","Ministério da Saúde","UNIÃO","Mandado de Segurança 3.099/DF","2015/0136750-3","2019-11-25","Jaciara Queiroz De Freitas Gonçalves","143.197.724-15","Servidor Público Civil Ativo","Índice de 28,86% Lei 8.622/1993 e 8.627/1993","Alimentar",0,"x x x","x x x",0," x x x "," x x x ",0," x x x "," x x x ",0," x x x "," x x x ","x.x.x",{"$f":"IF($D2306=\"\",\"\",AO2305)","v":"Não"},"Não","Não","-","-","Não informada","Não Informada","NÃO","2023-06-01",2092.16,4157.99,11786.84,23425.320000000011,41462.310000000005,0,0,0,0,0,0,0,0,0,0,0,0,13879,27583.310000000005,41462.310000000005,13879,1526.69,3053.38,63,13879,1526.69,null,null,41462.310000000005,1,1,41462.310000000005,0,0,0,0,0]
[{"$f":"basePAGAS!B2325","v":0},16917,"RPV",16917,"2023/0210711-6","2023-06-19","Aguardando pagamento","sem verba para pgto",null,null,null,null,"MS 4.151/DF","1995/0038195-8","1995-07-21","1999-02-12","Administrativo - Servidor Público Civil - Reajustes de Remuneração, Proventos ou Pensão","Ministério da Fazenda","UNIÃO","Mandado de Segurança 4.151/DF","2016/0164459-3","2023-05-05","Renato Henning","037.737.289-72","Servidor Público Civil Ativo","Diferença de remuneração - 3,17%","Alimentar",6,"Mota & Advogados Associados","03.996.810/0001-38",1,"Mauro Menezes e Advogados","32.901.423/0001-79",1,"Caputo, Bastos e Serra Advogados","12.291.813/0001-67",0," x x x "," x x x ","Dedução de Honorários Contratuais",{"$f":"IF($D2328=\"\",\"\",AO2327)","v":"Não"},"Não","Não","-","-","Não informada","Não Informada","NÃO","2023-06-01",0,0,26604.28,50708.2,77312.479999999996,1596.25,3042.49,4638.74,266.04000000000002,507.08,773.12,266.04000000000002,507.08,773.12,0,0,0,24475.949999999997,46651.55,71127.5,1055.6300000000001,116.11,232.22,53,20419.300000000003,116.11,null,null,77312.479999999996,1,1,77312.479999999996,0,0,0,0,0]
[{"$f":"basePAGAS!B2336","v":0},16928,"RPV",16928,"2023/0217889-6","2023-06-23","Aguardando pagamento","sem verba para pgto",null,null,null,null,"MS 4.151/DF","1995/0038195-8","1995-07-21","1999-02-12","Administrativo - Servidor Público Civil - Reajustes de Remuneração, Proventos ou Pensão","Ministério da Fazenda","UNIÃO","Mandado de Segurança 4.151/DF","2016/0155893-0","2023-06-02","Mário Celso Freitas Rodrigues","602.354.117-87","Servidor Público Civil Ativo","Diferença de remuneração - 3,17%","Alimentar",6,"Mota & Advogados Associados","03.996.810/0001-38",1,"Mauro Menezes e Advogados","32.901.423/0001-79",1,"Caputo, Bastos e Serra Advogados","12.291.813/0001-67",0," x x x "," x x x ","Dedução de Honorários Contratuais",{"$f":"IF($D2339=\"\",\"\",AO2338)","v":"Não"},"Não","Não","-","-","Não informada","Não Informada","NÃO","2023-06-01",0,0,23651.63,45507.42,69159.05,1419.09,2730.45,4149.54,236.51,455.08000000000004,691.59,236.51,455.08000000000004,691.59,0,0,0,21759.520000000004,41866.810000000005,63626.330000000009,32040.83,3524.49,7048.98,53,18118.91,3524.49,null,null,69159.05,1,1,69159.05,0,0,0,0,0]
[{"$f":"basePAGAS!B1742","v":0},{"$f":"IF(D2371=\"\",\"\",D2371)","v":16960},"RPV",16960,"2023/0220928-2","2023-06-26","Aguardando pagamento","sem verba para pgto",null,null,null,null,"MS 6.318/DF","1999/0035300-5","1999-04-30","2003-02-17","Administrativo - Servidor Público Civil - Reajustes de Remuneração, Proventos ou Pensão - Índice da URV Lei 8.880/1994","Ministério da Fazenda","UNIÃO","Mandado de Segurança 6.318/DF","2010/0013293-3","2020-11-23","Antonio Pereira Da Silva","943.337.188-72","Servidor Público Civil Ativo","Reajuste 3,17%","Alimentar",5,"Teixeira e Lopes Advogados Associados Sociedade Simples","02.993.181/0001-20",3,"Mendes Plutarco Advocacia e Consultoria","17.171.343/0001-11",0," x x x "," x x x ",0," x x x "," x x x ","Dedução de Honorários Contratuais",{"$f":"IF($D2371=\"\",\"\",AO1744)","v":"Não"},"Não","Não","-","-","Não informada","Não Informada",{"$f":"IF($D2371=\"\",\"\",IF(Z2371=\"Anistia Política - Reparação Econômica\",\"SIM\",\"NÃO\"))","v":"NÃO"},"2023-06-01",341.51,741.57,1924.01,{"$f":"IF(BB2371=\"\",\"\",BB2371-AX2371-AY2371-AZ2371)","v":4177.8599999999997},7184.95,{"$f":"IF(BB2371=\"\",\"\",TRUNC(($AX2371+AZ2371)*$AB2371/100,2))","v":113.27},{"$f":"IF(BE2371=\"\",\"\",BE2371-BC2371)","v":245.97000000000003},{"$f":"IF(BB2371=\"\",\"\",TRUNC(BB2371*$AB2371/100,2))","v":359.24},{"$f":"IF(BB2371=\"\",\"\",TRUNC(($AX2371+AZ2371)*$AE2371/100,2))","v":67.959999999999994},{"$f":"IF(BH2371=\"\",\"\",BH2371-BF2371)","v":147.57999999999998},{"$f":"IF(BB2371=\"\",\"\",TRUNC(BB2371*$AE2371/100,2))","v":215.54},{"$f":"IF(BB2371=\"\",\"\",TRUNC(($AX2371+AZ2371)*$AH2371/100,2))","v":0},{"$f":"IF(BK2371=\"\",\"\",BK2371-BI2371)","v":0},{"$f":"IF(BB2371=\"\",\"\",TRUNC(BB2371*$AH2371/100,2))","v":0},{"$f":"IF(BB2371=\"\",\"\",TRUNC(($AX2371+AZ2371)*$AK2371/100,2))","v":0},{"$f":"IF(BN2371=\"\",\"\",BN2371-BL2371)","v":0},{"$f":"IF(BB2371=\"\",\"\",TRUNC(BB2371*$AK2371/100,2))","v":0},{"$f":"IF(BB2371=\"\",\"\",AX2371+AZ2371-BC2371-BF2371-BI2371-BL2371)","v":2084.29},{"$f":"IF(BQ2371=\"\",\"\",BQ2371-BO2371)","v":4525.88},{"$f":"IF(BB2371=\"\",\"\",BB2371-BE2371-BH2371-BK2371-BN2371)","v":6610.17},2265.52,249.2,498.4,19,1690.74,249.2,null,null,{"$f":"CC2371+CE2371","v":7184.95},{"$f":"IF(BZ2371=0,0,1)","v":1},{"$f":"IF(CC2371=0,0,1)","v":1},{"$f":"IF(I2371=\"\",IF(AA2371=\"alimentar\",BB2371,0),0)","v":7184.95},{"$f":"IF(CE2371=0,0,1)","v":0},{"$f":"IF(I2371=\"\",IF(AA2371=\"comum\",BB2371,0),0)","v":0},{"$f":"IF(AND(MONTH(F2371)=MONTH($CH$8),YEAR(F2371)=YEAR($CH$8)),CF1744+1,0)","v":0},{"$f":"IF(CF2371=0,0,D2371)","v":0},{"$f":"IF(AND(CF2371>0,CF2372=0),CF2371,0)","v":0}]
[{"$f":"basePAGAS!B1753","v":0},16971,"RPV",16971,"2023/0225481-0","2023-06-29","Aguardando pagamento","sem verba para pgto",null,null,null,null,"MS 6.318/DF","1999/0035300-5","1999-04-30","2003-02-17","Administrativo - Servidor Público Civil - Reajustes de Remuneração, Proventos ou Pensão - Índice da URV Lei 8.880/1994","Ministério da Fazenda","UNIÃO","Mandado de Segurança 6.318/DF","2010/0014713-4","2022-05-02","Patricia Poyares Franca","023.670.997-66","Servidor Público Civil Ativo","Reajuste 3,17%","Alimentar",5,"Teixeira e Lopes Advogados Associados Sociedade Simples","02.993.181/0001-20",3,"Mendes Plutarco Advocacia e Consultoria","17.171.343/0001-11",0," x x x "," x x x ",0," x x x "," x x x ","Dedução de Honorários Contratuais",{"$f":"IF($D2382=\"\",\"\",AO1755)","v":"Não"},"Não","Não","-","-","Não informada","Não Informada","NÃO","2023-06-01",238,506.65,1340.88,2854.3900000000003,4939.92,78.94,168.05,246.99,47.36,100.83,148.19,0,0,0,0,0,0,1452.5800000000002,3092.1600000000008,4544.7400000000007,1578.88,173.67,347.34,14,1183.7,173.67,null,null,4939.92,1,1,4939.92,0,0,0,0,0]
[{"$f":"basePAGAS!B1787","v":0},17005,"RPV",17005,"2023/0225675-3","2023-06-29","Aguardando pagamento","sem verba para pgto",null,null,null,null,"MS 4.151/DF","1995/0038195-8","1995-07-21","1999-02-12","Administrativo - Servidor Público Civil - Reajustes de Remuneração, Proventos ou Pensão","Ministério da Fazenda","UNIÃO","Mandado de Segurança 4.151/DF","2016/0174888-3","2023-06-02","Sonia Maria Azevedo Conceicao","177.511.285-34","Servidor Público Civil Ativo","Diferença de remuneração - 3,17%","Alimentar",6,"Mota & Advogados Associados","03.996.810/0001-38",1,"Mauro Menezes e Advogados","32.901.423/0001-79",1,"Caputo, Bastos e Serra Advogados","12.291.813/0001-67",0," x x x "," x x x ","Dedução de Honorários Contratuais",{"$f":"IF($D2416=\"\",\"\",AO1789)","v":"Não"},"Não","Não","-","-","Não informada","Não Informada","NÃO","2023-06-01",0,0,24619.98,46103.259999999995,70723.239999999991,1477.19,2766.2000000000003,4243.3900000000003,246.19,461.04,707.23,246.19,461.04,707.23,0,0,0,22650.410000000003,42414.979999999989,65065.389999999992,31517.09,3466.87,6933.74,53,18962.13,3466.87,null,null,70723.239999999991,1,1,70723.239999999991,0,0,0,0,0]
[{"$f":"basePAGAS!B1809","v":0},17027,"RPV",17027,"2023/0226975-5","2023-06-30","Aguardando pagamento","sem verba para pgto",null,null,null,null,"MS 12.215/DF","2006/0195293-3","2006-09-11","2012-10-24","Administrativo - Servidor Público Civil - Sistema Remuneratório e Benefícios - Gratificações de Atividade (PRINCIPAL)","Ministério do Planejamento, Orçamento e Gestão","UNIÃO","Mandado de Segurança 12.215/DF","2016/0035744-0","2021-04-19","Ana Lucia Rezende Costa","328.080.467-15","Servidor Público Civil Inativo","Gratificação de Desempenho de Atividade Técnico-Administrativa- GDPGTAS","Alimentar",5,"Mota & Advogados Associados","03.996.810/0001-38",0," x x x "," x x x ",0," x x x "," x x x ",0," x x x "," x x x ","Dedução de Honorários Contratuais",{"$f":"IF($D2438=\"\",\"\",AO1811)","v":"Não"},"Não","Não","-","-","Não informada","Não Informada","NÃO","2023-06-01",3638.24,2694.49,20497.13,15180.259999999998,42010.119999999995,1206.76,893.74,2100.5,0,0,0,0,0,0,0,0,0,22928.610000000004,16981.009999999991,39909.619999999995,24135.370000000003,2654.89,0,26,22034.870000000003,2654.89,null,null,42010.119999999995,1,1,42010.119999999995,0,0,0,0,0]
[{"$f":"basePAGAS!B1817","v":0},17035,"RPV",17035,"2023/0227006-4","2023-06-30","Aguardando pagamento","sem verba para pgto",null,null,null,null,"MS 12.215/DF","2006/0195293-3","2006-09-11","2012-10-24","Administrativo - Servidor Público Civil - Sistema Remuneratório e Benefícios - Gratificações de Atividade (PRINCIPAL)","Ministério do Planejamento, Orçamento e Gestão","UNIÃO","Mandado de Segurança 12.215/DF","2016/0035744-0","2021-04-19","Fernandina Carvalho de Melo","061.489.215-53","Servidor Público Civil Inativo","Gratificação de Desempenho de Atividade Técnico-Administrativa- GDPGTAS","Alimentar",5,"Mota & Advogados Associados","03.996.810/0001-38",0," x x x "," x x x ",0," x x x "," x x x ",0," x x x "," x x x ","Dedução de Honorários Contratuais",{"$f":"IF($D2446=\"\",\"\",AO1819)","v":"Não"},"Não","Não","-","-","Não informada","Não Informada","NÃO","2023-06-01",4015.38,2948.97,22621.89,16613.93,46200.17,1331.86,978.1400000000001,2310,0,0,0,0,0,0,0,0,0,25305.41,18584.759999999998,43890.17,26637.27,2930.09,0,26,24327.27,2930.09,null,null,46200.17,1,1,46200.17,0,0,0,0,0]
[{"$f":"basePAGAS!B1841","v":0},17059,"RPV",17059,"2023/0227047-0","2023-06-30","Aguardando pagamento","sem verba para pgto",null,null,null,null,"MS 4.151/DF","1995/0038195-8","1995-07-21","1999-02-12","Administrativo - Servidor Público Civil - Reajustes de Remuneração, Proventos ou Pensão","Ministério da Fazenda","UNIÃO","Mandado de Segurança 4.151/DF","2016/0248068-1","2023-06-02","Zilda Helena Martinelo Pires","015.788.178-46","Servidor Público Civil Ativo","Diferença de remuneração - 3,17%","Alimentar",6,"Mota & Advogados Associados","03.996.810/0001-38",1,"Mauro Menezes e Advogados","32.901.423/0001-79",1,"Caputo, Bastos e Serra Advogados","12.291.813/0001-67",0," x x x "," x x x ","Dedução de Honorários Contratuais",{"$f":"IF($D2470=\"\",\"\",AO1843)","v":"Não"},"Não","Não","-","-","Não informada","Não Informada","NÃO","2023-06-01",0,0,26612.080000000002,48652.349999999991,75264.429999999993,1596.72,2919.1399999999994,4515.8599999999997,266.12,486.52,752.64,266.12,486.52,752.64,0,0,0,24483.120000000003,44760.169999999991,69243.289999999994,32056.49,3526.21,7052.42,53,20590.940000000002,3526.21,null,null,75264.429999999993,1,1,75264.429999999993,0,0,0,0,0]
[{"$f":"basePAGAS!B1863","v":0},"","",null,null,null,null,"",null,null,null,null,null,null,null,null,null,null,null,null,null,null,null,null,null,null,null,null,null,null,null,null,null,null,null,null,null,null,null,null,{"$f":"IF($D2492=\"\",\"\",AO1865)","v":""},"","","","","","","",null,null,null,null,"",null,"","","","","","","","","","","","","","","",null,null,null,null,0,null,null,null,0,0,0,0,0,0,0,0,0]
[{"$f":"basePAGAS!B1897","v":0},"","",null,null,null,null,"",null,null,null,null,null,null,null,null,null,null,null,null,null,null,null,null,null,null,null,null,null,null,null,null,null,null,null,null,null,null,null,null,{"$f":"IF($D2526=\"\",\"\",AO1899)","v":""},"","","","","","","",null,null,null,null,"",null,"","","","","","","","","","","","","","","",null,null,null,null,0,null,null,null,0,0,0,0,0,0,0,0,0]
[{"$f":"basePAGAS!B1918","v":0},"","",null,null,null,null,"",null,null,null,null,null,null,null,null,null,null,null,null,null,null,null,null,null,null,null,null,null,null,null,null,null,null,null,null,null,null,null,null,{"$f":"IF($D2547=\"\",\"\",AO1920)","v":""},"","","","","","","",null,null,null,null,"",null,"","","","","","","","","","","","","","","",null,null,null,null,0,null,null,null,0,0,0,0,0,0,0,0,0]
[{"$f":"basePAGAS!B1940","v":0},"","",null,null,null,null,"",null,null,null,null,null,null,null,null,null,null,null,null,null,null,null,null,null,null,null,null,null,null,null,null,null,null,null,null,null,null,null,null,{"$f":"IF($D2569=\"\",\"\",AO1942)","v":""},"","","","","","","",null,null,null,null,"",null,"","","","","","","","","","","","","","","",null,null,null,null,0,null,null,null,0,0,0,0,0,0,0,0,0]
[{"$f":"basePAGAS!B1974","v":0},"","",null,null,null,null,"",null,null,null,null,null,null,null,null,null,null,null,null,null,null,null,null,null,null,null,null,null,null,null,null,null,null,null,null,null,null,null,null,{"$f":"IF($D2603=\"\",\"\",AO1976)","v":""},"","","","","","","",null,null,null,null,"",null,"","","","","","","","","","","","","","","",null,null,null,null,0,null,null,null,0,0,0,0,0,0,0,0,0]
[{"$f":"basePAGAS!B1975","v":0},"","",null,null,null,null,"",null,null,null,null,null,null,null,null,null,null,null,null,null,null,null,null,null,null,null,null,null,null,null,null,null,null,null,null,null,null,null,null,{"$f":"IF($D2604=\"\",\"\",AO1977)","v":""},"","","","","","","",null,null,null,null,"",null,"","","","","","","","","","","","","","","",null,null,null,null,0,null,null,null,0,0,0,0,0,0,0,0,0]
[{"$f":"basePAGAS!B2006","v":0},"","",null,null,null,null,"",null,null,null,null,null,null,null,null,null,null,null,null,null,null,null,null,null,null,null,null,null,null,null,null,null,null,null,null,null,null,null,null,{"$f":"IF($D2635=\"\",\"\",AO2008)","v":""},"","","","","","","",null,null,null,null,"",null,"","","","","","","","","","","","","","","",null,null,null,null,0,null,null,null,0,0,0,0,0,0,0,0,0]
[{"$f":"basePAGAS!B2028","v":0},"","",null,null,null,null,"",null,null,null,null,null,null,null,null,null,null,null,null,null,null,null,null,null,null,null,null,null,null,null,null,null,null,null,null,null,null,null,null,{"$f":"IF($D2657=\"\",\"\",AO2030)","v":""},"","","","","","","",null,null,null,null,"",null,"","","","","","","","","","","","","","","",null,null,null,null,0,null,null,null,0,0,0,0,0,0,0,0,0]
[{"$f":"basePAGAS!B2050","v":0},"","",null,null,null,null,"",null,null,null,null,null,null,null,null,null,null,null,null,null,null,null,null,null,null,null,null,null,null,null,null,null,null,null,null,null,null,null,null,{"$f":"IF($D2679=\"\",\"\",AO2052)","v":""},"","","","","","","",null,null,null,null,"",null,"","","","","","","","","","","","","","","",null,null,null,null,0,null,null,null,0,0,0,0,0,0,0,0,0]
[{"$f":"basePAGAS!B2076","v":0},"","",null,null,null,null,"",null,null,null,null,null,null,null,null,null,null,null,null,null,null,null,null,null,null,null,null,null,null,null,null,null,null,null,null,null,null,null,null,{"$f":"IF($D2705=\"\",\"\",AO2078)","v":""},"","","","","","","",null,null,null,null,"",null,"","","","","","","","","","","","","","","",null,null,null,null,0,null,null,null,0,0,0,0,0,0,0,0,0]
[{"$f":"basePAGAS!B2105","v":0},"","",null,null,null,null,"",null,null,null,null,null,null,null,null,null,null,null,null,null,null,null,null,null,null,null,null,null,null,null,null,null,null,null,null,null,null,null,null,{"$f":"IF($D2734=\"\",\"\",AO2107)","v":""},"","","","","","","",null,null,null,null,"",null,"","","","","","","","","","","","","","","",null,null,null,null,0,null,null,null,0,0,0,0,0,0,0,0,0]
[{"$f":"basePAGAS!B2127","v":0},"","",null,null,null,null,"",null,null,null,null,null,null,null,null,null,null,null,null,null,null,null,null,null,null,null,null,null,null,null,null,null,null,null,null,null,null,null,null,{"$f":"IF($D2756=\"\",\"\",AO2129)","v":""},"","","","","","","",null,null,null,null,"",null,"","","","","","","","","","","","","","","",null,null,null,null,0,null,null,null,0,0,0,0,0,0,0,0,0]
[{"$f":"basePAGAS!B2138","v":0},"",{"$f":"IF(B2767=\"\",\"\",IF(B2767-B2766=1,\"RPV\",\"PULOUUU\"))","v":""},null,null,null,null,"",null,null,null,null,null,null,null,null,null,null,null,null,null,null,null,null,null,null,null,null,null,null,null,null,null,null,null,null,null,null,null,null,{"$f":"IF($D2767=\"\",\"\",AO2140)","v":""},"","","","","","","",null,null,null,null,"",null,"","","","","","","","","","","","","","","",null,null,null,null,0,null,null,null,0,0,0,0,0,0,0,0,0]
[{"$f":"basePAGAS!B2173","v":0},"","",null,null,null,null,"",null,null,null,null,null,null,null,null,null,null,null,null,null,null,null,null,null,null,null,null,null,null,null,null,null,null,null,null,null,null,null,null,{"$f":"IF($D2802=\"\",\"\",AO2175)","v":""},"","","","","","","",null,null,null,null,"",null,"","","","","","","","","","","","","","","",null,null,null,null,0,null,null,null,0,0,0,0,0,0,0,0,0]
[{"$f":"basePAGAS!B2193","v":0},"","",null,null,null,null,"",null,null,null,null,null,null,null,null,null,null,null,null,null,null,null,null,null,null,null,null,null,null,null,null,null,null,null,null,null,null,null,null,{"$f":"IF($D2822=\"\",\"\",AO2195)","v":""},"","","","","","","",null,null,null,null,"",null,"","","","","","","","","","","","","","","",null,null,null,null,0,null,null,null,0,0,0,0,0,0,0,0,0]
[{"$f":"basePAGAS!B2215","v":0},"","",null,null,null,null,"",null,null,null,null,null,null,null,null,null,null,null,null,null,null,null,null,null,null,null,null,null,null,null,null,null,null,null,null,null,null,null,null,{"$f":"IF($D2844=\"\",\"\",AO2217)","v":""},"","","","","","","",null,null,null,null,"",null,"","","","","","","","","","","","","","","",null,null,null,null,0,null,null,null,0,0,0,0,0,0,0,0,0]
[{"$f":"basePAGAS!B2237","v":0},"","",null,null,null,null,"",null,null,null,null,null,null,null,null,null,null,null,null,null,null,null,null,null,null,null,null,null,null,null,null,null,null,null,null,null,null,null,null,{"$f":"IF($D2866=\"\",\"\",AO2239)","v":""},"","","","","","","",null,null,null,null,"",null,"","","","","","","","","","","","","","","",null,null,null,null,0,null,null,null,0,0,0,0,0,0,0,0,0]
[{"$f":"basePAGAS!B2252","v":0},"","",null,null,null,null,"",null,null,null,null,null,null,null,null,null,null,null,null,null,null,null,null,null,null,null,null,null,null,null,null,null,null,null,null,null,null,null,null,{"$f":"IF($D2881=\"\",\"\",AO2254)","v":""},"","","","","","","",null,null,null,null,"",null,"","","","","","","","","","","","","","","",null,null,null,null,0,null,null,null,0,0,0,0,0,0,0,0,0]
[{"$f":"basePAGAS!B2292","v":0},"","",null,null,null,null,"",null,null,null,null,null,null,null,null,null,null,null,null,null,null,null,null,null,null,null,null,null,null,null,null,null,null,null,null,null,null,null,null,{"$f":"IF($D2921=\"\",\"\",AO2294)","v":""},"","","","","","","",null,null,null,null,"",null,"","","","","","","","","","","","","","","",null,null,null,null,0,null,null,null,0,0,0,0,0,0,0,0,0]
[{"$f":"basePAGAS!B2314","v":0},"","",null,null,null,null,"",null,null,null,null,null,null,null,null,null,null,null,null,null,null,null,null,null,null,null,null,null,null,null,null,null,null,null,null,null,null,null,null,{"$f":"IF($D2943=\"\",\"\",AO2316)","v":""},"","","","","","","",null,null,null,null,"",null,"","","","","","","","","","","","","","","",null,null,null,null,0,null,null,null,0,0,0,0,0,0,0,0,0]
[{"$f":"basePAGAS!B2325","v":0},"","",null,null,null,null,"",null,null,null,null,null,null,null,null,null,null,null,null,null,null,null,null,null,null,null,null,null,null,null,null,null,null,null,null,null,null,null,null,{"$f":"IF($D2954=\"\",\"\",AO2327)","v":""},"","","","","","","",null,null,null,null,"",null,"","","","","","","","","","","","","","","",null,null,null,null,0,null,null,null,0,0,0,0,0,0,0,0,0]
[{"$f":"basePAGAS!B2339","v":0},"","",null,null,null,null,"",null,null,null,null,null,null,null,null,null,null,null,null,null,null,null,null,null,null,null,null,null,null,null,null,null,null,null,null,null,null,null,null,{"$f":"IF($D2968=\"\",\"\",AO2341)","v":""},"","","","","","","",null,null,null,null,"",null,"","","","","","","","","","","","","","","",null,null,null,null,0,null,null,null,0,0,0,0,0,0,0,0,0]
[{"$f":"basePAGAS!B2340","v":0},"","",null,null,null,null,"",null,null,null,null,null,null,null,null,null,null,null,null,null,null,null,null,null,null,null,null,null,null,null,null,null,null,null,null,null,null,null,null,{"$f":"IF($D2969=\"\",\"\",AO2342)","v":""},"","","","","","","",null,null,null,null,"",null,"","","","","","","","","","","","","","","",null,null,null,null,0,null,null,null,0,0,0,0,0,0,0,0,0]
[{"$f":"basePAGAS!B2341","v":0},"","",null,null,null,null,"",null,null,null,null,null,null,null,null,null,null,null,null,null,null,null,null,null,null,null,null,null,null,null,null,null,null,null,null,null,null,null,null,{"$f":"IF($D2970=\"\",\"\",AO2343)","v":""},"","","","","","","",null,null,null,null,"",null,"","","","","","","","","","","","","","","",null,null,null,null,0,null,null,null,0,0,0,0,0,0,0,0,0]
[{"$f":"basePAGAS!B2342","v":0},"","",null,null,null,null,"",null,null,null,null,null,null,null,null,null,null,null,null,null,null,null,null,null,null,null,null,null,null,null,null,null,null,null,null,null,null,null,null,{"$f":"IF($D2971=\"\",\"\",AO2344)","v":""},"","","","","","","",null,null,null,null,"",null,"","","","","","","","","","","","","","","",null,null,null,null,0,null,null,null,0,0,0,0,0,0,0,0,0]
[{"$f":"basePAGAS!B2343","v":0},"","",null,null,null,null,"",null,null,null,null,null,null,null,null,null,null,null,null,null,null,null,null,null,null,null,null,null,null,null,null,null,null,null,null,null,null,null,null,{"$f":"IF($D2972=\"\",\"\",AO2345)","v":""},"","","","","","","",null,null,null,null,"",null,"","","","","","","","","","","","","","","",null,null,null,null,0,null,null,null,0,0,0,0,0,0,0,0,0]
[{"$f":"basePAGAS!B2344","v":0},"","",null,null,null,null,"",null,null,null,null,null,null,null,null,null,null,null,null,null,null,null,null,null,null,null,null,null,null,null,null,null,null,null,null,null,null,null,null,{"$f":"IF($D2973=\"\",\"\",AO2346)","v":""},"","","","","","","",null,null,null,null,"",null,"","","","","","","","","","","","","","","",null,null,null,null,0,null,null,null,0,0,0,0,0,0,0,0,0]
[{"$f":"basePAGAS!B2345","v":0},"","",null,null,null,null,"",null,null,null,null,null,null,null,null,null,null,null,null,null,null,null,null,null,null,null,null,null,null,null,null,null,null,null,null,null,null,null,null,{"$f":"IF($D2974=\"\",\"\",AO2347)","v":""},"","","","","","","",null,null,null,null,"",null,"","","","","","","","","","","","","","","",null,null,null,null,0,null,null,null,0,0,0,0,0,0,0,0,0]
[{"$f":"basePAGAS!B2346","v":0},"","",null,null,null,null,"",null,null,null,null,null,null,null,null,null,null,null,null,null,null,null,null,null,null,null,null,null,null,null,null,null,null,null,null,null,null,null,null,{"$f":"IF($D2975=\"\",\"\",AO2348)","v":""},"","","","","","","",null,null,null,null,"",null,"","","","","","","","","","","","","","","",null,null,null,null,0,null,null,null,0,0,0,0,0,0,0,0,0]
[{"$f":"basePAGAS!B2347","v":0},"","",null,null,null,null,"",null,null,null,null,null,null,null,null,null,null,null,null,null,null,null,null,null,null,null,null,null,null,null,null,null,null,null,null,null,null,null,null,{"$f":"IF($D2976=\"\",\"\",AO2349)","v":""},"","","","","","","",null,null,null,null,"",null,"","","","","","","","","","","","","","","",null,null,null,null,0,null,null,null,0,0,0,0,0,0,0,0,0]
[{"$f":"basePAGAS!B2348","v":0},"","",null,null,null,null,"",null,null,null,null,null,null,null,null,null,null,null,null,null,null,null,null,null,null,null,null,null,null,null,null,null,null,null,null,null,null,null,null,{"$f":"IF($D2977=\"\",\"\",AO2350)","v":""},"","","","","","","",null,null,null,null,"",null,"","","","","","","","","","","","","","","",null,null,null,null,0,null,null,null,0,0,0,0,0,0,0,0,0]
[{"$f":"basePAGAS!B2349","v":0},"","",null,null,null,null,"",null,null,null,null,null,null,null,null,null,null,null,null,null,null,null,null,null,null,null,null,null,null,null,null,null,null,null,null,null,null,null,null,{"$f":"IF($D2978=\"\",\"\",AO2351)","v":""},"","","","","","","",null,null,null,null,"",null,"","","","","","","","","","","","","","","",null,null,null,null,0,null,null,null,0,0,0,0,0,0,0,0,0]
[{"$f":"basePAGAS!B2350","v":0},"","",null,null,null,null,"",null,null,null,null,null,null,null,null,null,null,null,null,null,null,null,null,null,null,null,null,null,null,null,null,null,null,null,null,null,null,null,null,{"$f":"IF($D2979=\"\",\"\",AO2352)","v":""},"","","","","","","",null,null,null,null,"",null,"","","","","","","","","","","","","","","",null,null,null,null,0,null,null,null,0,0,0,0,0,0,0,0,0]
[{"$f":"basePAGAS!B2351","v":0},"","",null,null,null,null,"",null,null,null,null,null,null,null,null,null,null,null,null,null,null,null,null,null,null,null,null,null,null,null,null,null,null,null,null,null,null,null,null,{"$f":"IF($D2980=\"\",\"\",AO2353)","v":""},"","","","","","","",null,null,null,null,"",null,"","","","","","","","","","","","","","","",null,null,null,null,0,null,null,null,0,0,0,0,0,0,0,0,0]
[{"$f":"basePAGAS!B2352","v":0},"","",null,null,null,null,"",null,null,null,null,null,null,null,null,null,null,null,null,null,null,null,null,null,null,null,null,null,null,null,null,null,null,null,null,null,null,null,null,{"$f":"IF($D2981=\"\",\"\",AO2354)","v":""},"","","","","","","",null,null,null,null,"",null,"","","","","","","","","","","","","","","",null,null,null,null,0,null,null,null,0,0,0,0,0,0,0,0,0]
[{"$f":"basePAGAS!B2353","v":0},"","",null,null,null,null,"",null,null,null,null,null,null,null,null,null,null,null,null,null,null,null,null,null,null,null,null,null,null,null,null,null,null,null,null,null,null,null,null,{"$f":"IF($D2982=\"\",\"\",AO2355)","v":""},"","","","","","","",null,null,null,null,"",null,"","","","","","","","","","","","","","","",null,null,null,null,0,null,null,null,0,0,0,0,0,0,0,0,0]
[{"$f":"basePAGAS!B2354","v":0},"","",null,null,null,null,"",null,null,null,null,null,null,null,null,null,null,null,null,null,null,null,null,null,null,null,null,null,null,null,null,null,null,null,null,null,null,null,null,{"$f":"IF($D2983=\"\",\"\",AO2356)","v":""},"","","","","","","",null,null,null,null,"",null,"","","","","","","","","","","","","","","",null,null,null,null,0,null,null,null,0,0,0,0,0,0,0,0,0]
[{"$f":"basePAGAS!B2355","v":0},"","",null,null,null,null,"",null,null,null,null,null,null,null,null,null,null,null,null,null,null,null,null,null,null,null,null,null,null,null,null,null,null,null,null,null,null,null,null,{"$f":"IF($D2984=\"\",\"\",AO2357)","v":""},"","","","","","","",null,null,null,null,"",null,"","","","","","","","","","","","","","","",null,null,null,null,0,null,null,null,0,0,0,0,0,0,0,0,0]
[{"$f":"basePAGAS!B2356","v":0},"","",null,null,null,null,"",null,null,null,null,null,null,null,null,null,null,null,null,null,null,null,null,null,null,null,null,null,null,null,null,null,null,null,null,null,null,null,null,{"$f":"IF($D2985=\"\",\"\",AO2358)","v":""},"","","","","","","",null,null,null,null,"",null,"","","","","","","","","","","","","","","",null,null,null,null,0,null,null,null,0,0,0,0,0,0,0,0,0]
[{"$f":"basePAGAS!B2357","v":0},"","",null,null,null,null,"",null,null,null,null,null,null,null,null,null,null,null,null,null,null,null,null,null,null,null,null,null,null,null,null,null,null,null,null,null,null,null,null,{"$f":"IF($D2986=\"\",\"\",AO2359)","v":""},"","","","","","","",null,null,null,null,"",null,"","","","","","","","","","","","","","","",null,null,null,null,0,null,null,null,0,0,0,0,0,0,0,0,0]
[{"$f":"basePAGAS!B2358","v":0},"","",null,null,null,null,"",null,null,null,null,null,null,null,null,null,null,null,null,null,null,null,null,null,null,null,null,null,null,null,null,null,null,null,null,null,null,null,null,{"$f":"IF($D2987=\"\",\"\",AO2360)","v":""},"","","","","","","",null,null,null,null,"",null,"","","","","","","","","","","","","","","",null,null,null,null,0,null,null,null,0,0,0,0,0,0,0,0,0]
[{"$f":"basePAGAS!B2359","v":0},"","",null,null,null,null,"",null,null,null,null,null,null,null,null,null,null,null,null,null,null,null,null,null,null,null,null,null,null,null,null,null,null,null,null,null,null,null,null,{"$f":"IF($D2988=\"\",\"\",AO2361)","v":""},"","","","","","","",null,null,null,null,"",null,"","","","","","","","","","","","","","","",null,null,null,null,0,null,null,null,0,0,0,0,0,0,0,0,0]
[{"$f":"basePAGAS!B2360","v":0},"","",null,null,null,null,"",null,null,null,null,null,null,null,null,null,null,null,null,null,null,null,null,null,null,null,null,null,null,null,null,null,null,null,null,null,null,null,null,{"$f":"IF($D2989=\"\",\"\",AO2362)","v":""},"","","","","","","",null,null,null,null,"",null,"","","","","","","","","","","","","","","",null,null,null,null,0,null,null,null,0,0,0,0,0,0,0,0,0]
[{"$f":"basePAGAS!B2361","v":0},"","",null,null,null,null,"",null,null,null,null,null,null,null,null,null,null,null,null,null,null,null,null,null,null,null,null,null,null,null,null,null,null,null,null,null,null,null,null,{"$f":"IF($D2990=\"\",\"\",AO2363)","v":""},"","","","","","","",null,null,null,null,"",null,"","","","","","","","","","","","","","","",null,null,null,null,0,null,null,null,0,0,0,0,0,0,0,0,0]
[{"$f":"basePAGAS!B2362","v":0},"","",null,null,null,null,"",null,null,null,null,null,null,null,null,null,null,null,null,null,null,null,null,null,null,null,null,null,null,null,null,null,null,null,null,null,null,null,null,{"$f":"IF($D2991=\"\",\"\",AO2364)","v":""},"","","","","","","",null,null,null,null,"",null,"","","","","","","","","","","","","","","",null,null,null,null,0,null,null,null,0,0,0,0,0,0,0,0,0]
[{"$f":"basePAGAS!B2363","v":0},"","",null,null,null,null,"",null,null,null,null,null,null,null,null,null,null,null,null,null,null,null,null,null,null,null,null,null,null,null,null,null,null,null,null,null,null,null,null,{"$f":"IF($D2992=\"\",\"\",AO2365)","v":""},"","","","","","","",null,null,null,null,"",null,"","","","","","","","","","","","","","","",null,null,null,null,0,null,null,null,0,0,0,0,0,0,0,0,0]
[{"$f":"basePAGAS!B2364","v":0},"","",null,null,null,null,"",null,null,null,null,null,null,null,null,null,null,null,null,null,null,null,null,null,null,null,null,null,null,null,null,null,null,null,null,null,null,null,null,{"$f":"IF($D2993=\"\",\"\",AO2366)","v":""},"","","","","","","",null,null,null,null,"",null,"","","","","","","","","","","","","","","",null,null,null,null,0,null,null,null,0,0,0,0,0,0,0,0,0]
[{"$f":"basePAGAS!B2365","v":0},"","",null,null,null,null,"",null,null,null,null,null,null,null,null,null,null,null,null,null,null,null,null,null,null,null,null,null,null,null,null,null,null,null,null,null,null,null,null,{"$f":"IF($D2994=\"\",\"\",AO2367)","v":""},"","","","","","","",null,null,null,null,"",null,"","","","","","","","","","","","","","","",null,null,null,null,0,null,null,null,0,0,0,0,0,0,0,0,0]
[{"$f":"basePAGAS!B2366","v":0},"","",null,null,null,null,"",null,null,null,null,null,null,null,null,null,null,null,null,null,null,null,null,null,null,null,null,null,null,null,null,null,null,null,null,null,null,null,null,{"$f":"IF($D2995=\"\",\"\",AO2368)","v":""},"","","","","","","",null,null,null,null,"",null,"","","","","","","","","","","","","","","",null,null,null,null,0,null,null,null,0,0,0,0,0,0,0,0,0]
[{"$f":"basePAGAS!B2367","v":0},"","",null,null,null,null,"",null,null,null,null,null,null,null,null,null,null,null,null,null,null,null,null,null,null,null,null,null,null,null,null,null,null,null,null,null,null,null,null,{"$f":"IF($D2996=\"\",\"\",AO2369)","v":""},"","","","","","","",null,null,null,null,"",null,"","","","","","","","","","","","","","","",null,null,null,null,0,null,null,null,0,0,0,0,0,0,0,0,0]
[{"$f":"basePAGAS!B2368","v":0},"","",null,null,null,null,{"$f":"IF(G2997=\"\",\"\",IF(G2997=\"aguardando pagamento\",\"sem verba para pgto\",\"\"))","v":""},null,null,null,null,null,null,null,null,null,null,null,null,null,null,null,null,null,null,null,null,null,null,null,null,null,null,null,null,null,null,null,null,{"$f":"IF($D2997=\"\",\"\",AO2370)","v":""},"","","","","","","",null,null,null,null,"",null,"","","","","","","","","","","","","","","",null,null,null,null,{"$f":"IF(BU2997=0,0,BQ2997)","v":0},null,null,null,0,0,0,0,0,0,{"$f":"IF(AND(MONTH(F2997)=MONTH($CH$8),YEAR(F2997)=YEAR($CH$8)),CF2370+1,0)","v":0},0,0]
[null,null,"<><><>","<><><>","<><><>","<><><>","<><><>","<><><>","<><><>","<><><>","<><><>","<><><>","<><><>","<><><>","<><><>","<><><>","<><><>","<><><>","<><><>","<><><>","<><><>","<><><>","<><><>","<><><>","<><><>","<><><>","<><><>","<><><>","<><><>","<><><>","<><><>","<><><>","<><><>","<><><>","<><><>","<><><>","<><><>","<><><>","<><><>","<><><>","<><><>","<><><>","<><><>","<><><>","<><><>","<><><>","<><><>","<><><>","<><><>","<><><>","<><><>","<><><>","<><><>","<><><>","<><><>","<><><>","<><><>","<><><>","<><><>","<><><>","<><><>","<><><>","<><><>","<><><>","<><><>","<><><>","<><><>","<><><>","<><><>","<><><>","<><><>","<><><>","<><><>","<><><>","<><><>","<><><>","<><><>","<><><>","<><><>","<><><>","<><><>","<><><>","<><><>","<><><>","<><><>","<><><>","<><><>"]

{"sheet":"basePAGAS","index":2,"n_rows":3274,"n_cols":166,"rows_kept":562,"cut":true,"hidden":false,"merged":[[2,0,2,8],[4,7,6,7],[5,5,6,5],[4,1,4,6],[5,4,6,4],[5,6,6,6],[2,9,2,14],[5,18,6,18],[5,19,6,19],[4,16,6,16],[4,17,4,21],[5,17,6,17],[4,8,4,10],[5,11,6,11],[5,8,6,8],[5,9,6,9],[5,10,6,10],[4,11,4,13],[4,0,6,0],[5,2,6,2],[5,1,6,1],[5,3,6,3],[4,15,6,15],[5,64,5,65],[5,43,5,45],[5,58,5,60],[5,46,5,48],[5,49,5,51],[5,20,6,20],[5,21,6,21],[5,12,6,12],[5,29,6,29],[5,30,6,30],[5,13,6,13],[4,14,6,14],[4,22,4,34],[5,31,6,31],[5,32,6,32],[5,33,6,33],[5,22,6,22],[5,108,5,110],[5,96,5,98],[5,85,5,87],[4,90,4,111],[5,76,5,78],[4,35,4,42],[4,43,4,65],[5,23,6,23],[5,24,6,24],[5,25,6,25],[5,26,6,26],[5,27,6,27],[5,28,6,28],[5,34,6,34],[5,41,6,41],[5,42,6,42],[5,35,6,35],[5,55,5,57],[5,52,5,54],[5,38,6,38],[5,39,6,39],[5,40,6,40],[5,36,6,36],[5,37,6,37],[5,148,5,150],[5,142,6,142],[5,147,6,147],[5,143,6,143],[5,146,6,146],[5,61,5,63],[4,67,4,88],[5,67,5,69],[5,70,5,72],[5,73,5,75],[5,82,5,84],[5,79,5,81],[5,144,6,144],[5,145,6,145],[5,114,6,114],[5,128,6,128],[5,119,6,119],[5,120,6,120],[4,119,4,129],[4,112,4,118],[5,112,6,112],[5,125,5,127],[5,122,6,122],[5,124,6,124],[5,99,5,101],[5,90,5,92],[5,105,5,107],[5,93,5,95],[5,102,5,104],[3,160,3,161],[2,166,2,168],[4,131,4,140],[5,137,5,139],[5,134,6,134],[5,121,6,121],[5,123,6,123],[5,117,5,118],[5,115,5,116],[5,135,6,135],[5,136,6,136],[5,132,6,132],[5,133,6,133],[5,131,6,131],[4,153,4,158],[5,158,6,158],[4,142,4,151],[5,157,6,157],[5,153,6,153]],"bounds":{"rows_first":250,"rows_last":62,"rows_between":250,"halvings":3}}
[5425,2,{"$f":"B1+1","v":3},4,5,6,7,8,9,10,11,12,13,14,15,16,17,18,19,20,21,22,23,24,25,26,27,28,29,30,31,32,33,34,{"$f":"AH1+1","v":35},36,37,38,39,40,41,42,43,44,45,46,47,48,49,50,51,52,53,54,55,56,57,58,59,60,61,62,63,64,65,66,{"$f":"BN1+1","v":67},68,69,70,71,72,73,74,75,76,77,78,79,80,81,82,83,84,85,86,87,88,89,90,91,92,93,94,95,96,97,98,{"$f":"CT1+1","v":99},100,101,102,103,104,105,106,107,108,109,110,111,112,113,114,115,116,117,118,119,120,121,122,123,124,125,126,127,128,129,130,{"$f":"DZ1+1","v":131},132,133,134,135,136,137,138,139,140,141,142,143,144,145,146,147,148,149,150,151,152,153]
[null,null,null,null,null,{"$f":"A1+1","v":5426},{"$f":"A1-1","v":5424},null,null,null,null,null,null,null,null,null,null,null,null,null,null,null,null,null,null,null,null,null,null,null,null,null,null,null,null,null,null,null,null,null,null,null,null,null,null,null,null,null,null,null,null,null,null,null,null,null,null,null,null,null,null,null,null,null,null,null,null,null,null,null,null,null,null,null,null,null,null,null,null,null,null,null,null,null,null,null,null,null,null,null,null,null,null,null,null,null,null,null,null,null,null,null,null,null,null,null,null,null,null,null,null,null,null,null,null,null,null,null,null,null,null,null,null,null,null,null,null,null,null,null,null,null,null,null,null,null,null,null,null,null,null,null,null,null,null,null,null,null,null,null,null,null,null,null,null,null,null,null,null,null,"RPV SELECIONADA"]
["CONTROLE DAS RPVs PAGAS - 2018 em DIANTE",null,null,null,null,null,null,null,null,"VALORES A SEREM BLOQUEADOS DEVERÃO SER INFORMADOS NAS LINHAS E COLUNAS CORRESPONDENTES",null,null,null,null,null,null,null,null,null,null,null,null,null,null,null,null,null,null,null,null,null,null,null,null,null,null,null,null,null,null,null,null,null,null,null,null,null,null,null,null,null,null,null,null,null,null,null,null,null,null,null,null,null,null,null,null,null,null,null,null,null,null,null,null,null,null,null,null,null,null,null,null,null,null,null,null,null,null,null,null,null,null,null,null,null,null,null,null,null,null,null,null,null,null,null,null,null,null,null,null,null,null,null,null,null,null,null,null,null,null,null,null,null,null,null,null,null,null,null,null,null,null,null,null,null,null,null,null,null,null,null,null,null,null,null,null,null,null,null,null,null,null,null,null,null,null,null,null,null,null,{"$f":"CONSULTA!E13","v":14808}]
[null,null,null,null,null,null,null,null,null,null,null,null,null,null,null,null,null,null,null,null,null,null,null,null,null,null,null,null,null,null,null,null,null,null,null,null,null,null,null,null,null,null,null,null,null,null,null,null,null,null,null,null,null,null,null,null,null,null,null,null,null,null,null,null,null,null,null,null,null,null,null,null,null,null,null,null,null,null,null,null,null,null,null,null,null,null,null,null,null,null,null,null,null,null,null,null,null,null,null,null,null,null,null,null,null,null,null,null,null,null,null,null,null,null,null,null,null,null,null,null,null,null,null,null,null,null,null,null,null,null,null,null,null,null,null,null,null,null,null,null,null,null,null,null,null,null,null,null,null,null,null,null,null,null,null,null,null,null,null,null,"sequenciais das RPVs para enviar ao pagto",null,"inicial","final"]
["seq","RPV A SER PAGA",null,null,null,null,null,"Nº da remessa","ORIGEM",null,null,"EXECUÇÃO",null,null,"ENTIDADE DEVEDORA","TIPO DE CAUSA","NATUREZA CRÉDITO","R E Q U E R E N T E",null,null,null,null,"A D V O G A D O S",null,null,null,null,null,null,null,null,null,null,null,null,"INDICADORES DA RV",null,null,null,null,null,null,null,"VALORES REQUISITADOS para PAGAMENTO",null,null,null,null,null,null,null,null,null,null,null,null,null,null,null,null,null,null,null,null,null,null,null,"VALORES REQUISITADOS   >>>>   BLOQUEAR",null,null,null,null,null,null,null,null,null,null,null,null,null,null,null,null,null,null,null,null,null,null,"VALORES REQUISITADOS     >>>     PAGAR",null,null,null,null,null,null,null,null,null,null,null,null,null,null,null,null,null,null,null,null,null,"A T U A L I Z A Ç Ã O    D A S    P A R C E L A S",null,null,null,null,null,null,"Valores atualizados  >>  TOTAL",null,null,null,null,null,null,null,null,null,null,null,"Valores atualizados     >>     BLOQUEAR/recolhimento via GRU",null,null,null,null,null,null,null,null,null,null,"Valores atualizados     >>     PAGAR",null,null,null,null,null,null,null,null,null,null,"PARA ELABORAÇÃO DO RELATÓRIOS DAS RPVs PAGAS EM",null,null,null,null,null,null,{"$f":"CONSULTA!G13","v":"Paga em JUN-2023 - 1ª remessa"},null,{"$f":"SUM(FG9:FG3156)","v":634},{"$f":"SUM(FH9:FH3156)","v":753}]
[null,"Nº","Registro   STJ","Autuada em","SITUAÇÃO","Data do pgto","BLOQUEIO",null,"Ação","Ajuizada em","Trânsito","Ação","Registro","Trânsito",null,null,null,"Nome","CPF / CNPJ","Situação Funcional","Origem do crédito","Órgão de origem","% hon","ADVOGADO I","CPF / CNPJ","% hon","ADVOGADO I I","CPF / CNPJ","% hon","ADVOGADO    I I I","CPF / CNPJ","% hon","ADVOGADO    I V","CPF / CNPJ","Origem do crédito","Tributário","EC 94 2016","Lei 13.463 2017","PRC/RPV de origem","Nº DA GRU","DOENÇA GRAVE","Deficiência física","Isento de IR","TOTAL REQUISITADO",null,null,"VALOR ADV I",null,null,"VALOR ADV II",null,null,"VALOR ADV III",null,null,"VALOR ADV IV",null,null,"VALOR RQTE",null,null,"P S S",null,null,"R R A",null,null,"TOTAL A BLOQUEAR",null,null,"VALOR ADV I",null,null,"VALOR ADV II",null,null,"VALOR ADV III",null,null,"VALOR ADV IV",null,null,"VALOR RQTE",null,null,"P S S",null,null,"RRA",null,"TOTAL INCONTROVERSO",null,null,"VALOR ADV I",null,null,"VALOR ADV II",null,null,"VALOR ADV III",null,null,"VALOR ADV IV",null,null,"VALOR REQTE",null,null,"P S S",null,null,"RRA","data base","IPCA-e","Taxa SELIC","Valores atualizados (ipca-e)",null,"parcelas SELIC sobre",null,"TOTAL","ADV I","ADV II","ADV III","ADV IV","REQTE","P S S",null,null,"Exerc. Anteriores","RRA",null,"TOTAL","ADV I","ADV II","ADV III","ADV IV","REQTE","P S S",null,null,"RRA",null,"TOTAL","ADV I","ADV II","ADV III","ADV IV","REQTE","P S S",null,null,"RRA",null,{"$f":"CONSULTA!R20","v":"2023-06-01"},null,"seq final","seq inicial"]
[null,null,null,null,null,null,null,null,null,null,null,null,null,null,null,null,null,null,null,null,null,null,null,null,null,null,null,null,null,null,null,null,null,null,null,null,null,null,null,null,null,null,null,"principal","juros","total","principal","juros","total","principal","juros","total","principal","juros","total","principal","juros","total","principal","juros","total","Base","Desc","Patronal","NMA","Desc",null,"principal","juros","total","principal","juros","subtotal","principal","juros","subtotal","principal","juros","subtotal","principal","juros","subtotal","principal","juros","subtotal","Base","Desc","Patronal","Desc",null,"principal","juros","total","principal","juros","subtotal","principal","juros","subtotal","principal","juros","subtotal","principal","juros","subtotal","principal","juros","subtotal","Base","Desc","Patronal","Desc",null,"2021-12-01",null,"principal","juros","principal","juros",null,null,null,null,null,null,"Base","Desc","Patronal",null,"Desc",null,null,null,null,null,null,null,"Base","Desc","Patronal","Desc",null,null,null,null,null,null,null,"Base","Desc","Patronal","Desc",null,null,null,{"$f":"SUM(EZ9:EZ3156)","v":886},{"$f":"SUM(FA9:FA3156)","v":634}]
[]
[1,14159,{"$f":"IF(B9=\"\",\"\",VLOOKUP(B9,expedidas,4))","v":"2022/0181319-0"},{"$f":"IF(B9=\"\",\"\",VLOOKUP(B9,expedidas,5))","v":"2022-06-10"},{"$f":"IF(B9=\"\",\"\",VLOOKUP(B9,expedidas,7))","v":"Paga em FEV-2023 - 1ª remessa"},{"$f":"IF(B9=\"\",\"\",VLOOKUP(B9,expedidas,8))","v":"2023-02-01"},{"$f":"IF(B9=\"\",\"\",VLOOKUP(B9,expedidas,9))","v":"NÃO"},{"$f":"IF(B9=\"\",\"\",VLOOKUP(B9,expedidas,11))","v":1},{"$f":"IF(B9=\"\",\"\",VLOOKUP(B9,expedidas,12))","v":"MS 4.151/DF"},{"$f":"IF(B9=\"\",\"\",VLOOKUP(B9,expedidas,14))","v":"1995-07-21"},{"$f":"IF(B9=\"\",\"\",VLOOKUP(B9,expedidas,15))","v":"1999-02-12"},{"$f":"IF(B9=\"\",\"\",VLOOKUP(B9,expedidas,19))","v":"Mandado de Segurança 4.151/DF"},{"$f":"IF(B9=\"\",\"\",VLOOKUP(B9,expedidas,20))","v":"2016/0153098-9"},{"$f":"IF(B9=\"\",\"\",VLOOKUP(B9,expedidas,21))","v":"2022-05-09"},{"$f":"IF(B9=\"\",\"\",VLOOKUP(B9,expedidas,18))","v":"UNIÃO"},{"$f":"IF(B9=\"\",\"\",VLOOKUP(B9,expedidas,16))","v":"Administrativo - Servidor Público Civil - Reajustes de Remuneração, Proventos ou Pensão"},{"$f":"IF(B9=\"\",\"\",VLOOKUP(B9,expedidas,26))","v":"Alimentar"},{"$f":"IF(B9=\"\",\"\",VLOOKUP(B9,expedidas,22))","v":"Luis Carlos Cebrian"},{"$f":"IF(B9=\"\",\"\",VLOOKUP(B9,expedidas,23))","v":"027.592.378-93"},{"$f":"IF(B9=\"\",\"\",VLOOKUP(B9,expedidas,24))","v":"Servidor Público Civil Ativo"},{"$f":"IF(B9=\"\",\"\",VLOOKUP(B9,expedidas,25))","v":"Diferença de remuneração - 3,17%"},{"$f":"IF(B9=\"\",\"\",VLOOKUP(B9,expedidas,17))","v":"Ministério da Fazenda"},{"$f":"IF(B9=\"\",\"\",VLOOKUP(B9,expedidas,27))","v":6},{"$f":"IF(B9=\"\",\"\",IF(W9=0,\" x x x \",VLOOKUP(B9,expedidas,28)))","v":"Mota & Advogados Associados"},{"$f":"IF(B9=\"\",\"\",VLOOKUP(B9,expedidas,29))","v":"03.996.810/0001-38"},{"$f":"IF(B9=\"\",\"\",VLOOKUP(B9,expedidas,30))","v":1},{"$f":"IF(B9=\"\",\"\",VLOOKUP(B9,expedidas,31))","v":"Mauro Menezes e Advogados"},{"$f":"IF(B9=\"\",\"\",IF(Z9=0,\"x x x\",VLOOKUP(B9,expedidas,32)))","v":"32.901.423/0001-79"},{"$f":"IF(B9=\"\",\"\",VLOOKUP(B9,expedidas,33))","v":1},{"$f":"IF(B9=\"\",\"\",IF(AC9=0,\" x x x \",VLOOKUP(B9,expedidas,34)))","v":"Caputo, Bastos e Serra Advogados"},{"$f":"IF(B9=\"\",\"\",IF(AC9=0,\" x x x \",VLOOKUP(B9,expedidas,35)))","v":"12.291.813/0001-67"},{"$f":"IF(B9=\"\",\"\",VLOOKUP(B9,expedidas,36))","v":0},{"$f":"IF(B9=\"\",\"\",IF(AF9=0,\" x x x \",VLOOKUP(B9,expedidas,37)))","v":" x x x "},{"$f":"IF(B9=\"\",\"\",IF(AF9=0,\" x x x \",VLOOKUP(B9,expedidas,38)))","v":" x x x "},{"$f":"IF(B9=\"\",\"\",VLOOKUP(B9,expedidas,39))","v":"Dedução de Honorários Contratuais"},{"$f":"IF(B9=\"\",\"\",VLOOKUP(B9,expedidas,40))","v":"Não"},{"$f":"IF(B9=\"\",\"\",VLOOKUP(B9,expedidas,41))","v":"Não"},{"$f":"IF(B9=\"\",\"\",VLOOKUP(B9,expedidas,42))","v":"Não"},{"$f":"IF(B9=\"\",\"\",VLOOKUP(B9,expedidas,43))","v":"-"},{"$f":"IF(B9=\"\",\"\",VLOOKUP(B9,expedidas,44))","v":"-"},{"$f":"IF(B9=\"\",\"\",VLOOKUP(B9,expedidas,45))","v":"Não informada"},{"$f":"IF(B9=\"\",\"\",VLOOKUP(B9,expedidas,46))","v":"Não Informada"},{"$f":"IF(B9=\"\",\"\",VLOOKUP(B9,expedidas,47))","v":"Não"},{"$f":"IF(B9=\"\",\"\",IF(I9=\"MS 11.371/DF\",0,VLOOKUP(B9,expedidas,49)+VLOOKUP(B9,expedidas,51)))","v":18612.080000000002},{"$f":"IF(B9=\"\",\"\",IF(I9=\"MS 11.371/DF\",AT9,VLOOKUP(B9,expedidas,52)))","v":38053.449999999997},{"$f":"IF(B9=\"\",\"\",VLOOKUP(B9,expedidas,53))","v":56665.53},{"$f":"IF(B9=\"\",\"\",IF(I9=\"MS 11.371/DF\",0,VLOOKUP(B9,expedidas,54)))","v":1116.72},{"$f":"IF(B9=\"\",\"\",IF(I9=\"MS 11.371/DF\",AW9,VLOOKUP(B9,expedidas,55)))","v":2283.21},{"$f":"IF(B9=\"\",\"\",VLOOKUP(B9,expedidas,56))","v":3399.93},{"$f":"IF(B9=\"\",\"\",VLOOKUP(B9,expedidas,57))","v":186.12},{"$f":"IF(B9=\"\",\"\",VLOOKUP(B9,expedidas,58))","v":380.53},{"$f":"IF(B9=\"\",\"\",VLOOKUP(B9,expedidas,59))","v":566.65},{"$f":"IF(B9=\"\",\"\",VLOOKUP(B9,expedidas,60))","v":186.12},{"$f":"IF(B9=\"\",\"\",VLOOKUP(B9,expedidas,61))","v":380.53},{"$f":"IF(B9=\"\",\"\",VLOOKUP(B9,expedidas,62))","v":566.65},{"$f":"IF(B9=\"\",\"\",VLOOKUP(B9,expedidas,63))","v":0},{"$f":"IF(B9=\"\",\"\",VLOOKUP(B9,expedidas,64))","v":0},{"$f":"IF(B9=\"\",\"\",VLOOKUP(B9,expedidas,65))","v":0},{"$f":"IF(B9=\"\",\"\",IF(I9=\"MS 11.371/DF\",0,VLOOKUP(B9,expedidas,66)))","v":17123.12},{"$f":"IF(B9=\"\",\"\",IF(I9=\"MS 11.371/DF\",BI9,VLOOKUP(B9,expedidas,67)))","v":35009.179999999993},{"$f":"IF(B9=\"\",\"\",VLOOKUP(B9,expedidas,68))","v":52132.299999999996},{"$f":"IF(B9=\"\",\"\",VLOOKUP(B9,expedidas,69))","v":29261.97},{"$f":"IF(B9=\"\",\"\",VLOOKUP(B9,expedidas,70))","v":3218.81},{"$f":"IF(B9=\"\",\"\",VLOOKUP(B9,expedidas,71))","v":6437.62},{"$f":"IF(B9=\"\",\"\",VLOOKUP(B9,expedidas,72))","v":53},{"$f":"IF(B9=\"\",\"\",IF(BM9=\"-\",\"-\",VLOOKUP(B9,expedidas,74)))","v":3218.81},null,{"$f":"IF($G9=\"\",\"\",IF(CA9=\"informar\",0,IF($G9=\"não\",0,BS9+BV9+BY9+CE9)))","v":0},{"$f":"IF($AS9=\"\",\"\",IF(G9=\"não\",0,BR9-BP9))","v":0},{"$f":"IF($G9=\"\",\"\",IF(BP9=0,0,IF($G9=\"não\",0,BU9+BX9+CA9+CG9)))","v":0},{"$f":"IF($G9=\"\",\"\",IF($G9=\"não\",0,IF(VLOOKUP(B9,expedidas,10)=\"sim\",0,\"informar\")))","v":0},{"$f":"IF($G9=\"\",\"\",IF($G9=\"não\",0,IF(VLOOKUP(B9,expedidas,10)=\"sim\",0,\"informar\")))","v":0},{"$f":"IF($G9=\"\",\"\",IF($G9=\"não\",0,IF(VLOOKUP(B9,expedidas,10)=\"sim\",0,\"informar\")))","v":0},{"$f":"IF($G9=\"\",\"\",IF($G9=\"não\",0,IF(VLOOKUP(B9,expedidas,10)=\"sim\",0,\"informar\")))","v":0},{"$f":"IF($G9=\"\",\"\",IF($G9=\"não\",0,IF(VLOOKUP(B9,expedidas,10)=\"sim\",0,\"informar\")))","v":0},{"$f":"IF($G9=\"\",\"\",IF($G9=\"não\",0,IF(VLOOKUP(B9,expedidas,10)=\"sim\",0,\"informar\")))","v":0},{"$f":"IF($G9=\"\",\"\",IF($G9=\"não\",0,IF(VLOOKUP(B9,expedidas,10)=\"sim\",0,\"informar\")))","v":0},{"$f":"IF($G9=\"\",\"\",IF($G9=\"não\",0,IF(VLOOKUP(B9,expedidas,10)=\"sim\",0,\"informar\")))","v":0},{"$f":"IF($G9=\"\",\"\",IF($G9=\"não\",0,IF(VLOOKUP(B9,expedidas,10)=\"sim\",0,\"informar\")))","v":0},{"$f":"IF($G9=\"\",\"\",IF($G9=\"não\",0,IF(VLOOKUP(B9,expedidas,10)=\"sim\",0,\"informar\")))","v":0},{"$f":"IF($G9=\"\",\"\",IF($G9=\"não\",0,IF(VLOOKUP(B9,expedidas,10)=\"sim\",0,\"informar\")))","v":0},{"$f":"IF($G9=\"\",\"\",IF($G9=\"não\",0,IF(VLOOKUP(B9,expedidas,10)=\"sim\",0,\"informar\")))","v":0},{"$f":"IF($G9=\"\",\"\",IF($G9=\"não\",0,IF(VLOOKUP(B9,expedidas,10)=\"NÃO\",\"informar\",VLOOKUP(B9,expedidas,75))))","v":0},{"$f":"IF($G9=\"\",\"\",IF(VLOOKUP(B9,expedidas,10)=\"sim\",0,IF($G9=\"não\",0,\"informar\")))","v":0},{"$f":"IF($G9=\"\",\"\",IF(VLOOKUP(B9,expedidas,10)=\"sim\",CE9,IF($G9=\"não\",0,\"informar\")))","v":0},{"$f":"IF(B9=\"\",\"\",IF(VLOOKUP(B9,expedidas,10)=\"sim\",0,IF(G9=\"não\",0,IF(BJ9=0,0,IF(BJ9=AR9,BP9,TRUNC(BJ9*BP9/AR9,2))))))","v":0},{"$f":"IF($BQ9=\"\",\"\",IF(G9=\"não\",0,IF(CH9=\"informar\",0,TRUNC(CH9*0.11,2))))","v":0},{"$f":"IF($BQ9=\"\",\"\",IF(G9=\"não\",0,IF(BL9=0,0,CI9*2)))","v":0},{"$f":"IF($BQ9=\"\",\"\",IF(G9=\"não\",0,IF(BN9=0,0,CI9)))","v":0},null,{"$f":"IF(AR9=\"\",\"\",IF(BP9=0,AR9,AR9-BP9))","v":18612.080000000002},{"$f":"IF(AS9=\"\",\"\",IF(BQ9=0,AS9,AS9-BQ9))","v":38053.449999999997},{"$f":"IF(AT9=\"\",\"\",IF(BR9=0,AT9,AT9-BR9))","v":56665.53},{"$f":"IF(AU9=\"\",\"\",IF(BS9=0,AU9,AU9-BS9))","v":1116.72},{"$f":"IF(AV9=\"\",\"\",IF(BT9=0,AV9,AV9-BT9))","v":2283.21},{"$f":"IF(AW9=\"\",\"\",IF(BU9=0,AW9,AW9-BU9))","v":3399.93},{"$f":"IF(AX9=\"\",\"\",IF(BV9=0,AX9,AX9-BV9))","v":186.12},{"$f":"IF(AY9=\"\",\"\",IF(BW9=0,AY9,AY9-BW9))","v":380.53},{"$f":"IF(AZ9=\"\",\"\",IF(BX9=0,AZ9,AZ9-BX9))","v":566.65},{"$f":"IF(BA9=\"\",\"\",IF(BY9=0,BA9,BA9-BY9))","v":186.12},{"$f":"IF(BB9=\"\",\"\",IF(BZ9=0,BB9,BB9-BZ9))","v":380.53},{"$f":"IF(BC9=\"\",\"\",IF(CA9=0,BC9,BC9-CA9))","v":566.65},{"$f":"IF(BD9=\"\",\"\",IF(CB9=0,BD9,BD9-CB9))","v":0},{"$f":"IF(BE9=\"\",\"\",IF(CC9=0,BE9,BE9-CC9))","v":0},{"$f":"IF(BF9=\"\",\"\",IF(CD9=0,BF9,BF9-CD9))","v":0},{"$f":"IF(BG9=\"\",\"\",IF(CE9=0,BG9,BG9-CE9))","v":17123.12},{"$f":"IF(BH9=\"\",\"\",IF(CF9=0,BH9,BH9-CF9))","v":35009.179999999993},{"$f":"IF(BI9=\"\",\"\",IF(CG9=0,BI9,BI9-CG9))","v":52132.299999999996},{"$f":"IF(CM9=\"\",\"\",IF(BJ9=AR9,CM9,TRUNC(CM9*(BJ9*100/AR9)/100,2)))","v":29261.97},{"$f":"IF(BK9=\"\",\"\",IF(CI9=0,BK9,BK9-CI9))","v":3218.81},{"$f":"IF(BL9=\"\",\"\",IF(CJ9=0,BL9,BL9-CJ9))","v":6437.62},{"$f":"DF9","v":3218.81},{"$f":"IF(B9=\"\",\"\",VLOOKUP(B9,expedidas,48))","v":"2022-06-01"},{"$f":"IF(DI9=\"\",\"\",IF(OR(DI9>=$DJ$7),1,1/VLOOKUP(DI9,indice,3)*VLOOKUP($DJ$7,indice,3)))","v":1},{"$f":"IF(DI9=\"\",\"\",IF(I9=\"ms 4.151/df\",VLOOKUP(DI9,indice,5),IF(DI9<$DJ$7,VLOOKUP(F9,indice,6),VLOOKUP(DI9,indice,5))))","v":{"$error":"#REF!"}},{"$f":"IF(DJ9=\"\",\"\",IF(DJ9=\"\",\"\",TRUNC((VLOOKUP(B9,expedidas,51))*DJ9,2)))","v":18612.080000000002},{"$f":"IF(DJ9=\"\",\"\",IF(DJ9=\"\",\"\",(TRUNC((VLOOKUP(B9,expedidas,52))*DJ9,2))))","v":38053.449999999997},{"$f":"IF(DK9=\"\",\"\",IF(DK9=\"informar\",\"\",VLOOKUP(B9,expedidas,49)+TRUNC(VLOOKUP(B9,expedidas,51)*DJ9*DK9/100,2)))","v":{"$error":"#REF!"}},{"$f":"IF(DI9=\"\",\"\",IF(I9=\"ms 4.151/df\",TRUNC(VLOOKUP(B9,expedidas,52)*DJ9*DK9/100,2),IF(VLOOKUP(B9,expedidas,50)=0,0,IF(AND(MONTH(DI9)=2,YEAR(DI9)=2022),0,IF(DK9=\"informar\",\"\",VLOOKUP(B9,expedidas,50)+TRUNC((VLOOKUP(B9,expedidas,52))*DJ9*DK9/100,2))))))","v":{"$error":"#REF!"}},{"$f":"IF(DJ9=\"\",\"\",IF(DJ9=\"\",\"\",DL9+DM9+DN9+DO9))","v":{"$error":"#REF!"}},{"$f":"IF(AT9=\"\",\"\",TRUNC(DP9*W9/100,2))","v":{"$error":"#REF!"}},{"$f":"IF($DJ9=\"\",\"\",TRUNC(DP9*Z9/100,2))","v":{"$error":"#REF!"}},{"$f":"IF($DJ9=\"\",\"\",TRUNC(DP9*AC9/100,2))","v":{"$error":"#REF!"}},{"$f":"IF($DJ9=\"\",\"\",TRUNC(DP9*AF9/100,2))","v":{"$error":"#REF!"}},{"$f":"IF(AT9=\"\",\"\",IF(DP9=\"\",\"\",DP9-DQ9-DR9-DS9-DT9))","v":{"$error":"#REF!"}},{"$f":"IF(DJ9=\"\",\"\",IF(BJ9=0,0,IF(I9=\"ms 4.151/df\",TRUNC(BJ9*DJ9,2)+TRUNC(BJ9*DK9/100,2),IF(BJ9<AR9,TRUNC((BJ9)+BJ9*DK9/100,2),DL9+DN9))))","v":{"$error":"#REF!"}},{"$f":"IF(DJ9=\"\",\"\",TRUNC(DV9*0.11,2))","v":{"$error":"#REF!"}},{"$f":"IF(BL9=0,0,((IF(DW9=\"\",\"\",IF(DW9>0,DW9*2,DW9)))))","v":{"$error":"#REF!"}},{"$f":"IF(DN9=\"\",\"\",IF(BM9=0,0,IF(DU9<(DM9+DO9),0,IF(DN9=0,0,(DU9-DM9))-DO9)))","v":{"$error":"#REF!"}},{"$f":"IF(DJ9=\"\",\"\",IF(DY9=0,0,DW9))","v":{"$error":"#REF!"}},null,{"$f":"IF(CO9=\"\",\"\",IF($G9=\"não\",0,EC9+ED9+EE9+EF9+EG9))","v":0},{"$f":"IF(CR9=\"\",\"\",IF($G9=\"não\",0,IF(BU9=AW9,DQ9,TRUNC(BU9*$DJ9,2))))","v":0},{"$f":"IF(CU9=\"\",\"\",IF($G9=\"não\",0,IF(BX9=AZ9,DR9,TRUNC(BX9*$DJ9,2))))","v":0},{"$f":"IF(CX9=\"\",\"\",IF($G9=\"não\",0,IF(CA9=BC9,DS9,TRUNC(CA9*$DJ9,2))))","v":0},{"$f":"IF(DA9=\"\",\"\",IF($G9=\"não\",0,IF(CD9=BF9,DT9,TRUNC(CD9*$DJ9,2))))","v":0},{"$f":"IF(DU9=\"\",\"\",IF($G9=\"não\",0,IF(CG9=BI9,DU9,VLOOKUP(B9,expedidas,76))))","v":{"$error":"#REF!"}},{"$f":"IF(CH9=\"\",\"\",IF($G9=\"não\",0,IF(BJ9=CH9,DV9,0)))","v":0},{"$f":"IF(EH9=\"\",\"\",TRUNC(EH9*0.11,2))","v":0},{"$f":"IF(CJ9=\"\",\"\",IF(CJ9=0,0,EI9*2))","v":0},{"$f":"IF(CK9=0,0,EI9)","v":0},null,{"$f":"IF(EB9=\"\",\"\",IF(G9=\"não\",DP9,EN9+EO9+EP9+EQ9+ER9))","v":{"$error":"#REF!"}},{"$f":"IF(EC9=\"\",\"\",IF(CR9=0,0,DQ9-EC9))","v":{"$error":"#REF!"}},{"$f":"IF(ED9=\"\",\"\",IF(CU9=0,0,DR9-ED9))","v":{"$error":"#REF!"}},{"$f":"IF(EE9=\"\",\"\",IF(CX9=0,0,DS9-EE9))","v":{"$error":"#REF!"}},{"$f":"IF(EF9=\"\",\"\",IF(DA9=0,0,DT9-EF9))","v":0},{"$f":"IF(EG9=\"\",\"\",IF(DD9=0,0,DU9-EG9))","v":{"$error":"#REF!"}},{"$f":"IF(DV9=\"\",\"\",IF(DV9=0,0,DV9-EH9))","v":{"$error":"#REF!"}},{"$f":"IF(ES9=\"\",\"\",IF(ES9=0,0,TRUNC(ES9*0.11,2)))","v":{"$error":"#REF!"}},{"$f":"IF(DX9=\"\",\"\",IF(DX9=0,0,ET9*2))","v":{"$error":"#REF!"}},{"$f":"IF(BM9=\"\",\"\",IF(BM9=0,0,ET9))","v":{"$error":"#REF!"}},null,{"$f":"IF(F9=$EX$6,A9,0)","v":0},{"$f":"IF(EX9>0,B9,0)","v":0},{"$f":"IF(AND(EX9>0,EX10=0),EX9,0)","v":0},{"$f":"IF(AND(EX9>0,EX8=0),EX9,0)","v":0},null,null,null,{"$f":"IF(AND(B9>0,B10=\"\"),B9,0)","v":0},{"$f":"IF(E9=\"\",0,IF(E9=$FE$5,A9,0))","v":0},{"$f":"IF(AND(FF9>0,FF8=0),FF9,0)","v":0},{"$f":"IF(FF9=\"\",\"\",IF(AND(FF9>0,FF10=0),FF9,0))","v":0}]
[{"$f":"IF(B10=\"\",\"\",A9+1)","v":2},14164,"2022/0182810-2","2022-06-13","Paga em FEV-2023 - 1ª remessa","2023-02-01","NÃO",1,"MS 4.151/DF","1995-07-21","1999-02-12","Mandado de Segurança 4.151/DF","2016/0156082-9","2022-05-12","UNIÃO","Administrativo - Servidor Público Civil - Reajustes de Remuneração, Proventos ou Pensão","Alimentar","Maruchia Mialik","167.257.279-72","Servidor Público Civil Inativo","Diferença de remuneração - 3,17%","Ministério da Fazenda",9,"Mota & Advogados Associados","03.996.810/0001-38",2,"Mauro Menezes e Advogados","32.901.423/0001-79",1,"Caputo, Bastos e Serra Advogados","12.291.813/0001-67",0," x x x "," x x x ","Dedução de Honorários Contratuais","Não","Não","Não","-","-","Não informada","Não Informada","Não",23630.14,43994.34,67624.479999999996,2126.71,3959.49,6086.2,472.6,879.88,1352.48,236.3,439.94,676.24,0,0,0,20794.53,38715.03,59509.56,0,0,0,53,0,null,0,0,0,0,0,0,0,0,0,0,0,0,0,0,0,0,0,0,0,0,0,0,null,23630.14,43994.34,67624.479999999996,2126.71,3959.49,6086.2,472.6,879.88,1352.48,236.3,439.94,676.24,0,0,0,20794.53,38715.03,59509.56,0,0,0,0,"2022-06-01",1,{"$error":"#REF!"},23630.14,43994.34,{"$error":"#REF!"},{"$error":"#REF!"},{"$error":"#REF!"},{"$error":"#REF!"},{"$error":"#REF!"},{"$error":"#REF!"},{"$error":"#REF!"},{"$error":"#REF!"},0,0,0,{"$error":"#REF!"},{"$error":"#REF!"},null,0,0,0,0,0,{"$error":"#REF!"},0,0,0,0,null,{"$error":"#REF!"},{"$error":"#REF!"},{"$error":"#REF!"},{"$error":"#REF!"},0,{"$error":"#REF!"},0,0,0,0,null,{"$f":"IF(F10=$EX$6,A10,0)","v":0},0,0,0,null,null,null,{"$f":"IF(AND(B10>0,B11=\"\"),B10,0)","v":0},{"$f":"IF(E10=\"\",0,IF(E10=$FE$5,A10,0))","v":0},{"$f":"IF(AND(FF10>0,FF9=0),FF10,0)","v":0},{"$f":"IF(FF10=\"\",\"\",IF(AND(FF10>0,FF11=0),FF10,0))","v":0}]
[3,14242,"2022/0189497-0","2022-06-20","Paga em FEV-2023 - 1ª remessa","2023-02-01","NÃO",1,"MS 4.151/DF","1995-07-21","1999-02-12","Mandado de Segurança 4.151/DF","2016/0164400-2","2022-05-12","UNIÃO","Administrativo - Servidor Público Civil - Reajustes de Remuneração, Proventos ou Pensão","Alimentar","Paulo Roberto Pereira Raymundo","000.689.618-98","Servidor Público Civil Ativo","Diferença de remuneração - 3,17%","Ministério da Fazenda",6,"Mota & Advogados Associados","03.996.810/0001-38",1,"Mauro Menezes e Advogados","32.901.423/0001-79",1,"Caputo, Bastos e Serra Advogados","12.291.813/0001-67",0," x x x "," x x x ","Dedução de Honorários Contratuais","Não","Não","Não","-","-","Não informada","Não Informada","Não",25165.8,43679.05,68844.850000000006,1509.94,2620.75,4130.6899999999996,251.65,436.79000000000008,688.44,251.65,436.79000000000008,688.44,0,0,0,23152.560000000001,40184.720000000001,63337.279999999999,29250.94,3217.6,6435.2,53,3217.6,null,0,0,0,0,0,0,0,0,0,0,0,0,0,0,0,0,0,0,0,0,0,0,null,25165.8,43679.05,68844.850000000006,1509.94,2620.75,4130.6899999999996,251.65,436.79000000000008,688.44,251.65,436.79000000000008,688.44,0,0,0,23152.560000000001,40184.720000000001,63337.279999999999,29250.94,3217.6,6435.2,3217.6,"2022-06-01",1,{"$error":"#REF!"},25165.8,43679.05,{"$error":"#REF!"},{"$error":"#REF!"},{"$error":"#REF!"},{"$error":"#REF!"},{"$error":"#REF!"},{"$error":"#REF!"},{"$error":"#REF!"},{"$error":"#REF!"},{"$error":"#REF!"},{"$error":"#REF!"},{"$error":"#REF!"},{"$error":"#REF!"},{"$error":"#REF!"},null,0,0,0,0,0,{"$error":"#REF!"},0,0,0,0,null,{"$error":"#REF!"},{"$error":"#REF!"},{"$error":"#REF!"},{"$error":"#REF!"},0,{"$error":"#REF!"},{"$error":"#REF!"},{"$error":"#REF!"},{"$error":"#REF!"},{"$error":"#REF!"},null,0,0,0,0,null,null,null,{"$f":"IF(AND(B11>0,B12=\"\"),B11,0)","v":0},{"$f":"IF(E11=\"\",0,IF(E11=$FE$5,A11,0))","v":0},{"$f":"IF(AND(FF11>0,FF10=0),FF11,0)","v":0},{"$f":"IF(FF11=\"\",\"\",IF(AND(FF11>0,FF12=0),FF11,0))","v":0}]
[4,14261,"2022/0191560-1","2022-06-22","Paga em FEV-2023 - 1ª remessa","2023-02-01","NÃO",1,"MS 4.151/DF","1995-07-21","1999-02-12","Mandado de Segurança 4.151/DF","2016/0174803-7","2022-05-12","UNIÃO","Administrativo - Servidor Público Civil - Reajustes de Remuneração, Proventos ou Pensão","Alimentar","Rosana da Costa Ferreira","660.088.407-04","Servidor Público Civil Ativo","Diferença de remuneração - 3,17%","Ministério da Fazenda",6,"Mota & Advogados Associados","03.996.810/0001-38",1,"Mauro Menezes e Advogados","32.901.423/0001-79",1,"Caputo, Bastos e Serra Advogados","12.291.813/0001-67",0," x x x "," x x x ","Dedução de Honorários Contratuais","Não","Não","Não","-","-","Não informada","Não Informada","Não",11706.94,31817.589999999997,43524.53,702.41,1909.06,2611.4699999999998,117.06,318.18,435.24,117.06,318.18,435.24,0,0,0,10770.41,29272.170000000002,40042.58,29608.25,3256.9,6513.8,53,3256.9,null,0,0,0,0,0,0,0,0,0,0,0,0,0,0,0,0,0,0,0,0,0,0,null,11706.94,31817.589999999997,43524.53,702.41,1909.06,2611.4699999999998,117.06,318.18,435.24,117.06,318.18,435.24,0,0,0,10770.41,29272.170000000002,40042.58,29608.25,3256.9,6513.8,3256.9,"2022-06-01",1,{"$error":"#REF!"},11706.94,31817.59,{"$error":"#REF!"},{"$error":"#REF!"},{"$error":"#REF!"},{"$error":"#REF!"},{"$error":"#REF!"},{"$error":"#REF!"},{"$error":"#REF!"},{"$error":"#REF!"},{"$error":"#REF!"},{"$error":"#REF!"},{"$error":"#REF!"},{"$error":"#REF!"},{"$error":"#REF!"},null,0,0,0,0,0,{"$error":"#REF!"},0,0,0,0,null,{"$error":"#REF!"},{"$error":"#REF!"},{"$error":"#REF!"},{"$error":"#REF!"},0,{"$error":"#REF!"},{"$error":"#REF!"},{"$error":"#REF!"},{"$error":"#REF!"},{"$error":"#REF!"},null,0,0,0,0,null,null,null,0,0,0,0]
[5,14325,"2022/0258571-5","2022-08-18","Paga em FEV-2023 - 1ª remessa","2023-02-01","NÃO",1,"MS 4.151/DF","1995-07-21","1999-02-12","Mandado de Segurança 4.151/DF","2016/0128419-3","2022-06-07","UNIÃO","Administrativo - Servidor Público Civil - Reajustes de Remuneração, Proventos ou Pensão","Alimentar","Domitilde Aparecida de Almeida Quintino","477.877.087-00","Servidor Público Civil Ativo","Diferença de remuneração - 3,17%","Ministério da Fazenda",6,"Mota & Advogados Associados","03.996.810/0001-38",1,"Mauro Menezes e Advogados","32.901.423/0001-79",1,"Caputo, Bastos e Serra Advogados","12.291.813/0001-67",0," x x x "," x x x ","Dedução de Honorários Contratuais","Não","Não","Não","-","-","Não informada","Não Informada","Não",23991.200000000001,43147.06,67138.260000000009,1439.47,2588.8199999999997,4028.29,239.91,431.47,671.38,239.91,431.47,671.38,0,0,0,22071.91,39695.300000000017,61767.210000000014,29916.87,3290.85,6581.7,53,3290.85,null,0,0,0,0,0,0,0,0,0,0,0,0,0,0,0,0,0,0,0,0,0,0,null,23991.200000000001,43147.06,67138.260000000009,1439.47,2588.8199999999997,4028.29,239.91,431.47,671.38,239.91,431.47,671.38,0,0,0,22071.91,39695.300000000017,61767.210000000014,29916.87,3290.85,6581.7,3290.85,"2022-08-01",1,{"$error":"#REF!"},23991.200000000001,43147.06,{"$error":"#REF!"},{"$error":"#REF!"},{"$error":"#REF!"},{"$error":"#REF!"},{"$error":"#REF!"},{"$error":"#REF!"},{"$error":"#REF!"},{"$error":"#REF!"},{"$error":"#REF!"},{"$error":"#REF!"},{"$error":"#REF!"},{"$error":"#REF!"},{"$error":"#REF!"},null,0,0,0,0,0,{"$error":"#REF!"},0,0,0,0,null,{"$error":"#REF!"},{"$error":"#REF!"},{"$error":"#REF!"},{"$error":"#REF!"},0,{"$error":"#REF!"},{"$error":"#REF!"},{"$error":"#REF!"},{"$error":"#REF!"},{"$error":"#REF!"},null,0,0,0,0,null,null,null,0,0,0,0]
[6,14339,"2022/0258850-6","2022-08-18","Paga em FEV-2023 - 1ª remessa","2023-02-01","NÃO",1,"MS 4.151/DF","1995-07-21","1999-02-12","Mandado de Segurança 4.151/DF","2016/0129411-6","2022-06-06","UNIÃO","Administrativo - Servidor Público Civil - Reajustes de Remuneração, Proventos ou Pensão","Alimentar","Azulmar Amaral de Mattos","075.528.587-53","Servidor Público Civil Inativo","Diferença de remuneração - 3,17%","Ministério da Fazenda",6,"Mota & Advogados Associados","03.996.810/0001-38",1,"Mauro Menezes e Advogados","32.901.423/0001-79",1,"Caputo, Bastos e Serra Advogados","12.291.813/0001-67",0," x x x "," x x x ","Dedução de Honorários Contratuais","Não","Não","Não","-","-","Não informada","Não Informada","Não",24067.22,44595.38,68662.600000000006,1444.03,2675.7200000000003,4119.75,240.67,445.95000000000005,686.62,240.67,445.95000000000005,686.62,0,0,0,22141.850000000006,41027.759999999995,63169.61,0,0,0,53,0,null,0,0,0,0,0,0,0,0,0,0,0,0,0,0,0,0,0,0,0,0,0,0,null,24067.22,44595.38,68662.600000000006,1444.03,2675.7200000000003,4119.75,240.67,445.95000000000005,686.62,240.67,445.95000000000005,686.62,0,0,0,22141.850000000006,41027.759999999995,63169.61,0,0,0,0,"2022-08-01",1,{"$error":"#REF!"},24067.22,44595.38,{"$error":"#REF!"},{"$error":"#REF!"},{"$error":"#REF!"},{"$error":"#REF!"},{"$error":"#REF!"},{"$error":"#REF!"},{"$error":"#REF!"},{"$error":"#REF!"},0,0,0,{"$error":"#REF!"},{"$error":"#REF!"},null,0,0,0,0,0,{"$error":"#REF!"},0,0,0,0,null,{"$error":"#REF!"},{"$error":"#REF!"},{"$error":"#REF!"},{"$error":"#REF!"},0,{"$error":"#REF!"},0,0,0,0,null,0,0,0,0,null,null,null,0,0,0,0]
[7,14428,"2022/0266299-9","2022-08-24","Paga em FEV-2023 - 1ª remessa","2023-02-01","NÃO",1,"AR 1.169/CE","1999-10-18","2004-06-07","Ação Rescisória 1.169/CE","2009/0055585-0","2014-09-30","Instituto Nacional do Seguro Social – INSS","Administrativo - Servidor Público Civil - Sistema Remuneratório e Benefícios","Alimentar","Orlanilza Cavalcante Costa ","262.545.143-20","Servidor Público Civil Ativo","Anuênios","Instituto Nacional do Seguro Social - INSS",10,"Glayddes Sindeaux Advogados","17.291.820/0001-82",0," x x x ","x x x",0," x x x "," x x x ",0," x x x "," x x x ","Dedução de Honorários Contratuais","Não","Não","Não","-","-","Não informada","Não Informada","Não",1112.47,1669.97,2900.9999999999995,111.24,178.86,290.10000000000002,0,0,0,0,0,0,0,0,0,1074.97,1535.9299999999996,2610.8999999999996,1112.47,122.37,244.74,47,122.37,null,0,0,0,0,0,0,0,0,0,0,0,0,0,0,0,0,0,0,0,0,0,0,null,1112.47,1669.97,2900.9999999999995,111.24,178.86,290.10000000000002,0,0,0,0,0,0,0,0,0,1074.97,1535.9299999999996,2610.8999999999996,1112.47,122.37,244.74,122.37,"2022-08-01",1,{"$error":"#REF!"},1038.73,1669.97,{"$error":"#REF!"},{"$error":"#REF!"},{"$error":"#REF!"},{"$error":"#REF!"},{"$error":"#REF!"},{"$error":"#REF!"},{"$error":"#REF!"},{"$error":"#REF!"},{"$error":"#REF!"},{"$error":"#REF!"},{"$error":"#REF!"},{"$error":"#REF!"},{"$error":"#REF!"},null,0,0,0,0,0,{"$error":"#REF!"},0,0,0,0,null,{"$error":"#REF!"},{"$error":"#REF!"},0,0,0,{"$error":"#REF!"},{"$error":"#REF!"},{"$error":"#REF!"},{"$error":"#REF!"},{"$error":"#REF!"},null,0,0,0,0,null,null,null,0,0,0,0]
[8,14594,"2022/0274815-5","2022-08-30","Paga em FEV-2023 - 1ª remessa","2023-02-01","NÃO",1,"AR 4.837/RJ","2011-10-26","2020-06-30","Ação Rescisória 4.837/RJ","2021/0116982-1","2022-06-08","Agência Nacional de Saúde Suplementar","Tributário - Taxas - Federais - Taxa de Saúde Suplementar (PRINCIPAL)","Alimentar","Barroso, Muzzi, Barros, Guerra e Associados – Advocacia e Consultoria Empresarial","01.206.487/0001-26","-","Honorários de sucumbência","-",0," x x x ","x x x",0," x x x ","x x x",0," x x x "," x x x ",0," x x x "," x x x ","x.x.x","Não","Não","Não","-","-","Não informada","Não Informada","Não",3877.42,0,3877.42,0,0,0,0,0,0,0,0,0,0,0,0,3877.42,0,3877.42,0,0,0,0,0,null,0,0,0,0,0,0,0,0,0,0,0,0,0,0,0,0,0,0,0,0,0,0,null,3877.42,0,3877.42,0,0,0,0,0,0,0,0,0,0,0,0,3877.42,0,3877.42,0,0,0,0,"2022-08-01",1,{"$error":"#REF!"},3620.38,0,{"$error":"#REF!"},0,{"$error":"#REF!"},{"$error":"#REF!"},{"$error":"#REF!"},{"$error":"#REF!"},{"$error":"#REF!"},{"$error":"#REF!"},0,0,0,{"$error":"#REF!"},{"$error":"#REF!"},null,0,0,0,0,0,{"$error":"#REF!"},0,0,0,0,null,{"$error":"#REF!"},0,0,0,0,{"$error":"#REF!"},0,0,0,0,null,0,0,0,0,null,null,null,0,0,0,0]
[9,14661,"2022/0301394-9","2022-09-20","Paga em FEV-2023 - 1ª remessa","2023-02-01","NÃO",1,"AR 1.169/CE","1999-10-18","2004-06-07","Ação Rescisória 1.169/CE","2009/0056303-0","2014-11-04","Instituto Nacional do Seguro Social – INSS","Administrativo - Servidor Público Civil - Sistema Remuneratório e Benefícios","Alimentar","Maria Da Conceição Lola ","461.129.013-15","Servidor Público Civil Ativo","Anuênios","Instituto Nacional do Seguro Social - INSS",10,"Glayddes Sindeaux Advogados","17.291.820/0001-82",0," x x x ","x x x",0," x x x "," x x x ",0," x x x "," x x x ","Dedução de Honorários Contratuais","Não","Não","Não","-","-","Não informada","Não Informada","Não",2176.61,2950.96,5348.89,217.66,317.22000000000003,534.88,0,0,0,0,0,0,0,0,0,1958.95,2855.0600000000004,4814.01,2176.61,239.42,478.84,47,239.42,null,0,0,0,0,0,0,0,0,0,0,0,0,0,0,0,0,0,0,0,0,0,0,null,2176.61,2950.96,5348.89,217.66,317.22000000000003,534.88,0,0,0,0,0,0,0,0,0,1958.95,2855.0600000000004,4814.01,2176.61,239.42,478.84,239.42,"2022-09-01",1,{"$error":"#REF!"},2024.76,2950.96,{"$error":"#REF!"},{"$error":"#REF!"},{"$error":"#REF!"},{"$error":"#REF!"},{"$error":"#REF!"},{"$error":"#REF!"},{"$error":"#REF!"},{"$error":"#REF!"},{"$error":"#REF!"},{"$error":"#REF!"},{"$error":"#REF!"},{"$error":"#REF!"},{"$error":"#REF!"},null,0,0,0,0,0,{"$error":"#REF!"},0,0,0,0,null,{"$error":"#REF!"},{"$error":"#REF!"},0,0,0,{"$error":"#REF!"},{"$error":"#REF!"},{"$error":"#REF!"},{"$error":"#REF!"},{"$error":"#REF!"},null,0,0,0,0,null,null,null,0,0,0,0]
[10,14698,"2022/0302856-7","2022-09-21","Paga em FEV-2023 - 1ª remessa","2023-02-01","NÃO",1,"AR 5.731/PR","2015-11-06","2020-03-19","Ação Rescisória 5.731/PR","2021/0117136-6","2022-08-12","Instituto Nacional do Seguro Social - INSS","Previdenciário - Benefícios em Espécie - Aposentadoria por Tempo de Contribuição (Art. 55/6) (PRINCIPAL)","Alimentar","José Rodrigues de Oliveira","069.984.299-91","Aposentado pelo RGPS","Benefício previdenciário em espécie","Instituto Nacional do Seguro Social - INSS",0," x x x ","x x x",0," x x x ","x x x",0," x x x "," x x x ",0," x x x "," x x x ","x.x.x","Não","Não","Não","-","-","Não informada","Não Informada","Não",19031.66,27814.66,49146.59,0,0,0,0,0,0,0,0,0,0,0,0,19031.66,30114.929999999997,49146.59,0,0,0,76,0,null,0,0,0,0,0,0,0,0,0,0,0,0,0,0,0,0,0,0,0,0,0,0,null,19031.66,27814.66,49146.59,0,0,0,0,0,0,0,0,0,0,0,0,19031.66,30114.929999999997,49146.59,0,0,0,0,"2022-09-01",1,{"$error":"#REF!"},17577.97,27814.66,{"$error":"#REF!"},{"$error":"#REF!"},{"$error":"#REF!"},{"$error":"#REF!"},{"$error":"#REF!"},{"$error":"#REF!"},{"$error":"#REF!"},{"$error":"#REF!"},0,0,0,{"$error":"#REF!"},{"$error":"#REF!"},null,0,0,0,0,0,{"$error":"#REF!"},0,0,0,0,null,{"$error":"#REF!"},0,0,0,0,{"$error":"#REF!"},0,0,0,0,null,0,0,0,0,null,null,null,0,0,0,0]
[11,14702,"2022/0302928-6","2022-09-21","Paga em FEV-2023 - 1ª remessa","2023-02-01","NÃO",1,"AR 6.074/RS","2017-07-13","2019-10-23","Ação Rescisória 6.074/RS","2021/0360033-4","2022-08-04","Instituto Nacional do Seguro Social - INSS","Previdenciário - Benefícios em Espécie - Aposentadoria por Tempo de Contribuição (Art. 55/6) (PRINCIPAL)","Alimentar","Nei Antônio Di Domenico","021.204.029-49","-","Honorários de Sucumbência","-",0," x x x ","x x x",0," x x x ","x x x",0," x x x "," x x x ",0," x x x "," x x x ","x.x.x","Não","Não","Não","-","-","Não informada","Não Informada","Não",1253.53,284.90500000000003,1561.9949999999999,0,0,0,0,0,0,0,0,0,0,0,0,1561.9949999999999,0,1561.9949999999999,0,0,0,0,0,null,0,0,0,0,0,0,0,0,0,0,0,0,0,0,0,0,0,0,0,0,0,0,null,1253.53,284.90500000000003,1561.9949999999999,0,0,0,0,0,0,0,0,0,0,0,0,1561.9949999999999,0,1561.9949999999999,0,0,0,0,"2022-09-01",1,{"$error":"#REF!"},1157.78,284.89999999999998,{"$error":"#REF!"},{"$error":"#REF!"},{"$error":"#REF!"},{"$error":"#REF!"},{"$error":"#REF!"},{"$error":"#REF!"},{"$error":"#REF!"},{"$error":"#REF!"},0,0,0,{"$error":"#REF!"},{"$error":"#REF!"},null,0,0,0,0,0,{"$error":"#REF!"},0,0,0,0,null,{"$error":"#REF!"},0,0,0,0,{"$error":"#REF!"},0,0,0,0,null,0,0,0,0,null,null,null,0,0,0,0]
[12,14719,"2022/0305792-7","2022-09-22","Paga em FEV-2023 - 1ª remessa","2023-02-01","NÃO",1,"MS 4.151/DF","1995-07-21","1999-02-12","Mandado de Segurança 4.151/DF","2016/0174895_9","2022-08-03","UNIÃO","Administrativo - Servidor Público Civil - Reajustes de Remuneração, Proventos ou Pensão","Alimentar","Yaemi Nakae","529.496.568-20","Servidor Público Civil Ativo","Diferença de remuneração - 3,17%","Ministério da Fazenda",6,"Mota & Advogados Associados","03.996.810/0001-38",1,"Mauro Menezes e Advogados","32.901.423/0001-79",1,"Caputo, Bastos e Serra Advogados","12.291.813/0001-67",0," x x x "," x x x ","Dedução de Honorários Contratuais","Não","Não","Não","-","-","Não informada","Não Informada","Não",20200.009999999998,36866.81,57066.82,1212,2212,3424,202,368.65999999999997,570.66,202,368.65999999999997,570.66,0,0,0,18584.009999999998,33917.489999999991,52501.499999999993,923.49,101.58,203.16,53,101.58,null,0,0,0,0,0,0,0,0,0,0,0,0,0,0,0,0,0,0,0,0,0,0,null,20200.009999999998,36866.81,57066.82,1212,2212,3424,202,368.65999999999997,570.66,202,368.65999999999997,570.66,0,0,0,18584.009999999998,33917.489999999991,52501.499999999993,923.49,101.58,203.16,101.58,"2022-09-01",1,{"$error":"#REF!"},20200.009999999998,36866.81,{"$error":"#REF!"},{"$error":"#REF!"},{"$error":"#REF!"},{"$error":"#REF!"},{"$error":"#REF!"},{"$error":"#REF!"},{"$error":"#REF!"},{"$error":"#REF!"},{"$error":"#REF!"},{"$error":"#REF!"},{"$error":"#REF!"},{"$error":"#REF!"},{"$error":"#REF!"},null,0,0,0,0,0,{"$error":"#REF!"},0,0,0,0,null,{"$error":"#REF!"},{"$error":"#REF!"},{"$error":"#REF!"},{"$error":"#REF!"},0,{"$error":"#REF!"},{"$error":"#REF!"},{"$error":"#REF!"},{"$error":"#REF!"},{"$error":"#REF!"},null,0,0,0,0,null,null,null,0,0,0,0]
[13,14720,"2022/0305795-2","2022-09-22","Paga em FEV-2023 - 1ª remessa","2023-02-01","NÃO",1,"MS 4.151/DF","1995-07-21","1999-02-12","Mandado de Segurança 4.151/DF","2016/0174895_9","2022-08-03","UNIÃO","Administrativo - Servidor Público Civil - Reajustes de Remuneração, Proventos ou Pensão","Alimentar","Yara Costa Pinto","486.165.167-00","Servidor Público Civil Ativo","Diferença de remuneração - 3,17%","Ministério da Fazenda",6,"Mota & Advogados Associados","03.996.810/0001-38",1,"Mauro Menezes e Advogados","32.901.423/0001-79",1,"Caputo, Bastos e Serra Advogados","12.291.813/0001-67",0," x x x "," x x x ","Dedução de Honorários Contratuais","Não","Não","Não","-","-","Não informada","Não Informada","Não",11283.41,31990.74,43274.149999999994,677,1919.44,2596.44,112.83,319.91000000000003,432.74,112.83,319.91000000000003,432.74,0,0,0,10380.75,29431.479999999996,39812.229999999996,30255.17,3328.06,6656.12,53,3328.06,null,0,0,0,0,0,0,0,0,0,0,0,0,0,0,0,0,0,0,0,0,0,0,null,11283.41,31990.74,43274.149999999994,677,1919.44,2596.44,112.83,319.91000000000003,432.74,112.83,319.91000000000003,432.74,0,0,0,10380.75,29431.479999999996,39812.229999999996,30255.17,3328.06,6656.12,3328.06,"2022-09-01",1,{"$error":"#REF!"},11283.41,31990.74,{"$error":"#REF!"},{"$error":"#REF!"},{"$error":"#REF!"},{"$error":"#REF!"},{"$error":"#REF!"},{"$error":"#REF!"},{"$error":"#REF!"},{"$error":"#REF!"},{"$error":"#REF!"},{"$error":"#REF!"},{"$error":"#REF!"},{"$error":"#REF!"},{"$error":"#REF!"},null,0,0,0,0,0,{"$error":"#REF!"},0,0,0,0,null,{"$error":"#REF!"},{"$error":"#REF!"},{"$error":"#REF!"},{"$error":"#REF!"},0,{"$error":"#REF!"},{"$error":"#REF!"},{"$error":"#REF!"},{"$error":"#REF!"},{"$error":"#REF!"},null,0,0,0,0,null,null,null,0,0,0,0]
[14,14723,"2022/0306566-2","2022-09-23","Paga em FEV-2023 - 1ª remessa","2023-02-01","NÃO",1,"MS 4.151/DF","1995-07-21","1999-02-12","Mandado de Segurança 4.151/DF","2016/0128321_1","2022-08-03","UNIÃO","Administrativo - Servidor Público Civil - Reajustes de Remuneração, Proventos ou Pensão","Alimentar","Espólio de Elizabeth Cantini","530.180.878-87","Servidor Público Civil Ativo","Diferença de remuneração - 3,17%","Ministério da Fazenda",8,"Mota & Advogados Associados","03.996.810/0001-38",1,"Mauro Menezes e Advogados","32.901.423/0001-79",1,"Caputo, Bastos e Serra Advogados","12.291.813/0001-67",0," x x x "," x x x ","Dedução de Honorários Contratuais","Não","Não","Não","-","-","Não informada","Não Informada","Não",25186.82,44093.299999999996,69280.12,2014.94,3527.4599999999996,5542.4,251.86,440.93999999999994,692.8,251.86,440.93999999999994,692.8,0,0,0,22668.16,39683.959999999992,62352.119999999988,29275.47,3220.3,6440.6,53,3220.3,null,0,0,0,0,0,0,0,0,0,0,0,0,0,0,0,0,0,0,0,0,0,0,null,25186.82,44093.299999999996,69280.12,2014.94,3527.4599999999996,5542.4,251.86,440.93999999999994,692.8,251.86,440.93999999999994,692.8,0,0,0,22668.16,39683.959999999992,62352.119999999988,29275.47,3220.3,6440.6,3220.3,"2022-09-01",1,{"$error":"#REF!"},25186.82,44093.3,{"$error":"#REF!"},{"$error":"#REF!"},{"$error":"#REF!"},{"$error":"#REF!"},{"$error":"#REF!"},{"$error":"#REF!"},{"$error":"#REF!"},{"$error":"#REF!"},{"$error":"#REF!"},{"$error":"#REF!"},{"$error":"#REF!"},{"$error":"#REF!"},{"$error":"#REF!"},null,0,0,0,0,0,{"$error":"#REF!"},0,0,0,0,null,{"$error":"#REF!"},{"$error":"#REF!"},{"$error":"#REF!"},{"$error":"#REF!"},0,{"$error":"#REF!"},{"$error":"#REF!"},{"$error":"#REF!"},{"$error":"#REF!"},{"$error":"#REF!"},null,0,0,0,0,null,null,null,0,0,0,0]
[15,14725,"2022/0306660-0","2022-09-23","Paga em FEV-2023 - 1ª remessa","2023-02-01","NÃO",1,"MS 4.151/DF","1995-07-21","1999-02-12","Mandado de Segurança 4.151/DF","2016/0143377-3","2022-04-18","UNIÃO","Administrativo - Servidor Público Civil - Reajustes de Remuneração, Proventos ou Pensão","Alimentar","Itamar Vicente Alves","819.102.828-04","Servidor Público Civil Ativo","Diferença de remuneração - 3,17%","Ministério da Fazenda",6,"Mota & Advogados Associados","03.996.810/0001-38",1,"Mauro Menezes e Advogados","32.901.423/0001-79",1,"Caputo, Bastos e Serra Advogados","12.291.813/0001-67",0," x x x "," x x x ","Dedução de Honorários Contratuais","Não","Não","Não","-","-","Não informada","Não Informada","Não",25784.5,45323.45,71107.95,1547.07,2719.4000000000005,4266.47,257.83999999999997,453.23000000000008,711.07,257.83999999999997,453.23000000000008,711.07,0,0,0,23721.75,41697.589999999989,65419.339999999989,30258.57,3328.44,6656.88,53,3328.44,null,0,0,0,0,0,0,0,0,0,0,0,0,0,0,0,0,0,0,0,0,0,0,null,25784.5,45323.45,71107.95,1547.07,2719.4000000000005,4266.47,257.83999999999997,453.23000000000008,711.07,257.83999999999997,453.23000000000008,711.07,0,0,0,23721.75,41697.589999999989,65419.339999999989,30258.57,3328.44,6656.88,3328.44,"2022-09-01",1,{"$error":"#REF!"},25784.5,45323.45,{"$error":"#REF!"},{"$error":"#REF!"},{"$error":"#REF!"},{"$error":"#REF!"},{"$error":"#REF!"},{"$error":"#REF!"},{"$error":"#REF!"},{"$error":"#REF!"},{"$error":"#REF!"},{"$error":"#REF!"},{"$error":"#REF!"},{"$error":"#REF!"},{"$error":"#REF!"},null,0,0,0,0,0,{"$error":"#REF!"},0,0,0,0,null,{"$error":"#REF!"},{"$error":"#REF!"},{"$error":"#REF!"},{"$error":"#REF!"},0,{"$error":"#REF!"},{"$error":"#REF!"},{"$error":"#REF!"},{"$error":"#REF!"},{"$error":"#REF!"},null,0,0,0,0,null,null,null,0,0,0,0]
[16,14726,"2022/0306684-9","2022-09-23","Paga em FEV-2023 - 1ª remessa","2023-02-01","NÃO",1,"MS 4.151/DF","1995-07-21","1999-02-12","Mandado de Segurança 4.151/DF","2016/0143377-3","2022-04-18","UNIÃO","Administrativo - Servidor Público Civil - Reajustes de Remuneração, Proventos ou Pensão","Alimentar","Ivacir Julio de Souza","346.654.987-68","Servidor Público Civil Ativo","Diferença de remuneração - 3,17%","Ministério da Fazenda",6,"Mota & Advogados Associados","03.996.810/0001-38",1,"Mauro Menezes e Advogados","32.901.423/0001-79",1,"Caputo, Bastos e Serra Advogados","12.291.813/0001-67",0," x x x "," x x x ","Dedução de Honorários Contratuais","Não","Não","Não","-","-","Não informada","Não Informada","Não",21843.65,40084.080000000002,61927.73,1310.6099999999999,2405.0500000000002,3715.66,218.43,400.84,619.27,218.43,400.84,619.27,0,0,0,20096.18,36877.350000000013,56973.530000000013,28586.22,3144.48,6288.96,53,3144.48,null,0,0,0,0,0,0,0,0,0,0,0,0,0,0,0,0,0,0,0,0,0,0,null,21843.65,40084.080000000002,61927.73,1310.6099999999999,2405.0500000000002,3715.66,218.43,400.84,619.27,218.43,400.84,619.27,0,0,0,20096.18,36877.350000000013,56973.530000000013,28586.22,3144.48,6288.96,3144.48,"2022-09-01",1,{"$error":"#REF!"},21843.65,40084.080000000002,{"$error":"#REF!"},{"$error":"#REF!"},{"$error":"#REF!"},{"$error":"#REF!"},{"$error":"#REF!"},{"$error":"#REF!"},{"$error":"#REF!"},{"$error":"#REF!"},{"$error":"#REF!"},{"$error":"#REF!"},{"$error":"#REF!"},{"$error":"#REF!"},{"$error":"#REF!"},null,0,0,0,0,0,{"$error":"#REF!"},0,0,0,0,null,{"$error":"#REF!"},{"$error":"#REF!"},{"$error":"#REF!"},{"$error":"#REF!"},0,{"$error":"#REF!"},{"$error":"#REF!"},{"$error":"#REF!"},{"$error":"#REF!"},{"$error":"#REF!"},null,0,0,0,0,null,null,null,0,0,0,0]
[17,14727,"2022/0306686-2","2022-09-23","Paga em FEV-2023 - 1ª remessa","2023-02-01","NÃO",1,"MS 4.151/DF","1995-07-21","1999-02-12","Mandado de Segurança 4.151/DF","2016/0143377-3","2022-04-18","UNIÃO","Administrativo - Servidor Público Civil - Reajustes de Remuneração, Proventos ou Pensão","Alimentar","Ivan Luiz Macagnani","756.362.398-15","Servidor Público Civil Ativo","Diferença de remuneração - 3,17%","Ministério da Fazenda",6,"Mota & Advogados Associados","03.996.810/0001-38",1,"Mauro Menezes e Advogados","32.901.423/0001-79",1,"Caputo, Bastos e Serra Advogados","12.291.813/0001-67",0," x x x "," x x x ","Dedução de Honorários Contratuais","Não","Não","Não","-","-","Não informada","Não Informada","Não",25268.27,44511.88,69780.149999999994,1516.09,2670.71,4186.8,252.68,445.11999999999995,697.8,252.68,445.11999999999995,697.8,0,0,0,23246.82,40950.929999999986,64197.749999999985,29750.26,3272.52,6545.04,53,3272.52,null,0,0,0,0,0,0,0,0,0,0,0,0,0,0,0,0,0,0,0,0,0,0,null,25268.27,44511.88,69780.149999999994,1516.09,2670.71,4186.8,252.68,445.11999999999995,697.8,252.68,445.11999999999995,697.8,0,0,0,23246.82,40950.929999999986,64197.749999999985,29750.26,3272.52,6545.04,3272.52,"2022-09-01",1,{"$error":"#REF!"},25268.27,44511.88,{"$error":"#REF!"},{"$error":"#REF!"},{"$error":"#REF!"},{"$error":"#REF!"},{"$error":"#REF!"},{"$error":"#REF!"},{"$error":"#REF!"},{"$error":"#REF!"},{"$error":"#REF!"},{"$error":"#REF!"},{"$error":"#REF!"},{"$error":"#REF!"},{"$error":"#REF!"},null,0,0,0,0,0,{"$error":"#REF!"},0,0,0,0,null,{"$error":"#REF!"},{"$error":"#REF!"},{"$error":"#REF!"},{"$error":"#REF!"},0,{"$error":"#REF!"},{"$error":"#REF!"},{"$error":"#REF!"},{"$error":"#REF!"},{"$error":"#REF!"},null,0,0,0,0,null,null,null,0,0,0,0]
[18,14729,"2022/0306692-6","2022-09-23","Paga em FEV-2023 - 1ª remessa","2023-02-01","NÃO",1,"MS 4.151/DF","1995-07-21","1999-02-12","Mandado de Segurança 4.151/DF","2016/0143377-3","2022-04-18","UNIÃO","Administrativo - Servidor Público Civil - Reajustes de Remuneração, Proventos ou Pensão","Alimentar","Ivam Gilberto Romano","572.384.568-34","Servidor Público Civil Ativo","Diferença de remuneração - 3,17%","Ministério da Fazenda",6,"Mota & Advogados Associados","03.996.810/0001-38",1,"Mauro Menezes e Advogados","32.901.423/0001-79",1,"Caputo, Bastos e Serra Advogados","12.291.813/0001-67",0," x x x "," x x x ","Dedução de Honorários Contratuais","Não","Não","Não","-","-","Não informada","Não Informada","Não",26037.13,46165.88,72203.010000000009,1562.22,2769.96,4332.18,260.37,461.65999999999997,722.03,260.37,461.65999999999997,722.03,0,0,0,23954.170000000002,42472.60000000002,66426.770000000019,30905.11,3399.56,6799.12,53,3399.56,null,0,0,0,0,0,0,0,0,0,0,0,0,0,0,0,0,0,0,0,0,0,0,null,26037.13,46165.88,72203.010000000009,1562.22,2769.96,4332.18,260.37,461.65999999999997,722.03,260.37,461.65999999999997,722.03,0,0,0,23954.170000000002,42472.60000000002,66426.770000000019,30905.11,3399.56,6799.12,3399.56,"2022-09-01",1,{"$error":"#REF!"},26037.13,46165.88,{"$error":"#REF!"},{"$error":"#REF!"},{"$error":"#REF!"},{"$error":"#REF!"},{"$error":"#REF!"},{"$error":"#REF!"},{"$error":"#REF!"},{"$error":"#REF!"},{"$error":"#REF!"},{"$error":"#REF!"},{"$error":"#REF!"},{"$error":"#REF!"},{"$error":"#REF!"},null,0,0,0,0,0,{"$error":"#REF!"},0,0,0,0,null,{"$error":"#REF!"},{"$error":"#REF!"},{"$error":"#REF!"},{"$error":"#REF!"},0,{"$error":"#REF!"},{"$error":"#REF!"},{"$error":"#REF!"},{"$error":"#REF!"},{"$error":"#REF!"},null,0,0,0,0,null,null,null,0,0,0,0]
[19,14730,"2022/0306699-9","2022-09-23","Paga em FEV-2023 - 1ª remessa","2023-02-01","NÃO",1,"MS 4.151/DF","1995-07-21","1999-02-12","Mandado de Segurança 4.151/DF","2016/0144549-8","2022-08-03","UNIÃO","Administrativo - Servidor Público Civil - Reajustes de Remuneração, Proventos ou Pensão","Alimentar","Josemar Jorge Cecatto Santos","200.805.819-00","Servidor Público Civil Ativo","Diferença de remuneração - 3,17%","Ministério da Fazenda",6,"Mota & Advogados Associados","03.996.810/0001-38",1,"Mauro Menezes e Advogados","32.901.423/0001-79",1,"Caputo, Bastos e Serra Advogados","12.291.813/0001-67",0," x x x "," x x x ","Dedução de Honorários Contratuais","Não","Não","Não","-","-","Não informada","Não Informada","Não",24615.55,46111.29,70726.84,1476.93,2766.6799999999994,4243.6099999999997,246.15,461.11,707.26,246.15,461.11,707.26,0,0,0,22646.319999999996,42422.39,65068.71,32981.800000000003,3627.99,7255.98,53,3627.99,null,0,0,0,0,0,0,0,0,0,0,0,0,0,0,0,0,0,0,0,0,0,0,null,24615.55,46111.29,70726.84,1476.93,2766.6799999999994,4243.6099999999997,246.15,461.11,707.26,246.15,461.11,707.26,0,0,0,22646.319999999996,42422.39,65068.71,32981.800000000003,3627.99,7255.98,3627.99,"2022-09-01",1,{"$error":"#REF!"},24615.55,46111.29,{"$error":"#REF!"},{"$error":"#REF!"},{"$error":"#REF!"},{"$error":"#REF!"},{"$error":"#REF!"},{"$error":"#REF!"},{"$error":"#REF!"},{"$error":"#REF!"},{"$error":"#REF!"},{"$error":"#REF!"},{"$error":"#REF!"},{"$error":"#REF!"},{"$error":"#REF!"},null,0,0,0,0,0,{"$error":"#REF!"},0,0,0,0,null,{"$error":"#REF!"},{"$error":"#REF!"},{"$error":"#REF!"},{"$error":"#REF!"},0,{"$error":"#REF!"},{"$error":"#REF!"},{"$error":"#REF!"},{"$error":"#REF!"},{"$error":"#REF!"},null,0,0,0,0,null,null,null,0,0,0,0]
[20,14731,"2022/0306700-2","2022-09-23","Paga em FEV-2023 - 1ª remessa","2023-02-01","NÃO",1,"MS 4.151/DF","1995-07-21","1999-02-12","Mandado de Segurança 4.151/DF","2016/0144549-8","2022-08-03","UNIÃO","Administrativo - Servidor Público Civil - Reajustes de Remuneração, Proventos ou Pensão","Alimentar","Josmery de Fátima Pereira Vaz","441.056.309-20","Servidor Público Civil Ativo","Diferença de remuneração - 3,17%","Ministério da Fazenda",6,"Mota & Advogados Associados","03.996.810/0001-38",1,"Mauro Menezes e Advogados","32.901.423/0001-79",1,"Caputo, Bastos e Serra Advogados","12.291.813/0001-67",0," x x x "," x x x ","Dedução de Honorários Contratuais","Não","Não","Não","-","-","Não informada","Não Informada","Não",24515.65,44243.29,68758.94,1470.93,2654.5999999999995,4125.53,245.15,442.43000000000006,687.58,245.15,442.43000000000006,687.58,0,0,0,22554.42,40703.83,63258.25,30495.61,3354.51,6709.02,53,3354.51,null,0,0,0,0,0,0,0,0,0,0,0,0,0,0,0,0,0,0,0,0,0,0,null,24515.65,44243.29,68758.94,1470.93,2654.5999999999995,4125.53,245.15,442.43000000000006,687.58,245.15,442.43000000000006,687.58,0,0,0,22554.42,40703.83,63258.25,30495.61,3354.51,6709.02,3354.51,"2022-09-01",1,{"$error":"#REF!"},24515.65,44243.29,{"$error":"#REF!"},{"$error":"#REF!"},{"$error":"#REF!"},{"$error":"#REF!"},{"$error":"#REF!"},{"$error":"#REF!"},{"$error":"#REF!"},{"$error":"#REF!"},{"$error":"#REF!"},{"$error":"#REF!"},{"$error":"#REF!"},{"$error":"#REF!"},{"$error":"#REF!"},null,0,0,0,0,0,{"$error":"#REF!"},0,0,0,0,null,{"$error":"#REF!"},{"$error":"#REF!"},{"$error":"#REF!"},{"$error":"#REF!"},0,{"$error":"#REF!"},{"$error":"#REF!"},{"$error":"#REF!"},{"$error":"#REF!"},{"$error":"#REF!"},null,0,0,0,0,null,null,null,0,0,0,0]
[21,14732,"2022/0306703-8","2022-09-23","Paga em FEV-2023 - 1ª remessa","2023-02-01","NÃO",1,"MS 4.151/DF","1995-07-21","1999-02-12","Mandado de Segurança 4.151/DF","2016/0128402-0","2022-04-25","UNIÃO","Administrativo - Servidor Público Civil - Reajustes de Remuneração, Proventos ou Pensão","Alimentar","Doroti Maria Delong","254.761.149-04","Servidor Público Civil Ativo","Diferença de remuneração - 3,17%","Ministério da Fazenda",9,"Mota & Advogados Associados","03.996.810/0001-38",2,"Mauro Menezes e Advogados","32.901.423/0001-79",1,"Caputo, Bastos e Serra Advogados","12.291.813/0001-67",0," x x x "," x x x ","Dedução de Honorários Contratuais","Não","Não","Não","-","-","Não informada","Não Informada","Não",24881.19,43973.37,68854.559999999998,2239.3000000000002,3957.6099999999997,6196.91,497.62,879.46999999999991,1377.09,248.81,439.72999999999996,688.54,0,0,0,21895.46,38696.559999999998,60592.02,29406.46,3234.71,6469.42,53,3234.71,null,0,0,0,0,0,0,0,0,0,0,0,0,0,0,0,0,0,0,0,0,0,0,null,24881.19,43973.37,68854.559999999998,2239.3000000000002,3957.6099999999997,6196.91,497.62,879.46999999999991,1377.09,248.81,439.72999999999996,688.54,0,0,0,21895.46,38696.559999999998,60592.02,29406.46,3234.71,6469.42,3234.71,"2022-09-01",1,{"$error":"#REF!"},24881.19,43973.37,{"$error":"#REF!"},{"$error":"#REF!"},{"$error":"#REF!"},{"$error":"#REF!"},{"$error":"#REF!"},{"$error":"#REF!"},{"$error":"#REF!"},{"$error":"#REF!"},{"$error":"#REF!"},{"$error":"#REF!"},{"$error":"#REF!"},{"$error":"#REF!"},{"$error":"#REF!"},null,0,0,0,0,0,{"$error":"#REF!"},0,0,0,0,null,{"$error":"#REF!"},{"$error":"#REF!"},{"$error":"#REF!"},{"$error":"#REF!"},0,{"$error":"#REF!"},{"$error":"#REF!"},{"$error":"#REF!"},{"$error":"#REF!"},{"$error":"#REF!"},null,0,0,0,0,null,null,null,0,0,0,0]
[22,14733,"2022/0306709-9","2022-09-23","Paga em FEV-2023 - 1ª remessa","2023-02-01","NÃO",1,"MS 4.151/DF","1995-07-21","1999-02-12","Mandado de Segurança 4.151/DF","2016/0128402-0","2022-04-25","UNIÃO","Administrativo - Servidor Público Civil - Reajustes de Remuneração, Proventos ou Pensão","Alimentar","Douglas Gerson Braga","006.307.858-99","Servidor Público Civil Ativo","Diferença de remuneração - 3,17%","Ministério da Fazenda",6,"Mota & Advogados Associados","03.996.810/0001-38",1,"Mauro Menezes e Advogados","32.901.423/0001-79",1,"Caputo, Bastos e Serra Advogados","12.291.813/0001-67",0," x x x "," x x x ","Dedução de Honorários Contratuais","Não","Não","Não","-","-","Não informada","Não Informada","Não",23413.03,42552.87,65965.899999999994,1404.78,2553.17,3957.95,234.13,425.52,659.65,234.13,425.52,659.65,0,0,0,21539.989999999998,39148.659999999996,60688.649999999994,10121.879999999999,1113.4000000000001,2226.8000000000002,53,1113.4000000000001,null,0,0,0,0,0,0,0,0,0,0,0,0,0,0,0,0,0,0,0,0,0,0,null,23413.03,42552.87,65965.899999999994,1404.78,2553.17,3957.95,234.13,425.52,659.65,234.13,425.52,659.65,0,0,0,21539.989999999998,39148.659999999996,60688.649999999994,10121.879999999999,1113.4000000000001,2226.8000000000002,1113.4000000000001,"2022-09-01",1,{"$error":"#REF!"},23413.03,42552.87,{"$error":"#REF!"},{"$error":"#REF!"},{"$error":"#REF!"},{"$error":"#REF!"},{"$error":"#REF!"},{"$error":"#REF!"},{"$error":"#REF!"},{"$error":"#REF!"},{"$error":"#REF!"},{"$error":"#REF!"},{"$error":"#REF!"},{"$error":"#REF!"},{"$error":"#REF!"},null,0,0,0,0,0,{"$error":"#REF!"},0,0,0,0,null,{"$error":"#REF!"},{"$error":"#REF!"},{"$error":"#REF!"},{"$error":"#REF!"},0,{"$error":"#REF!"},{"$error":"#REF!"},{"$error":"#REF!"},{"$error":"#REF!"},{"$error":"#REF!"},null,0,0,0,0,null,null,null,0,0,0,0]
[23,14734,"2022/0306714-0","2022-09-23","Paga em FEV-2023 - 1ª remessa","2023-02-01","NÃO",1,"MS 4.151/DF","1995-07-21","1999-02-12","Mandado de Segurança 4.151/DF","2016/0128402-0","2022-04-25","UNIÃO","Administrativo - Servidor Público Civil - Reajustes de Remuneração, Proventos ou Pensão","Alimentar","Dulce Lucia dos Santos Moura","107.607.765-04","Servidor Público Civil Ativo","Diferença de remuneração - 3,17%","Ministério da Fazenda",6,"Mota & Advogados Associados","03.996.810/0001-38",1,"Mauro Menezes e Advogados","32.901.423/0001-79",1,"Caputo, Bastos e Serra Advogados","12.291.813/0001-67",0," x x x "," x x x ","Dedução de Honorários Contratuais","Não","Não","Não","-","-","Não informada","Não Informada","Não",21782.94,39587.879999999997,61370.82,1306.97,2375.2699999999995,3682.24,217.82,395.88000000000005,613.70000000000005,217.82,395.88000000000005,613.70000000000005,0,0,0,20040.329999999998,36420.850000000006,56461.180000000008,27393.62,3013.29,6026.58,53,3013.29,null,0,0,0,0,0,0,0,0,0,0,0,0,0,0,0,0,0,0,0,0,0,0,null,21782.94,39587.879999999997,61370.82,1306.97,2375.2699999999995,3682.24,217.82,395.88000000000005,613.70000000000005,217.82,395.88000000000005,613.70000000000005,0,0,0,20040.329999999998,36420.850000000006,56461.180000000008,27393.62,3013.29,6026.58,3013.29,"2022-09-01",1,{"$error":"#REF!"},21782.94,39587.879999999997,{"$error":"#REF!"},{"$error":"#REF!"},{"$error":"#REF!"},{"$error":"#REF!"},{"$error":"#REF!"},{"$error":"#REF!"},{"$error":"#REF!"},{"$error":"#REF!"},{"$error":"#REF!"},{"$error":"#REF!"},{"$error":"#REF!"},{"$error":"#REF!"},{"$error":"#REF!"},null,0,0,0,0,0,{"$error":"#REF!"},0,0,0,0,null,{"$error":"#REF!"},{"$error":"#REF!"},{"$error":"#REF!"},{"$error":"#REF!"},0,{"$error":"#REF!"},{"$error":"#REF!"},{"$error":"#REF!"},{"$error":"#REF!"},{"$error":"#REF!"},null,0,0,0,0,null,null,null,0,0,0,0]
[24,14735,"2022/0306719-0","2022-09-23","Paga em FEV-2023 - 1ª remessa","2023-02-01","NÃO",1,"MS 4.151/DF","1995-07-21","1999-02-12","Mandado de Segurança 4.151/DF","2016/0128402-0","2022-04-25","UNIÃO","Administrativo - Servidor Público Civil - Reajustes de Remuneração, Proventos ou Pensão","Alimentar","Dulcineia do Amaral Mazzo","984.540.218-68","Servidor Público Civil Ativo","Diferença de remuneração - 3,17%","Ministério da Fazenda",6,"Mota & Advogados Associados","03.996.810/0001-38",1,"Mauro Menezes e Advogados","32.901.423/0001-79",1,"Caputo, Bastos e Serra Advogados","12.291.813/0001-67",0," x x x "," x x x ","Dedução de Honorários Contratuais","Não","Não","Não","-","-","Não informada","Não Informada","Não",21692.959999999999,41534.810000000005,63227.770000000004,1301.57,2492.09,3793.66,216.92,415.35,632.27,216.92,415.35,632.27,0,0,0,19957.550000000003,38212.020000000004,58169.570000000007,30249.19,3327.41,6654.82,53,3327.41,null,0,0,0,0,0,0,0,0,0,0,0,0,0,0,0,0,0,0,0,0,0,0,null,21692.959999999999,41534.810000000005,63227.770000000004,1301.57,2492.09,3793.66,216.92,415.35,632.27,216.92,415.35,632.27,0,0,0,19957.550000000003,38212.020000000004,58169.570000000007,30249.19,3327.41,6654.82,3327.41,"2022-09-01",1,{"$error":"#REF!"},21692.959999999999,41534.81,{"$error":"#REF!"},{"$error":"#REF!"},{"$error":"#REF!"},{"$error":"#REF!"},{"$error":"#REF!"},{"$error":"#REF!"},{"$error":"#REF!"},{"$error":"#REF!"},{"$error":"#REF!"},{"$error":"#REF!"},{"$error":"#REF!"},{"$error":"#REF!"},{"$error":"#REF!"},null,0,0,0,0,0,{"$error":"#REF!"},0,0,0,0,null,{"$error":"#REF!"},{"$error":"#REF!"},{"$error":"#REF!"},{"$error":"#REF!"},0,{"$error":"#REF!"},{"$error":"#REF!"},{"$error":"#REF!"},{"$error":"#REF!"},{"$error":"#REF!"},null,0,0,0,0,null,null,null,0,0,0,0]
[25,14736,"2022/0306788-4","2022-09-23","Paga em FEV-2023 - 1ª remessa","2023-02-01","NÃO",1,"MS 4.151/DF","1995-07-21","1999-02-12","Mandado de Segurança 4.151/DF","2016/0128402-0","2022-08-05","UNIÃO","Administrativo - Servidor Público Civil - Reajustes de Remuneração, Proventos ou Pensão","Alimentar","Espólio de Dorval Doro","004.550.321-49","Servidor Público Civil Inativo","Diferença de remuneração - 3,17%","Ministério da Fazenda",6,"Mota & Advogados Associados","03.996.810/0001-38",1,"Mauro Menezes e Advogados","32.901.423/0001-79",1,"Caputo, Bastos e Serra Advogados","12.291.813/0001-67",5,"Ibaneis Advocacia e Consultoria Sociedade Simples","05.613.437/0001-14","Dedução de Honorários Contratuais","Não","Não","Não","-","-","Não informada","Não Informada","Não",26197.39,46522.61,72720,1571.84,2791.3599999999997,4363.2,261.97000000000003,465.23,727.2,261.97000000000003,465.23,727.2,1309.8599999999999,2326.1400000000003,3636,22791.749999999996,40474.650000000009,63266.400000000009,0,0,0,53,0,null,0,0,0,0,0,0,0,0,0,0,0,0,0,0,0,0,0,0,0,0,0,0,null,26197.39,46522.61,72720,1571.84,2791.3599999999997,4363.2,261.97000000000003,465.23,727.2,261.97000000000003,465.23,727.2,1309.8599999999999,2326.1400000000003,3636,22791.749999999996,40474.650000000009,63266.400000000009,0,0,0,0,"2022-09-01",1,{"$error":"#REF!"},26197.39,46522.61,{"$error":"#REF!"},{"$error":"#REF!"},{"$error":"#REF!"},{"$error":"#REF!"},{"$error":"#REF!"},{"$error":"#REF!"},{"$error":"#REF!"},{"$error":"#REF!"},0,0,0,{"$error":"#REF!"},{"$error":"#REF!"},null,0,0,0,0,0,{"$error":"#REF!"},0,0,0,0,null,{"$error":"#REF!"},{"$error":"#REF!"},{"$error":"#REF!"},{"$error":"#REF!"},{"$error":"#REF!"},{"$error":"#REF!"},0,0,0,0,null,0,0,0,0,null,null,null,0,0,0,0]
[26,14737,"2022/0306796-1","2022-09-23","Paga em FEV-2023 - 1ª remessa","2023-02-01","NÃO",1,"MS 10.424/DF","2005-02-17","2005-10-27","Mandado de Segurança 10.424/DF","2006/0235322-0","2021-12-15","UNIÃO","Administrativo - Servidor Público Civil - Sistema Remuneratório e Benefícios - Gratificações","Alimentar","Norma Márcia De Souza Johnson Sarmento","136.904.342-20","Servidor Público Civil Ativo","Gratificação Específica de Atividade Docente - GEAD","Ministério do Planejamento, Orçamento e Gestão",11,"Fonseca e Assis Advogados Associados","01.971.231/0001-05",0," x x x ","x x x",0," x x x "," x x x ",0," x x x "," x x x ","Dedução de Honorários Contratuais","Não","Não","Não","-","-","Não informada","Não Informada","Não",3163.06,3269.1800000000003,6432.2400000000007,347.93,359.60999999999996,707.54,0,0,0,0,0,0,0,0,0,2815.13,2909.5700000000006,5724.7000000000007,3163.06,347.93,695.86,9,347.93,null,0,0,0,0,0,0,0,0,0,0,0,0,0,0,0,0,0,0,0,0,0,0,null,3163.06,3269.1800000000003,6432.2400000000007,347.93,359.60999999999996,707.54,0,0,0,0,0,0,0,0,0,2815.13,2909.5700000000006,5724.7000000000007,3163.06,347.93,695.86,347.93,"2022-09-01",1,{"$error":"#REF!"},3163.06,3269.18,{"$error":"#REF!"},0,{"$error":"#REF!"},{"$error":"#REF!"},{"$error":"#REF!"},{"$error":"#REF!"},{"$error":"#REF!"},{"$error":"#REF!"},{"$error":"#REF!"},{"$error":"#REF!"},{"$error":"#REF!"},{"$error":"#REF!"},{"$error":"#REF!"},null,0,0,0,0,0,{"$error":"#REF!"},0,0,0,0,null,{"$error":"#REF!"},{"$error":"#REF!"},0,0,0,{"$error":"#REF!"},{"$error":"#REF!"},{"$error":"#REF!"},{"$error":"#REF!"},{"$error":"#REF!"},null,0,0,0,0,null,null,null,0,0,0,0]
[27,14738,"2022/0306799-7","2022-09-23","Paga em FEV-2023 - 1ª remessa","2023-02-01","NÃO",1,"MS 4.151/DF","1995-07-21","1999-02-12","Mandado de Segurança 4.151/DF","2016/0144655_0","2022-08-03","UNIÃO","Administrativo - Servidor Público Civil - Reajustes de Remuneração, Proventos ou Pensão","Alimentar","Espólio de Kiyotaka Hiratsuka","673.644.978-20","Servidor Público Civil Ativo","Diferença de remuneração - 3,17%","Ministério da Fazenda",10,"Mota & Advogados Associados","03.996.810/0001-38",10,"Mota Torres & Ferreira Advogados","43.041.255/0001-05",0," x x x "," x x x ",0," x x x "," x x x ","Dedução de Honorários Contratuais","Não","Não","Não","-","-","Não informada","Não Informada","Não",17949.07,44206.310000000005,62155.380000000005,1794.9,4420.6299999999992,6215.53,1794.9,4420.6299999999992,6215.53,0,0,0,0,0,0,14359.27,35365.050000000003,49724.320000000007,29521.89,3247.4,6494.8,53,3247.4,null,0,0,0,0,0,0,0,0,0,0,0,0,0,0,0,0,0,0,0,0,0,0,null,17949.07,44206.310000000005,62155.380000000005,1794.9,4420.6299999999992,6215.53,1794.9,4420.6299999999992,6215.53,0,0,0,0,0,0,14359.27,35365.050000000003,49724.320000000007,29521.89,3247.4,6494.8,3247.4,"2022-09-01",1,{"$error":"#REF!"},17949.07,44206.31,{"$error":"#REF!"},{"$error":"#REF!"},{"$error":"#REF!"},{"$error":"#REF!"},{"$error":"#REF!"},{"$error":"#REF!"},{"$error":"#REF!"},{"$error":"#REF!"},{"$error":"#REF!"},{"$error":"#REF!"},{"$error":"#REF!"},{"$error":"#REF!"},{"$error":"#REF!"},null,0,0,0,0,0,{"$error":"#REF!"},0,0,0,0,null,{"$error":"#REF!"},{"$error":"#REF!"},{"$error":"#REF!"},0,0,{"$error":"#REF!"},{"$error":"#REF!"},{"$error":"#REF!"},{"$error":"#REF!"},{"$error":"#REF!"},null,0,0,0,0,null,null,null,0,0,0,0]
[28,14739,"2022/0306807-3","2022-09-23","Paga em FEV-2023 - 1ª remessa","2023-02-01","NÃO",1,"MS 4.151/DF","1995-07-21","1999-02-12","Mandado de Segurança 4.151/DF","2016/0141898_3","2022-08-03","UNIÃO","Administrativo - Servidor Público Civil - Reajustes de Remuneração, Proventos ou Pensão","Alimentar","Espólio de Itamar José de Barros","081.387.707-59","Servidor Público Civil Ativo","Diferença de remuneração - 3,17%","Ministério da Fazenda",8,"Mota & Advogados Associados","03.996.810/0001-38",1,"Mauro Menezes e Advogados","32.901.423/0001-79",1,"Caputo, Bastos e Serra Advogados","12.291.813/0001-67",0," x x x "," x x x ","Dedução de Honorários Contratuais","Não","Não","Não","-","-","Não informada","Não Informada","Não",12861.36,36823.18,49684.54,1028.9000000000001,2945.86,3974.76,128.61000000000001,368.22999999999996,496.84,128.61000000000001,368.22999999999996,496.84,0,0,0,11575.24,33140.860000000008,44716.100000000006,8533.2900000000009,938.66,1877.32,53,938.66,null,0,0,0,0,0,0,0,0,0,0,0,0,0,0,0,0,0,0,0,0,0,0,null,12861.36,36823.18,49684.54,1028.9000000000001,2945.86,3974.76,128.61000000000001,368.22999999999996,496.84,128.61000000000001,368.22999999999996,496.84,0,0,0,11575.24,33140.860000000008,44716.100000000006,8533.2900000000009,938.66,1877.32,938.66,"2022-09-01",1,{"$error":"#REF!"},12861.36,36823.18,{"$error":"#REF!"},{"$error":"#REF!"},{"$error":"#REF!"},{"$error":"#REF!"},{"$error":"#REF!"},{"$error":"#REF!"},{"$error":"#REF!"},{"$error":"#REF!"},{"$error":"#REF!"},{"$error":"#REF!"},{"$error":"#REF!"},{"$error":"#REF!"},{"$error":"#REF!"},null,0,0,0,0,0,{"$error":"#REF!"},0,0,0,0,null,{"$error":"#REF!"},{"$error":"#REF!"},{"$error":"#REF!"},{"$error":"#REF!"},0,{"$error":"#REF!"},{"$error":"#REF!"},{"$error":"#REF!"},{"$error":"#REF!"},{"$error":"#REF!"},null,0,0,0,0,null,null,null,0,0,0,0]
[29,14740,"2022/0306808-5","2022-09-23","Paga em FEV-2023 - 1ª remessa","2023-02-01","NÃO",1,"MS 4.151/DF","1995-07-21","1999-02-12","Mandado de Segurança 4.151/DF","2016/0141898_3","2022-08-03","UNIÃO","Administrativo - Servidor Público Civil - Reajustes de Remuneração, Proventos ou Pensão","Alimentar","Espólio de Israel Stefano","317.572.948-72","Servidor Público Civil Inativo","Diferença de remuneração - 3,17%","Ministério da Fazenda",7,"Mota & Advogados Associados","03.996.810/0001-38",6.5,"Francisco Edio Mota Torres Sociedade Individual de Advocacia","38.461.439/0001-94",6.5,"Mariana Vieira Ferreira Sociedade Individual de Advocacia","30.454.371/0001-04",0," x x x "," x x x ","Dedução de Honorários Contratuais","Não","Não","Não","-","-","Não informada","Não Informada","Não",21858.37,39217.210000000006,61075.58,1530.08,2745.21,4275.29,1420.79,2549.12,3969.91,1420.79,2549.12,3969.91,0,0,0,17486.71,31373.760000000002,48860.47,0,0,0,53,0,null,0,0,0,0,0,0,0,0,0,0,0,0,0,0,0,0,0,0,0,0,0,0,null,21858.37,39217.210000000006,61075.58,1530.08,2745.21,4275.29,1420.79,2549.12,3969.91,1420.79,2549.12,3969.91,0,0,0,17486.71,31373.760000000002,48860.47,0,0,0,0,"2022-09-01",1,{"$error":"#REF!"},21858.37,39217.21,{"$error":"#REF!"},{"$error":"#REF!"},{"$error":"#REF!"},{"$error":"#REF!"},{"$error":"#REF!"},{"$error":"#REF!"},{"$error":"#REF!"},{"$error":"#REF!"},0,0,0,{"$error":"#REF!"},{"$error":"#REF!"},null,0,0,0,0,0,{"$error":"#REF!"},0,0,0,0,null,{"$error":"#REF!"},{"$error":"#REF!"},{"$error":"#REF!"},{"$error":"#REF!"},0,{"$error":"#REF!"},0,0,0,0,null,0,0,0,0,null,null,null,0,0,0,0]
[30,14742,"2022/0307391-7","2022-09-23","Paga em FEV-2023 - 1ª remessa","2023-02-01","NÃO",1,"MS 4.151/DF","1995-07-21","1999-02-12","Mandado de Segurança 4.151/DF","2016/0153101-6","2022-08-03","UNIÃO","Administrativo - Servidor Público Civil - Reajustes de Remuneração, Proventos ou Pensão","Alimentar","Maria Terezinha Gomes da Silva","172.698.656-04","Servidor Público Civil Ativo","Diferença de remuneração - 3,17%","Ministério da Fazenda",6,"Mota & Advogados Associados","03.996.810/0001-38",1,"Mauro Menezes e Advogados","32.901.423/0001-79",1,"Caputo, Bastos e Serra Advogados","12.291.813/0001-67",0," x x x "," x x x ","Dedução de Honorários Contratuais","Não","Não","Não","-","-","Não informada","Não Informada","Não",21651.919999999998,40719.769999999997,62371.689999999995,1299.1099999999999,2443.1900000000005,3742.3,216.51,407.20000000000005,623.71,216.51,407.20000000000005,623.71,0,0,0,19919.79,37462.179999999993,57381.969999999994,29254.83,3218.03,6436.06,53,3218.03,null,0,0,0,0,0,0,0,0,0,0,0,0,0,0,0,0,0,0,0,0,0,0,null,21651.919999999998,40719.769999999997,62371.689999999995,1299.1099999999999,2443.1900000000005,3742.3,216.51,407.20000000000005,623.71,216.51,407.20000000000005,623.71,0,0,0,19919.79,37462.179999999993,57381.969999999994,29254.83,3218.03,6436.06,3218.03,"2022-09-01",1,{"$error":"#REF!"},21651.919999999998,40719.769999999997,{"$error":"#REF!"},{"$error":"#REF!"},{"$error":"#REF!"},{"$error":"#REF!"},{"$error":"#REF!"},{"$error":"#REF!"},{"$error":"#REF!"},{"$error":"#REF!"},{"$error":"#REF!"},{"$error":"#REF!"},{"$error":"#REF!"},{"$error":"#REF!"},{"$error":"#REF!"},null,0,0,0,0,0,{"$error":"#REF!"},0,0,0,0,null,{"$error":"#REF!"},{"$error":"#REF!"},{"$error":"#REF!"},{"$error":"#REF!"},0,{"$error":"#REF!"},{"$error":"#REF!"},{"$error":"#REF!"},{"$error":"#REF!"},{"$error":"#REF!"},null,0,0,0,0,null,null,null,0,0,0,0]
[31,14743,"2022/0307394-2","2022-09-23","Paga em FEV-2023 - 1ª remessa","2023-02-01","NÃO",1,"MS 4.151/DF","1995-07-21","1999-02-12","Mandado de Segurança 4.151/DF","2016/0153101-6","2022-08-03","UNIÃO","Administrativo - Servidor Público Civil - Reajustes de Remuneração, Proventos ou Pensão","Alimentar","Maria Zanin Calux","630.871.628-68","Servidor Público Civil Ativo","Diferença de remuneração - 3,17%","Ministério da Fazenda",6,"Mota & Advogados Associados","03.996.810/0001-38",1,"Mauro Menezes e Advogados","32.901.423/0001-79",1,"Caputo, Bastos e Serra Advogados","12.291.813/0001-67",0," x x x "," x x x ","Dedução de Honorários Contratuais","Não","Não","Não","-","-","Não informada","Não Informada","Não",18716.84,39291,58007.839999999997,1123.01,2357.46,3480.47,187.16,392.91000000000008,580.07000000000005,187.16,392.91000000000008,580.07000000000005,0,0,0,17219.510000000002,36147.719999999994,53367.229999999996,30493.85,3354.32,6708.64,53,3354.32,null,0,0,0,0,0,0,0,0,0,0,0,0,0,0,0,0,0,0,0,0,0,0,null,18716.84,39291,58007.839999999997,1123.01,2357.46,3480.47,187.16,392.91000000000008,580.07000000000005,187.16,392.91000000000008,580.07000000000005,0,0,0,17219.510000000002,36147.719999999994,53367.229999999996,30493.85,3354.32,6708.64,3354.32,"2022-09-01",1,{"$error":"#REF!"},18716.84,39291,{"$error":"#REF!"},{"$error":"#REF!"},{"$error":"#REF!"},{"$error":"#REF!"},{"$error":"#REF!"},{"$error":"#REF!"},{"$error":"#REF!"},{"$error":"#REF!"},{"$error":"#REF!"},{"$error":"#REF!"},{"$error":"#REF!"},{"$error":"#REF!"},{"$error":"#REF!"},null,0,0,0,0,0,{"$error":"#REF!"},0,0,0,0,null,{"$error":"#REF!"},{"$error":"#REF!"},{"$error":"#REF!"},{"$error":"#REF!"},0,{"$error":"#REF!"},{"$error":"#REF!"},{"$error":"#REF!"},{"$error":"#REF!"},{"$error":"#REF!"},null,0,0,0,0,null,null,null,0,0,0,0]
[32,14745,"2022/0307421-9","2022-09-23","Paga em FEV-2023 - 1ª remessa","2023-02-01","NÃO",1,"MS 4.151/DF","1995-07-21","1999-02-12","Mandado de Segurança 4.151/DF","2016/0153101-6","2022-08-03","UNIÃO","Administrativo - Servidor Público Civil - Reajustes de Remuneração, Proventos ou Pensão","Alimentar","Maria Teresa Giovannitti","033.557.558-77","Servidor Público Civil Ativo","Diferença de remuneração - 3,17%","Ministério da Fazenda",6,"Mota & Advogados Associados","03.996.810/0001-38",1,"Mauro Menezes e Advogados","32.901.423/0001-79",1,"Caputo, Bastos e Serra Advogados","12.291.813/0001-67",0," x x x "," x x x ","Dedução de Honorários Contratuais","Não","Não","Não","-","-","Não informada","Não Informada","Não",21537.61,40267.35,61804.959999999999,1292.25,2416.04,3708.29,215.37,402.66999999999996,618.04,215.37,402.66999999999996,618.04,0,0,0,19814.620000000003,37045.969999999994,56860.59,29058.54,3196.43,6392.86,53,3196.43,null,0,0,0,0,0,0,0,0,0,0,0,0,0,0,0,0,0,0,0,0,0,0,null,21537.61,40267.35,61804.959999999999,1292.25,2416.04,3708.29,215.37,402.66999999999996,618.04,215.37,402.66999999999996,618.04,0,0,0,19814.620000000003,37045.969999999994,56860.59,29058.54,3196.43,6392.86,3196.43,"2022-09-01",1,{"$error":"#REF!"},21537.61,40267.35,{"$error":"#REF!"},{"$error":"#REF!"},{"$error":"#REF!"},{"$error":"#REF!"},{"$error":"#REF!"},{"$error":"#REF!"},{"$error":"#REF!"},{"$error":"#REF!"},{"$error":"#REF!"},{"$error":"#REF!"},{"$error":"#REF!"},{"$error":"#REF!"},{"$error":"#REF!"},null,0,0,0,0,0,{"$error":"#REF!"},0,0,0,0,null,{"$error":"#REF!"},{"$error":"#REF!"},{"$error":"#REF!"},{"$error":"#REF!"},0,{"$error":"#REF!"},{"$error":"#REF!"},{"$error":"#REF!"},{"$error":"#REF!"},{"$error":"#REF!"},null,0,0,0,0,null,null,null,0,0,0,0]
[33,14746,"2022/0307427-0","2022-09-23","Paga em FEV-2023 - 1ª remessa","2023-02-01","NÃO",1,"MS 4.151/DF","1995-07-21","1999-02-12","Mandado de Segurança 4.151/DF","2016/0153101-6","2022-08-03","UNIÃO","Administrativo - Servidor Público Civil - Reajustes de Remuneração, Proventos ou Pensão","Alimentar","Maria Teresinha Marques","754.128.538-20","Servidor Público Civil Ativo","Diferença de remuneração - 3,17%","Ministério da Fazenda",6,"Mota & Advogados Associados","03.996.810/0001-38",1,"Mauro Menezes e Advogados","32.901.423/0001-79",1,"Caputo, Bastos e Serra Advogados","12.291.813/0001-67",0," x x x "," x x x ","Dedução de Honorários Contratuais","Não","Não","Não","-","-","Não informada","Não Informada","Não",21589.77,41347.800000000003,62937.57,1295.3800000000001,2480.87,3776.25,215.89,413.48,629.37,215.89,413.48,629.37,0,0,0,19862.61,38039.969999999994,57902.579999999994,30113.65,3312.5,6625,53,3312.5,null,0,0,0,0,0,0,0,0,0,0,0,0,0,0,0,0,0,0,0,0,0,0,null,21589.77,41347.800000000003,62937.57,1295.3800000000001,2480.87,3776.25,215.89,413.48,629.37,215.89,413.48,629.37,0,0,0,19862.61,38039.969999999994,57902.579999999994,30113.65,3312.5,6625,3312.5,"2022-09-01",1,{"$error":"#REF!"},21589.77,41347.800000000003,{"$error":"#REF!"},{"$error":"#REF!"},{"$error":"#REF!"},{"$error":"#REF!"},{"$error":"#REF!"},{"$error":"#REF!"},{"$error":"#REF!"},{"$error":"#REF!"},{"$error":"#REF!"},{"$error":"#REF!"},{"$error":"#REF!"},{"$error":"#REF!"},{"$error":"#REF!"},null,0,0,0,0,0,{"$error":"#REF!"},0,0,0,0,null,{"$error":"#REF!"},{"$error":"#REF!"},{"$error":"#REF!"},{"$error":"#REF!"},0,{"$error":"#REF!"},{"$error":"#REF!"},{"$error":"#REF!"},{"$error":"#REF!"},{"$error":"#REF!"},null,0,0,0,0,null,null,null,0,0,0,0]
[34,14747,"2022/0307439-4","2022-09-23","Paga em FEV-2023 - 1ª remessa","2023-02-01","NÃO",1,"MS 4.151/DF","1995-07-21","1999-02-12","Mandado de Segurança 4.151/DF","2016/0153101-6","2022-08-03","UNIÃO","Administrativo - Servidor Público Civil - Reajustes de Remuneração, Proventos ou Pensão","Alimentar","Maria Tereza Castelare Ius","866.413.958-04","Servidor Público Civil Ativo","Diferença de remuneração - 3,17%","Ministério da Fazenda",6,"Mota & Advogados Associados","03.996.810/0001-38",1,"Mauro Menezes e Advogados","32.901.423/0001-79",1,"Caputo, Bastos e Serra Advogados","12.291.813/0001-67",0," x x x "," x x x ","Dedução de Honorários Contratuais","Não","Não","Não","-","-","Não informada","Não Informada","Não",26029.67,46232.88,72262.549999999988,1561.78,2773.9700000000003,4335.75,260.29000000000002,462.33,722.62,260.29000000000002,462.33,722.62,0,0,0,23947.309999999998,42534.25,66481.56,30922.959999999999,3401.52,6803.04,53,3401.52,null,0,0,0,0,0,0,0,0,0,0,0,0,0,0,0,0,0,0,0,0,0,0,null,26029.67,46232.88,72262.549999999988,1561.78,2773.9700000000003,4335.75,260.29000000000002,462.33,722.62,260.29000000000002,462.33,722.62,0,0,0,23947.309999999998,42534.25,66481.56,30922.959999999999,3401.52,6803.04,3401.52,"2022-09-01",1,{"$error":"#REF!"},26029.67,46232.88,{"$error":"#REF!"},{"$error":"#REF!"},{"$error":"#REF!"},{"$error":"#REF!"},{"$error":"#REF!"},{"$error":"#REF!"},{"$error":"#REF!"},{"$error":"#REF!"},{"$error":"#REF!"},{"$error":"#REF!"},{"$error":"#REF!"},{"$error":"#REF!"},{"$error":"#REF!"},null,0,0,0,0,0,{"$error":"#REF!"},0,0,0,0,null,{"$error":"#REF!"},{"$error":"#REF!"},{"$error":"#REF!"},{"$error":"#REF!"},0,{"$error":"#REF!"},{"$error":"#REF!"},{"$error":"#REF!"},{"$error":"#REF!"},{"$error":"#REF!"},null,0,0,0,0,null,null,null,0,0,0,0]
[35,14748,"2022/0307441-0","2022-09-23","Paga em FEV-2023 - 1ª remessa","2023-02-01","NÃO",1,"MS 4.151/DF","1995-07-21","1999-02-12","Mandado de Segurança 4.151/DF","2016/0153101-6","2022-08-03","UNIÃO","Administrativo - Servidor Público Civil - Reajustes de Remuneração, Proventos ou Pensão","Alimentar","Maria Terezinha Cruzeiro Calderon","835.056.528-49","Servidor Público Civil Ativo","Diferença de remuneração - 3,17%","Ministério da Fazenda",6,"Mota & Advogados Associados","03.996.810/0001-38",1,"Mauro Menezes e Advogados","32.901.423/0001-79",1,"Caputo, Bastos e Serra Advogados","12.291.813/0001-67",0," x x x "," x x x ","Dedução de Honorários Contratuais","Não","Não","Não","-","-","Não informada","Não Informada","Não",21648.04,41453.420000000006,63101.460000000006,1298.8800000000001,2487.1999999999998,3786.08,216.48,414.53,631.01,216.48,414.53,631.01,0,0,0,19916.2,38137.160000000003,58053.36,30193.39,3321.27,6642.54,53,3321.27,null,0,0,0,0,0,0,0,0,0,0,0,0,0,0,0,0,0,0,0,0,0,0,null,21648.04,41453.420000000006,63101.460000000006,1298.8800000000001,2487.1999999999998,3786.08,216.48,414.53,631.01,216.48,414.53,631.01,0,0,0,19916.2,38137.160000000003,58053.36,30193.39,3321.27,6642.54,3321.27,"2022-09-01",1,{"$error":"#REF!"},21648.04,41453.42,{"$error":"#REF!"},{"$error":"#REF!"},{"$error":"#REF!"},{"$error":"#REF!"},{"$error":"#REF!"},{"$error":"#REF!"},{"$error":"#REF!"},{"$error":"#REF!"},{"$error":"#REF!"},{"$error":"#REF!"},{"$error":"#REF!"},{"$error":"#REF!"},{"$error":"#REF!"},null,0,0,0,0,0,{"$error":"#REF!"},0,0,0,0,null,{"$error":"#REF!"},{"$error":"#REF!"},{"$error":"#REF!"},{"$error":"#REF!"},0,{"$error":"#REF!"},{"$error":"#REF!"},{"$error":"#REF!"},{"$error":"#REF!"},{"$error":"#REF!"},null,0,0,0,0,null,null,null,0,0,0,0]
[36,14749,"2022/0307451-1","2022-09-23","Paga em FEV-2023 - 1ª remessa","2023-02-01","NÃO",1,"MS 4.151/DF","1995-07-21","1999-02-12","Mandado de Segurança 4.151/DF","2016/0153101-6","2022-08-03","UNIÃO","Administrativo - Servidor Público Civil - Reajustes de Remuneração, Proventos ou Pensão","Alimentar","Maria Zelia da Silva","685.900.758-34","Servidor Público Civil Inativo","Diferença de remuneração - 3,17%","Ministério da Fazenda",6,"Mota & Advogados Associados","03.996.810/0001-38",1,"Mauro Menezes e Advogados","32.901.423/0001-79",1,"Caputo, Bastos e Serra Advogados","12.291.813/0001-67",0," x x x "," x x x ","Dedução de Honorários Contratuais","Não","Não","Não","-","-","Não informada","Não Informada","Não",22578.400000000001,39888.769999999997,62467.17,1354.7,2393.33,3748.03,225.78,398.89,624.66999999999996,225.78,398.89,624.66999999999996,0,0,0,20772.140000000003,36697.660000000003,57469.8,0,0,0,53,0,null,0,0,0,0,0,0,0,0,0,0,0,0,0,0,0,0,0,0,0,0,0,0,null,22578.400000000001,39888.769999999997,62467.17,1354.7,2393.33,3748.03,225.78,398.89,624.66999999999996,225.78,398.89,624.66999999999996,0,0,0,20772.140000000003,36697.660000000003,57469.8,0,0,0,0,"2022-09-01",1,{"$error":"#REF!"},22578.400000000001,39888.769999999997,{"$error":"#REF!"},{"$error":"#REF!"},{"$error":"#REF!"},{"$error":"#REF!"},{"$error":"#REF!"},{"$error":"#REF!"},{"$error":"#REF!"},{"$error":"#REF!"},0,0,0,{"$error":"#REF!"},{"$error":"#REF!"},null,0,0,0,0,0,{"$error":"#REF!"},0,0,0,0,null,{"$error":"#REF!"},{"$error":"#REF!"},{"$error":"#REF!"},{"$error":"#REF!"},0,{"$error":"#REF!"},0,0,0,0,null,0,0,0,0,null,null,null,0,0,0,0]
[37,14750,"2022/0307481-4","2022-09-23","Paga em FEV-2023 - 1ª remessa","2023-02-01","NÃO",1,"MS 4.151/DF","1995-07-21","1999-02-12","Mandado de Segurança 4.151/DF","2016/0153187-4","2022-08-03","UNIÃO","Administrativo - Servidor Público Civil - Reajustes de Remuneração, Proventos ou Pensão","Alimentar","Maria Auxiliadora Silva Galvão","111.994.665-49","Servidor Público Civil Ativo","Diferença de remuneração - 3,17%","Ministério da Fazenda",9,"Mota & Advogados Associados","03.996.810/0001-38",2,"Mauro Menezes e Advogados","32.901.423/0001-79",1,"Caputo, Bastos e Serra Advogados","12.291.813/0001-67",0," x x x "," x x x ","Dedução de Honorários Contratuais","Não","Não","Não","-","-","Não informada","Não Informada","Não",24016.45,43984.2,68000.650000000009,2161.48,3958.57,6120.05,480.32,879.69,1360.01,240.16,439.84000000000003,680,0,0,0,21134.49,38706.100000000006,59840.590000000004,30764.93,3384.14,6768.28,53,3384.14,null,0,0,0,0,0,0,0,0,0,0,0,0,0,0,0,0,0,0,0,0,0,0,null,24016.45,43984.2,68000.650000000009,2161.48,3958.57,6120.05,480.32,879.69,1360.01,240.16,439.84000000000003,680,0,0,0,21134.49,38706.100000000006,59840.590000000004,30764.93,3384.14,6768.28,3384.14,"2022-09-01",1,{"$error":"#REF!"},24016.45,43984.2,{"$error":"#REF!"},{"$error":"#REF!"},{"$error":"#REF!"},{"$error":"#REF!"},{"$error":"#REF!"},{"$error":"#REF!"},{"$error":"#REF!"},{"$error":"#REF!"},{"$error":"#REF!"},{"$error":"#REF!"},{"$error":"#REF!"},{"$error":"#REF!"},{"$error":"#REF!"},null,0,0,0,0,0,{"$error":"#REF!"},0,0,0,0,null,{"$error":"#REF!"},{"$error":"#REF!"},{"$error":"#REF!"},{"$error":"#REF!"},0,{"$error":"#REF!"},{"$error":"#REF!"},{"$error":"#REF!"},{"$error":"#REF!"},{"$error":"#REF!"},null,0,0,0,0,null,null,null,0,0,0,0]
[38,14751,"2022/0307487-5","2022-09-23","Paga em FEV-2023 - 1ª remessa","2023-02-01","NÃO",1,"MS 4.151/DF","1995-07-21","1999-02-12","Mandado de Segurança 4.151/DF","2016/0153187-4","2022-08-03","UNIÃO","Administrativo - Servidor Público Civil - Reajustes de Remuneração, Proventos ou Pensão","Alimentar","Maria Bernadete de Assis","192.745.996-68","Servidor Público Civil Ativo","Diferença de remuneração - 3,17%","Ministério da Fazenda",6,"Mota & Advogados Associados","03.996.810/0001-38",1,"Mauro Menezes e Advogados","32.901.423/0001-79",1,"Caputo, Bastos e Serra Advogados","12.291.813/0001-67",0," x x x "," x x x ","Dedução de Honorários Contratuais","Não","Não","Não","-","-","Não informada","Não Informada","Não",19079.95,39530.560000000005,58610.510000000009,1144.79,2371.84,3516.63,190.79,395.31000000000006,586.1,190.79,395.31000000000006,586.1,0,0,0,17553.579999999998,36368.10000000002,53921.680000000015,30340.37,3337.44,6674.88,53,3337.44,null,0,0,0,0,0,0,0,0,0,0,0,0,0,0,0,0,0,0,0,0,0,0,null,19079.95,39530.560000000005,58610.510000000009,1144.79,2371.84,3516.63,190.79,395.31000000000006,586.1,190.79,395.31000000000006,586.1,0,0,0,17553.579999999998,36368.10000000002,53921.680000000015,30340.37,3337.44,6674.88,3337.44,"2022-09-01",1,{"$error":"#REF!"},19079.95,39530.559999999998,{"$error":"#REF!"},{"$error":"#REF!"},{"$error":"#REF!"},{"$error":"#REF!"},{"$error":"#REF!"},{"$error":"#REF!"},{"$error":"#REF!"},{"$error":"#REF!"},{"$error":"#REF!"},{"$error":"#REF!"},{"$error":"#REF!"},{"$error":"#REF!"},{"$error":"#REF!"},null,0,0,0,0,0,{"$error":"#REF!"},0,0,0,0,null,{"$error":"#REF!"},{"$error":"#REF!"},{"$error":"#REF!"},{"$error":"#REF!"},0,{"$error":"#REF!"},{"$error":"#REF!"},{"$error":"#REF!"},{"$error":"#REF!"},{"$error":"#REF!"},null,0,0,0,0,null,null,null,0,0,0,0]
[39,14752,"2022/0307488-7","2022-09-23","Paga em FEV-2023 - 1ª remessa","2023-02-01","NÃO",1,"MS 4.151/DF","1995-07-21","1999-02-12","Mandado de Segurança 4.151/DF","2016/0153187-4","2022-08-03","UNIÃO","Administrativo - Servidor Público Civil - Reajustes de Remuneração, Proventos ou Pensão","Alimentar","Maria Bernadete Hernandez Gonzalez da Costa","005.184.538-55","Servidor Público Civil Ativo","Diferença de remuneração - 3,17%","Ministério da Fazenda",6,"Mota & Advogados Associados","03.996.810/0001-38",1,"Mauro Menezes e Advogados","32.901.423/0001-79",1,"Caputo, Bastos e Serra Advogados","12.291.813/0001-67",0," x x x "," x x x ","Dedução de Honorários Contratuais","Não","Não","Não","-","-","Não informada","Não Informada","Não",18494.560000000001,38909.82,57404.38,1109.67,2334.59,3444.26,184.94,389.09999999999997,574.04,184.94,389.09999999999997,574.04,0,0,0,17015.010000000002,35797.029999999992,52812.039999999994,30249.8,3327.47,6654.94,53,3327.47,null,0,0,0,0,0,0,0,0,0,0,0,0,0,0,0,0,0,0,0,0,0,0,null,18494.560000000001,38909.82,57404.38,1109.67,2334.59,3444.26,184.94,389.09999999999997,574.04,184.94,389.09999999999997,574.04,0,0,0,17015.010000000002,35797.029999999992,52812.039999999994,30249.8,3327.47,6654.94,3327.47,"2022-09-01",1,{"$error":"#REF!"},18494.560000000001,38909.82,{"$error":"#REF!"},{"$error":"#REF!"},{"$error":"#REF!"},{"$error":"#REF!"},{"$error":"#REF!"},{"$error":"#REF!"},{"$error":"#REF!"},{"$error":"#REF!"},{"$error":"#REF!"},{"$error":"#REF!"},{"$error":"#REF!"},{"$error":"#REF!"},{"$error":"#REF!"},null,0,0,0,0,0,{"$error":"#REF!"},0,0,0,0,null,{"$error":"#REF!"},{"$error":"#REF!"},{"$error":"#REF!"},{"$error":"#REF!"},0,{"$error":"#REF!"},{"$error":"#REF!"},{"$error":"#REF!"},{"$error":"#REF!"},{"$error":"#REF!"},null,0,0,0,0,null,null,null,0,0,0,0]
[40,14753,"2022/0307492-7","2022-09-23","Paga em FEV-2023 - 1ª remessa","2023-02-01","NÃO",1,"MS 4.151/DF","1995-07-21","1999-02-12","Mandado de Segurança 4.151/DF","2016/0153187-4","2022-08-03","UNIÃO","Administrativo - Servidor Público Civil - Reajustes de Remuneração, Proventos ou Pensão","Alimentar","Maria Augusta Sobral da Silva","085.084.965-91","Servidor Público Civil Ativo","Diferença de remuneração - 3,17%","Ministério da Fazenda",6,"Mota & Advogados Associados","03.996.810/0001-38",1,"Mauro Menezes e Advogados","32.901.423/0001-79",1,"Caputo, Bastos e Serra Advogados","12.291.813/0001-67",0," x x x "," x x x ","Dedução de Honorários Contratuais","Não","Não","Não","-","-","Não informada","Não Informada","Não",24900.11,45572.880000000005,70472.990000000005,1494,2734.37,4228.37,249,455.72,704.72,249,455.72,704.72,0,0,0,22908.11,41927.070000000007,64835.180000000008,31972.799999999999,3517,7034,53,3517,null,0,0,0,0,0,0,0,0,0,0,0,0,0,0,0,0,0,0,0,0,0,0,null,24900.11,45572.880000000005,70472.990000000005,1494,2734.37,4228.37,249,455.72,704.72,249,455.72,704.72,0,0,0,22908.11,41927.070000000007,64835.180000000008,31972.799999999999,3517,7034,3517,"2022-09-01",1,{"$error":"#REF!"},24900.11,45572.88,{"$error":"#REF!"},{"$error":"#REF!"},{"$error":"#REF!"},{"$error":"#REF!"},{"$error":"#REF!"},{"$error":"#REF!"},{"$error":"#REF!"},{"$error":"#REF!"},{"$error":"#REF!"},{"$error":"#REF!"},{"$error":"#REF!"},{"$error":"#REF!"},{"$error":"#REF!"},null,0,0,0,0,0,{"$error":"#REF!"},0,0,0,0,null,{"$error":"#REF!"},{"$error":"#REF!"},{"$error":"#REF!"},{"$error":"#REF!"},0,{"$error":"#REF!"},{"$error":"#REF!"},{"$error":"#REF!"},{"$error":"#REF!"},{"$error":"#REF!"},null,0,0,0,0,null,null,null,0,0,0,0]
[41,14754,"2022/0307498-8","2022-09-23","Paga em FEV-2023 - 1ª remessa","2023-02-01","NÃO",1,"MS 4.151/DF","1995-07-21","1999-02-12","Mandado de Segurança 4.151/DF","2016/0153187-4","2022-08-03","UNIÃO","Administrativo - Servidor Público Civil - Reajustes de Remuneração, Proventos ou Pensão","Alimentar","Maria Auxiliadora Vital Autran","747.048.777-87","Servidor Público Civil Ativo","Diferença de remuneração - 3,17%","Ministério da Fazenda",6,"Mota & Advogados Associados","03.996.810/0001-38",1,"Mauro Menezes e Advogados","32.901.423/0001-79",1,"Caputo, Bastos e Serra Advogados","12.291.813/0001-67",0," x x x "," x x x ","Dedução de Honorários Contratuais","Não","Não","Não","-","-","Não informada","Não Informada","Não",25186.58,44635.85,69822.429999999993,1511.19,2678.15,4189.34,251.86,446.36,698.22,251.86,446.36,698.22,0,0,0,23171.670000000002,41064.979999999996,64236.649999999994,29937.27,3293.09,6586.18,53,3293.09,null,0,0,0,0,0,0,0,0,0,0,0,0,0,0,0,0,0,0,0,0,0,0,null,25186.58,44635.85,69822.429999999993,1511.19,2678.15,4189.34,251.86,446.36,698.22,251.86,446.36,698.22,0,0,0,23171.670000000002,41064.979999999996,64236.649999999994,29937.27,3293.09,6586.18,3293.09,"2022-09-01",1,{"$error":"#REF!"},25186.58,44635.85,{"$error":"#REF!"},{"$error":"#REF!"},{"$error":"#REF!"},{"$error":"#REF!"},{"$error":"#REF!"},{"$error":"#REF!"},{"$error":"#REF!"},{"$error":"#REF!"},{"$error":"#REF!"},{"$error":"#REF!"},{"$error":"#REF!"},{"$error":"#REF!"},{"$error":"#REF!"},null,0,0,0,0,0,{"$error":"#REF!"},0,0,0,0,null,{"$error":"#REF!"},{"$error":"#REF!"},{"$error":"#REF!"},{"$error":"#REF!"},0,{"$error":"#REF!"},{"$error":"#REF!"},{"$error":"#REF!"},{"$error":"#REF!"},{"$error":"#REF!"},null,0,0,0,0,null,null,null,0,0,0,0]
[42,14755,"2022/0307500-3","2022-09-23","Paga em FEV-2023 - 1ª remessa","2023-02-01","NÃO",1,"MS 4.151/DF","1995-07-21","1999-02-12","Mandado de Segurança 4.151/DF","2016/0153187-4","2022-08-03","UNIÃO","Administrativo - Servidor Público Civil - Reajustes de Remuneração, Proventos ou Pensão","Alimentar","Maria Beatriz Pacetti Miranda Rodrigues","929.405.368-72","Servidor Público Civil Ativo","Diferença de remuneração - 3,17%","Ministério da Fazenda",6,"Mota & Advogados Associados","03.996.810/0001-38",1,"Mauro Menezes e Advogados","32.901.423/0001-79",1,"Caputo, Bastos e Serra Advogados","12.291.813/0001-67",0," x x x "," x x x ","Dedução de Honorários Contratuais","Não","Não","Não","-","-","Não informada","Não Informada","Não",17976.53,38339.980000000003,56316.51,1078.5899999999999,2300.3999999999996,3378.99,179.76,383.4,563.16,179.76,383.4,563.16,0,0,0,16538.420000000002,35272.78,51811.199999999997,30182.86,3320.11,6640.22,53,3320.11,null,0,0,0,0,0,0,0,0,0,0,0,0,0,0,0,0,0,0,0,0,0,0,null,17976.53,38339.980000000003,56316.51,1078.5899999999999,2300.3999999999996,3378.99,179.76,383.4,563.16,179.76,383.4,563.16,0,0,0,16538.420000000002,35272.78,51811.199999999997,30182.86,3320.11,6640.22,3320.11,"2022-09-01",1,{"$error":"#REF!"},17976.53,38339.980000000003,{"$error":"#REF!"},{"$error":"#REF!"},{"$error":"#REF!"},{"$error":"#REF!"},{"$error":"#REF!"},{"$error":"#REF!"},{"$error":"#REF!"},{"$error":"#REF!"},{"$error":"#REF!"},{"$error":"#REF!"},{"$error":"#REF!"},{"$error":"#REF!"},{"$error":"#REF!"},null,0,0,0,0,0,{"$error":"#REF!"},0,0,0,0,null,{"$error":"#REF!"},{"$error":"#REF!"},{"$error":"#REF!"},{"$error":"#REF!"},0,{"$error":"#REF!"},{"$error":"#REF!"},{"$error":"#REF!"},{"$error":"#REF!"},{"$error":"#REF!"},null,0,0,0,0,null,null,null,0,0,0,0]
[43,14756,"2022/0307534-3","2022-09-23","Paga em FEV-2023 - 1ª remessa","2023-02-01","NÃO",1,"MS 4.151/DF","1995-07-21","1999-02-12","Mandado de Segurança 4.151/DF","2016/0157116-5","2022-08-03","UNIÃO","Administrativo - Servidor Público Civil - Reajustes de Remuneração, Proventos ou Pensão","Alimentar","Neusa Alvarez Cuesta Lovato","030.009.428-07","Servidor Público Civil Ativo","Diferença de remuneração - 3,17%","Ministério da Fazenda",6,"Mota & Advogados Associados","03.996.810/0001-38",1,"Mauro Menezes e Advogados","32.901.423/0001-79",1,"Caputo, Bastos e Serra Advogados","12.291.813/0001-67",0," x x x "," x x x ","Dedução de Honorários Contratuais","Não","Não","Não","-","-","Não informada","Não Informada","Não",24694.52,43490.09,68184.61,1481.67,2609.4,4091.07,246.94,434.90000000000003,681.84,246.94,434.90000000000003,681.84,0,0,0,22718.97,40010.890000000007,62729.860000000008,29064.32,3197.07,6394.14,53,3197.07,null,0,0,0,0,0,0,0,0,0,0,0,0,0,0,0,0,0,0,0,0,0,0,null,24694.52,43490.09,68184.61,1481.67,2609.4,4091.07,246.94,434.90000000000003,681.84,246.94,434.90000000000003,681.84,0,0,0,22718.97,40010.890000000007,62729.860000000008,29064.32,3197.07,6394.14,3197.07,"2022-09-01",1,{"$error":"#REF!"},24694.52,43490.09,{"$error":"#REF!"},{"$error":"#REF!"},{"$error":"#REF!"},{"$error":"#REF!"},{"$error":"#REF!"},{"$error":"#REF!"},{"$error":"#REF!"},{"$error":"#REF!"},{"$error":"#REF!"},{"$error":"#REF!"},{"$error":"#REF!"},{"$error":"#REF!"},{"$error":"#REF!"},null,0,0,0,0,0,{"$error":"#REF!"},0,0,0,0,null,{"$error":"#REF!"},{"$error":"#REF!"},{"$error":"#REF!"},{"$error":"#REF!"},0,{"$error":"#REF!"},{"$error":"#REF!"},{"$error":"#REF!"},{"$error":"#REF!"},{"$error":"#REF!"},null,0,0,0,0,null,null,null,0,0,0,0]
[44,14758,"2022/0307539-2","2022-09-23","Paga em FEV-2023 - 1ª remessa","2023-02-01","NÃO",1,"MS 4.151/DF","1995-07-21","1999-02-12","Mandado de Segurança 4.151/DF","2016/0157116-5","2022-08-03","UNIÃO","Administrativo - Servidor Público Civil - Reajustes de Remuneração, Proventos ou Pensão","Alimentar","Neusa Aparecida Masson","820.994.308-10","Servidor Público Civil Ativo","Diferença de remuneração - 3,17%","Ministério da Fazenda",6,"Mota & Advogados Associados","03.996.810/0001-38",1,"Mauro Menezes e Advogados","32.901.423/0001-79",1,"Caputo, Bastos e Serra Advogados","12.291.813/0001-67",0," x x x "," x x x ","Dedução de Honorários Contratuais","Não","Não","Não","-","-","Não informada","Não Informada","Não",21551.52,38054.39,59605.909999999996,1293.0899999999999,2283.2600000000002,3576.35,215.51,380.53999999999996,596.04999999999995,215.51,380.53999999999996,596.04999999999995,0,0,0,19827.410000000003,35010.049999999988,54837.459999999992,2252.25,247.74,495.48,53,247.74,null,0,0,0,0,0,0,0,0,0,0,0,0,0,0,0,0,0,0,0,0,0,0,null,21551.52,38054.39,59605.909999999996,1293.0899999999999,2283.2600000000002,3576.35,215.51,380.53999999999996,596.04999999999995,215.51,380.53999999999996,596.04999999999995,0,0,0,19827.410000000003,35010.049999999988,54837.459999999992,2252.25,247.74,495.48,247.74,"2022-09-01",1,{"$error":"#REF!"},21551.52,38054.39,{"$error":"#REF!"},{"$error":"#REF!"},{"$error":"#REF!"},{"$error":"#REF!"},{"$error":"#REF!"},{"$error":"#REF!"},{"$error":"#REF!"},{"$error":"#REF!"},{"$error":"#REF!"},{"$error":"#REF!"},{"$error":"#REF!"},{"$error":"#REF!"},{"$error":"#REF!"},null,0,0,0,0,0,{"$error":"#REF!"},0,0,0,0,null,{"$error":"#REF!"},{"$error":"#REF!"},{"$error":"#REF!"},{"$error":"#REF!"},0,{"$error":"#REF!"},{"$error":"#REF!"},{"$error":"#REF!"},{"$error":"#REF!"},{"$error":"#REF!"},null,0,0,0,0,null,null,null,0,0,0,0]
[45,14760,"2022/0307573-5","2022-09-23","Paga em FEV-2023 - 1ª remessa","2023-02-01","NÃO",1,"MS 4.151/DF","1995-07-21","1999-02-12","Mandado de Segurança 4.151/DF","2016/0157116-5","2022-08-03","UNIÃO","Administrativo - Servidor Público Civil - Reajustes de Remuneração, Proventos ou Pensão","Alimentar","Neuza Aparecida Peterlini","330.904.408-49","Servidor Público Civil Inativo","Diferença de remuneração - 3,17%","Ministério da Fazenda",6,"Mota & Advogados Associados","03.996.810/0001-38",1,"Mauro Menezes e Advogados","32.901.423/0001-79",1,"Caputo, Bastos e Serra Advogados","12.291.813/0001-67",0," x x x "," x x x ","Dedução de Honorários Contratuais","Não","Não","Não","-","-","Não informada","Não Informada","Não",23082.33,40479.64,63561.97,1384.93,2428.7799999999997,3813.71,230.82,404.79,635.61,230.82,404.79,635.61,0,0,0,21235.760000000002,37241.279999999999,58477.04,0,0,0,53,0,null,0,0,0,0,0,0,0,0,0,0,0,0,0,0,0,0,0,0,0,0,0,0,null,23082.33,40479.64,63561.97,1384.93,2428.7799999999997,3813.71,230.82,404.79,635.61,230.82,404.79,635.61,0,0,0,21235.760000000002,37241.279999999999,58477.04,0,0,0,0,"2022-09-01",1,{"$error":"#REF!"},23082.33,40479.64,{"$error":"#REF!"},{"$error":"#REF!"},{"$error":"#REF!"},{"$error":"#REF!"},{"$error":"#REF!"},{"$error":"#REF!"},{"$error":"#REF!"},{"$error":"#REF!"},0,0,0,{"$error":"#REF!"},{"$error":"#REF!"},null,0,0,0,0,0,{"$error":"#REF!"},0,0,0,0,null,{"$error":"#REF!"},{"$error":"#REF!"},{"$error":"#REF!"},{"$error":"#REF!"},0,{"$error":"#REF!"},0,0,0,0,null,0,0,0,0,null,null,null,0,0,0,0]
[46,14761,"2022/0307574-7","2022-09-23","Paga em FEV-2023 - 1ª remessa","2023-02-01","NÃO",1,"MS 4.151/DF","1995-07-21","1999-02-12","Mandado de Segurança 4.151/DF","2016/0157116-5","2022-08-03","UNIÃO","Administrativo - Servidor Público Civil - Reajustes de Remuneração, Proventos ou Pensão","Alimentar","Neuza Barreto da Costa","032.924.797-20","Servidor Público Civil Inativo","Diferença de remuneração - 3,17%","Ministério da Fazenda",6,"Mota & Advogados Associados","03.996.810/0001-38",1,"Mauro Menezes e Advogados","32.901.423/0001-79",1,"Caputo, Bastos e Serra Advogados","12.291.813/0001-67",0," x x x "," x x x ","Dedução de Honorários Contratuais","Não","Não","Não","-","-","Não informada","Não Informada","Não",23442.51,43351.21,66793.72,1406.55,2601.0699999999997,4007.62,234.42,433.51,667.93,234.42,433.51,667.93,0,0,0,21567.120000000003,39883.119999999995,61450.239999999998,0,0,0,53,0,null,0,0,0,0,0,0,0,0,0,0,0,0,0,0,0,0,0,0,0,0,0,0,null,23442.51,43351.21,66793.72,1406.55,2601.0699999999997,4007.62,234.42,433.51,667.93,234.42,433.51,667.93,0,0,0,21567.120000000003,39883.119999999995,61450.239999999998,0,0,0,0,"2022-09-01",1,{"$error":"#REF!"},23442.51,43351.21,{"$error":"#REF!"},{"$error":"#REF!"},{"$error":"#REF!"},{"$error":"#REF!"},{"$error":"#REF!"},{"$error":"#REF!"},{"$error":"#REF!"},{"$error":"#REF!"},0,0,0,{"$error":"#REF!"},{"$error":"#REF!"},null,0,0,0,0,0,{"$error":"#REF!"},0,0,0,0,null,{"$error":"#REF!"},{"$error":"#REF!"},{"$error":"#REF!"},{"$error":"#REF!"},0,{"$error":"#REF!"},0,0,0,0,null,0,0,0,0,null,null,null,0,0,0,0]
[47,14762,"2022/0307579-6","2022-09-23","Paga em FEV-2023 - 1ª remessa","2023-02-01","NÃO",1,"MS 4.151/DF","1995-07-21","1999-02-12","Mandado de Segurança 4.151/DF","2016/0157116-5","2022-08-03","UNIÃO","Administrativo - Servidor Público Civil - Reajustes de Remuneração, Proventos ou Pensão","Alimentar","Neusa Maria Peron","181.004.736-68","Servidor Público Civil Ativo","Diferença de remuneração - 3,17%","Ministério da Fazenda",6,"Mota & Advogados Associados","03.996.810/0001-38",1,"Mauro Menezes e Advogados","32.901.423/0001-79",1,"Caputo, Bastos e Serra Advogados","12.291.813/0001-67",0," x x x "," x x x ","Dedução de Honorários Contratuais","Não","Não","Não","-","-","Não informada","Não Informada","Não",22634.31,42036.7,64671.01,1358.05,2522.21,3880.26,226.34,420.37,646.71,226.34,420.37,646.71,0,0,0,20823.580000000002,38673.75,59497.33,30093.33,3310.26,6620.52,53,3310.26,null,0,0,0,0,0,0,0,0,0,0,0,0,0,0,0,0,0,0,0,0,0,0,null,22634.31,42036.7,64671.01,1358.05,2522.21,3880.26,226.34,420.37,646.71,226.34,420.37,646.71,0,0,0,20823.580000000002,38673.75,59497.33,30093.33,3310.26,6620.52,3310.26,"2022-09-01",1,{"$error":"#REF!"},22634.31,42036.7,{"$error":"#REF!"},{"$error":"#REF!"},{"$error":"#REF!"},{"$error":"#REF!"},{"$error":"#REF!"},{"$error":"#REF!"},{"$error":"#REF!"},{"$error":"#REF!"},{"$error":"#REF!"},{"$error":"#REF!"},{"$error":"#REF!"},{"$error":"#REF!"},{"$error":"#REF!"},null,0,0,0,0,0,{"$error":"#REF!"},0,0,0,0,null,{"$error":"#REF!"},{"$error":"#REF!"},{"$error":"#REF!"},{"$error":"#REF!"},0,{"$error":"#REF!"},{"$error":"#REF!"},{"$error":"#REF!"},{"$error":"#REF!"},{"$error":"#REF!"},null,0,0,0,0,null,null,null,0,0,0,0]
[48,14763,"2022/0307580-0","2022-09-23","Paga em FEV-2023 - 1ª remessa","2023-02-01","NÃO",1,"MS 4.151/DF","1995-07-21","1999-02-12","Mandado de Segurança 4.151/DF","2016/0157116-5","2022-08-03","UNIÃO","Administrativo - Servidor Público Civil - Reajustes de Remuneração, Proventos ou Pensão","Alimentar","Neusa Regina Cabral Ribeiro","325.494.237-04","Servidor Público Civil Inativo","Diferença de remuneração - 3,17%","Ministério da Fazenda",6,"Mota & Advogados Associados","03.996.810/0001-38",1,"Mauro Menezes e Advogados","32.901.423/0001-79",1,"Caputo, Bastos e Serra Advogados","12.291.813/0001-67",0," x x x "," x x x ","Dedução de Honorários Contratuais","Não","Não","Não","-","-","Não informada","Não Informada","Não",12315.37,35330.589999999997,47645.96,738.92,2119.83,2858.75,123.15,353.29999999999995,476.45,123.15,353.29999999999995,476.45,0,0,0,11330.150000000001,32504.160000000003,43834.310000000005,0,0,0,53,0,null,0,0,0,0,0,0,0,0,0,0,0,0,0,0,0,0,0,0,0,0,0,0,null,12315.37,35330.589999999997,47645.96,738.92,2119.83,2858.75,123.15,353.29999999999995,476.45,123.15,353.29999999999995,476.45,0,0,0,11330.150000000001,32504.160000000003,43834.310000000005,0,0,0,0,"2022-09-01",1,{"$error":"#REF!"},12315.37,35330.589999999997,{"$error":"#REF!"},{"$error":"#REF!"},{"$error":"#REF!"},{"$error":"#REF!"},{"$error":"#REF!"},{"$error":"#REF!"},{"$error":"#REF!"},{"$error":"#REF!"},0,0,0,{"$error":"#REF!"},{"$error":"#REF!"},null,0,0,0,0,0,{"$error":"#REF!"},0,0,0,0,null,{"$error":"#REF!"},{"$error":"#REF!"},{"$error":"#REF!"},{"$error":"#REF!"},0,{"$error":"#REF!"},0,0,0,0,null,0,0,0,0,null,null,null,0,0,0,0]
[49,14764,"2022/0307646-6","2022-09-23","Paga em FEV-2023 - 1ª remessa","2023-02-01","NÃO",1,"MS 4.151/DF","1995-07-21","1999-02-12","Mandado de Segurança 4.151/DF","2016/0129574-5","2022-08-03","UNIÃO","Administrativo - Servidor Público Civil - Reajustes de Remuneração, Proventos ou Pensão","Alimentar","Benedito Jose Paccanaro","717.370.498-72","Servidor Público Civil Ativo","Diferença de remuneração - 3,17%","Ministério da Fazenda",6,"Mota & Advogados Associados","03.996.810/0001-38",1,"Mauro Menezes e Advogados","32.901.423/0001-79",1,"Caputo, Bastos e Serra Advogados","12.291.813/0001-67",0," x x x "," x x x ","Dedução de Honorários Contratuais","Não","Não","Não","-","-","Não informada","Não Informada","Não",24267.06,43115.27,67382.33,1456.02,2586.91,4042.93,242.67,431.15000000000009,673.82,242.67,431.15000000000009,673.82,0,0,0,22325.700000000004,39666.06,61991.76,3452.05,379.72,759.44,53,379.72,null,0,0,0,0,0,0,0,0,0,0,0,0,0,0,0,0,0,0,0,0,0,0,null,24267.06,43115.27,67382.33,1456.02,2586.91,4042.93,242.67,431.15000000000009,673.82,242.67,431.15000000000009,673.82,0,0,0,22325.700000000004,39666.06,61991.76,3452.05,379.72,759.44,379.72,"2022-09-01",1,{"$error":"#REF!"},24267.06,43115.27,{"$error":"#REF!"},{"$error":"#REF!"},{"$error":"#REF!"},{"$error":"#REF!"},{"$error":"#REF!"},{"$error":"#REF!"},{"$error":"#REF!"},{"$error":"#REF!"},{"$error":"#REF!"},{"$error":"#REF!"},{"$error":"#REF!"},{"$error":"#REF!"},{"$error":"#REF!"},null,0,0,0,0,0,{"$error":"#REF!"},0,0,0,0,null,{"$error":"#REF!"},{"$error":"#REF!"},{"$error":"#REF!"},{"$error":"#REF!"},0,{"$error":"#REF!"},{"$error":"#REF!"},{"$error":"#REF!"},{"$error":"#REF!"},{"$error":"#REF!"},null,0,0,0,0,null,null,null,0,0,0,0]
[50,14766,"2022/0307650-6","2022-09-23","Paga em FEV-2023 - 1ª remessa","2023-02-01","NÃO",1,"MS 4.151/DF","1995-07-21","1999-02-12","Mandado de Segurança 4.151/DF","2016/0129574-5","2022-08-03","UNIÃO","Administrativo - Servidor Público Civil - Reajustes de Remuneração, Proventos ou Pensão","Alimentar","Bernadete Cristina Luz Brochado","222.876.636-49","Servidor Público Civil Ativo","Diferença de remuneração - 3,17%","Ministério da Fazenda",6,"Mota & Advogados Associados","03.996.810/0001-38",1,"Mauro Menezes e Advogados","32.901.423/0001-79",1,"Caputo, Bastos e Serra Advogados","12.291.813/0001-67",0," x x x "," x x x ","Dedução de Honorários Contratuais","Não","Não","Não","-","-","Não informada","Não Informada","Não",24845.61,43869.24,68714.850000000006,1490.73,2632.1600000000003,4122.8900000000003,248.45,438.69,687.14,248.45,438.69,687.14,0,0,0,22857.98,40359.700000000012,63217.680000000008,29274.89,3220.23,6440.46,53,3220.23,null,0,0,0,0,0,0,0,0,0,0,0,0,0,0,0,0,0,0,0,0,0,0,null,24845.61,43869.24,68714.850000000006,1490.73,2632.1600000000003,4122.8900000000003,248.45,438.69,687.14,248.45,438.69,687.14,0,0,0,22857.98,40359.700000000012,63217.680000000008,29274.89,3220.23,6440.46,3220.23,"2022-09-01",1,{"$error":"#REF!"},24845.61,43869.24,{"$error":"#REF!"},{"$error":"#REF!"},{"$error":"#REF!"},{"$error":"#REF!"},{"$error":"#REF!"},{"$error":"#REF!"},{"$error":"#REF!"},{"$error":"#REF!"},{"$error":"#REF!"},{"$error":"#REF!"},{"$error":"#REF!"},{"$error":"#REF!"},{"$error":"#REF!"},null,0,0,0,0,0,{"$error":"#REF!"},0,0,0,0,null,{"$error":"#REF!"},{"$error":"#REF!"},{"$error":"#REF!"},{"$error":"#REF!"},0,{"$error":"#REF!"},{"$error":"#REF!"},{"$error":"#REF!"},{"$error":"#REF!"},{"$error":"#REF!"},null,0,0,0,0,null,null,null,0,0,0,0]
[51,14767,"2022/0307655-5","2022-09-23","Paga em FEV-2023 - 1ª remessa","2023-02-01","NÃO",1,"MS 4.151/DF","1995-07-21","1999-02-12","Mandado de Segurança 4.151/DF","2016/0129574-5","2022-08-03","UNIÃO","Administrativo - Servidor Público Civil - Reajustes de Remuneração, Proventos ou Pensão","Alimentar","Benedito Leite Sobrinho","986.142.748-15","Servidor Público Civil Ativo","Diferença de remuneração - 3,17%","Ministério da Fazenda",6,"Mota & Advogados Associados","03.996.810/0001-38",1,"Mauro Menezes e Advogados","32.901.423/0001-79",1,"Caputo, Bastos e Serra Advogados","12.291.813/0001-67",0," x x x "," x x x ","Dedução de Honorários Contratuais","Não","Não","Não","-","-","Não informada","Não Informada","Não",22010.58,41284.780000000006,63295.360000000008,1320.63,2477.0899999999997,3797.72,220.1,412.85,632.95000000000005,220.1,412.85,632.95000000000005,0,0,0,20249.750000000004,37981.990000000005,58231.740000000013,29825.86,3280.84,6561.68,53,3280.84,null,0,0,0,0,0,0,0,0,0,0,0,0,0,0,0,0,0,0,0,0,0,0,null,22010.58,41284.780000000006,63295.360000000008,1320.63,2477.0899999999997,3797.72,220.1,412.85,632.95000000000005,220.1,412.85,632.95000000000005,0,0,0,20249.750000000004,37981.990000000005,58231.740000000013,29825.86,3280.84,6561.68,3280.84,"2022-09-01",1,{"$error":"#REF!"},22010.58,41284.78,{"$error":"#REF!"},{"$error":"#REF!"},{"$error":"#REF!"},{"$error":"#REF!"},{"$error":"#REF!"},{"$error":"#REF!"},{"$error":"#REF!"},{"$error":"#REF!"},{"$error":"#REF!"},{"$error":"#REF!"},{"$error":"#REF!"},{"$error":"#REF!"},{"$error":"#REF!"},null,0,0,0,0,0,{"$error":"#REF!"},0,0,0,0,null,{"$error":"#REF!"},{"$error":"#REF!"},{"$error":"#REF!"},{"$error":"#REF!"},0,{"$error":"#REF!"},{"$error":"#REF!"},{"$error":"#REF!"},{"$error":"#REF!"},{"$error":"#REF!"},null,0,0,0,0,null,null,null,0,0,0,0]
[52,14768,"2022/0307660-7","2022-09-23","Paga em FEV-2023 - 1ª remessa","2023-02-01","NÃO",1,"MS 4.151/DF","1995-07-21","1999-02-12","Mandado de Segurança 4.151/DF","2016/0130464-7","2022-08-03","UNIÃO","Administrativo - Servidor Público Civil - Reajustes de Remuneração, Proventos ou Pensão","Alimentar","Fernando Soares da Silva","773.098.558-68","Servidor Público Civil Ativo","Diferença de remuneração - 3,17%","Ministério da Fazenda",6,"Mota & Advogados Associados","03.996.810/0001-38",1,"Mauro Menezes e Advogados","32.901.423/0001-79",1,"Caputo, Bastos e Serra Advogados","12.291.813/0001-67",0," x x x "," x x x ","Dedução de Honorários Contratuais","Não","Não","Não","-","-","Não informada","Não Informada","Não",22304.62,41872.270000000004,64176.89,1338.27,2512.34,3850.61,223.04,418.72,641.76,223.04,418.72,641.76,0,0,0,20520.269999999997,38522.49,59042.759999999995,30099.52,3310.94,6621.88,53,3310.94,null,0,0,0,0,0,0,0,0,0,0,0,0,0,0,0,0,0,0,0,0,0,0,null,22304.62,41872.270000000004,64176.89,1338.27,2512.34,3850.61,223.04,418.72,641.76,223.04,418.72,641.76,0,0,0,20520.269999999997,38522.49,59042.759999999995,30099.52,3310.94,6621.88,3310.94,"2022-09-01",1,{"$error":"#REF!"},22304.62,41872.269999999997,{"$error":"#REF!"},{"$error":"#REF!"},{"$error":"#REF!"},{"$error":"#REF!"},{"$error":"#REF!"},{"$error":"#REF!"},{"$error":"#REF!"},{"$error":"#REF!"},{"$error":"#REF!"},{"$error":"#REF!"},{"$error":"#REF!"},{"$error":"#REF!"},{"$error":"#REF!"},null,0,0,0,0,0,{"$error":"#REF!"},0,0,0,0,null,{"$error":"#REF!"},{"$error":"#REF!"},{"$error":"#REF!"},{"$error":"#REF!"},0,{"$error":"#REF!"},{"$error":"#REF!"},{"$error":"#REF!"},{"$error":"#REF!"},{"$error":"#REF!"},null,0,0,0,0,null,null,null,0,0,0,0]
[53,14769,"2022/0307665-6","2022-09-23","Paga em FEV-2023 - 1ª remessa","2023-02-01","NÃO",1,"MS 4.151/DF","1995-07-21","1999-02-12","Mandado de Segurança 4.151/DF","2016/0130464-7","2022-08-03","UNIÃO","Administrativo - Servidor Público Civil - Reajustes de Remuneração, Proventos ou Pensão","Alimentar","Fernando Thadeu Goncalves dos Santos","590.787.667-00","Servidor Público Civil Ativo","Diferença de remuneração - 3,17%","Ministério da Fazenda",6,"Mota & Advogados Associados","03.996.810/0001-38",1,"Mauro Menezes e Advogados","32.901.423/0001-79",1,"Caputo, Bastos e Serra Advogados","12.291.813/0001-67",0," x x x "," x x x ","Dedução de Honorários Contratuais","Não","Não","Não","-","-","Não informada","Não Informada","Não",24840.11,43715.369999999995,68555.48,1490.4,2622.9199999999996,4113.32,248.4,437.15,685.55,248.4,437.15,685.55,0,0,0,22852.909999999996,40218.149999999994,63071.05999999999,29215.43,3213.69,6427.38,53,3213.69,null,0,0,0,0,0,0,0,0,0,0,0,0,0,0,0,0,0,0,0,0,0,0,null,24840.11,43715.369999999995,68555.48,1490.4,2622.9199999999996,4113.32,248.4,437.15,685.55,248.4,437.15,685.55,0,0,0,22852.909999999996,40218.149999999994,63071.05999999999,29215.43,3213.69,6427.38,3213.69,"2022-09-01",1,{"$error":"#REF!"},24840.11,43715.37,{"$error":"#REF!"},{"$error":"#REF!"},{"$error":"#REF!"},{"$error":"#REF!"},{"$error":"#REF!"},{"$error":"#REF!"},{"$error":"#REF!"},{"$error":"#REF!"},{"$error":"#REF!"},{"$error":"#REF!"},{"$error":"#REF!"},{"$error":"#REF!"},{"$error":"#REF!"},null,0,0,0,0,0,{"$error":"#REF!"},0,0,0,0,null,{"$error":"#REF!"},{"$error":"#REF!"},{"$error":"#REF!"},{"$error":"#REF!"},0,{"$error":"#REF!"},{"$error":"#REF!"},{"$error":"#REF!"},{"$error":"#REF!"},{"$error":"#REF!"},null,0,0,0,0,null,null,null,0,0,0,0]
[54,14770,"2022/0307666-8","2022-09-23","Paga em FEV-2023 - 1ª remessa","2023-02-01","NÃO",1,"MS 4.151/DF","1995-07-21","1999-02-12","Mandado de Segurança 4.151/DF","2016/0130464-7","2022-08-03","UNIÃO","Administrativo - Servidor Público Civil - Reajustes de Remuneração, Proventos ou Pensão","Alimentar","Fernando Vitorio Freitas Fonseca","176.140.585-34","Servidor Público Civil Ativo","Diferença de remuneração - 3,17%","Ministério da Fazenda",6,"Mota & Advogados Associados","03.996.810/0001-38",1,"Mauro Menezes e Advogados","32.901.423/0001-79",1,"Caputo, Bastos e Serra Advogados","12.291.813/0001-67",0," x x x "," x x x ","Dedução de Honorários Contratuais","Não","Não","Não","-","-","Não informada","Não Informada","Não",24253.81,43721.670000000006,67975.48,1455.22,2623.3,4078.52,242.53,437.22,679.75,242.53,437.22,679.75,0,0,0,22313.530000000002,40223.929999999993,62537.46,30111.279999999999,3312.24,6624.48,53,3312.24,null,0,0,0,0,0,0,0,0,0,0,0,0,0,0,0,0,0,0,0,0,0,0,null,24253.81,43721.670000000006,67975.48,1455.22,2623.3,4078.52,242.53,437.22,679.75,242.53,437.22,679.75,0,0,0,22313.530000000002,40223.929999999993,62537.46,30111.279999999999,3312.24,6624.48,3312.24,"2022-09-01",1,{"$error":"#REF!"},24253.81,43721.67,{"$error":"#REF!"},{"$error":"#REF!"},{"$error":"#REF!"},{"$error":"#REF!"},{"$error":"#REF!"},{"$error":"#REF!"},{"$error":"#REF!"},{"$error":"#REF!"},{"$error":"#REF!"},{"$error":"#REF!"},{"$error":"#REF!"},{"$error":"#REF!"},{"$error":"#REF!"},null,0,0,0,0,0,{"$error":"#REF!"},0,0,0,0,null,{"$error":"#REF!"},{"$error":"#REF!"},{"$error":"#REF!"},{"$error":"#REF!"},0,{"$error":"#REF!"},{"$error":"#REF!"},{"$error":"#REF!"},{"$error":"#REF!"},{"$error":"#REF!"},null,0,0,0,0,null,null,null,0,0,0,0]
[55,14772,"2022/0307672-1","2022-09-23","Paga em FEV-2023 - 1ª remessa","2023-02-01","NÃO",1,"MS 4.151/DF","1995-07-21","1999-02-12","Mandado de Segurança 4.151/DF","2016/0130464-7","2022-08-03","UNIÃO","Administrativo - Servidor Público Civil - Reajustes de Remuneração, Proventos ou Pensão","Alimentar","Florinda Sizuko Teshima","692.799.778-49","Servidor Público Civil Ativo","Diferença de remuneração - 3,17%","Ministério da Fazenda",6,"Mota & Advogados Associados","03.996.810/0001-38",1,"Mauro Menezes e Advogados","32.901.423/0001-79",1,"Caputo, Bastos e Serra Advogados","12.291.813/0001-67",0," x x x "," x x x ","Dedução de Honorários Contratuais","Não","Não","Não","-","-","Não informada","Não Informada","Não",12772.76,34931.64,47704.4,766.36,2095.9,2862.26,127.72,349.32000000000005,477.04,127.72,349.32000000000005,477.04,0,0,0,11750.960000000001,32137.1,43888.06,29489.599999999999,3243.85,6487.7,53,3243.85,null,0,0,0,0,0,0,0,0,0,0,0,0,0,0,0,0,0,0,0,0,0,0,null,12772.76,34931.64,47704.4,766.36,2095.9,2862.26,127.72,349.32000000000005,477.04,127.72,349.32000000000005,477.04,0,0,0,11750.960000000001,32137.1,43888.06,29489.599999999999,3243.85,6487.7,3243.85,"2022-09-01",1,{"$error":"#REF!"},12772.76,34931.64,{"$error":"#REF!"},{"$error":"#REF!"},{"$error":"#REF!"},{"$error":"#REF!"},{"$error":"#REF!"},{"$error":"#REF!"},{"$error":"#REF!"},{"$error":"#REF!"},{"$error":"#REF!"},{"$error":"#REF!"},{"$error":"#REF!"},{"$error":"#REF!"},{"$error":"#REF!"},null,0,0,0,0,0,{"$error":"#REF!"},0,0,0,0,null,{"$error":"#REF!"},{"$error":"#REF!"},{"$error":"#REF!"},{"$error":"#REF!"},0,{"$error":"#REF!"},{"$error":"#REF!"},{"$error":"#REF!"},{"$error":"#REF!"},{"$error":"#REF!"},null,0,0,0,0,null,null,null,0,0,0,0]
[56,14776,"2022/0307704-7","2022-09-23","Paga em FEV-2023 - 1ª remessa","2023-02-01","NÃO",1,"MS 4.151/DF","1995-07-21","1999-02-12","Mandado de Segurança 4.151/DF","2016/0141589-0","2022-08-04","UNIÃO","Administrativo - Servidor Público Civil - Reajustes de Remuneração, Proventos ou Pensão","Alimentar","Helyane Maria Ponestke Hummelgen","667.933.609-06","Servidor Público Civil Ativo","Diferença de remuneração - 3,17%","Ministério da Fazenda",6,"Mota & Advogados Associados","03.996.810/0001-38",1,"Mauro Menezes e Advogados","32.901.423/0001-79",1,"Caputo, Bastos e Serra Advogados","12.291.813/0001-67",0," x x x "," x x x ","Dedução de Honorários Contratuais","Não","Não","Não","-","-","Não informada","Não Informada","Não",21671.26,40746.480000000003,62417.740000000005,1300.27,2444.79,3745.06,216.71,407.45999999999992,624.16999999999996,216.71,407.45999999999992,624.16999999999996,0,0,0,19937.57,37486.770000000011,57424.340000000011,29270.41,3219.74,6439.48,53,3219.74,null,0,0,0,0,0,0,0,0,0,0,0,0,0,0,0,0,0,0,0,0,0,0,null,21671.26,40746.480000000003,62417.740000000005,1300.27,2444.79,3745.06,216.71,407.45999999999992,624.16999999999996,216.71,407.45999999999992,624.16999999999996,0,0,0,19937.57,37486.770000000011,57424.340000000011,29270.41,3219.74,6439.48,3219.74,"2022-09-01",1,{"$error":"#REF!"},21671.26,40746.480000000003,{"$error":"#REF!"},{"$error":"#REF!"},{"$error":"#REF!"},{"$error":"#REF!"},{"$error":"#REF!"},{"$error":"#REF!"},{"$error":"#REF!"},{"$error":"#REF!"},{"$error":"#REF!"},{"$error":"#REF!"},{"$error":"#REF!"},{"$error":"#REF!"},{"$error":"#REF!"},null,0,0,0,0,0,{"$error":"#REF!"},0,0,0,0,null,{"$error":"#REF!"},{"$error":"#REF!"},{"$error":"#REF!"},{"$error":"#REF!"},0,{"$error":"#REF!"},{"$error":"#REF!"},{"$error":"#REF!"},{"$error":"#REF!"},{"$error":"#REF!"},null,0,0,0,0,null,null,null,0,0,0,0]
[57,14777,"2022/0307706-0","2022-09-23","Paga em FEV-2023 - 1ª remessa","2023-02-01","NÃO",1,"MS 4.151/DF","1995-07-21","1999-02-12","Mandado de Segurança 4.151/DF","2016/0141589-0","2022-08-04","UNIÃO","Administrativo - Servidor Público Civil - Reajustes de Remuneração, Proventos ou Pensão","Alimentar","Henrique Sergio Cappellaro","509.796.048-34","Servidor Público Civil Ativo","Diferença de remuneração - 3,17%","Ministério da Fazenda",6,"Mota & Advogados Associados","03.996.810/0001-38",1,"Mauro Menezes e Advogados","32.901.423/0001-79",1,"Caputo, Bastos e Serra Advogados","12.291.813/0001-67",0," x x x "," x x x ","Dedução de Honorários Contratuais","Não","Não","Não","-","-","Não informada","Não Informada","Não",25148.47,44554.9,69703.37,1508.9,2673.2999999999997,4182.2,251.48,445.54999999999995,697.03,251.48,445.54999999999995,697.03,0,0,0,23136.61,40990.5,64127.11,29899.200000000001,3288.91,6577.82,53,3288.91,null,0,0,0,0,0,0,0,0,0,0,0,0,0,0,0,0,0,0,0,0,0,0,null,25148.47,44554.9,69703.37,1508.9,2673.2999999999997,4182.2,251.48,445.54999999999995,697.03,251.48,445.54999999999995,697.03,0,0,0,23136.61,40990.5,64127.11,29899.200000000001,3288.91,6577.82,3288.91,"2022-09-01",1,{"$error":"#REF!"},25148.47,44554.9,{"$error":"#REF!"},{"$error":"#REF!"},{"$error":"#REF!"},{"$error":"#REF!"},{"$error":"#REF!"},{"$error":"#REF!"},{"$error":"#REF!"},{"$error":"#REF!"},{"$error":"#REF!"},{"$error":"#REF!"},{"$error":"#REF!"},{"$error":"#REF!"},{"$error":"#REF!"},null,0,0,0,0,0,{"$error":"#REF!"},0,0,0,0,null,{"$error":"#REF!"},{"$error":"#REF!"},{"$error":"#REF!"},{"$error":"#REF!"},0,{"$error":"#REF!"},{"$error":"#REF!"},{"$error":"#REF!"},{"$error":"#REF!"},{"$error":"#REF!"},null,0,0,0,0,null,null,null,0,0,0,0]
[58,14778,"2022/0309440-3","2022-09-26","Paga em FEV-2023 - 1ª remessa","2023-02-01","NÃO",1,"MS 8.532/DF","2002-08-12","2004-10-28","Mandado de Segurança 8.532/DF","2009/0228571-6","2013-06-18","UNIÃO","Administrativo - Servidor Público Civil - Sistema Remuneratório e Benefícios - Gratificações da Lei 8.112/1990","Alimentar","Norma Suely Araújo do Nascimento Sousa","412.826.552-72","Pensionista Civil","Gratificação de Operações Especiais - GOE","Ministério do Planejamento, Orçamento e Gestão",20,"Cruz & Silva Advogados Associados LTDA","06.268.824/0001-23",0," x x x ","x x x",0," x x x "," x x x ",0," x x x "," x x x ","Dedução de Honorários Contratuais","Não","Não","Não","-","-","Não informada","Não Informada","Não",12236.83,15101.419999999998,28587.13,2447.36,3270.06,5717.42,0,0,0,0,0,0,0,0,0,9789.4699999999993,13080.24,22869.71,4541.1099999999997,499.52,0,31,499.52,null,0,0,0,0,0,0,0,0,0,0,0,0,0,0,0,0,0,0,0,0,0,0,null,12236.83,15101.419999999998,28587.13,2447.36,3270.06,5717.42,0,0,0,0,0,0,0,0,0,9789.4699999999993,13080.24,22869.71,4541.1099999999997,499.52,0,499.52,"2022-09-01",1,{"$error":"#REF!"},11302.15,15101.42,{"$error":"#REF!"},{"$error":"#REF!"},{"$error":"#REF!"},{"$error":"#REF!"},{"$error":"#REF!"},{"$error":"#REF!"},{"$error":"#REF!"},{"$error":"#REF!"},{"$error":"#REF!"},{"$error":"#REF!"},0,{"$error":"#REF!"},{"$error":"#REF!"},null,0,0,0,0,0,{"$error":"#REF!"},0,0,0,0,null,{"$error":"#REF!"},{"$error":"#REF!"},0,0,0,{"$error":"#REF!"},{"$error":"#REF!"},{"$error":"#REF!"},0,{"$error":"#REF!"},null,0,0,0,0,null,null,null,0,0,0,0]
[59,14780,"2022/0309522-3","2022-09-26","Paga em FEV-2023 - 1ª remessa","2023-02-01","NÃO",1,"MS 8.532/DF","2002-08-12","2004-10-28","Mandado de Segurança 8.532/DF","2009/0228571-6","2013-06-18","UNIÃO","Administrativo - Servidor Público Civil - Sistema Remuneratório e Benefícios - Gratificações da Lei 8.112/1990","Alimentar","Rita Menezes Jucá","051.911.222-91","Pensionista Civil","Gratificação de Operações Especiais - GOE","Ministério do Planejamento, Orçamento e Gestão",20,"Cruz & Silva Advogados Associados LTDA","06.268.824/0001-23",0," x x x ","x x x",0," x x x "," x x x ",0," x x x "," x x x ","Dedução de Honorários Contratuais","Não","Não","Não","-","-","Não informada","Não Informada","Não",6421.48,9919.92,17161.77,1284.29,2148.06,3432.35,0,0,0,0,0,0,0,0,0,5137.1899999999996,8592.23,13729.42,4628.51,509.13,0,42,509.13,null,0,0,0,0,0,0,0,0,0,0,0,0,0,0,0,0,0,0,0,0,0,0,null,6421.48,9919.92,17161.77,1284.29,2148.06,3432.35,0,0,0,0,0,0,0,0,0,5137.1899999999996,8592.23,13729.42,4628.51,509.13,0,509.13,"2022-09-01",1,{"$error":"#REF!"},5930.99,9919.92,{"$error":"#REF!"},{"$error":"#REF!"},{"$error":"#REF!"},{"$error":"#REF!"},{"$error":"#REF!"},{"$error":"#REF!"},{"$error":"#REF!"},{"$error":"#REF!"},{"$error":"#REF!"},{"$error":"#REF!"},0,{"$error":"#REF!"},{"$error":"#REF!"},null,0,0,0,0,0,{"$error":"#REF!"},0,0,0,0,null,{"$error":"#REF!"},{"$error":"#REF!"},0,0,0,{"$error":"#REF!"},{"$error":"#REF!"},{"$error":"#REF!"},0,{"$error":"#REF!"},null,0,0,0,0,null,null,null,0,0,0,0]
[60,14781,"2022/0309529-6","2022-09-26","Paga em FEV-2023 - 1ª remessa","2023-02-01","NÃO",1,"MS 8.532/DF","2002-08-12","2004-10-28","Mandado de Segurança 8.532/DF","2009/0228571-6","2013-06-18","UNIÃO","Administrativo - Servidor Público Civil - Sistema Remuneratório e Benefícios - Gratificações da Lei 8.112/1990","Alimentar","Rosita Paim Torres","011.710.972-04","Pensionista Civil","Gratificação de Operações Especiais - GOE","Ministério do Planejamento, Orçamento e Gestão",20,"Cruz & Silva Advogados Associados LTDA","06.268.824/0001-23",0," x x x ","x x x",0," x x x "," x x x ",0," x x x "," x x x ","Dedução de Honorários Contratuais","Não","Não","Não","-","-","Não informada","Não Informada","Não",7507.03,12444.120000000003,20980.27,1501.4,2694.65,4196.05,0,0,0,0,0,0,0,0,0,6005.6299999999992,10778.590000000002,16784.22,0,0,0,22,0,null,0,0,0,0,0,0,0,0,0,0,0,0,0,0,0,0,0,0,0,0,0,0,null,7507.03,12444.120000000003,20980.27,1501.4,2694.65,4196.05,0,0,0,0,0,0,0,0,0,6005.6299999999992,10778.590000000002,16784.22,0,0,0,0,"2022-09-01",1,{"$error":"#REF!"},6933.62,12444.12,{"$error":"#REF!"},{"$error":"#REF!"},{"$error":"#REF!"},{"$error":"#REF!"},{"$error":"#REF!"},{"$error":"#REF!"},{"$error":"#REF!"},{"$error":"#REF!"},0,0,0,{"$error":"#REF!"},{"$error":"#REF!"},null,0,0,0,0,0,{"$error":"#REF!"},0,0,0,0,null,{"$error":"#REF!"},{"$error":"#REF!"},0,0,0,{"$error":"#REF!"},0,0,0,0,null,0,0,0,0,null,null,null,0,0,0,0]
[61,14782,"2022/0309532-4","2022-09-26","Paga em FEV-2023 - 1ª remessa","2023-02-01","NÃO",1,"MS 8.532/DF","2002-08-12","2004-10-28","Mandado de Segurança 8.532/DF","2009/0228571-6","2013-06-18","UNIÃO","Administrativo - Servidor Público Civil - Sistema Remuneratório e Benefícios - Gratificações da Lei 8.112/1990","Alimentar","Rute Sales da Rocha","508.551.402-59","Pensionista Civil","Gratificação de Operações Especiais - GOE","Ministério do Planejamento, Orçamento e Gestão",20,"Cruz & Silva Advogados Associados LTDA","06.268.824/0001-23",0," x x x ","x x x",0," x x x "," x x x ",0," x x x "," x x x ","Dedução de Honorários Contratuais","Não","Não","Não","-","-","Não informada","Não Informada","Não",9114.24,12130.59,22248.019999999997,1822.84,2626.76,4449.6000000000004,0,0,0,0,0,0,0,0,0,7291.4,10507.019999999999,17798.419999999998,3873.52,426.08,0,42,426.08,null,0,0,0,0,0,0,0,0,0,0,0,0,0,0,0,0,0,0,0,0,0,0,null,9114.24,12130.59,22248.019999999997,1822.84,2626.76,4449.6000000000004,0,0,0,0,0,0,0,0,0,7291.4,10507.019999999999,17798.419999999998,3873.52,426.08,0,426.08,"2022-09-01",1,{"$error":"#REF!"},8418.07,12130.59,{"$error":"#REF!"},{"$error":"#REF!"},{"$error":"#REF!"},{"$error":"#REF!"},{"$error":"#REF!"},{"$error":"#REF!"},{"$error":"#REF!"},{"$error":"#REF!"},{"$error":"#REF!"},{"$error":"#REF!"},0,{"$error":"#REF!"},{"$error":"#REF!"},null,0,0,0,0,0,{"$error":"#REF!"},0,0,0,0,null,{"$error":"#REF!"},{"$error":"#REF!"},0,0,0,{"$error":"#REF!"},{"$error":"#REF!"},{"$error":"#REF!"},0,{"$error":"#REF!"},null,0,0,0,0,null,null,null,0,0,0,0]
[62,14783,"2022/0309562-7","2022-09-26","Paga em FEV-2023 - 1ª remessa","2023-02-01","NÃO",1,"AR 1.169/CE","1999-10-18","2004-06-07","Ação Rescisória 1.169/CE","2009/0056219-4","2022-08-19","Instituto Nacional do Seguro Social – INSS","Administrativo - Servidor Público Civil - Sistema Remuneratório e Benefícios","Alimentar","Janete dos Santos Martins","193.772.662-20","Servidor Público Civil Ativo","Anuênios","Instituto Nacional do Seguro Social - INSS",10,"Glayddes Sindeaux Advogados","17.291.820/0001-82",0," x x x ","x x x",0," x x x "," x x x ",0," x x x "," x x x ","Dedução de Honorários Contratuais","Não","Não","Não","-","-","Não informada","Não Informada","Não",4694.76,8920.17,14283.94,469.47,958.92000000000007,1428.39,0,0,0,0,0,0,0,0,0,4225.29,8630.260000000002,12855.550000000001,4694.76,516.41999999999996,1032.8399999999999,113,516.41999999999996,null,0,0,0,0,0,0,0,0,0,0,0,0,0,0,0,0,0,0,0,0,0,0,null,4694.76,8920.17,14283.94,469.47,958.92000000000007,1428.39,0,0,0,0,0,0,0,0,0,4225.29,8630.260000000002,12855.550000000001,4694.76,516.41999999999996,1032.8399999999999,516.41999999999996,"2022-09-01",1,{"$error":"#REF!"},4367.22,8920.17,{"$error":"#REF!"},{"$error":"#REF!"},{"$error":"#REF!"},{"$error":"#REF!"},{"$error":"#REF!"},{"$error":"#REF!"},{"$error":"#REF!"},{"$error":"#REF!"},{"$error":"#REF!"},{"$error":"#REF!"},{"$error":"#REF!"},{"$error":"#REF!"},{"$error":"#REF!"},null,0,0,0,0,0,{"$error":"#REF!"},0,0,0,0,null,{"$error":"#REF!"},{"$error":"#REF!"},0,0,0,{"$error":"#REF!"},{"$error":"#REF!"},{"$error":"#REF!"},{"$error":"#REF!"},{"$error":"#REF!"},null,0,0,0,0,null,null,null,0,0,0,0]
[63,14785,"2022/0309566-4","2022-09-26","Paga em FEV-2023 - 1ª remessa","2023-02-01","NÃO",1,"AR 1.169/CE","1999-10-18","2004-06-07","Ação Rescisória 1.169/CE","2009/0056219-4","2022-08-19","Instituto Nacional do Seguro Social – INSS","Administrativo - Servidor Público Civil - Sistema Remuneratório e Benefícios","Alimentar","Joana Lopes Monteiro","014.027.653-04","Servidor Público Civil Ativo","Anuênios","Instituto Nacional do Seguro Social - INSS",20,"Glayddes Sindeaux Advogados","17.291.820/0001-82",0," x x x ","x x x",0," x x x "," x x x ",0," x x x "," x x x ","Dedução de Honorários Contratuais","Não","Não","Não","-","-","Não informada","Não Informada","Não",7111.9400000000005,13513.42,21638.86,1422.38,2905.3900000000003,4327.7700000000004,0,0,0,0,0,0,0,0,0,5689.56,11621.529999999999,17311.09,7111.9400000000005,782.31,1564.62,60,782.31,null,0,0,0,0,0,0,0,0,0,0,0,0,0,0,0,0,0,0,0,0,0,0,null,7111.9400000000005,13513.42,21638.86,1422.38,2905.3900000000003,4327.7700000000004,0,0,0,0,0,0,0,0,0,5689.56,11621.529999999999,17311.09,7111.9400000000005,782.31,1564.62,782.31,"2022-09-01",1,{"$error":"#REF!"},6615.76,13513.42,{"$error":"#REF!"},{"$error":"#REF!"},{"$error":"#REF!"},{"$error":"#REF!"},{"$error":"#REF!"},{"$error":"#REF!"},{"$error":"#REF!"},{"$error":"#REF!"},{"$error":"#REF!"},{"$error":"#REF!"},{"$error":"#REF!"},{"$error":"#REF!"},{"$error":"#REF!"},null,0,0,0,0,0,{"$error":"#REF!"},0,0,0,0,null,{"$error":"#REF!"},{"$error":"#REF!"},0,0,0,{"$error":"#REF!"},{"$error":"#REF!"},{"$error":"#REF!"},{"$error":"#REF!"},{"$error":"#REF!"},null,0,0,0,0,null,null,null,0,0,0,0]
[64,14786,"2022/0309567-6","2022-09-26","Paga em FEV-2023 - 1ª remessa","2023-02-01","NÃO",1,"AR 1.169/CE","1999-10-18","2004-06-07","Ação Rescisória 1.169/CE","2009/0056219-4","2022-08-19","Instituto Nacional do Seguro Social – INSS","Administrativo - Servidor Público Civil - Sistema Remuneratório e Benefícios","Alimentar","Joana D'arc de Andrade Albuquerque","221.678.383-87","Servidor Público Civil Ativo","Anuênios","Instituto Nacional do Seguro Social - INSS",10,"Glayddes Sindeaux Advogados","17.291.820/0001-82",0," x x x ","x x x",0," x x x "," x x x ",0," x x x "," x x x ","Dedução de Honorários Contratuais","Não","Não","Não","-","-","Não informada","Não Informada","Não",1714.8200000000002,3258.32,5217.51,171.48,350.27,521.75,0,0,0,0,0,0,0,0,0,1543.3400000000001,3152.42,4695.76,1211.46,133.26,266.52,108,133.26,null,0,0,0,0,0,0,0,0,0,0,0,0,0,0,0,0,0,0,0,0,0,0,null,1714.8200000000002,3258.32,5217.51,171.48,350.27,521.75,0,0,0,0,0,0,0,0,0,1543.3400000000001,3152.42,4695.76,1211.46,133.26,266.52,133.26,"2022-09-01",1,{"$error":"#REF!"},1595.19,3258.32,{"$error":"#REF!"},{"$error":"#REF!"},{"$error":"#REF!"},{"$error":"#REF!"},{"$error":"#REF!"},{"$error":"#REF!"},{"$error":"#REF!"},{"$error":"#REF!"},{"$error":"#REF!"},{"$error":"#REF!"},{"$error":"#REF!"},{"$error":"#REF!"},{"$error":"#REF!"},null,0,0,0,0,0,{"$error":"#REF!"},0,0,0,0,null,{"$error":"#REF!"},{"$error":"#REF!"},0,0,0,{"$error":"#REF!"},{"$error":"#REF!"},{"$error":"#REF!"},{"$error":"#REF!"},{"$error":"#REF!"},null,0,0,0,0,null,null,null,0,0,0,0]
[{"$f":"IF(B73=\"\",\"\",A72+1)","v":65},14787,{"$f":"IF(B73=\"\",\"\",VLOOKUP(B73,expedidas,4))","v":"2022/0309569-0"},{"$f":"IF(B73=\"\",\"\",VLOOKUP(B73,expedidas,5))","v":"2022-09-26"},{"$f":"IF(B73=\"\",\"\",VLOOKUP(B73,expedidas,7))","v":"Paga em FEV-2023 - 1ª remessa"},{"$f":"IF(B73=\"\",\"\",VLOOKUP(B73,expedidas,8))","v":"2023-02-01"},{"$f":"IF(B73=\"\",\"\",VLOOKUP(B73,expedidas,9))","v":"NÃO"},{"$f":"IF(B73=\"\",\"\",VLOOKUP(B73,expedidas,11))","v":1},{"$f":"IF(B73=\"\",\"\",VLOOKUP(B73,expedidas,12))","v":"AR 1.169/CE"},{"$f":"IF(B73=\"\",\"\",VLOOKUP(B73,expedidas,14))","v":"1999-10-18"},{"$f":"IF(B73=\"\",\"\",VLOOKUP(B73,expedidas,15))","v":"2004-06-07"},{"$f":"IF(B73=\"\",\"\",VLOOKUP(B73,expedidas,19))","v":"Ação Rescisória 1.169/CE"},{"$f":"IF(B73=\"\",\"\",VLOOKUP(B73,expedidas,20))","v":"2009/0056219-4"},{"$f":"IF(B73=\"\",\"\",VLOOKUP(B73,expedidas,21))","v":"2022-08-19"},{"$f":"IF(B73=\"\",\"\",VLOOKUP(B73,expedidas,18))","v":"Instituto Nacional do Seguro Social – INSS"},{"$f":"IF(B73=\"\",\"\",VLOOKUP(B73,expedidas,16))","v":"Administrativo - Servidor Público Civil - Sistema Remuneratório e Benefícios"},{"$f":"IF(B73=\"\",\"\",VLOOKUP(B73,expedidas,26))","v":"Alimentar"},{"$f":"IF(B73=\"\",\"\",VLOOKUP(B73,expedidas,22))","v":"João Bosco Filomeno da Silva"},{"$f":"IF(B73=\"\",\"\",VLOOKUP(B73,expedidas,23))","v":"040.841.953-91"},{"$f":"IF(B73=\"\",\"\",VLOOKUP(B73,expedidas,24))","v":"Servidor Público Civil Ativo"},{"$f":"IF(B73=\"\",\"\",VLOOKUP(B73,expedidas,25))","v":"Anuênios"},{"$f":"IF(B73=\"\",\"\",VLOOKUP(B73,expedidas,17))","v":"Instituto Nacional do Seguro Social - INSS"},{"$f":"IF(B73=\"\",\"\",VLOOKUP(B73,expedidas,27))","v":10},{"$f":"IF(B73=\"\",\"\",IF(W73=0,\" x x x \",VLOOKUP(B73,expedidas,28)))","v":"Glayddes Sindeaux Advogados"},{"$f":"IF(B73=\"\",\"\",VLOOKUP(B73,expedidas,29))","v":"17.291.820/0001-82"},{"$f":"IF(B73=\"\",\"\",VLOOKUP(B73,expedidas,30))","v":0},{"$f":"IF(B73=\"\",\"\",VLOOKUP(B73,expedidas,31))","v":" x x x "},{"$f":"IF(B73=\"\",\"\",IF(Z73=0,\"x x x\",VLOOKUP(B73,expedidas,32)))","v":"x x x"},{"$f":"IF(B73=\"\",\"\",VLOOKUP(B73,expedidas,33))","v":0},{"$f":"IF(B73=\"\",\"\",IF(AC73=0,\" x x x \",VLOOKUP(B73,expedidas,34)))","v":" x x x "},{"$f":"IF(B73=\"\",\"\",IF(AC73=0,\" x x x \",VLOOKUP(B73,expedidas,35)))","v":" x x x "},{"$f":"IF(B73=\"\",\"\",VLOOKUP(B73,expedidas,36))","v":0},{"$f":"IF(B73=\"\",\"\",IF(AF73=0,\" x x x \",VLOOKUP(B73,expedidas,37)))","v":" x x x "},{"$f":"IF(B73=\"\",\"\",IF(AF73=0,\" x x x \",VLOOKUP(B73,expedidas,38)))","v":" x x x "},{"$f":"IF(B73=\"\",\"\",VLOOKUP(B73,expedidas,39))","v":"Dedução de Honorários Contratuais"},{"$f":"IF(B73=\"\",\"\",VLOOKUP(B73,expedidas,40))","v":"Não"},{"$f":"IF(B73=\"\",\"\",VLOOKUP(B73,expedidas,41))","v":"Não"},{"$f":"IF(B73=\"\",\"\",VLOOKUP(B73,expedidas,42))","v":"Não"},{"$f":"IF(B73=\"\",\"\",VLOOKUP(B73,expedidas,43))","v":"-"},{"$f":"IF(B73=\"\",\"\",VLOOKUP(B73,expedidas,44))","v":"-"},{"$f":"IF(B73=\"\",\"\",VLOOKUP(B73,expedidas,45))","v":"Não informada"},{"$f":"IF(B73=\"\",\"\",VLOOKUP(B73,expedidas,46))","v":"Não Informada"},{"$f":"IF(B73=\"\",\"\",VLOOKUP(B73,expedidas,47))","v":"Não"},{"$f":"IF(B73=\"\",\"\",IF(I73=\"MS 11.371/DF\",0,VLOOKUP(B73,expedidas,49)+VLOOKUP(B73,expedidas,51)))","v":7330.7699999999995},{"$f":"IF(B73=\"\",\"\",IF(I73=\"MS 11.371/DF\",AT73,VLOOKUP(B73,expedidas,52)))","v":13929.75},{"$f":"IF(B73=\"\",\"\",VLOOKUP(B73,expedidas,53))","v":22305.25},{"$f":"IF(B73=\"\",\"\",IF(I73=\"MS 11.371/DF\",0,VLOOKUP(B73,expedidas,54)))","v":733.07},{"$f":"IF(B73=\"\",\"\",IF(I73=\"MS 11.371/DF\",AW73,VLOOKUP(B73,expedidas,55)))","v":1497.4499999999998},{"$f":"IF(B73=\"\",\"\",VLOOKUP(B73,expedidas,56))","v":2230.52},{"$f":"IF(B73=\"\",\"\",VLOOKUP(B73,expedidas,57))","v":0},{"$f":"IF(B73=\"\",\"\",VLOOKUP(B73,expedidas,58))","v":0},{"$f":"IF(B73=\"\",\"\",VLOOKUP(B73,expedidas,59))","v":0},{"$f":"IF(B73=\"\",\"\",VLOOKUP(B73,expedidas,60))","v":0},{"$f":"IF(B73=\"\",\"\",VLOOKUP(B73,expedidas,61))","v":0},{"$f":"IF(B73=\"\",\"\",VLOOKUP(B73,expedidas,62))","v":0},{"$f":"IF(B73=\"\",\"\",VLOOKUP(B73,expedidas,63))","v":0},{"$f":"IF(B73=\"\",\"\",VLOOKUP(B73,expedidas,64))","v":0},{"$f":"IF(B73=\"\",\"\",VLOOKUP(B73,expedidas,65))","v":0},{"$f":"IF(B73=\"\",\"\",IF(I73=\"MS 11.371/DF\",0,VLOOKUP(B73,expedidas,66)))","v":6597.7},{"$f":"IF(B73=\"\",\"\",IF(I73=\"MS 11.371/DF\",BI73,VLOOKUP(B73,expedidas,67)))","v":13477.029999999999},{"$f":"IF(B73=\"\",\"\",VLOOKUP(B73,expedidas,68))","v":20074.73},{"$f":"IF(B73=\"\",\"\",VLOOKUP(B73,expedidas,69))","v":7330.7699999999995},{"$f":"IF(B73=\"\",\"\",VLOOKUP(B73,expedidas,70))","v":806.38},{"$f":"IF(B73=\"\",\"\",VLOOKUP(B73,expedidas,71))","v":1612.76},{"$f":"IF(B73=\"\",\"\",VLOOKUP(B73,expedidas,72))","v":116},{"$f":"IF(B73=\"\",\"\",IF(BM73=\"-\",\"-\",VLOOKUP(B73,expedidas,74)))","v":806.38},null,{"$f":"IF($G73=\"\",\"\",IF(CA73=\"informar\",0,IF($G73=\"não\",0,BS73+BV73+BY73+CE73)))","v":0},{"$f":"IF($AS73=\"\",\"\",IF(G73=\"não\",0,BR73-BP73))","v":0},{"$f":"IF($G73=\"\",\"\",IF(BP73=0,0,IF($G73=\"não\",0,BU73+BX73+CA73+CG73)))","v":0},{"$f":"IF($G73=\"\",\"\",IF($G73=\"não\",0,IF(VLOOKUP(B73,expedidas,10)=\"sim\",0,\"informar\")))","v":0},{"$f":"IF($G73=\"\",\"\",IF($G73=\"não\",0,IF(VLOOKUP(B73,expedidas,10)=\"sim\",0,\"informar\")))","v":0},{"$f":"IF($G73=\"\",\"\",IF($G73=\"não\",0,IF(VLOOKUP(B73,expedidas,10)=\"sim\",0,\"informar\")))","v":0},{"$f":"IF($G73=\"\",\"\",IF($G73=\"não\",0,IF(VLOOKUP(B73,expedidas,10)=\"sim\",0,\"informar\")))","v":0},{"$f":"IF($G73=\"\",\"\",IF($G73=\"não\",0,IF(VLOOKUP(B73,expedidas,10)=\"sim\",0,\"informar\")))","v":0},{"$f":"IF($G73=\"\",\"\",IF($G73=\"não\",0,IF(VLOOKUP(B73,expedidas,10)=\"sim\",0,\"informar\")))","v":0},{"$f":"IF($G73=\"\",\"\",IF($G73=\"não\",0,IF(VLOOKUP(B73,expedidas,10)=\"sim\",0,\"informar\")))","v":0},{"$f":"IF($G73=\"\",\"\",IF($G73=\"não\",0,IF(VLOOKUP(B73,expedidas,10)=\"sim\",0,\"informar\")))","v":0},{"$f":"IF($G73=\"\",\"\",IF($G73=\"não\",0,IF(VLOOKUP(B73,expedidas,10)=\"sim\",0,\"informar\")))","v":0},{"$f":"IF($G73=\"\",\"\",IF($G73=\"não\",0,IF(VLOOKUP(B73,expedidas,10)=\"sim\",0,\"informar\")))","v":0},{"$f":"IF($G73=\"\",\"\",IF($G73=\"não\",0,IF(VLOOKUP(B73,expedidas,10)=\"sim\",0,\"informar\")))","v":0},{"$f":"IF($G73=\"\",\"\",IF($G73=\"não\",0,IF(VLOOKUP(B73,expedidas,10)=\"sim\",0,\"informar\")))","v":0},{"$f":"IF($G73=\"\",\"\",IF($G73=\"não\",0,IF(VLOOKUP(B73,expedidas,10)=\"NÃO\",\"informar\",VLOOKUP(B73,expedidas,75))))","v":0},{"$f":"IF($G73=\"\",\"\",IF(VLOOKUP(B73,expedidas,10)=\"sim\",0,IF($G73=\"não\",0,\"informar\")))","v":0},{"$f":"IF($G73=\"\",\"\",IF(VLOOKUP(B73,expedidas,10)=\"sim\",CE73,IF($G73=\"não\",0,\"informar\")))","v":0},{"$f":"IF(B73=\"\",\"\",IF(VLOOKUP(B73,expedidas,10)=\"sim\",0,IF(G73=\"não\",0,IF(BJ73=0,0,IF(BJ73=AR73,BP73,TRUNC(BJ73*BP73/AR73,2))))))","v":0},{"$f":"IF($BQ73=\"\",\"\",IF(G73=\"não\",0,IF(CH73=\"informar\",0,TRUNC(CH73*0.11,2))))","v":0},{"$f":"IF($BQ73=\"\",\"\",IF(G73=\"não\",0,IF(BL73=0,0,CI73*2)))","v":0},{"$f":"IF($BQ73=\"\",\"\",IF(G73=\"não\",0,IF(BN73=0,0,CI73)))","v":0},null,{"$f":"IF(AR73=\"\",\"\",IF(BP73=0,AR73,AR73-BP73))","v":7330.7699999999995},{"$f":"IF(AS73=\"\",\"\",IF(BQ73=0,AS73,AS73-BQ73))","v":13929.75},{"$f":"IF(AT73=\"\",\"\",IF(BR73=0,AT73,AT73-BR73))","v":22305.25},{"$f":"IF(AU73=\"\",\"\",IF(BS73=0,AU73,AU73-BS73))","v":733.07},{"$f":"IF(AV73=\"\",\"\",IF(BT73=0,AV73,AV73-BT73))","v":1497.4499999999998},{"$f":"IF(AW73=\"\",\"\",IF(BU73=0,AW73,AW73-BU73))","v":2230.52},{"$f":"IF(AX73=\"\",\"\",IF(BV73=0,AX73,AX73-BV73))","v":0},{"$f":"IF(AY73=\"\",\"\",IF(BW73=0,AY73,AY73-BW73))","v":0},{"$f":"IF(AZ73=\"\",\"\",IF(BX73=0,AZ73,AZ73-BX73))","v":0},{"$f":"IF(BA73=\"\",\"\",IF(BY73=0,BA73,BA73-BY73))","v":0},{"$f":"IF(BB73=\"\",\"\",IF(BZ73=0,BB73,BB73-BZ73))","v":0},{"$f":"IF(BC73=\"\",\"\",IF(CA73=0,BC73,BC73-CA73))","v":0},{"$f":"IF(BD73=\"\",\"\",IF(CB73=0,BD73,BD73-CB73))","v":0},{"$f":"IF(BE73=\"\",\"\",IF(CC73=0,BE73,BE73-CC73))","v":0},{"$f":"IF(BF73=\"\",\"\",IF(CD73=0,BF73,BF73-CD73))","v":0},{"$f":"IF(BG73=\"\",\"\",IF(CE73=0,BG73,BG73-CE73))","v":6597.7},{"$f":"IF(BH73=\"\",\"\",IF(CF73=0,BH73,BH73-CF73))","v":13477.029999999999},{"$f":"IF(BI73=\"\",\"\",IF(CG73=0,BI73,BI73-CG73))","v":20074.73},{"$f":"IF(CM73=\"\",\"\",IF(BJ73=AR73,CM73,TRUNC(CM73*(BJ73*100/AR73)/100,2)))","v":7330.7699999999995},{"$f":"IF(BK73=\"\",\"\",IF(CI73=0,BK73,BK73-CI73))","v":806.38},{"$f":"IF(BL73=\"\",\"\",IF(CJ73=0,BL73,BL73-CJ73))","v":1612.76},{"$f":"DF73","v":806.38},{"$f":"IF(B73=\"\",\"\",VLOOKUP(B73,expedidas,48))","v":"2022-09-01"},{"$f":"IF(DI73=\"\",\"\",IF(OR(DI73>=$DJ$7),1,1/VLOOKUP(DI73,indice,3)*VLOOKUP($DJ$7,indice,3)))","v":1},{"$f":"IF(DI73=\"\",\"\",IF(I73=\"ms 4.151/df\",VLOOKUP(DI73,indice,5),IF(DI73<$DJ$7,VLOOKUP(F73,indice,6),VLOOKUP(DI73,indice,5))))","v":{"$error":"#REF!"}},{"$f":"IF(DJ73=\"\",\"\",IF(DJ73=\"\",\"\",TRUNC((VLOOKUP(B73,expedidas,51))*DJ73,2)))","v":6819.33},{"$f":"IF(DJ73=\"\",\"\",IF(DJ73=\"\",\"\",(TRUNC((VLOOKUP(B73,expedidas,52))*DJ73,2))))","v":13929.75},{"$f":"IF(DK73=\"\",\"\",IF(DK73=\"informar\",\"\",VLOOKUP(B73,expedidas,49)+TRUNC(VLOOKUP(B73,expedidas,51)*DJ73*DK73/100,2)))","v":{"$error":"#REF!"}},{"$f":"IF(DI73=\"\",\"\",IF(I73=\"ms 4.151/df\",TRUNC(VLOOKUP(B73,expedidas,52)*DJ73*DK73/100,2),IF(VLOOKUP(B73,expedidas,50)=0,0,IF(AND(MONTH(DI73)=2,YEAR(DI73)=2022),0,IF(DK73=\"informar\",\"\",VLOOKUP(B73,expedidas,50)+TRUNC((VLOOKUP(B73,expedidas,52))*DJ73*DK73/100,2))))))","v":{"$error":"#REF!"}},{"$f":"IF(DJ73=\"\",\"\",IF(DJ73=\"\",\"\",DL73+DM73+DN73+DO73))","v":{"$error":"#REF!"}},{"$f":"IF(AT73=\"\",\"\",TRUNC(DP73*W73/100,2))","v":{"$error":"#REF!"}},{"$f":"IF($DJ73=\"\",\"\",TRUNC(DP73*Z73/100,2))","v":{"$error":"#REF!"}},{"$f":"IF($DJ73=\"\",\"\",TRUNC(DP73*AC73/100,2))","v":{"$error":"#REF!"}},{"$f":"IF($DJ73=\"\",\"\",TRUNC(DP73*AF73/100,2))","v":{"$error":"#REF!"}},{"$f":"IF(AT73=\"\",\"\",IF(DP73=\"\",\"\",DP73-DQ73-DR73-DS73-DT73))","v":{"$error":"#REF!"}},{"$f":"IF(DJ73=\"\",\"\",IF(BJ73=0,0,IF(I73=\"ms 4.151/df\",TRUNC(BJ73*DJ73,2)+TRUNC(BJ73*DK73/100,2),IF(BJ73<AR73,TRUNC((BJ73)+BJ73*DK73/100,2),DL73+DN73))))","v":{"$error":"#REF!"}},{"$f":"IF(DJ73=\"\",\"\",TRUNC(DV73*0.11,2))","v":{"$error":"#REF!"}},{"$f":"IF(BL73=0,0,((IF(DW73=\"\",\"\",IF(DW73>0,DW73*2,DW73)))))","v":{"$error":"#REF!"}},{"$f":"IF(DN73=\"\",\"\",IF(BM73=0,0,IF(DU73<(DM73+DO73),0,IF(DN73=0,0,(DU73-DM73))-DO73)))","v":{"$error":"#REF!"}},{"$f":"IF(DJ73=\"\",\"\",IF(DY73=0,0,DW73))","v":{"$error":"#REF!"}},null,{"$f":"IF(CO73=\"\",\"\",IF($G73=\"não\",0,EC73+ED73+EE73+EF73+EG73))","v":0},{"$f":"IF(CR73=\"\",\"\",IF($G73=\"não\",0,IF(BU73=AW73,DQ73,TRUNC(BU73*$DJ73,2))))","v":0},{"$f":"IF(CU73=\"\",\"\",IF($G73=\"não\",0,IF(BX73=AZ73,DR73,TRUNC(BX73*$DJ73,2))))","v":0},{"$f":"IF(CX73=\"\",\"\",IF($G73=\"não\",0,IF(CA73=BC73,DS73,TRUNC(CA73*$DJ73,2))))","v":0},{"$f":"IF(DA73=\"\",\"\",IF($G73=\"não\",0,IF(CD73=BF73,DT73,TRUNC(CD73*$DJ73,2))))","v":0},{"$f":"IF(DU73=\"\",\"\",IF($G73=\"não\",0,IF(CG73=BI73,DU73,VLOOKUP(B73,expedidas,76))))","v":{"$error":"#REF!"}},{"$f":"IF(CH73=\"\",\"\",IF($G73=\"não\",0,IF(BJ73=CH73,DV73,0)))","v":0},{"$f":"IF(EH73=\"\",\"\",TRUNC(EH73*0.11,2))","v":0},{"$f":"IF(CJ73=\"\",\"\",IF(CJ73=0,0,EI73*2))","v":0},{"$f":"IF(CK73=0,0,EI73)","v":0},null,{"$f":"IF(EB73=\"\",\"\",IF(G73=\"não\",DP73,EN73+EO73+EP73+EQ73+ER73))","v":{"$error":"#REF!"}},{"$f":"IF(EC73=\"\",\"\",IF(CR73=0,0,DQ73-EC73))","v":{"$error":"#REF!"}},{"$f":"IF(ED73=\"\",\"\",IF(CU73=0,0,DR73-ED73))","v":0},{"$f":"IF(EE73=\"\",\"\",IF(CX73=0,0,DS73-EE73))","v":0},{"$f":"IF(EF73=\"\",\"\",IF(DA73=0,0,DT73-EF73))","v":0},{"$f":"IF(EG73=\"\",\"\",IF(DD73=0,0,DU73-EG73))","v":{"$error":"#REF!"}},{"$f":"IF(DV73=\"\",\"\",IF(DV73=0,0,DV73-EH73))","v":{"$error":"#REF!"}},{"$f":"IF(ES73=\"\",\"\",IF(ES73=0,0,TRUNC(ES73*0.11,2)))","v":{"$error":"#REF!"}},{"$f":"IF(DX73=\"\",\"\",IF(DX73=0,0,ET73*2))","v":{"$error":"#REF!"}},{"$f":"IF(BM73=\"\",\"\",IF(BM73=0,0,ET73))","v":{"$error":"#REF!"}},null,0,{"$f":"IF(EX73>0,B73,0)","v":0},{"$f":"IF(AND(EX73>0,EX74=0),EX73,0)","v":0},{"$f":"IF(AND(EX73>0,EX72=0),EX73,0)","v":0},null,null,null,0,0,0,0]
[66,14788,"2022/0309571-6","2022-09-26","Paga em FEV-2023 - 1ª remessa","2023-02-01","NÃO",1,"AR 1.169/CE","1999-10-18","2004-06-07","Ação Rescisória 1.169/CE","2009/0056219-4","2022-08-19","Instituto Nacional do Seguro Social – INSS","Administrativo - Servidor Público Civil - Sistema Remuneratório e Benefícios","Alimentar","João da Rocha Freires","089.856.003-97","Servidor Público Civil Ativo","Anuênios","Instituto Nacional do Seguro Social - INSS",20,"Glayddes Sindeaux Advogados","17.291.820/0001-82",0," x x x ","x x x",0," x x x "," x x x ",0," x x x "," x x x ","Dedução de Honorários Contratuais","Não","Não","Não","-","-","Não informada","Não Informada","Não",4424.8,8407.61,13462.980000000001,884.96,1807.63,2692.59,0,0,0,0,0,0,0,0,0,3539.84,7230.5500000000011,10770.390000000001,4350.74,478.58,957.16,65,478.58,null,0,0,0,0,0,0,0,0,0,0,0,0,0,0,0,0,0,0,0,0,0,0,null,4424.8,8407.61,13462.980000000001,884.96,1807.63,2692.59,0,0,0,0,0,0,0,0,0,3539.84,7230.5500000000011,10770.390000000001,4350.74,478.58,957.16,478.58,"2022-09-01",1,{"$error":"#REF!"},4116.1000000000004,8407.61,{"$error":"#REF!"},{"$error":"#REF!"},{"$error":"#REF!"},{"$error":"#REF!"},{"$error":"#REF!"},{"$error":"#REF!"},{"$error":"#REF!"},{"$error":"#REF!"},{"$error":"#REF!"},{"$error":"#REF!"},{"$error":"#REF!"},{"$error":"#REF!"},{"$error":"#REF!"},null,0,0,0,0,0,{"$error":"#REF!"},0,0,0,0,null,{"$error":"#REF!"},{"$error":"#REF!"},0,0,0,{"$error":"#REF!"},{"$error":"#REF!"},{"$error":"#REF!"},{"$error":"#REF!"},{"$error":"#REF!"},null,{"$f":"IF(F74=$EX$6,A74,0)","v":0},0,0,0,null,null,null,0,0,0,0]
[67,14789,"2022/0309573-0","2022-09-26","Paga em FEV-2023 - 1ª remessa","2023-02-01","NÃO",1,"AR 1.169/CE","1999-10-18","2004-06-07","Ação Rescisória 1.169/CE","2009/0056219-4","2022-08-19","Instituto Nacional do Seguro Social – INSS","Administrativo - Servidor Público Civil - Sistema Remuneratório e Benefícios","Alimentar","João Gomes da Rocha","104.884.133-20","Servidor Público Civil Ativo","Anuênios","Instituto Nacional do Seguro Social - INSS",20,"Glayddes Sindeaux Advogados","17.291.820/0001-82",0," x x x ","x x x",0," x x x "," x x x ",0," x x x "," x x x ","Dedução de Honorários Contratuais","Não","Não","Não","-","-","Não informada","Não Informada","Não",2941.7400000000002,5589.65,8950.6099999999988,588.34,1201.7799999999997,1790.12,0,0,0,0,0,0,0,0,0,2353.4,4807.0899999999983,7160.4899999999989,2906.55,319.72000000000003,639.44000000000005,62,319.72000000000003,null,0,0,0,0,0,0,0,0,0,0,0,0,0,0,0,0,0,0,0,0,0,0,null,2941.7400000000002,5589.65,8950.6099999999988,588.34,1201.7799999999997,1790.12,0,0,0,0,0,0,0,0,0,2353.4,4807.0899999999983,7160.4899999999989,2906.55,319.72000000000003,639.44000000000005,319.72000000000003,"2022-09-01",1,{"$error":"#REF!"},2736.51,5589.65,{"$error":"#REF!"},{"$error":"#REF!"},{"$error":"#REF!"},{"$error":"#REF!"},{"$error":"#REF!"},{"$error":"#REF!"},{"$error":"#REF!"},{"$error":"#REF!"},{"$error":"#REF!"},{"$error":"#REF!"},{"$error":"#REF!"},{"$error":"#REF!"},{"$error":"#REF!"},null,0,0,0,0,0,{"$error":"#REF!"},0,0,0,0,null,{"$error":"#REF!"},{"$error":"#REF!"},0,0,0,{"$error":"#REF!"},{"$error":"#REF!"},{"$error":"#REF!"},{"$error":"#REF!"},{"$error":"#REF!"},null,0,0,0,0,null,null,null,{"$f":"IF(AND(B75>0,B76=\"\"),B75,0)","v":0},{"$f":"IF(E75=\"\",0,IF(E75=$FE$5,A75,0))","v":0},{"$f":"IF(AND(FF75>0,FF74=0),FF75,0)","v":0},{"$f":"IF(FF75=\"\",\"\",IF(AND(FF75>0,FF76=0),FF75,0))","v":0}]
[68,14790,"2022/0309577-7","2022-09-26","Paga em FEV-2023 - 1ª remessa","2023-02-01","NÃO",1,"AR 1.169/CE","1999-10-18","2004-06-07","Ação Rescisória 1.169/CE","2009/0056219-4","2022-08-19","Instituto Nacional do Seguro Social – INSS","Administrativo - Servidor Público Civil - Sistema Remuneratório e Benefícios","Alimentar","João Grangeiro Xavier","013.833.613-04","Servidor Público Civil Ativo","Anuênios","Instituto Nacional do Seguro Social - INSS",20,"Glayddes Sindeaux Advogados","17.291.820/0001-82",0," x x x ","x x x",0," x x x "," x x x ",0," x x x "," x x x ","Dedução de Honorários Contratuais","Não","Não","Não","-","-","Não informada","Não Informada","Não",7145.65,13577.48,21741.439999999999,1429.13,2919.1499999999996,4348.28,0,0,0,0,0,0,0,0,0,5716.5199999999995,11676.64,17393.16,6768.7000000000007,744.55,1489.1,111,744.55,null,0,0,0,0,0,0,0,0,0,0,0,0,0,0,0,0,0,0,0,0,0,0,null,7145.65,13577.48,21741.439999999999,1429.13,2919.1499999999996,4348.28,0,0,0,0,0,0,0,0,0,5716.5199999999995,11676.64,17393.16,6768.7,744.55,1489.1,744.55,"2022-09-01",1,{"$error":"#REF!"},6647.12,13577.48,{"$error":"#REF!"},{"$error":"#REF!"},{"$error":"#REF!"},{"$error":"#REF!"},{"$error":"#REF!"},{"$error":"#REF!"},{"$error":"#REF!"},{"$error":"#REF!"},{"$error":"#REF!"},{"$error":"#REF!"},{"$error":"#REF!"},{"$error":"#REF!"},{"$error":"#REF!"},null,0,0,0,0,0,{"$error":"#REF!"},0,0,0,0,null,{"$error":"#REF!"},{"$error":"#REF!"},0,0,0,{"$error":"#REF!"},{"$error":"#REF!"},{"$error":"#REF!"},{"$error":"#REF!"},{"$error":"#REF!"},null,0,0,0,0,null,null,null,0,0,0,0]
[69,14791,"2022/0309578-9","2022-09-26","Paga em FEV-2023 - 1ª remessa","2023-02-01","NÃO",1,"AR 1.169/CE","1999-10-18","2004-06-07","Ação Rescisória 1.169/CE","2009/0056219-4","2022-08-19","Instituto Nacional do Seguro Social – INSS","Administrativo - Servidor Público Civil - Sistema Remuneratório e Benefícios","Alimentar","João Roberto Rebouças Freitas","051.282.853-91","Servidor Público Civil Ativo","Anuênios","Instituto Nacional do Seguro Social - INSS",20,"Glayddes Sindeaux Advogados","17.291.820/0001-82",0," x x x ","x x x",0," x x x "," x x x ",0," x x x "," x x x ","Dedução de Honorários Contratuais","Não","Não","Não","-","-","Não informada","Não Informada","Não",7378.92,14021.33,22451.84,1475.78,3014.58,4490.3599999999997,0,0,0,0,0,0,0,0,0,5903.14,12058.34,17961.48,7378.92,811.68,1623.36,112,811.68,null,0,0,0,0,0,0,0,0,0,0,0,0,0,0,0,0,0,0,0,0,0,0,null,7378.92,14021.33,22451.84,1475.78,3014.58,4490.3599999999997,0,0,0,0,0,0,0,0,0,5903.14,12058.34,17961.48,7378.92,811.68,1623.36,811.68,"2022-09-01",1,{"$error":"#REF!"},6864.12,14021.33,{"$error":"#REF!"},{"$error":"#REF!"},{"$error":"#REF!"},{"$error":"#REF!"},{"$error":"#REF!"},{"$error":"#REF!"},{"$error":"#REF!"},{"$error":"#REF!"},{"$error":"#REF!"},{"$error":"#REF!"},{"$error":"#REF!"},{"$error":"#REF!"},{"$error":"#REF!"},null,0,0,0,0,0,{"$error":"#REF!"},0,0,0,0,null,{"$error":"#REF!"},{"$error":"#REF!"},0,0,0,{"$error":"#REF!"},{"$error":"#REF!"},{"$error":"#REF!"},{"$error":"#REF!"},{"$error":"#REF!"},null,0,0,0,0,null,null,null,0,0,0,0]
[70,14792,"2022/0309579-0","2022-09-26","Paga em FEV-2023 - 1ª remessa","2023-02-01","NÃO",1,"AR 1.169/CE","1999-10-18","2004-06-07","Ação Rescisória 1.169/CE","2009/0056219-4","2022-08-19","Instituto Nacional do Seguro Social – INSS","Administrativo - Servidor Público Civil - Sistema Remuneratório e Benefícios","Alimentar","Joaquim Bernardino Neto","018.389.973-34","Servidor Público Civil Ativo","Anuênios","Instituto Nacional do Seguro Social - INSS",10,"Glayddes Sindeaux Advogados","17.291.820/0001-82",0," x x x ","x x x",0," x x x "," x x x ",0," x x x "," x x x ","Dedução de Honorários Contratuais","Não","Não","Não","-","-","Não informada","Não Informada","Não",7488.58,14229.01,22784.760000000002,748.85,1529.62,2278.4699999999998,0,0,0,0,0,0,0,0,0,6739.73,13766.560000000001,20506.29,6996.98,769.66,1539.32,111,769.66,null,0,0,0,0,0,0,0,0,0,0,0,0,0,0,0,0,0,0,0,0,0,0,null,7488.58,14229.01,22784.760000000002,748.85,1529.62,2278.4699999999998,0,0,0,0,0,0,0,0,0,6739.73,13766.560000000001,20506.29,6996.98,769.66,1539.32,769.66,"2022-09-01",1,{"$error":"#REF!"},6966.13,14229.01,{"$error":"#REF!"},{"$error":"#REF!"},{"$error":"#REF!"},{"$error":"#REF!"},{"$error":"#REF!"},{"$error":"#REF!"},{"$error":"#REF!"},{"$error":"#REF!"},{"$error":"#REF!"},{"$error":"#REF!"},{"$error":"#REF!"},{"$error":"#REF!"},{"$error":"#REF!"},null,0,0,0,0,0,{"$error":"#REF!"},0,0,0,0,null,{"$error":"#REF!"},{"$error":"#REF!"},0,0,0,{"$error":"#REF!"},{"$error":"#REF!"},{"$error":"#REF!"},{"$error":"#REF!"},{"$error":"#REF!"},null,0,0,0,0,null,null,null,0,0,0,0]
[71,14793,"2022/0309581-7","2022-09-26","Paga em FEV-2023 - 1ª remessa","2023-02-01","NÃO",1,"AR 1.169/CE","1999-10-18","2004-06-07","Ação Rescisória 1.169/CE","2009/0056219-4","2022-08-19","Instituto Nacional do Seguro Social – INSS","Administrativo - Servidor Público Civil - Sistema Remuneratório e Benefícios","Alimentar","Joaquim Felix Filho","019.588.953-34","Servidor Público Civil Ativo","Anuênios","Instituto Nacional do Seguro Social - INSS",10,"Glayddes Sindeaux Advogados","17.291.820/0001-82",0," x x x ","x x x",0," x x x "," x x x ",0," x x x "," x x x ","Dedução de Honorários Contratuais","Não","Não","Não","-","-","Não informada","Não Informada","Não",5154.9400000000005,9795.25,15684.829999999998,515.49,1052.99,1568.48,0,0,0,0,0,0,0,0,0,4639.4500000000007,9476.8999999999978,14116.349999999999,5154.9400000000005,567.04,1134.08,116,567.04,null,0,0,0,0,0,0,0,0,0,0,0,0,0,0,0,0,0,0,0,0,0,0,null,5154.9400000000005,9795.25,15684.829999999998,515.49,1052.99,1568.48,0,0,0,0,0,0,0,0,0,4639.4500000000007,9476.8999999999978,14116.349999999999,5154.9400000000005,567.04,1134.08,567.04,"2022-09-01",1,{"$error":"#REF!"},4795.3,9795.25,{"$error":"#REF!"},{"$error":"#REF!"},{"$error":"#REF!"},{"$error":"#REF!"},{"$error":"#REF!"},{"$error":"#REF!"},{"$error":"#REF!"},{"$error":"#REF!"},{"$error":"#REF!"},{"$error":"#REF!"},{"$error":"#REF!"},{"$error":"#REF!"},{"$error":"#REF!"},null,0,0,0,0,0,{"$error":"#REF!"},0,0,0,0,null,{"$error":"#REF!"},{"$error":"#REF!"},0,0,0,{"$error":"#REF!"},{"$error":"#REF!"},{"$error":"#REF!"},{"$error":"#REF!"},{"$error":"#REF!"},null,0,0,0,0,null,null,null,0,0,0,0]
[72,14794,"2022/0309585-4","2022-09-26","Paga em FEV-2023 - 1ª remessa","2023-02-01","NÃO",1,"AR 1.169/CE","1999-10-18","2004-06-07","Ação Rescisória 1.169/CE","2009/0056219-4","2022-08-19","Instituto Nacional do Seguro Social – INSS","Administrativo - Servidor Público Civil - Sistema Remuneratório e Benefícios","Alimentar","Jorge Luiz Oliveira de Queiroz","262.706.923-34","Servidor Público Civil Ativo","Anuênios","Instituto Nacional do Seguro Social - INSS",10,"Glayddes Sindeaux Advogados","17.291.820/0001-82",0," x x x ","x x x",0," x x x "," x x x ",0," x x x "," x x x ","Dedução de Honorários Contratuais","Não","Não","Não","-","-","Não informada","Não Informada","Não",1571.4499999999998,2986.01,4781.41,157.13999999999999,321,478.14,0,0,0,0,0,0,0,0,0,1414.31,2888.9599999999996,4303.2699999999995,1571.4499999999998,172.85,345.7,116,172.85,null,0,0,0,0,0,0,0,0,0,0,0,0,0,0,0,0,0,0,0,0,0,0,null,1571.4499999999998,2986.01,4781.41,157.13999999999999,321,478.14,0,0,0,0,0,0,0,0,0,1414.31,2888.9599999999996,4303.2699999999995,1571.4499999999998,172.85,345.7,172.85,"2022-09-01",1,{"$error":"#REF!"},1461.82,2986.01,{"$error":"#REF!"},{"$error":"#REF!"},{"$error":"#REF!"},{"$error":"#REF!"},{"$error":"#REF!"},{"$error":"#REF!"},{"$error":"#REF!"},{"$error":"#REF!"},{"$error":"#REF!"},{"$error":"#REF!"},{"$error":"#REF!"},{"$error":"#REF!"},{"$error":"#REF!"},null,0,0,0,0,0,{"$error":"#REF!"},0,0,0,0,null,{"$error":"#REF!"},{"$error":"#REF!"},0,0,0,{"$error":"#REF!"},{"$error":"#REF!"},{"$error":"#REF!"},{"$error":"#REF!"},{"$error":"#REF!"},null,0,0,0,0,null,null,null,0,0,0,0]
[73,14795,"2022/0309587-8","2022-09-26","Paga em FEV-2023 - 1ª remessa","2023-02-01","NÃO",1,"AR 1.169/CE","1999-10-18","2004-06-07","Ação Rescisória 1.169/CE","2009/0056219-4","2022-08-19","Instituto Nacional do Seguro Social – INSS","Administrativo - Servidor Público Civil - Sistema Remuneratório e Benefícios","Alimentar","José Albano de Castro","112.815.453-68","Servidor Público Civil Ativo","Anuênios","Instituto Nacional do Seguro Social - INSS",20,"Glayddes Sindeaux Advogados","17.291.820/0001-82",0," x x x ","x x x",0," x x x "," x x x ",0," x x x "," x x x ","Dedução de Honorários Contratuais","Não","Não","Não","-","-","Não informada","Não Informada","Não",3449.49,6554.27,10495.33,689.89,1409.17,2099.06,0,0,0,0,0,0,0,0,0,2759.6,5636.67,8396.27,3449.49,379.44,758.88,105,379.44,null,0,0,0,0,0,0,0,0,0,0,0,0,0,0,0,0,0,0,0,0,0,0,null,3449.49,6554.27,10495.33,689.89,1409.17,2099.06,0,0,0,0,0,0,0,0,0,2759.6,5636.67,8396.27,3449.49,379.44,758.88,379.44,"2022-09-01",1,{"$error":"#REF!"},3208.83,6554.27,{"$error":"#REF!"},{"$error":"#REF!"},{"$error":"#REF!"},{"$error":"#REF!"},{"$error":"#REF!"},{"$error":"#REF!"},{"$error":"#REF!"},{"$error":"#REF!"},{"$error":"#REF!"},{"$error":"#REF!"},{"$error":"#REF!"},{"$error":"#REF!"},{"$error":"#REF!"},null,0,0,0,0,0,{"$error":"#REF!"},0,0,0,0,null,{"$error":"#REF!"},{"$error":"#REF!"},0,0,0,{"$error":"#REF!"},{"$error":"#REF!"},{"$error":"#REF!"},{"$error":"#REF!"},{"$error":"#REF!"},null,0,0,0,0,null,null,null,0,0,0,0]
[74,14796,"2022/0309588-0","2022-09-26","Paga em FEV-2023 - 1ª remessa","2023-02-01","NÃO",1,"AR 1.169/CE","1999-10-18","2004-06-07","Ação Rescisória 1.169/CE","2009/0056219-4","2022-08-19","Instituto Nacional do Seguro Social – INSS","Administrativo - Servidor Público Civil - Sistema Remuneratório e Benefícios","Alimentar","José Anchieta Vasconcelos Porfírio","081.575.613-53","Servidor Público Civil Ativo","Anuênios","Instituto Nacional do Seguro Social - INSS",10,"Glayddes Sindeaux Advogados","17.291.820/0001-82",0," x x x ","x x x",0," x x x "," x x x ",0," x x x "," x x x ","Dedução de Honorários Contratuais","Não","Não","Não","-","-","Não informada","Não Informada","Não",7375.13,14013.969999999998,22440.14,737.51,1506.5000000000002,2244.0100000000002,0,0,0,0,0,0,0,0,0,6637.62,13558.509999999998,20196.129999999997,7375.13,811.26,1622.52,116,811.26,null,0,0,0,0,0,0,0,0,0,0,0,0,0,0,0,0,0,0,0,0,0,0,null,7375.13,14013.969999999998,22440.14,737.51,1506.5000000000002,2244.0100000000002,0,0,0,0,0,0,0,0,0,6637.62,13558.509999999998,20196.129999999997,7375.13,811.26,1622.52,811.26,"2022-09-01",1,{"$error":"#REF!"},6860.59,14013.97,{"$error":"#REF!"},{"$error":"#REF!"},{"$error":"#REF!"},{"$error":"#REF!"},{"$error":"#REF!"},{"$error":"#REF!"},{"$error":"#REF!"},{"$error":"#REF!"},{"$error":"#REF!"},{"$error":"#REF!"},{"$error":"#REF!"},{"$error":"#REF!"},{"$error":"#REF!"},null,0,0,0,0,0,{"$error":"#REF!"},0,0,0,0,null,{"$error":"#REF!"},{"$error":"#REF!"},0,0,0,{"$error":"#REF!"},{"$error":"#REF!"},{"$error":"#REF!"},{"$error":"#REF!"},{"$error":"#REF!"},null,0,0,0,0,null,null,null,0,0,0,0]
[75,14797,"2022/0309589-1","2022-09-26","Paga em FEV-2023 - 1ª remessa","2023-02-01","NÃO",1,"AR 1.169/CE","1999-10-18","2004-06-07","Ação Rescisória 1.169/CE","2009/0056219-4","2022-08-19","Instituto Nacional do Seguro Social – INSS","Administrativo - Servidor Público Civil - Sistema Remuneratório e Benefícios","Alimentar","José Carlos de Araújo","000.506.873-87","Servidor Público Civil Ativo","Anuênios","Instituto Nacional do Seguro Social - INSS",20,"Glayddes Sindeaux Advogados","17.291.820/0001-82",0," x x x ","x x x",0," x x x "," x x x ",0," x x x "," x x x ","Dedução de Honorários Contratuais","Não","Não","Não","-","-","Não informada","Não Informada","Não",9082.9700000000012,17258.63,27635.99,1816.59,3710.5999999999995,5527.19,0,0,0,0,0,0,0,0,0,7266.380000000001,14842.420000000002,22108.800000000003,1616.81,177.84,355.68,60,177.84,null,0,0,0,0,0,0,0,0,0,0,0,0,0,0,0,0,0,0,0,0,0,0,null,9082.9700000000012,17258.63,27635.99,1816.59,3710.5999999999995,5527.19,0,0,0,0,0,0,0,0,0,7266.380000000001,14842.420000000002,22108.800000000003,1616.81,177.84,355.68,177.84,"2022-09-01",1,{"$error":"#REF!"},8449.2800000000007,17258.63,{"$error":"#REF!"},{"$error":"#REF!"},{"$error":"#REF!"},{"$error":"#REF!"},{"$error":"#REF!"},{"$error":"#REF!"},{"$error":"#REF!"},{"$error":"#REF!"},{"$error":"#REF!"},{"$error":"#REF!"},{"$error":"#REF!"},{"$error":"#REF!"},{"$error":"#REF!"},null,0,0,0,0,0,{"$error":"#REF!"},0,0,0,0,null,{"$error":"#REF!"},{"$error":"#REF!"},0,0,0,{"$error":"#REF!"},{"$error":"#REF!"},{"$error":"#REF!"},{"$error":"#REF!"},{"$error":"#REF!"},null,0,0,0,0,null,null,null,0,0,0,0]
[76,14798,"2022/0309590-6","2022-09-26","Paga em FEV-2023 - 1ª remessa","2023-02-01","NÃO",1,"AR 1.169/CE","1999-10-18","2004-06-07","Ação Rescisória 1.169/CE","2009/0056219-4","2022-08-19","Instituto Nacional do Seguro Social – INSS","Administrativo - Servidor Público Civil - Sistema Remuneratório e Benefícios","Alimentar","José Coelho dos Santos","120.432.223-68","Servidor Público Civil Ativo","Anuênios","Instituto Nacional do Seguro Social - INSS",10,"Glayddes Sindeaux Advogados","17.291.820/0001-82",0," x x x ","x x x",0," x x x "," x x x ",0," x x x "," x x x ","Dedução de Honorários Contratuais","Não","Não","Não","-","-","Não informada","Não Informada","Não",2949.2,5604.01,8973.5099999999984,294.92,602.43000000000006,897.35,0,0,0,0,0,0,0,0,0,2654.2799999999997,5421.8799999999983,8076.159999999998,2949.2,324.41000000000003,648.82000000000005,116,324.41000000000003,null,0,0,0,0,0,0,0,0,0,0,0,0,0,0,0,0,0,0,0,0,0,0,null,2949.2,5604.01,8973.5099999999984,294.92,602.43000000000006,897.35,0,0,0,0,0,0,0,0,0,2654.2799999999997,5421.8799999999983,8076.159999999998,2949.2,324.41000000000003,648.82000000000005,324.41000000000003,"2022-09-01",1,{"$error":"#REF!"},2743.45,5604.01,{"$error":"#REF!"},{"$error":"#REF!"},{"$error":"#REF!"},{"$error":"#REF!"},{"$error":"#REF!"},{"$error":"#REF!"},{"$error":"#REF!"},{"$error":"#REF!"},{"$error":"#REF!"},{"$error":"#REF!"},{"$error":"#REF!"},{"$error":"#REF!"},{"$error":"#REF!"},null,0,0,0,0,0,{"$error":"#REF!"},0,0,0,0,null,{"$error":"#REF!"},{"$error":"#REF!"},0,0,0,{"$error":"#REF!"},{"$error":"#REF!"},{"$error":"#REF!"},{"$error":"#REF!"},{"$error":"#REF!"},null,0,0,0,0,null,null,null,0,0,0,0]
[77,14800,"2022/0309593-1","2022-09-26","Paga em FEV-2023 - 1ª remessa","2023-02-01","NÃO",1,"AR 1.169/CE","1999-10-18","2004-06-07","Ação Rescisória 1.169/CE","2009/0056219-4","2022-08-19","Instituto Nacional do Seguro Social – INSS","Administrativo - Servidor Público Civil - Sistema Remuneratório e Benefícios","Alimentar","José Ednardo de Souza Barros","042.398.573-68","Servidor Público Civil Ativo","Anuênios","Instituto Nacional do Seguro Social - INSS",10,"Glayddes Sindeaux Advogados","17.291.820/0001-82",0," x x x ","x x x",0," x x x "," x x x ",0," x x x "," x x x ","Dedução de Honorários Contratuais","Não","Não","Não","-","-","Não informada","Não Informada","Não",7428.38,14115.24,22602.26,742.83,1517.3899999999999,2260.2199999999998,0,0,0,0,0,0,0,0,0,6685.55,13656.489999999998,20342.039999999997,7428.38,817.12,1634.24,116,817.12,null,0,0,0,0,0,0,0,0,0,0,0,0,0,0,0,0,0,0,0,0,0,0,null,7428.38,14115.24,22602.26,742.83,1517.3899999999999,2260.2199999999998,0,0,0,0,0,0,0,0,0,6685.55,13656.489999999998,20342.039999999997,7428.38,817.12,1634.24,817.12,"2022-09-01",1,{"$error":"#REF!"},6910.13,14115.24,{"$error":"#REF!"},{"$error":"#REF!"},{"$error":"#REF!"},{"$error":"#REF!"},{"$error":"#REF!"},{"$error":"#REF!"},{"$error":"#REF!"},{"$error":"#REF!"},{"$error":"#REF!"},{"$error":"#REF!"},{"$error":"#REF!"},{"$error":"#REF!"},{"$error":"#REF!"},null,0,0,0,0,0,{"$error":"#REF!"},0,0,0,0,null,{"$error":"#REF!"},{"$error":"#REF!"},0,0,0,{"$error":"#REF!"},{"$error":"#REF!"},{"$error":"#REF!"},{"$error":"#REF!"},{"$error":"#REF!"},null,0,0,0,0,null,null,null,0,0,0,0]
[78,14801,"2022/0309595-5","2022-09-26","Paga em FEV-2023 - 1ª remessa","2023-02-01","NÃO",1,"AR 1.169/CE","1999-10-18","2004-06-07","Ação Rescisória 1.169/CE","2009/0056219-4","2022-08-19","Instituto Nacional do Seguro Social – INSS","Administrativo - Servidor Público Civil - Sistema Remuneratório e Benefícios","Alimentar","José Farias do Nascimento","017.850.873-04","Servidor Público Civil Ativo","Anuênios","Instituto Nacional do Seguro Social - INSS",20,"Glayddes Sindeaux Advogados","17.291.820/0001-82",0," x x x ","x x x",0," x x x "," x x x ",0," x x x "," x x x ","Dedução de Honorários Contratuais","Não","Não","Não","-","-","Não informada","Não Informada","Não",5738.11,10902.97,17458.800000000003,1147.6199999999999,2344.1400000000003,3491.76,0,0,0,0,0,0,0,0,0,4590.49,9376.5500000000029,13967.040000000003,851.68999999999994,93.68,187.36,111,93.68,null,0,0,0,0,0,0,0,0,0,0,0,0,0,0,0,0,0,0,0,0,0,0,null,5738.11,10902.97,17458.800000000003,1147.6199999999999,2344.1400000000003,3491.76,0,0,0,0,0,0,0,0,0,4590.49,9376.5500000000029,13967.040000000003,851.69,93.68,187.36,93.68,"2022-09-01",1,{"$error":"#REF!"},5337.78,10902.97,{"$error":"#REF!"},{"$error":"#REF!"},{"$error":"#REF!"},{"$error":"#REF!"},{"$error":"#REF!"},{"$error":"#REF!"},{"$error":"#REF!"},{"$error":"#REF!"},{"$error":"#REF!"},{"$error":"#REF!"},{"$error":"#REF!"},{"$error":"#REF!"},{"$error":"#REF!"},null,0,0,0,0,0,{"$error":"#REF!"},0,0,0,0,null,{"$error":"#REF!"},{"$error":"#REF!"},0,0,0,{"$error":"#REF!"},{"$error":"#REF!"},{"$error":"#REF!"},{"$error":"#REF!"},{"$error":"#REF!"},null,0,0,0,0,null,null,null,0,0,0,0]
[79,14802,"2022/0309596-7","2022-09-26","Paga em FEV-2023 - 1ª remessa","2023-02-01","NÃO",1,"AR 1.169/CE","1999-10-18","2004-06-07","Ação Rescisória 1.169/CE","2009/0056219-4","2022-08-19","Instituto Nacional do Seguro Social – INSS","Administrativo - Servidor Público Civil - Sistema Remuneratório e Benefícios","Alimentar","José Ferreira Filho","048.628.723-87","Servidor Público Civil Ativo","Anuênios","Instituto Nacional do Seguro Social - INSS",20,"Glayddes Sindeaux Advogados","17.291.820/0001-82",0," x x x ","x x x",0," x x x "," x x x ",0," x x x "," x x x ","Dedução de Honorários Contratuais","Não","Não","Não","-","-","Não informada","Não Informada","Não",7253.86,13783.12,22070.710000000003,1450.77,2963.3700000000003,4414.1400000000003,0,0,0,0,0,0,0,0,0,5803.09,11853.480000000003,17656.570000000003,7253.86,797.92,1595.84,113,797.92,null,0,0,0,0,0,0,0,0,0,0,0,0,0,0,0,0,0,0,0,0,0,0,null,7253.86,13783.12,22070.710000000003,1450.77,2963.3700000000003,4414.1400000000003,0,0,0,0,0,0,0,0,0,5803.09,11853.480000000003,17656.570000000003,7253.86,797.92,1595.84,797.92,"2022-09-01",1,{"$error":"#REF!"},6747.78,13783.12,{"$error":"#REF!"},{"$error":"#REF!"},{"$error":"#REF!"},{"$error":"#REF!"},{"$error":"#REF!"},{"$error":"#REF!"},{"$error":"#REF!"},{"$error":"#REF!"},{"$error":"#REF!"},{"$error":"#REF!"},{"$error":"#REF!"},{"$error":"#REF!"},{"$error":"#REF!"},null,0,0,0,0,0,{"$error":"#REF!"},0,0,0,0,null,{"$error":"#REF!"},{"$error":"#REF!"},0,0,0,{"$error":"#REF!"},{"$error":"#REF!"},{"$error":"#REF!"},{"$error":"#REF!"},{"$error":"#REF!"},null,0,0,0,0,null,null,null,0,0,0,0]
[80,14804,"2022/0309646-0","2022-09-27","Paga em FEV-2023 - 1ª remessa","2023-02-01","NÃO",1,"AR 1.169/CE","1999-10-18","2004-06-07","Ação Rescisória 1.169/CE","2009/0056219-4","2022-08-19","Instituto Nacional do Seguro Social – INSS","Administrativo - Servidor Público Civil - Sistema Remuneratório e Benefícios","Alimentar","José Gilvan Rodrigues Sousa","122.356.013-91","Servidor Público Civil Ativo","Anuênios","Instituto Nacional do Seguro Social - INSS",10,"Glayddes Sindeaux Advogados","17.291.820/0001-82",0," x x x ","x x x",0," x x x "," x x x ",0," x x x "," x x x ","Dedução de Honorários Contratuais","Não","Não","Não","-","-","Não informada","Não Informada","Não",4079.62,7751.5200000000013,12412.500000000002,407.96,833.29,1241.25,0,0,0,0,0,0,0,0,0,3671.66,7499.590000000002,11171.250000000002,4079.62,448.75,897.5,115,448.75,null,0,0,0,0,0,0,0,0,0,0,0,0,0,0,0,0,0,0,0,0,0,0,null,4079.62,7751.5200000000013,12412.500000000002,407.96,833.29,1241.25,0,0,0,0,0,0,0,0,0,3671.66,7499.590000000002,11171.250000000002,4079.62,448.75,897.5,448.75,"2022-09-01",1,{"$error":"#REF!"},3795,7751.52,{"$error":"#REF!"},{"$error":"#REF!"},{"$error":"#REF!"},{"$error":"#REF!"},{"$error":"#REF!"},{"$error":"#REF!"},{"$error":"#REF!"},{"$error":"#REF!"},{"$error":"#REF!"},{"$error":"#REF!"},{"$error":"#REF!"},{"$error":"#REF!"},{"$error":"#REF!"},null,0,0,0,0,0,{"$error":"#REF!"},0,0,0,0,null,{"$error":"#REF!"},{"$error":"#REF!"},0,0,0,{"$error":"#REF!"},{"$error":"#REF!"},{"$error":"#REF!"},{"$error":"#REF!"},{"$error":"#REF!"},null,0,0,0,0,null,null,null,0,0,0,0]
[81,14805,"2022/0309648-4","2022-09-27","Paga em FEV-2023 - 1ª remessa","2023-02-01","NÃO",1,"AR 1.169/CE","1999-10-18","2004-06-07","Ação Rescisória 1.169/CE","2009/0056219-4","2022-08-19","Instituto Nacional do Seguro Social – INSS","Administrativo - Servidor Público Civil - Sistema Remuneratório e Benefícios","Alimentar","José Humberto Viana de Souza","042.861.703-49","Servidor Público Civil Ativo","Anuênios","Instituto Nacional do Seguro Social - INSS",20,"Glayddes Sindeaux Advogados","17.291.820/0001-82",0," x x x ","x x x",0," x x x "," x x x ",0," x x x "," x x x ","Dedução de Honorários Contratuais","Não","Não","Não","-","-","Não informada","Não Informada","Não",5096.72,9684.31,15507.35,1019.34,2082.1299999999997,3101.47,0,0,0,0,0,0,0,0,0,4077.38,8328.5,12405.880000000001,5096.72,560.63,1121.26,61,560.63,null,0,0,0,0,0,0,0,0,0,0,0,0,0,0,0,0,0,0,0,0,0,0,null,5096.72,9684.31,15507.35,1019.34,2082.1299999999997,3101.47,0,0,0,0,0,0,0,0,0,4077.38,8328.5,12405.880000000001,5096.72,560.63,1121.26,560.63,"2022-09-01",1,{"$error":"#REF!"},4741.1400000000003,9684.31,{"$error":"#REF!"},{"$error":"#REF!"},{"$error":"#REF!"},{"$error":"#REF!"},{"$error":"#REF!"},{"$error":"#REF!"},{"$error":"#REF!"},{"$error":"#REF!"},{"$error":"#REF!"},{"$error":"#REF!"},{"$error":"#REF!"},{"$error":"#REF!"},{"$error":"#REF!"},null,0,0,0,0,0,{"$error":"#REF!"},0,0,0,0,null,{"$error":"#REF!"},{"$error":"#REF!"},0,0,0,{"$error":"#REF!"},{"$error":"#REF!"},{"$error":"#REF!"},{"$error":"#REF!"},{"$error":"#REF!"},null,0,0,0,0,null,null,null,0,0,0,0]
[82,14806,"2022/0309649-6","2022-09-27","Paga em FEV-2023 - 1ª remessa","2023-02-01","NÃO",1,"AR 1.169/CE","1999-10-18","2004-06-07","Ação Rescisória 1.169/CE","2009/0056219-4","2022-08-19","Instituto Nacional do Seguro Social – INSS","Administrativo - Servidor Público Civil - Sistema Remuneratório e Benefícios","Alimentar","José Jaime Alves Ferraz","135.739.344-04","Servidor Público Civil Ativo","Anuênios","Instituto Nacional do Seguro Social - INSS",20,"Glayddes Sindeaux Advogados","17.291.820/0001-82",0," x x x ","x x x",0," x x x "," x x x ",0," x x x "," x x x ","Dedução de Honorários Contratuais","Não","Não","Não","-","-","Não informada","Não Informada","Não",3311.01,6291.34,10074.200000000001,662.2,1352.6399999999999,2014.84,0,0,0,0,0,0,0,0,0,2648.8100000000004,5410.55,8059.3600000000006,3311.01,364.21,728.42,116,364.21,null,0,0,0,0,0,0,0,0,0,0,0,0,0,0,0,0,0,0,0,0,0,0,null,3311.01,6291.34,10074.200000000001,662.2,1352.6399999999999,2014.84,0,0,0,0,0,0,0,0,0,2648.8100000000004,5410.55,8059.3600000000006,3311.01,364.21,728.42,364.21,"2022-09-01",1,{"$error":"#REF!"},3080.01,6291.34,{"$error":"#REF!"},{"$error":"#REF!"},{"$error":"#REF!"},{"$error":"#REF!"},{"$error":"#REF!"},{"$error":"#REF!"},{"$error":"#REF!"},{"$error":"#REF!"},{"$error":"#REF!"},{"$error":"#REF!"},{"$error":"#REF!"},{"$error":"#REF!"},{"$error":"#REF!"},null,0,0,0,0,0,{"$error":"#REF!"},0,0,0,0,null,{"$error":"#REF!"},{"$error":"#REF!"},0,0,0,{"$error":"#REF!"},{"$error":"#REF!"},{"$error":"#REF!"},{"$error":"#REF!"},{"$error":"#REF!"},null,0,0,0,0,null,null,null,0,0,0,0]
[83,14807,"2022/0309651-2","2022-09-27","Paga em FEV-2023 - 1ª remessa","2023-02-01","NÃO",1,"AR 1.169/CE","1999-10-18","2004-06-07","Ação Rescisória 1.169/CE","2009/0056219-4","2022-08-19","Instituto Nacional do Seguro Social – INSS","Administrativo - Servidor Público Civil - Sistema Remuneratório e Benefícios","Alimentar","José Joaquim de Medeiros Rocha","117.857.803-87","Servidor Público Civil Ativo","Anuênios","Instituto Nacional do Seguro Social - INSS",10,"Glayddes Sindeaux Advogados","17.291.820/0001-82",0," x x x ","x x x",0," x x x "," x x x ",0," x x x "," x x x ","Dedução de Honorários Contratuais","Não","Não","Não","-","-","Não informada","Não Informada","Não",4403.28,8366.75,13397.53,440.32,899.43000000000006,1339.75,0,0,0,0,0,0,0,0,0,3962.9599999999996,8094.8200000000015,12057.78,4403.28,484.36,968.72,116,484.36,null,0,0,0,0,0,0,0,0,0,0,0,0,0,0,0,0,0,0,0,0,0,0,null,4403.28,8366.75,13397.53,440.32,899.43000000000006,1339.75,0,0,0,0,0,0,0,0,0,3962.9599999999996,8094.8200000000015,12057.78,4403.28,484.36,968.72,484.36,"2022-09-01",1,{"$error":"#REF!"},4096.08,8366.75,{"$error":"#REF!"},{"$error":"#REF!"},{"$error":"#REF!"},{"$error":"#REF!"},{"$error":"#REF!"},{"$error":"#REF!"},{"$error":"#REF!"},{"$error":"#REF!"},{"$error":"#REF!"},{"$error":"#REF!"},{"$error":"#REF!"},{"$error":"#REF!"},{"$error":"#REF!"},null,0,0,0,0,0,{"$error":"#REF!"},0,0,0,0,null,{"$error":"#REF!"},{"$error":"#REF!"},0,0,0,{"$error":"#REF!"},{"$error":"#REF!"},{"$error":"#REF!"},{"$error":"#REF!"},{"$error":"#REF!"},null,0,0,0,0,null,null,null,0,0,0,0]
[84,14601,"2022/0299151-3","2022-09-19","Paga em FEV-2023 - 2ª remessa","2023-02-01","SIM",2,"MS 4.151/DF","1995-07-21","1999-02-12","Mandado de Segurança 4.151/DF","2016/0130360-1","2022-06-30","UNIÃO","Administrativo - Servidor Público Civil - Reajustes de Remuneração, Proventos ou Pensão","Alimentar","Evandro Cesar De Almeida Carneiro","236.301.756-00","Servidor Público Civil Ativo","Diferença de remuneração - 3,17%","Ministério da Fazenda",6,"Mota & Advogados Associados","03.996.810/0001-38",1,"Mauro Menezes e Advogados","32.901.423/0001-79",1,"Caputo, Bastos e Serra Advogados","12.291.813/0001-67",0," x x x "," x x x ","Dedução de Honorários Contratuais","Não","Não","Não","-","-","Não informada","Não Informada","Não",19509.349999999999,39481.299999999996,58990.649999999994,1170.56,2368.87,3539.43,195.09,394.80999999999995,589.9,195.09,394.80999999999995,589.9,0,0,0,17948.609999999997,36322.81,54271.419999999991,29646.61,3261.12,6522.24,53,3261.12,null,19509.349999999999,39481.299999999996,58990.649999999994,1170.56,2368.87,3539.43,195.09,394.80999999999995,589.9,195.09,394.80999999999995,589.9,0,0,0,17948.609999999997,36322.81,54271.419999999991,29646.61,3261.12,6522.24,3261.12,null,0,0,0,0,0,0,0,0,0,0,0,0,0,0,0,0,0,0,0,0,0,0,"2022-08-01",1,{"$error":"#REF!"},19509.349999999999,39481.300000000003,{"$error":"#REF!"},{"$error":"#REF!"},{"$error":"#REF!"},{"$error":"#REF!"},{"$error":"#REF!"},{"$error":"#REF!"},{"$error":"#REF!"},{"$error":"#REF!"},{"$error":"#REF!"},{"$error":"#REF!"},{"$error":"#REF!"},{"$error":"#REF!"},{"$error":"#REF!"},null,{"$error":"#REF!"},{"$error":"#REF!"},{"$error":"#REF!"},{"$error":"#REF!"},{"$error":"#REF!"},{"$error":"#REF!"},{"$error":"#REF!"},{"$error":"#REF!"},{"$error":"#REF!"},{"$error":"#REF!"},null,{"$error":"#REF!"},{"$error":"#REF!"},{"$error":"#REF!"},{"$error":"#REF!"},{"$error":"#REF!"},{"$error":"#REF!"},{"$error":"#REF!"},{"$error":"#REF!"},{"$error":"#REF!"},{"$error":"#REF!"},null,0,0,0,0,null,null,null,0,0,0,0]
[85,14710,"2022/0305442-8","2022-09-22","Paga em FEV-2023 - 2ª remessa","2023-02-01","SIM",2,"MS 4.151/DF","1995-07-21","1999-02-12","Mandado de Segurança 4.151/DF","2016/0143373-6","2022-08-03","UNIÃO","Administrativo - Servidor Público Civil - Reajustes de Remuneração, Proventos ou Pensão","Alimentar","Ivone de Freitas Ferreira Araújo","043.708.428-08","Servidor Público Civil Ativo","Diferença de remuneração - 3,17%","Ministério da Fazenda",6,"Mota & Advogados Associados","03.996.810/0001-38",1,"Mauro Menezes e Advogados","32.901.423/0001-79",1,"Caputo, Bastos e Serra Advogados","12.291.813/0001-67",0," x x x "," x x x ","Dedução de Honorários Contratuais","Não","Não","Não","-","-","Não informada","Não Informada","Não",19464.25,40544.980000000003,60009.23,1167.8499999999999,2432.7000000000003,3600.55,194.64,405.45000000000005,600.09,194.64,405.45000000000005,600.09,0,0,0,17907.120000000003,37301.380000000005,55208.500000000007,31231.79,3435.49,6870.98,53,3435.49,null,19464.250000000004,40544.98000000001,60009.23000000001,1167.8499999999999,2432.7000000000003,3600.55,194.64,405.45000000000005,600.09,194.64,405.45000000000005,600.09,0,0,0,17907.120000000003,37301.380000000005,55208.500000000007,31231.79,3435.49,6870.98,3435.49,null,-3.637978807091713E-12,-7.2759576141834259E-12,-7.2759576141834259E-12,0,0,0,0,0,0,0,0,0,0,0,0,0,0,0,0,0,0,0,"2022-09-01",1,{"$error":"#REF!"},19464.25,40544.980000000003,{"$error":"#REF!"},{"$error":"#REF!"},{"$error":"#REF!"},{"$error":"#REF!"},{"$error":"#REF!"},{"$error":"#REF!"},{"$error":"#REF!"},{"$error":"#REF!"},{"$error":"#REF!"},{"$error":"#REF!"},{"$error":"#REF!"},{"$error":"#REF!"},{"$error":"#REF!"},null,{"$error":"#REF!"},{"$error":"#REF!"},{"$error":"#REF!"},{"$error":"#REF!"},{"$error":"#REF!"},{"$error":"#REF!"},{"$error":"#REF!"},{"$error":"#REF!"},{"$error":"#REF!"},{"$error":"#REF!"},null,{"$error":"#REF!"},{"$error":"#REF!"},{"$error":"#REF!"},{"$error":"#REF!"},{"$error":"#REF!"},{"$error":"#REF!"},{"$error":"#REF!"},{"$error":"#REF!"},{"$error":"#REF!"},{"$error":"#REF!"},null,0,0,0,0,null,null,null,0,0,0,0]
[86,14724,"2022/0306573-8","2022-09-23","Paga em FEV-2023 - 2ª remessa","2023-02-01","SIM",2,"MS 4.151/DF","1995-07-21","1999-02-12","Mandado de Segurança 4.151/DF","2016/0143377-3","2022-04-18","UNIÃO","Administrativo - Servidor Público Civil - Reajustes de Remuneração, Proventos ou Pensão","Alimentar","Ivani Belizario","017.368.888-89","Servidor Público Civil Ativo","Diferença de remuneração - 3,17%","Ministério da Fazenda",6,"Mota & Advogados Associados","03.996.810/0001-38",1,"Mauro Menezes e Advogados","32.901.423/0001-79",1,"Caputo, Bastos e Serra Advogados","12.291.813/0001-67",0," x x x "," x x x ","Dedução de Honorários Contratuais","Não","Não","Não","-","-","Não informada","Não Informada","Não",23108.38,43374.79,66483.17,1386.5,2602.4899999999998,3988.99,231.08,433.75,664.83,231.08,433.75,664.83,0,0,0,21259.719999999998,39904.800000000003,61164.52,31102.13,3421.23,6842.46,53,3421.23,null,23108.379999999997,43374.79,66483.17,1386.5,2602.4899999999998,3988.99,231.08,433.75,664.83,231.08,433.75,664.83,0,0,0,21259.719999999998,39904.800000000003,61164.52,31102.13,3421.23,6842.46,3421.23,null,3.637978807091713E-12,0,0,0,0,0,0,0,0,0,0,0,0,0,0,0,0,0,0,0,0,0,"2022-09-01",1,{"$error":"#REF!"},23108.38,43374.79,{"$error":"#REF!"},{"$error":"#REF!"},{"$error":"#REF!"},{"$error":"#REF!"},{"$error":"#REF!"},{"$error":"#REF!"},{"$error":"#REF!"},{"$error":"#REF!"},{"$error":"#REF!"},{"$error":"#REF!"},{"$error":"#REF!"},{"$error":"#REF!"},{"$error":"#REF!"},null,{"$error":"#REF!"},{"$error":"#REF!"},{"$error":"#REF!"},{"$error":"#REF!"},{"$error":"#REF!"},{"$error":"#REF!"},{"$error":"#REF!"},{"$error":"#REF!"},{"$error":"#REF!"},{"$error":"#REF!"},null,{"$error":"#REF!"},{"$error":"#REF!"},{"$error":"#REF!"},{"$error":"#REF!"},{"$error":"#REF!"},{"$error":"#REF!"},{"$error":"#REF!"},{"$error":"#REF!"},{"$error":"#REF!"},{"$error":"#REF!"},null,0,0,0,0,null,null,null,0,0,0,0]
[87,14922,"2022/0344764-6","2022-10-27","Paga em FEV-2023 - 2ª remessa","2023-02-01","SIM",2,"MS 4.151/DF","1995-07-21","1999-02-12","Mandado de Segurança 4.151/DF","2016/0130521-6","2022-08-03","UNIÃO","Administrativo - Servidor Público Civil - Reajustes de Remuneração, Proventos ou Pensão","Alimentar","Genesio Jose Klein","377.085.629-53","Servidor Público Civil Ativo","Diferença de remuneração - 3,17%","Ministério da Fazenda",6,"Mota & Advogados Associados","03.996.810/0001-38",1,"Mauro Menezes e Advogados","32.901.423/0001-79",1,"Caputo, Bastos e Serra Advogados","12.291.813/0001-67",0," x x x "," x x x ","Dedução de Honorários Contratuais","Não","Não","Não","-","-","Não informada","Não Informada","Não",23465.57,42452.04,65917.61,1407.93,2547.12,3955.05,234.65,424.52,659.17,234.65,424.52,659.17,0,0,0,21588.34,39055.879999999997,60644.22,29161.18,3207.72,6415.44,53,3207.72,null,23465.57,42452.04,65917.61,1407.93,2547.12,3955.05,234.65,424.52,659.17,234.65,424.52,659.17,0,0,0,21588.34,39055.879999999997,60644.22,29161.18,3207.72,6415.44,3207.72,null,0,0,0,0,0,0,0,0,0,0,0,0,0,0,0,0,0,0,0,0,0,0,"2022-10-01",1,{"$error":"#REF!"},23465.57,42452.04,{"$error":"#REF!"},{"$error":"#REF!"},{"$error":"#REF!"},{"$error":"#REF!"},{"$error":"#REF!"},{"$error":"#REF!"},{"$error":"#REF!"},{"$error":"#REF!"},{"$error":"#REF!"},{"$error":"#REF!"},{"$error":"#REF!"},{"$error":"#REF!"},{"$error":"#REF!"},null,{"$error":"#REF!"},{"$error":"#REF!"},{"$error":"#REF!"},{"$error":"#REF!"},{"$error":"#REF!"},{"$error":"#REF!"},{"$error":"#REF!"},{"$error":"#REF!"},{"$error":"#REF!"},{"$error":"#REF!"},null,{"$error":"#REF!"},{"$error":"#REF!"},{"$error":"#REF!"},{"$error":"#REF!"},{"$error":"#REF!"},{"$error":"#REF!"},{"$error":"#REF!"},{"$error":"#REF!"},{"$error":"#REF!"},{"$error":"#REF!"},null,0,0,0,0,null,null,null,0,0,0,0]
[88,14923,"2022/0344766-0","2022-10-25","Paga em FEV-2023 - 2ª remessa","2023-02-01","SIM",2,"MS 4.151/DF","1995-07-21","1999-02-12","Mandado de Segurança 4.151/DF","2016/0130521-6","2022-08-03","UNIÃO","Administrativo - Servidor Público Civil - Reajustes de Remuneração, Proventos ou Pensão","Alimentar","Gentil Aparecido de Oliveira","289.006.006-30","Servidor Público Civil Ativo","Diferença de remuneração - 3,17%","Ministério da Fazenda",6,"Mota & Advogados Associados","03.996.810/0001-38",1,"Mauro Menezes e Advogados","32.901.423/0001-79",1,"Caputo, Bastos e Serra Advogados","12.291.813/0001-67",0," x x x "," x x x ","Dedução de Honorários Contratuais","Não","Não","Não","-","-","Não informada","Não Informada","Não",25315.07,44956.480000000003,70271.55,1518.9,2697.39,4216.29,253.15,449.56,702.71,253.15,449.56,702.71,0,0,0,23289.87,41359.97,64649.84,30034.400000000001,3303.78,6607.56,53,3303.78,null,25315.07,44956.480000000003,70271.55,1518.9,2697.39,4216.29,253.15,449.56,702.71,253.15,449.56,702.71,0,0,0,23289.87,41359.97,64649.84,30034.400000000001,3303.78,6607.56,3303.78,null,0,0,0,0,0,0,0,0,0,0,0,0,0,0,0,0,0,0,0,0,0,0,"2022-10-01",1,{"$error":"#REF!"},25315.07,44956.480000000003,{"$error":"#REF!"},{"$error":"#REF!"},{"$error":"#REF!"},{"$error":"#REF!"},{"$error":"#REF!"},{"$error":"#REF!"},{"$error":"#REF!"},{"$error":"#REF!"},{"$error":"#REF!"},{"$error":"#REF!"},{"$error":"#REF!"},{"$error":"#REF!"},{"$error":"#REF!"},null,{"$error":"#REF!"},{"$error":"#REF!"},{"$error":"#REF!"},{"$error":"#REF!"},{"$error":"#REF!"},{"$error":"#REF!"},{"$error":"#REF!"},{"$error":"#REF!"},{"$error":"#REF!"},{"$error":"#REF!"},null,{"$error":"#REF!"},{"$error":"#REF!"},{"$error":"#REF!"},{"$error":"#REF!"},{"$error":"#REF!"},{"$error":"#REF!"},{"$error":"#REF!"},{"$error":"#REF!"},{"$error":"#REF!"},{"$error":"#REF!"},null,0,0,0,0,null,null,null,0,0,0,0]
[89,14521,"2022/0270363-6","2022-08-26","Paga em FEV-2023 - 3ª remessa","2023-02-01","SIM",3,"MS 6.318/DF","1999-04-30","2003-02-17","Mandado de Segurança 6.318/DF","2010/0014673-1","2020-11-23","UNIÃO","Administrativo - Servidor Público Civil - Reajustes de Remuneração, Proventos ou Pensão - Índice da URV Lei 8.880/1994","Alimentar","Luiz Eduardo Almeida Vieira Barbosa","032.166.558-90","Servidor Público Civil Ativo","Reajuste 3,17%","Ministério da Fazenda",5,"Teixeira e Lopes Advogados Associados Sociedade Simples","02.993.181/0001-20",3,"Mendes Plutarco Advocacia e Consultoria","17.171.343/0001-11",0," x x x "," x x x ",0," x x x "," x x x ","Dedução de Honorários Contratuais","Não","Não","Não","-","-","Não informada","Não Informada","Não",4718.75,6293.77,11459.37,235.93,337.03000000000003,572.96,141.56,202.21999999999997,343.78,0,0,0,0,0,0,4341.2599999999993,6201.37,10542.63,4718.75,519.05999999999995,1038.1199999999999,19,519.05999999999995,null,127.11,0,127.11,0,0,0,0,0,0,0,0,0,0,0,0,127.11,0,127.11,0,0,0,0,null,4591.6400000000003,6293.77,11332.26,235.93,337.03000000000003,572.96,141.56,202.21999999999997,343.78,0,0,0,0,0,0,4214.1499999999996,6201.37,10415.519999999999,4591.6400000000003,519.05999999999995,1038.1199999999999,519.05999999999995,"2022-08-01",1,{"$error":"#REF!"},4405.93,6293.77,{"$error":"#REF!"},{"$error":"#REF!"},{"$error":"#REF!"},{"$error":"#REF!"},{"$error":"#REF!"},{"$error":"#REF!"},{"$error":"#REF!"},{"$error":"#REF!"},{"$error":"#REF!"},{"$error":"#REF!"},{"$error":"#REF!"},{"$error":"#REF!"},{"$error":"#REF!"},null,{"$error":"#REF!"},0,0,{"$error":"#REF!"},{"$error":"#REF!"},{"$error":"#REF!"},0,0,0,0,null,{"$error":"#REF!"},{"$error":"#REF!"},{"$error":"#REF!"},{"$error":"#REF!"},{"$error":"#REF!"},{"$error":"#REF!"},{"$error":"#REF!"},{"$error":"#REF!"},{"$error":"#REF!"},{"$error":"#REF!"},null,0,0,0,0,null,null,null,0,0,0,0]
[90,14829,"2022/0311381-9","2022-09-27","Paga em FEV-2023 - 3ª remessa","2023-02-01","SIM",3,"MS 4.146/DF","1995-07-17","1999-10-15","Mandado de Segurança 4.146/DF","2011/0233277-6","2020-06-10","UNIÃO","Administrativo - Servidor Público Civil - Reajustes de Remuneração, Proventos ou Pensão","Alimentar","Maria do Socorro Palmeira de Queiroz","278.554.495-15","Servidor Público Civil Ativo","Reajuste  3,17% - Lei 8.880/94","Ministério da Fazenda",15,"Mota & Advogados Associados","03.996.810/0001-38",0," x x x ","x x x",0," x x x "," x x x ",0," x x x "," x x x ","Dedução de Honorários Contratuais","Não","Não","Não","-","-","Não informada","Não Informada","Não",2523.54,8822.4699999999993,12075.619999999999,378.53,1432.81,1811.34,0,0,0,0,0,0,0,0,0,2145.0100000000002,8119.2699999999986,10264.279999999999,2523.54,277.58,555.16,81,277.58,null,239.06,0,239.06,0,0,0,0,0,0,0,0,0,0,0,0,239.06,0,239.06,0,0,0,0,null,2284.48,8822.4699999999993,11836.56,378.53,1432.81,1811.34,0,0,0,0,0,0,0,0,0,1905.9500000000003,8119.2699999999986,10025.219999999999,2284.48,277.58,555.16,277.58,"2022-09-01",1,{"$error":"#REF!"},2330.79,8822.4699999999993,{"$error":"#REF!"},{"$error":"#REF!"},{"$error":"#REF!"},{"$error":"#REF!"},{"$error":"#REF!"},{"$error":"#REF!"},{"$error":"#REF!"},{"$error":"#REF!"},{"$error":"#REF!"},{"$error":"#REF!"},{"$error":"#REF!"},{"$error":"#REF!"},{"$error":"#REF!"},null,{"$error":"#REF!"},0,{"$error":"#REF!"},{"$error":"#REF!"},{"$error":"#REF!"},{"$error":"#REF!"},0,0,0,0,null,{"$error":"#REF!"},{"$error":"#REF!"},{"$error":"#REF!"},{"$error":"#REF!"},{"$error":"#REF!"},{"$error":"#REF!"},{"$error":"#REF!"},{"$error":"#REF!"},{"$error":"#REF!"},{"$error":"#REF!"},null,0,0,0,0,null,null,null,0,0,0,0]
[91,14728,"2022/0306687-4","2022-09-23","Paga em FEV-2023 - 4ª remessa","2023-02-01","NÃO",4,"MS 4.151/DF","1995-07-21","1999-02-12","Mandado de Segurança 4.151/DF","2016/0143377-3","2022-04-18","UNIÃO","Administrativo - Servidor Público Civil - Reajustes de Remuneração, Proventos ou Pensão","Alimentar","Ivanilo dos Santos Borges","402.020.387-34","Servidor Público Civil Ativo","Diferença de remuneração - 3,17%","Ministério da Fazenda",6,"Mota & Advogados Associados","03.996.810/0001-38",1,"Mauro Menezes e Advogados","32.901.423/0001-79",1,"Caputo, Bastos e Serra Advogados","12.291.813/0001-67",0," x x x "," x x x ","Dedução de Honorários Contratuais","Não","Não","Não","-","-","Não informada","Não Informada","Não",22726.52,42789.67,65516.189999999995,1363.59,2567.38,3930.97,227.26,427.9,655.16,227.26,427.9,655.16,0,0,0,20908.410000000003,39366.489999999983,60274.899999999987,31009.19,3411.01,6822.02,53,3411.01,null,0,0,0,0,0,0,0,0,0,0,0,0,0,0,0,0,0,0,0,0,0,0,null,22726.52,42789.67,65516.189999999995,1363.59,2567.38,3930.97,227.26,427.9,655.16,227.26,427.9,655.16,0,0,0,20908.410000000003,39366.489999999983,60274.899999999987,31009.19,3411.01,6822.02,3411.01,"2022-09-01",1,{"$error":"#REF!"},22726.52,42789.67,{"$error":"#REF!"},{"$error":"#REF!"},{"$error":"#REF!"},{"$error":"#REF!"},{"$error":"#REF!"},{"$error":"#REF!"},{"$error":"#REF!"},{"$error":"#REF!"},{"$error":"#REF!"},{"$error":"#REF!"},{"$error":"#REF!"},{"$error":"#REF!"},{"$error":"#REF!"},null,0,0,0,0,0,{"$error":"#REF!"},0,0,0,0,null,{"$error":"#REF!"},{"$error":"#REF!"},{"$error":"#REF!"},{"$error":"#REF!"},0,{"$error":"#REF!"},{"$error":"#REF!"},{"$error":"#REF!"},{"$error":"#REF!"},{"$error":"#REF!"},null,0,0,0,0,null,null,null,0,0,0,0]
[92,14784,"2022/0309564-0","2022-09-26","Paga em FEV-2023 - 4ª remessa","2023-02-01","NÃO",4,"AR 1.169/CE","1999-10-18","2004-06-07","Ação Rescisória 1.169/CE","2009/0056219-4","2022-08-19","Instituto Nacional do Seguro Social – INSS","Administrativo - Servidor Público Civil - Sistema Remuneratório e Benefícios","Alimentar","Joana de Oliveira","073.327.853-15","Servidor Público Civil Ativo","Anuênios","Instituto Nacional do Seguro Social - INSS",20,"Glayddes Sindeaux Advogados","17.291.820/0001-82",0," x x x ","x x x",0," x x x "," x x x ",0," x x x "," x x x ","Dedução de Honorários Contratuais","Não","Não","Não","-","-","Não informada","Não Informada","Não",4611.4000000000005,8762.17,14030.73,922.28,1883.86,2806.14,0,0,0,0,0,0,0,0,0,3689.1200000000008,7535.4699999999993,11224.59,4611.4000000000005,507.25,1014.5,60,507.25,null,0,0,0,0,0,0,0,0,0,0,0,0,0,0,0,0,0,0,0,0,0,0,null,4611.4000000000005,8762.17,14030.73,922.28,1883.86,2806.14,0,0,0,0,0,0,0,0,0,3689.1200000000008,7535.4699999999993,11224.59,4611.4000000000005,507.25,1014.5,507.25,"2022-09-01",1,{"$error":"#REF!"},4289.68,8762.17,{"$error":"#REF!"},{"$error":"#REF!"},{"$error":"#REF!"},{"$error":"#REF!"},{"$error":"#REF!"},{"$error":"#REF!"},{"$error":"#REF!"},{"$error":"#REF!"},{"$error":"#REF!"},{"$error":"#REF!"},{"$error":"#REF!"},{"$error":"#REF!"},{"$error":"#REF!"},null,0,0,0,0,0,{"$error":"#REF!"},0,0,0,0,null,{"$error":"#REF!"},{"$error":"#REF!"},0,0,0,{"$error":"#REF!"},{"$error":"#REF!"},{"$error":"#REF!"},{"$error":"#REF!"},{"$error":"#REF!"},null,0,0,0,0,null,null,null,0,0,0,0]
[93,14809,"2022/0309659-7","2022-09-27","Paga em FEV-2023 - 4ª remessa","2023-02-01","NÃO",4,"AR 1.169/CE","1999-10-18","2004-06-07","Ação Rescisória 1.169/CE","2009/0055210-0","2022-06-14","Instituto Nacional do Seguro Social – INSS","Administrativo - Servidor Público Civil - Sistema Remuneratório e Benefícios","Alimentar","Ireuda Firmino de Oliveira","166.572.333-53","Servidor Público Civil Ativo","Anuênios","Instituto Nacional do Seguro Social - INSS",10,"Glayddes Sindeaux Advogados","17.291.820/0001-82",0," x x x ","x x x",0," x x x "," x x x ",0," x x x "," x x x ","Dedução de Honorários Contratuais","Não","Não","Não","-","-","Não informada","Não Informada","Não",3469.25,3866.0299999999997,7655.0000000000009,346.92,418.58,765.5,0,0,0,0,0,0,0,0,0,3122.33,3767.170000000001,6889.5000000000009,3469.25,381.61,763.22,47,381.61,null,0,0,0,0,0,0,0,0,0,0,0,0,0,0,0,0,0,0,0,0,0,0,null,3469.25,3866.0299999999997,7655.0000000000009,346.92,418.58,765.5,0,0,0,0,0,0,0,0,0,3122.33,3767.170000000001,6889.5000000000009,3469.25,381.61,763.22,381.61,"2022-09-01",1,{"$error":"#REF!"},3204.26,3866.03,{"$error":"#REF!"},{"$error":"#REF!"},{"$error":"#REF!"},{"$error":"#REF!"},{"$error":"#REF!"},{"$error":"#REF!"},{"$error":"#REF!"},{"$error":"#REF!"},{"$error":"#REF!"},{"$error":"#REF!"},{"$error":"#REF!"},{"$error":"#REF!"},{"$error":"#REF!"},null,0,0,0,0,0,{"$error":"#REF!"},0,0,0,0,null,{"$error":"#REF!"},{"$error":"#REF!"},0,0,0,{"$error":"#REF!"},{"$error":"#REF!"},{"$error":"#REF!"},{"$error":"#REF!"},{"$error":"#REF!"},null,0,0,0,0,null,null,null,0,0,0,0]
[94,14810,"2022/0309661-3","2022-09-27","Paga em FEV-2023 - 4ª remessa","2023-02-01","NÃO",4,"MS 4.151/DF","1995-07-21","1999-02-12","Mandado de Segurança 4.151/DF","2016/0164353-4","2022-08-03","UNIÃO","Administrativo - Servidor Público Civil - Reajustes de Remuneração, Proventos ou Pensão","Alimentar","Paulo Hidenobu Koja","992.675.198-91","Servidor Público Civil Ativo","Diferença de remuneração - 3,17%","Ministério da Fazenda",6,"Mota & Advogados Associados","03.996.810/0001-38",1,"Mauro Menezes e Advogados","32.901.423/0001-79",1,"Caputo, Bastos e Serra Advogados","12.291.813/0001-67",0," x x x "," x x x ","Dedução de Honorários Contratuais","Não","Não","Não","-","-","Não informada","Não Informada","Não",22006.79,40978.1,62984.89,1320.4,2458.69,3779.09,220.06,409.78000000000003,629.84,220.06,409.78000000000003,629.84,0,0,0,20246.269999999997,37699.850000000013,57946.12000000001,29275.77,3220.33,6440.66,53,3220.33,null,0,0,0,0,0,0,0,0,0,0,0,0,0,0,0,0,0,0,0,0,0,0,null,22006.79,40978.1,62984.89,1320.4,2458.69,3779.09,220.06,409.78000000000003,629.84,220.06,409.78000000000003,629.84,0,0,0,20246.269999999997,37699.850000000013,57946.12000000001,29275.77,3220.33,6440.66,3220.33,"2022-09-01",1,{"$error":"#REF!"},22006.79,40978.1,{"$error":"#REF!"},{"$error":"#REF!"},{"$error":"#REF!"},{"$error":"#REF!"},{"$error":"#REF!"},{"$error":"#REF!"},{"$error":"#REF!"},{"$error":"#REF!"},{"$error":"#REF!"},{"$error":"#REF!"},{"$error":"#REF!"},{"$error":"#REF!"},{"$error":"#REF!"},null,0,0,0,0,0,{"$error":"#REF!"},0,0,0,0,null,{"$error":"#REF!"},{"$error":"#REF!"},{"$error":"#REF!"},{"$error":"#REF!"},0,{"$error":"#REF!"},{"$error":"#REF!"},{"$error":"#REF!"},{"$error":"#REF!"},{"$error":"#REF!"},null,0,0,0,0,null,null,null,0,0,0,0]
[95,14811,"2022/0309662-5","2022-09-27","Paga em FEV-2023 - 4ª remessa","2023-02-01","NÃO",4,"MS 4.151/DF","1995-07-21","1999-02-12","Mandado de Segurança 4.151/DF","2016/0164353-4","2022-08-03","UNIÃO","Administrativo - Servidor Público Civil - Reajustes de Remuneração, Proventos ou Pensão","Alimentar","Paulo Issoo Takeushi","011.221.358-82","Servidor Público Civil Ativo","Diferença de remuneração - 3,17%","Ministério da Fazenda",6,"Mota & Advogados Associados","03.996.810/0001-38",1,"Mauro Menezes e Advogados","32.901.423/0001-79",1,"Caputo, Bastos e Serra Advogados","12.291.813/0001-67",0," x x x "," x x x ","Dedução de Honorários Contratuais","Não","Não","Não","-","-","Não informada","Não Informada","Não",21924.55,41488.53,63413.08,1315.47,2489.3100000000004,3804.78,219.24,414.89,634.13,219.24,414.89,634.13,0,0,0,20170.599999999995,38169.440000000017,58340.040000000008,30154.29,3316.97,6633.94,53,3316.97,null,0,0,0,0,0,0,0,0,0,0,0,0,0,0,0,0,0,0,0,0,0,0,null,21924.55,41488.53,63413.08,1315.47,2489.3100000000004,3804.78,219.24,414.89,634.13,219.24,414.89,634.13,0,0,0,20170.599999999995,38169.440000000017,58340.040000000008,30154.29,3316.97,6633.94,3316.97,"2022-09-01",1,{"$error":"#REF!"},21924.55,41488.53,{"$error":"#REF!"},{"$error":"#REF!"},{"$error":"#REF!"},{"$error":"#REF!"},{"$error":"#REF!"},{"$error":"#REF!"},{"$error":"#REF!"},{"$error":"#REF!"},{"$error":"#REF!"},{"$error":"#REF!"},{"$error":"#REF!"},{"$error":"#REF!"},{"$error":"#REF!"},null,0,0,0,0,0,{"$error":"#REF!"},0,0,0,0,null,{"$error":"#REF!"},{"$error":"#REF!"},{"$error":"#REF!"},{"$error":"#REF!"},0,{"$error":"#REF!"},{"$error":"#REF!"},{"$error":"#REF!"},{"$error":"#REF!"},{"$error":"#REF!"},null,0,0,0,0,null,null,null,0,0,0,0]
[96,14812,"2022/0310510-0","2022-09-27","Paga em FEV-2023 - 4ª remessa","2023-02-01","NÃO",4,"MS 27.385/DF","2021-03-18","2021-11-24","Mandado de Segurança 27.385/DF","2022/0020707-8","2022-08-22","UNIÃO","Administrativo - Militar - Regime - Anistia Política","Comum","Vilma Melo Freitas","200.519.564-20","Pensionista de Anistiado Político Militar","Anistia Política - Reparação Econômica","Ministério da Mulher, da Família e dos Direitos Humanos",15,"Meneses Advogados e Consultores Associados","02.981.153/0001-92",0," x x x ","x x x",0," x x x "," x x x ",0," x x x "," x x x ","Dedução de Honorários Contratuais","Não","Não","Não","-","-","Não informada","Não Informada","SIM",60780.869999999995,1060.42,61920.819999999992,9117.1299999999992,170.9900000000016,9288.1200000000008,0,0,0,0,0,0,0,0,0,51663.74,968.95999999999185,52632.69999999999,0,0,0,0,0,null,0,0,0,0,0,0,0,0,0,0,0,0,0,0,0,0,0,0,0,0,0,0,null,60780.869999999995,1060.42,61920.819999999992,9117.1299999999992,170.9900000000016,9288.1200000000008,0,0,0,0,0,0,0,0,0,51663.74,968.95999999999185,52632.69999999999,0,0,0,0,"2022-09-01",1,{"$error":"#REF!"},56540.35,1060.42,{"$error":"#REF!"},{"$error":"#REF!"},{"$error":"#REF!"},{"$error":"#REF!"},{"$error":"#REF!"},{"$error":"#REF!"},{"$error":"#REF!"},{"$error":"#REF!"},0,0,0,{"$error":"#REF!"},{"$error":"#REF!"},null,0,0,0,0,0,{"$error":"#REF!"},0,0,0,0,null,{"$error":"#REF!"},{"$error":"#REF!"},0,0,0,{"$error":"#REF!"},0,0,0,0,null,0,0,0,0,null,null,null,0,0,0,0]
[97,14813,"2022/0310528-5","2022-09-27","Paga em FEV-2023 - 4ª remessa","2023-02-01","NÃO",4,"MS 4.151/DF","1995-07-21","1999-02-12","Mandado de Segurança 4.151/DF","2016/0164413-9","2022-08-03","UNIÃO","Administrativo - Servidor Público Civil - Reajustes de Remuneração, Proventos ou Pensão","Alimentar","Rodolfo Fonseca dos Santos","834.982.068-34","Servidor Público Civil Ativo","Diferença de remuneração - 3,17%","Ministério da Fazenda",9,"Mota & Advogados Associados","03.996.810/0001-38",2,"Mauro Menezes e Advogados","32.901.423/0001-79",1,"Caputo, Bastos e Serra Advogados","12.291.813/0001-67",0," x x x "," x x x ","Dedução de Honorários Contratuais","Não","Não","Não","-","-","Não informada","Não Informada","Não",21478.14,41142.14,62620.28,1933.03,3702.79,5635.82,429.56,822.84000000000015,1252.4000000000001,214.78,411.42000000000007,626.20000000000005,0,0,0,18900.77,36205.089999999997,55105.86,29949.439999999999,3294.43,6588.86,53,3294.43,null,0,0,0,0,0,0,0,0,0,0,0,0,0,0,0,0,0,0,0,0,0,0,null,21478.14,41142.14,62620.28,1933.03,3702.79,5635.82,429.56,822.84000000000015,1252.4000000000001,214.78,411.42000000000007,626.20000000000005,0,0,0,18900.77,36205.089999999997,55105.86,29949.439999999999,3294.43,6588.86,3294.43,"2022-09-01",1,{"$error":"#REF!"},21478.14,41142.14,{"$error":"#REF!"},{"$error":"#REF!"},{"$error":"#REF!"},{"$error":"#REF!"},{"$error":"#REF!"},{"$error":"#REF!"},{"$error":"#REF!"},{"$error":"#REF!"},{"$error":"#REF!"},{"$error":"#REF!"},{"$error":"#REF!"},{"$error":"#REF!"},{"$error":"#REF!"},null,0,0,0,0,0,{"$error":"#REF!"},0,0,0,0,null,{"$error":"#REF!"},{"$error":"#REF!"},{"$error":"#REF!"},{"$error":"#REF!"},0,{"$error":"#REF!"},{"$error":"#REF!"},{"$error":"#REF!"},{"$error":"#REF!"},{"$error":"#REF!"},null,0,0,0,0,null,null,null,0,0,0,0]
[98,14814,"2022/0310530-1","2022-09-27","Paga em FEV-2023 - 4ª remessa","2023-02-01","NÃO",4,"MS 4.151/DF","1995-07-21","1999-02-12","Mandado de Segurança 4.151/DF","2016/0164413-9","2022-08-03","UNIÃO","Administrativo - Servidor Público Civil - Reajustes de Remuneração, Proventos ou Pensão","Alimentar","Roberto Romano Pinto","157.812.087-04","Servidor Público Civil Ativo","Diferença de remuneração - 3,17%","Ministério da Fazenda",6,"Mota & Advogados Associados","03.996.810/0001-38",1,"Mauro Menezes e Advogados","32.901.423/0001-79",1,"Caputo, Bastos e Serra Advogados","12.291.813/0001-67",0," x x x "," x x x ","Dedução de Honorários Contratuais","Não","Não","Não","-","-","Não informada","Não Informada","Não",25596.26,46016.87,71613.13,1535.77,2761.0099999999998,4296.78,255.96,460.16999999999996,716.13,255.96,460.16999999999996,716.13,0,0,0,23548.57,42335.519999999997,65884.09,31590.639999999999,3474.97,6949.94,53,3474.97,null,0,0,0,0,0,0,0,0,0,0,0,0,0,0,0,0,0,0,0,0,0,0,null,25596.26,46016.87,71613.13,1535.77,2761.0099999999998,4296.78,255.96,460.16999999999996,716.13,255.96,460.16999999999996,716.13,0,0,0,23548.57,42335.519999999997,65884.09,31590.639999999999,3474.97,6949.94,3474.97,"2022-09-01",1,{"$error":"#REF!"},25596.26,46016.87,{"$error":"#REF!"},{"$error":"#REF!"},{"$error":"#REF!"},{"$error":"#REF!"},{"$error":"#REF!"},{"$error":"#REF!"},{"$error":"#REF!"},{"$error":"#REF!"},{"$error":"#REF!"},{"$error":"#REF!"},{"$error":"#REF!"},{"$error":"#REF!"},{"$error":"#REF!"},null,0,0,0,0,0,{"$error":"#REF!"},0,0,0,0,null,{"$error":"#REF!"},{"$error":"#REF!"},{"$error":"#REF!"},{"$error":"#REF!"},0,{"$error":"#REF!"},{"$error":"#REF!"},{"$error":"#REF!"},{"$error":"#REF!"},{"$error":"#REF!"},null,0,0,0,0,null,null,null,0,0,0,0]
[99,14816,"2022/0310535-0","2022-09-27","Paga em FEV-2023 - 4ª remessa","2023-02-01","NÃO",4,"MS 4.151/DF","1995-07-21","1999-02-12","Mandado de Segurança 4.151/DF","2016/0164413-9","2022-08-03","UNIÃO","Administrativo - Servidor Público Civil - Reajustes de Remuneração, Proventos ou Pensão","Alimentar","Robson Guedes Lassarot","371.890.427-68","Servidor Público Civil Ativo","Diferença de remuneração - 3,17%","Ministério da Fazenda",6,"Mota & Advogados Associados","03.996.810/0001-38",1,"Mauro Menezes e Advogados","32.901.423/0001-79",1,"Caputo, Bastos e Serra Advogados","12.291.813/0001-67",0," x x x "," x x x ","Dedução de Honorários Contratuais","Não","Não","Não","-","-","Não informada","Não Informada","Não",19791.080000000002,39612.049999999996,59403.13,1187.46,2376.7199999999998,3564.18,197.91,396.12,594.03,197.91,396.12,594.03,0,0,0,18207.800000000003,36443.089999999997,54650.89,30131.8,3314.49,6628.98,53,3314.49,null,0,0,0,0,0,0,0,0,0,0,0,0,0,0,0,0,0,0,0,0,0,0,null,19791.080000000002,39612.049999999996,59403.13,1187.46,2376.7199999999998,3564.18,197.91,396.12,594.03,197.91,396.12,594.03,0,0,0,18207.800000000003,36443.089999999997,54650.89,30131.8,3314.49,6628.98,3314.49,"2022-09-01",1,{"$error":"#REF!"},19791.080000000002,39612.050000000003,{"$error":"#REF!"},{"$error":"#REF!"},{"$error":"#REF!"},{"$error":"#REF!"},{"$error":"#REF!"},{"$error":"#REF!"},{"$error":"#REF!"},{"$error":"#REF!"},{"$error":"#REF!"},{"$error":"#REF!"},{"$error":"#REF!"},{"$error":"#REF!"},{"$error":"#REF!"},null,0,0,0,0,0,{"$error":"#REF!"},0,0,0,0,null,{"$error":"#REF!"},{"$error":"#REF!"},{"$error":"#REF!"},{"$error":"#REF!"},0,{"$error":"#REF!"},{"$error":"#REF!"},{"$error":"#REF!"},{"$error":"#REF!"},{"$error":"#REF!"},null,0,0,0,0,null,null,null,0,0,0,0]
[100,14817,"2022/0310540-2","2022-09-27","Paga em FEV-2023 - 4ª remessa","2023-02-01","NÃO",4,"MS 4.151/DF","1995-07-21","1999-02-12","Mandado de Segurança 4.151/DF","2016/0164413-9","2022-08-03","UNIÃO","Administrativo - Servidor Público Civil - Reajustes de Remuneração, Proventos ou Pensão","Alimentar","Robson José do Couto","344.028.376-34","Servidor Público Civil Ativo","Diferença de remuneração - 3,17%","Ministério da Fazenda",6,"Mota & Advogados Associados","03.996.810/0001-38",1,"Mauro Menezes e Advogados","32.901.423/0001-79",1,"Caputo, Bastos e Serra Advogados","12.291.813/0001-67",0," x x x "," x x x ","Dedução de Honorários Contratuais","Não","Não","Não","-","-","Não informada","Não Informada","Não",25260.6,44670.15,69930.75,1515.63,2680.21,4195.84,252.6,446.69999999999993,699.3,252.6,446.69999999999993,699.3,0,0,0,23239.77,41096.539999999994,64336.31,29912.41,3290.36,6580.72,53,3290.36,null,0,0,0,0,0,0,0,0,0,0,0,0,0,0,0,0,0,0,0,0,0,0,null,25260.6,44670.15,69930.75,1515.63,2680.21,4195.84,252.6,446.69999999999993,699.3,252.6,446.69999999999993,699.3,0,0,0,23239.77,41096.539999999994,64336.31,29912.41,3290.36,6580.72,3290.36,"2022-09-01",1,{"$error":"#REF!"},25260.6,44670.15,{"$error":"#REF!"},{"$error":"#REF!"},{"$error":"#REF!"},{"$error":"#REF!"},{"$error":"#REF!"},{"$error":"#REF!"},{"$error":"#REF!"},{"$error":"#REF!"},{"$error":"#REF!"},{"$error":"#REF!"},{"$error":"#REF!"},{"$error":"#REF!"},{"$error":"#REF!"},null,0,0,0,0,0,{"$error":"#REF!"},0,0,0,0,null,{"$error":"#REF!"},{"$error":"#REF!"},{"$error":"#REF!"},{"$error":"#REF!"},0,{"$error":"#REF!"},{"$error":"#REF!"},{"$error":"#REF!"},{"$error":"#REF!"},{"$error":"#REF!"},null,0,0,0,0,null,null,null,0,0,0,0]
[101,14818,"2022/0310543-8","2022-09-27","Paga em FEV-2023 - 4ª remessa","2023-02-01","NÃO",4,"MS 4.151/DF","1995-07-21","1999-02-12","Mandado de Segurança 4.151/DF","2016/0164413-9","2022-08-03","UNIÃO","Administrativo - Servidor Público Civil - Reajustes de Remuneração, Proventos ou Pensão","Alimentar","Rocilda Venâncio Soares Calcada","402.558.248-15","Servidor Público Civil Inativo","Diferença de remuneração - 3,17%","Ministério da Fazenda",6,"Mota & Advogados Associados","03.996.810/0001-38",1,"Mauro Menezes e Advogados","32.901.423/0001-79",1,"Caputo, Bastos e Serra Advogados","12.291.813/0001-67",0," x x x "," x x x ","Dedução de Honorários Contratuais","Não","Não","Não","-","-","Não informada","Não Informada","Não",18117.810000000001,36634.449999999997,54752.259999999995,1087.06,2198.0700000000002,3285.13,181.17,366.35,547.52,181.17,366.35,547.52,0,0,0,16668.410000000003,33703.68,50372.090000000004,0,0,0,53,0,null,0,0,0,0,0,0,0,0,0,0,0,0,0,0,0,0,0,0,0,0,0,0,null,18117.810000000001,36634.449999999997,54752.259999999995,1087.06,2198.0700000000002,3285.13,181.17,366.35,547.52,181.17,366.35,547.52,0,0,0,16668.410000000003,33703.68,50372.090000000004,0,0,0,0,"2022-09-01",1,{"$error":"#REF!"},18117.810000000001,36634.449999999997,{"$error":"#REF!"},{"$error":"#REF!"},{"$error":"#REF!"},{"$error":"#REF!"},{"$error":"#REF!"},{"$error":"#REF!"},{"$error":"#REF!"},{"$error":"#REF!"},0,0,0,{"$error":"#REF!"},{"$error":"#REF!"},null,0,0,0,0,0,{"$error":"#REF!"},0,0,0,0,null,{"$error":"#REF!"},{"$error":"#REF!"},{"$error":"#REF!"},{"$error":"#REF!"},0,{"$error":"#REF!"},0,0,0,0,null,0,0,0,0,null,null,null,0,0,0,0]
[102,14819,"2022/0310546-3","2022-09-27","Paga em FEV-2023 - 4ª remessa","2023-02-01","NÃO",4,"MS 4.151/DF","1995-07-21","1999-02-12","Mandado de Segurança 4.151/DF","2016/0164413-9","2022-08-03","UNIÃO","Administrativo - Servidor Público Civil - Reajustes de Remuneração, Proventos ou Pensão","Alimentar","Roger Teixeira","329.161.679-00","Servidor Público Civil Ativo","Diferença de remuneração - 3,17%","Ministério da Fazenda",6,"Mota & Advogados Associados","03.996.810/0001-38",1,"Mauro Menezes e Advogados","32.901.423/0001-79",1,"Caputo, Bastos e Serra Advogados","12.291.813/0001-67",0," x x x "," x x x ","Dedução de Honorários Contratuais","Não","Não","Não","-","-","Não informada","Não Informada","Não",23559.64,42501.82,66061.459999999992,1413.57,2550.1099999999997,3963.68,235.59,425.02,660.61,235.59,425.02,660.61,0,0,0,21674.89,39101.669999999991,60776.55999999999,29270.41,3219.74,6439.48,53,3219.74,null,0,0,0,0,0,0,0,0,0,0,0,0,0,0,0,0,0,0,0,0,0,0,null,23559.64,42501.82,66061.459999999992,1413.57,2550.1099999999997,3963.68,235.59,425.02,660.61,235.59,425.02,660.61,0,0,0,21674.89,39101.669999999991,60776.55999999999,29270.41,3219.74,6439.48,3219.74,"2022-09-01",1,{"$error":"#REF!"},23559.64,42501.82,{"$error":"#REF!"},{"$error":"#REF!"},{"$error":"#REF!"},{"$error":"#REF!"},{"$error":"#REF!"},{"$error":"#REF!"},{"$error":"#REF!"},{"$error":"#REF!"},{"$error":"#REF!"},{"$error":"#REF!"},{"$error":"#REF!"},{"$error":"#REF!"},{"$error":"#REF!"},null,0,0,0,0,0,{"$error":"#REF!"},0,0,0,0,null,{"$error":"#REF!"},{"$error":"#REF!"},{"$error":"#REF!"},{"$error":"#REF!"},0,{"$error":"#REF!"},{"$error":"#REF!"},{"$error":"#REF!"},{"$error":"#REF!"},{"$error":"#REF!"},null,0,0,0,0,null,null,null,0,0,0,0]
[103,14820,"2022/0310560-4","2022-09-27","Paga em FEV-2023 - 4ª remessa","2023-02-01","NÃO",4,"MS 4.151/DF","1995-07-21","1999-02-12","Mandado de Segurança 4.151/DF","2016/0129401-5","2022-08-03","UNIÃO","Administrativo - Servidor Público Civil - Reajustes de Remuneração, Proventos ou Pensão","Alimentar","Célia Maria da Silva Luz","155.971.304-63","Servidor Público Civil Ativo","Diferença de remuneração - 3,17%","Ministério da Fazenda",6,"Mota & Advogados Associados","03.996.810/0001-38",1,"Mauro Menezes e Advogados","32.901.423/0001-79",1,"Caputo, Bastos e Serra Advogados","12.291.813/0001-67",0," x x x "," x x x ","Dedução de Honorários Contratuais","Não","Não","Não","-","-","Não informada","Não Informada","Não",19117.349999999999,40349.93,59467.28,1147.04,2420.9900000000002,3568.03,191.17,403.5,594.66999999999996,191.17,403.5,594.66999999999996,0,0,0,17587.97,37121.94,54709.91,31368.62,3450.54,6901.08,53,3450.54,null,0,0,0,0,0,0,0,0,0,0,0,0,0,0,0,0,0,0,0,0,0,0,null,19117.349999999999,40349.93,59467.28,1147.04,2420.9900000000002,3568.03,191.17,403.5,594.66999999999996,191.17,403.5,594.66999999999996,0,0,0,17587.97,37121.94,54709.91,31368.62,3450.54,6901.08,3450.54,"2022-09-01",1,{"$error":"#REF!"},19117.349999999999,40349.93,{"$error":"#REF!"},{"$error":"#REF!"},{"$error":"#REF!"},{"$error":"#REF!"},{"$error":"#REF!"},{"$error":"#REF!"},{"$error":"#REF!"},{"$error":"#REF!"},{"$error":"#REF!"},{"$error":"#REF!"},{"$error":"#REF!"},{"$error":"#REF!"},{"$error":"#REF!"},null,0,0,0,0,0,{"$error":"#REF!"},0,0,0,0,null,{"$error":"#REF!"},{"$error":"#REF!"},{"$error":"#REF!"},{"$error":"#REF!"},0,{"$error":"#REF!"},{"$error":"#REF!"},{"$error":"#REF!"},{"$error":"#REF!"},{"$error":"#REF!"},null,0,0,0,0,null,null,null,0,0,0,0]
[104,14821,"2022/0310591-9","2022-09-27","Paga em FEV-2023 - 4ª remessa","2023-02-01","NÃO",4,"MS 4.151/DF","1995-07-21","1999-02-12","Mandado de Segurança 4.151/DF","2016/0129401-5","2022-08-03","UNIÃO","Administrativo - Servidor Público Civil - Reajustes de Remuneração, Proventos ou Pensão","Alimentar","Célia Regina Elbert","446.681.987-49","Servidor Público Civil Ativo","Diferença de remuneração - 3,17%","Ministério da Fazenda",6,"Mota & Advogados Associados","03.996.810/0001-38",1,"Mauro Menezes e Advogados","32.901.423/0001-79",1,"Caputo, Bastos e Serra Advogados","12.291.813/0001-67",0," x x x "," x x x ","Dedução de Honorários Contratuais","Não","Não","Não","-","-","Não informada","Não Informada","Não",20228.32,39877.79,60106.11,1213.69,2392.67,3606.36,202.28,398.78,601.05999999999995,202.28,398.78,601.05999999999995,0,0,0,18610.070000000003,36687.56,55297.630000000005,29891.98,3288.11,6576.22,53,3288.11,null,0,0,0,0,0,0,0,0,0,0,0,0,0,0,0,0,0,0,0,0,0,0,null,20228.32,39877.79,60106.11,1213.69,2392.67,3606.36,202.28,398.78,601.05999999999995,202.28,398.78,601.05999999999995,0,0,0,18610.070000000003,36687.56,55297.630000000005,29891.98,3288.11,6576.22,3288.11,"2022-09-01",1,{"$error":"#REF!"},20228.32,39877.79,{"$error":"#REF!"},{"$error":"#REF!"},{"$error":"#REF!"},{"$error":"#REF!"},{"$error":"#REF!"},{"$error":"#REF!"},{"$error":"#REF!"},{"$error":"#REF!"},{"$error":"#REF!"},{"$error":"#REF!"},{"$error":"#REF!"},{"$error":"#REF!"},{"$error":"#REF!"},null,0,0,0,0,0,{"$error":"#REF!"},0,0,0,0,null,{"$error":"#REF!"},{"$error":"#REF!"},{"$error":"#REF!"},{"$error":"#REF!"},0,{"$error":"#REF!"},{"$error":"#REF!"},{"$error":"#REF!"},{"$error":"#REF!"},{"$error":"#REF!"},null,0,0,0,0,null,null,null,0,0,0,0]
[105,14822,"2022/0310597-0","2022-09-27","Paga em FEV-2023 - 4ª remessa","2023-02-01","NÃO",4,"MS 4.151/DF","1995-07-21","1999-02-12","Mandado de Segurança 4.151/DF","2016/0129401-5","2022-08-03","UNIÃO","Administrativo - Servidor Público Civil - Reajustes de Remuneração, Proventos ou Pensão","Alimentar","Célia Tiyomi Kanda Kawazoi","992.700.308-06","Servidor Público Civil Ativo","Diferença de remuneração - 3,17%","Ministério da Fazenda",9,"Mota & Advogados Associados","03.996.810/0001-38",2,"Mauro Menezes e Advogados","32.901.423/0001-79",1,"Caputo, Bastos e Serra Advogados","12.291.813/0001-67",0," x x x "," x x x ","Dedução de Honorários Contratuais","Não","Não","Não","-","-","Não informada","Não Informada","Não",23802.79,43377.33,67180.12,2142.25,3903.96,6046.21,476.05,867.55,1343.6,238.02,433.78,671.8,0,0,0,20946.47,38172.039999999994,59118.509999999995,30016.35,3301.79,6603.58,53,3301.79,null,0,0,0,0,0,0,0,0,0,0,0,0,0,0,0,0,0,0,0,0,0,0,null,23802.79,43377.33,67180.12,2142.25,3903.96,6046.21,476.05,867.55,1343.6,238.02,433.78,671.8,0,0,0,20946.47,38172.039999999994,59118.509999999995,30016.35,3301.79,6603.58,3301.79,"2022-09-01",1,{"$error":"#REF!"},23802.79,43377.33,{"$error":"#REF!"},{"$error":"#REF!"},{"$error":"#REF!"},{"$error":"#REF!"},{"$error":"#REF!"},{"$error":"#REF!"},{"$error":"#REF!"},{"$error":"#REF!"},{"$error":"#REF!"},{"$error":"#REF!"},{"$error":"#REF!"},{"$error":"#REF!"},{"$error":"#REF!"},null,0,0,0,0,0,{"$error":"#REF!"},0,0,0,0,null,{"$error":"#REF!"},{"$error":"#REF!"},{"$error":"#REF!"},{"$error":"#REF!"},0,{"$error":"#REF!"},{"$error":"#REF!"},{"$error":"#REF!"},{"$error":"#REF!"},{"$error":"#REF!"},null,0,0,0,0,null,null,null,0,0,0,0]
[106,14823,"2022/0310598-1","2022-09-27","Paga em FEV-2023 - 4ª remessa","2023-02-01","NÃO",4,"MS 4.151/DF","1995-07-21","1999-02-12","Mandado de Segurança 4.151/DF","2016/0129401-5","2022-08-03","UNIÃO","Administrativo - Servidor Público Civil - Reajustes de Remuneração, Proventos ou Pensão","Alimentar","Celina Rosa da Silva","002.674.338-83","Servidor Público Civil Ativo","Diferença de remuneração - 3,17%","Ministério da Fazenda",6,"Mota & Advogados Associados","03.996.810/0001-38",1,"Mauro Menezes e Advogados","32.901.423/0001-79",1,"Caputo, Bastos e Serra Advogados","12.291.813/0001-67",0," x x x "," x x x ","Dedução de Honorários Contratuais","Não","Não","Não","-","-","Não informada","Não Informada","Não",18542.849999999999,38249.67,56792.52,1112.57,2294.9800000000005,3407.55,185.42,382.5,567.91999999999996,185.42,382.5,567.91999999999996,0,0,0,17059.440000000002,35189.689999999995,52249.13,29268.51,3219.53,6439.06,53,3219.53,null,0,0,0,0,0,0,0,0,0,0,0,0,0,0,0,0,0,0,0,0,0,0,null,18542.849999999999,38249.67,56792.52,1112.57,2294.9800000000005,3407.55,185.42,382.5,567.91999999999996,185.42,382.5,567.91999999999996,0,0,0,17059.440000000002,35189.689999999995,52249.13,29268.51,3219.53,6439.06,3219.53,"2022-09-01",1,{"$error":"#REF!"},18542.849999999999,38249.67,{"$error":"#REF!"},{"$error":"#REF!"},{"$error":"#REF!"},{"$error":"#REF!"},{"$error":"#REF!"},{"$error":"#REF!"},{"$error":"#REF!"},{"$error":"#REF!"},{"$error":"#REF!"},{"$error":"#REF!"},{"$error":"#REF!"},{"$error":"#REF!"},{"$error":"#REF!"},null,0,0,0,0,0,{"$error":"#REF!"},0,0,0,0,null,{"$error":"#REF!"},{"$error":"#REF!"},{"$error":"#REF!"},{"$error":"#REF!"},0,{"$error":"#REF!"},{"$error":"#REF!"},{"$error":"#REF!"},{"$error":"#REF!"},{"$error":"#REF!"},null,0,0,0,0,null,null,null,0,0,0,0]
[107,14825,"2022/0310622-2","2022-09-27","Paga em FEV-2023 - 4ª remessa","2023-02-01","NÃO",4,"MS 4.151/DF","1995-07-21","1999-02-12","Mandado de Segurança 4.151/DF","2016/0129401-5","2022-08-03","UNIÃO","Administrativo - Servidor Público Civil - Reajustes de Remuneração, Proventos ou Pensão","Alimentar","Célia Maria Borges Maradei","969.085.058-04","Servidor Público Civil Ativo","Diferença de remuneração - 3,17%","Ministério da Fazenda",6,"Mota & Advogados Associados","03.996.810/0001-38",1,"Mauro Menezes e Advogados","32.901.423/0001-79",1,"Caputo, Bastos e Serra Advogados","12.291.813/0001-67",0," x x x "," x x x ","Dedução de Honorários Contratuais","Não","Não","Não","-","-","Não informada","Não Informada","Não",25165.55,44079.899999999994,69245.45,1509.93,2644.79,4154.72,251.65,440.80000000000007,692.45,251.65,440.80000000000007,692.45,0,0,0,23152.319999999996,40553.510000000009,63705.83,29248.32,3217.31,6434.62,53,3217.31,null,0,0,0,0,0,0,0,0,0,0,0,0,0,0,0,0,0,0,0,0,0,0,null,25165.55,44079.899999999994,69245.45,1509.93,2644.79,4154.72,251.65,440.80000000000007,692.45,251.65,440.80000000000007,692.45,0,0,0,23152.319999999996,40553.510000000009,63705.83,29248.32,3217.31,6434.62,3217.31,"2022-09-01",1,{"$error":"#REF!"},25165.55,44079.9,{"$error":"#REF!"},{"$error":"#REF!"},{"$error":"#REF!"},{"$error":"#REF!"},{"$error":"#REF!"},{"$error":"#REF!"},{"$error":"#REF!"},{"$error":"#REF!"},{"$error":"#REF!"},{"$error":"#REF!"},{"$error":"#REF!"},{"$error":"#REF!"},{"$error":"#REF!"},null,0,0,0,0,0,{"$error":"#REF!"},0,0,0,0,null,{"$error":"#REF!"},{"$error":"#REF!"},{"$error":"#REF!"},{"$error":"#REF!"},0,{"$error":"#REF!"},{"$error":"#REF!"},{"$error":"#REF!"},{"$error":"#REF!"},{"$error":"#REF!"},null,0,0,0,0,null,null,null,0,0,0,0]
[108,14826,"2022/0310633-5","2022-09-27","Paga em FEV-2023 - 4ª remessa","2023-02-01","NÃO",4,"MS 4.151/DF","1995-07-21","1999-02-12","Mandado de Segurança 4.151/DF","2016/0129401-5","2022-08-03","UNIÃO","Administrativo - Servidor Público Civil - Reajustes de Remuneração, Proventos ou Pensão","Alimentar","Célia Maria Policarpo Bernini","018.597.358-27","Servidor Público Civil Ativo","Diferença de remuneração - 3,17%","Ministério da Fazenda",6,"Mota & Advogados Associados","03.996.810/0001-38",1,"Mauro Menezes e Advogados","32.901.423/0001-79",1,"Caputo, Bastos e Serra Advogados","12.291.813/0001-67",0," x x x "," x x x ","Dedução de Honorários Contratuais","Não","Não","Não","-","-","Não informada","Não Informada","Não",18692.68,39226.339999999997,57919.02,1121.56,2353.58,3475.14,186.92,392.2700000000001,579.19000000000005,186.92,392.2700000000001,579.19000000000005,0,0,0,17197.280000000002,36088.219999999987,53285.499999999993,30368.46,3340.53,6681.06,53,3340.53,null,0,0,0,0,0,0,0,0,0,0,0,0,0,0,0,0,0,0,0,0,0,0,null,18692.68,39226.339999999997,57919.02,1121.56,2353.58,3475.14,186.92,392.2700000000001,579.19000000000005,186.92,392.2700000000001,579.19000000000005,0,0,0,17197.280000000002,36088.219999999987,53285.499999999993,30368.46,3340.53,6681.06,3340.53,"2022-09-01",1,{"$error":"#REF!"},18692.68,39226.339999999997,{"$error":"#REF!"},{"$error":"#REF!"},{"$error":"#REF!"},{"$error":"#REF!"},{"$error":"#REF!"},{"$error":"#REF!"},{"$error":"#REF!"},{"$error":"#REF!"},{"$error":"#REF!"},{"$error":"#REF!"},{"$error":"#REF!"},{"$error":"#REF!"},{"$error":"#REF!"},null,0,0,0,0,0,{"$error":"#REF!"},0,0,0,0,null,{"$error":"#REF!"},{"$error":"#REF!"},{"$error":"#REF!"},{"$error":"#REF!"},0,{"$error":"#REF!"},{"$error":"#REF!"},{"$error":"#REF!"},{"$error":"#REF!"},{"$error":"#REF!"},null,0,0,0,0,null,null,null,0,0,0,0]
[109,14828,"2022/0310642-4","2022-09-27","Paga em FEV-2023 - 4ª remessa","2023-02-01","NÃO",4,"MS 4.151/DF","1995-07-21","1999-02-12","Mandado de Segurança 4.151/DF","2016/0129401-5","2022-08-03","UNIÃO","Administrativo - Servidor Público Civil - Reajustes de Remuneração, Proventos ou Pensão","Alimentar","Célia Regina dos Santos Sanchez Prieto","244.851.798-34","Servidor Público Civil Ativo","Diferença de remuneração - 3,17%","Ministério da Fazenda",6,"Mota & Advogados Associados","03.996.810/0001-38",1,"Mauro Menezes e Advogados","32.901.423/0001-79",1,"Caputo, Bastos e Serra Advogados","12.291.813/0001-67",0," x x x "," x x x ","Dedução de Honorários Contratuais","Não","Não","Não","-","-","Não informada","Não Informada","Não",22250.69,41778.31,64029,1335.04,2506.6999999999998,3841.74,222.5,417.78999999999996,640.29,222.5,417.78999999999996,640.29,0,0,0,20470.649999999998,38436.03,58906.68,29936.12,3292.97,6585.94,53,3292.97,null,0,0,0,0,0,0,0,0,0,0,0,0,0,0,0,0,0,0,0,0,0,0,null,22250.69,41778.31,64029,1335.04,2506.6999999999998,3841.74,222.5,417.78999999999996,640.29,222.5,417.78999999999996,640.29,0,0,0,20470.649999999998,38436.03,58906.68,29936.12,3292.97,6585.94,3292.97,"2022-09-01",1,{"$error":"#REF!"},22250.69,41778.31,{"$error":"#REF!"},{"$error":"#REF!"},{"$error":"#REF!"},{"$error":"#REF!"},{"$error":"#REF!"},{"$error":"#REF!"},{"$error":"#REF!"},{"$error":"#REF!"},{"$error":"#REF!"},{"$error":"#REF!"},{"$error":"#REF!"},{"$error":"#REF!"},{"$error":"#REF!"},null,0,0,0,0,0,{"$error":"#REF!"},0,0,0,0,null,{"$error":"#REF!"},{"$error":"#REF!"},{"$error":"#REF!"},{"$error":"#REF!"},0,{"$error":"#REF!"},{"$error":"#REF!"},{"$error":"#REF!"},{"$error":"#REF!"},{"$error":"#REF!"},null,0,0,0,0,null,null,null,0,0,0,0]
[110,14830,"2022/0336728-8","2022-10-19","Paga em FEV-2023 - 4ª remessa","2023-02-01","NÃO",4,"MS 4.151/DF","1995-07-21","1999-02-12","Mandado de Segurança 4.151/DF","2016/0144553_8","2022-08-03","UNIÃO","Administrativo - Servidor Público Civil - Reajustes de Remuneração, Proventos ou Pensão","Alimentar","Leila Perez Marques","454.393.037-15","Servidor Público Civil Ativo","Diferença de remuneração - 3,17%","Ministério da Fazenda",6,"Mota & Advogados Associados","03.996.810/0001-38",1,"Mauro Menezes e Advogados","32.901.423/0001-79",1,"Caputo, Bastos e Serra Advogados","12.291.813/0001-67",0," x x x "," x x x ","Dedução de Honorários Contratuais","Não","Não","Não","-","-","Não informada","Não Informada","Não",24152.77,43624.179999999993,67776.95,1449.16,2617.4499999999998,4066.61,241.52,436.24,677.76,241.52,436.24,677.76,0,0,0,22220.57,40134.25,62354.82,30064.1,3307.05,6614.1,53,3307.05,null,0,0,0,0,0,0,0,0,0,0,0,0,0,0,0,0,0,0,0,0,0,0,null,24152.77,43624.179999999993,67776.95,1449.16,2617.4499999999998,4066.61,241.52,436.24,677.76,241.52,436.24,677.76,0,0,0,22220.57,40134.25,62354.82,30064.1,3307.05,6614.1,3307.05,"2022-10-01",1,{"$error":"#REF!"},24152.77,43624.18,{"$error":"#REF!"},{"$error":"#REF!"},{"$error":"#REF!"},{"$error":"#REF!"},{"$error":"#REF!"},{"$error":"#REF!"},{"$error":"#REF!"},{"$error":"#REF!"},{"$error":"#REF!"},{"$error":"#REF!"},{"$error":"#REF!"},{"$error":"#REF!"},{"$error":"#REF!"},null,0,0,0,0,0,{"$error":"#REF!"},0,0,0,0,null,{"$error":"#REF!"},{"$error":"#REF!"},{"$error":"#REF!"},{"$error":"#REF!"},0,{"$error":"#REF!"},{"$error":"#REF!"},{"$error":"#REF!"},{"$error":"#REF!"},{"$error":"#REF!"},null,0,0,0,0,null,null,null,0,0,0,0]
[111,14831,"2022/0336752-0","2022-10-19","Paga em FEV-2023 - 4ª remessa","2023-02-01","NÃO",4,"MS 4.151/DF","1995-07-21","1999-02-12","Mandado de Segurança 4.151/DF","2016/0144611-9","2022-02-09","UNIÃO","Administrativo - Servidor Público Civil - Reajustes de Remuneração, Proventos ou Pensão","Alimentar","José Silva Filho","123.857.435-15","Servidor Público Civil Ativo","Diferença de remuneração - 3,17%","Ministério da Fazenda",6,"Mota & Advogados Associados","03.996.810/0001-38",1,"Mauro Menezes e Advogados","32.901.423/0001-79",1,"Caputo, Bastos e Serra Advogados","12.291.813/0001-67",0," x x x "," x x x ","Dedução de Honorários Contratuais","Não","Não","Não","-","-","Não informada","Não Informada","Não",22642.880000000001,41688.75,64331.63,1358.57,2501.3200000000002,3859.89,226.42,416.89,643.30999999999995,226.42,416.89,643.30999999999995,0,0,0,20831.47,38353.65,59185.120000000003,29311.63,3224.27,6448.54,53,3224.27,null,0,0,0,0,0,0,0,0,0,0,0,0,0,0,0,0,0,0,0,0,0,0,null,22642.880000000001,41688.75,64331.63,1358.57,2501.3200000000002,3859.89,226.42,416.89,643.30999999999995,226.42,416.89,643.30999999999995,0,0,0,20831.47,38353.65,59185.120000000003,29311.63,3224.27,6448.54,3224.27,"2022-10-01",1,{"$error":"#REF!"},22642.880000000001,41688.75,{"$error":"#REF!"},{"$error":"#REF!"},{"$error":"#REF!"},{"$error":"#REF!"},{"$error":"#REF!"},{"$error":"#REF!"},{"$error":"#REF!"},{"$error":"#REF!"},{"$error":"#REF!"},{"$error":"#REF!"},{"$error":"#REF!"},{"$error":"#REF!"},{"$error":"#REF!"},null,0,0,0,0,0,{"$error":"#REF!"},0,0,0,0,null,{"$error":"#REF!"},{"$error":"#REF!"},{"$error":"#REF!"},{"$error":"#REF!"},0,{"$error":"#REF!"},{"$error":"#REF!"},{"$error":"#REF!"},{"$error":"#REF!"},{"$error":"#REF!"},null,0,0,0,0,null,null,null,0,0,0,0]
[112,14832,"2022/0336760-7","2022-10-19","Paga em FEV-2023 - 4ª remessa","2023-02-01","NÃO",4,"MS 4.151/DF","1995-07-21","1999-02-12","Mandado de Segurança 4.151/DF","2016/0144611-9","2022-02-09","UNIÃO","Administrativo - Servidor Público Civil - Reajustes de Remuneração, Proventos ou Pensão","Alimentar","José Tomasulo","018.425.368-34","Servidor Público Civil Inativo","Diferença de remuneração - 3,17%","Ministério da Fazenda",6,"Mota & Advogados Associados","03.996.810/0001-38",1,"Mauro Menezes e Advogados","32.901.423/0001-79",1,"Caputo, Bastos e Serra Advogados","12.291.813/0001-67",0," x x x "," x x x ","Dedução de Honorários Contratuais","Não","Não","Não","-","-","Não informada","Não Informada","Não",21242.51,49685.25,70927.759999999995,1274.55,2981.11,4255.66,212.42,496.85,709.27,212.42,496.85,709.27,0,0,0,19543.12,45710.44,65253.56,0,0,0,53,0,null,0,0,0,0,0,0,0,0,0,0,0,0,0,0,0,0,0,0,0,0,0,0,null,21242.51,49685.25,70927.759999999995,1274.55,2981.11,4255.66,212.42,496.85,709.27,212.42,496.85,709.27,0,0,0,19543.12,45710.44,65253.56,0,0,0,0,"2022-10-01",1,{"$error":"#REF!"},21242.51,49685.25,{"$error":"#REF!"},{"$error":"#REF!"},{"$error":"#REF!"},{"$error":"#REF!"},{"$error":"#REF!"},{"$error":"#REF!"},{"$error":"#REF!"},{"$error":"#REF!"},0,0,0,{"$error":"#REF!"},{"$error":"#REF!"},null,0,0,0,0,0,{"$error":"#REF!"},0,0,0,0,null,{"$error":"#REF!"},{"$error":"#REF!"},{"$error":"#REF!"},{"$error":"#REF!"},0,{"$error":"#REF!"},0,0,0,0,null,0,0,0,0,null,null,null,0,0,0,0]
[113,14833,"2022/0336762-0","2022-10-19","Paga em FEV-2023 - 4ª remessa","2023-02-01","NÃO",4,"MS 4.151/DF","1995-07-21","1999-02-12","Mandado de Segurança 4.151/DF","2016/0144611-9","2022-02-09","UNIÃO","Administrativo - Servidor Público Civil - Reajustes de Remuneração, Proventos ou Pensão","Alimentar","José Vianey Feitosa","711.501.458-20","Servidor Público Civil Ativo","Diferença de remuneração - 3,17%","Ministério da Fazenda",6,"Mota & Advogados Associados","03.996.810/0001-38",1,"Mauro Menezes e Advogados","32.901.423/0001-79",1,"Caputo, Bastos e Serra Advogados","12.291.813/0001-67",0," x x x "," x x x ","Dedução de Honorários Contratuais","Não","Não","Não","-","-","Não informada","Não Informada","Não",24713.21,43618.77,68331.98,1482.79,2617.12,4099.91,247.13,436.18,683.31,247.13,436.18,683.31,0,0,0,22736.16,40129.29,62865.45,28969.73,3186.67,6373.34,53,3186.67,null,0,0,0,0,0,0,0,0,0,0,0,0,0,0,0,0,0,0,0,0,0,0,null,24713.21,43618.77,68331.98,1482.79,2617.12,4099.91,247.13,436.18,683.31,247.13,436.18,683.31,0,0,0,22736.16,40129.29,62865.45,28969.73,3186.67,6373.34,3186.67,"2022-10-01",1,{"$error":"#REF!"},24713.21,43618.77,{"$error":"#REF!"},{"$error":"#REF!"},{"$error":"#REF!"},{"$error":"#REF!"},{"$error":"#REF!"},{"$error":"#REF!"},{"$error":"#REF!"},{"$error":"#REF!"},{"$error":"#REF!"},{"$error":"#REF!"},{"$error":"#REF!"},{"$error":"#REF!"},{"$error":"#REF!"},null,0,0,0,0,0,{"$error":"#REF!"},0,0,0,0,null,{"$error":"#REF!"},{"$error":"#REF!"},{"$error":"#REF!"},{"$error":"#REF!"},0,{"$error":"#REF!"},{"$error":"#REF!"},{"$error":"#REF!"},{"$error":"#REF!"},{"$error":"#REF!"},null,0,0,0,0,null,null,null,0,0,0,0]
[114,14834,"2022/0336811-2","2022-10-19","Paga em FEV-2023 - 4ª remessa","2023-02-01","NÃO",4,"MS 4.151/DF","1995-07-21","1999-02-12","Mandado de Segurança 4.151/DF","2016/0144611-9","2022-02-09","UNIÃO","Administrativo - Servidor Público Civil - Reajustes de Remuneração, Proventos ou Pensão","Alimentar","José Wilson Travia Júnior","812.179.438-20","Servidor Público Civil Ativo","Diferença de remuneração - 3,17%","Ministério da Fazenda",6,"Mota & Advogados Associados","03.996.810/0001-38",1,"Mauro Menezes e Advogados","32.901.423/0001-79",1,"Caputo, Bastos e Serra Advogados","12.291.813/0001-67",0," x x x "," x x x ","Dedução de Honorários Contratuais","Não","Não","Não","-","-","Não informada","Não Informada","Não",21268.7,40263.699999999997,61532.4,1276.1199999999999,2415.8200000000002,3691.94,212.68,402.64,615.32000000000005,212.68,402.64,615.32000000000005,0,0,0,19567.22,37042.6,56609.82,29170.74,3208.78,6417.56,53,3208.78,null,0,0,0,0,0,0,0,0,0,0,0,0,0,0,0,0,0,0,0,0,0,0,null,21268.7,40263.699999999997,61532.4,1276.1199999999999,2415.8200000000002,3691.94,212.68,402.64,615.32000000000005,212.68,402.64,615.32000000000005,0,0,0,19567.22,37042.6,56609.82,29170.74,3208.78,6417.56,3208.78,"2022-10-01",1,{"$error":"#REF!"},21268.7,40263.699999999997,{"$error":"#REF!"},{"$error":"#REF!"},{"$error":"#REF!"},{"$error":"#REF!"},{"$error":"#REF!"},{"$error":"#REF!"},{"$error":"#REF!"},{"$error":"#REF!"},{"$error":"#REF!"},{"$error":"#REF!"},{"$error":"#REF!"},{"$error":"#REF!"},{"$error":"#REF!"},null,0,0,0,0,0,{"$error":"#REF!"},0,0,0,0,null,{"$error":"#REF!"},{"$error":"#REF!"},{"$error":"#REF!"},{"$error":"#REF!"},0,{"$error":"#REF!"},{"$error":"#REF!"},{"$error":"#REF!"},{"$error":"#REF!"},{"$error":"#REF!"},null,0,0,0,0,null,null,null,0,0,0,0]
[115,14836,"2022/0336932-4","2022-10-19","Paga em FEV-2023 - 4ª remessa","2023-02-01","NÃO",4,"MS 4.151/DF","1995-07-21","1999-02-12","Mandado de Segurança 4.151/DF","2016/0174738-0","2022-08-03","UNIÃO","Administrativo - Servidor Público Civil - Reajustes de Remuneração, Proventos ou Pensão","Alimentar","Shirley Bento de Sousa","714.767.687-49","Servidor Público Civil Ativo","Diferença de remuneração - 3,17%","Ministério da Fazenda",6,"Mota & Advogados Associados","03.996.810/0001-38",1,"Mauro Menezes e Advogados","32.901.423/0001-79",1,"Caputo, Bastos e Serra Advogados","12.291.813/0001-67",0," x x x "," x x x ","Dedução de Honorários Contratuais","Não","Não","Não","-","-","Não informada","Não Informada","Não",23708.51,43130.020000000004,66838.53,1422.51,2587.8000000000002,4010.31,237.08,431.3,668.38,237.08,431.3,668.38,0,0,0,21811.84,39679.620000000003,61491.46,29868.53,3285.53,6571.06,53,3285.53,null,0,0,0,0,0,0,0,0,0,0,0,0,0,0,0,0,0,0,0,0,0,0,null,23708.51,43130.020000000004,66838.53,1422.51,2587.8000000000002,4010.31,237.08,431.3,668.38,237.08,431.3,668.38,0,0,0,21811.84,39679.620000000003,61491.46,29868.53,3285.53,6571.06,3285.53,"2022-10-01",1,{"$error":"#REF!"},23708.51,43130.02,{"$error":"#REF!"},{"$error":"#REF!"},{"$error":"#REF!"},{"$error":"#REF!"},{"$error":"#REF!"},{"$error":"#REF!"},{"$error":"#REF!"},{"$error":"#REF!"},{"$error":"#REF!"},{"$error":"#REF!"},{"$error":"#REF!"},{"$error":"#REF!"},{"$error":"#REF!"},null,0,0,0,0,0,{"$error":"#REF!"},0,0,0,0,null,{"$error":"#REF!"},{"$error":"#REF!"},{"$error":"#REF!"},{"$error":"#REF!"},0,{"$error":"#REF!"},{"$error":"#REF!"},{"$error":"#REF!"},{"$error":"#REF!"},{"$error":"#REF!"},null,0,0,0,0,null,null,null,0,0,0,0]
[116,14837,"2022/0336950-2","2022-10-19","Paga em FEV-2023 - 4ª remessa","2023-02-01","NÃO",4,"MS 4.151/DF","1995-07-21","1999-02-12","Mandado de Segurança 4.151/DF","2016/0174738-0","2022-08-03","UNIÃO","Administrativo - Servidor Público Civil - Reajustes de Remuneração, Proventos ou Pensão","Alimentar","Sérgio Luis Scaccabarozzi","814.210.528-49","Servidor Público Civil Ativo","Diferença de remuneração - 3,17%","Ministério da Fazenda",6,"Mota & Advogados Associados","03.996.810/0001-38",1,"Mauro Menezes e Advogados","32.901.423/0001-79",1,"Caputo, Bastos e Serra Advogados","12.291.813/0001-67",0," x x x "," x x x ","Dedução de Honorários Contratuais","Não","Não","Não","-","-","Não informada","Não Informada","Não",18361.45,37977.58,56339.03,1101.68,2278.66,3380.34,183.61,379.78,563.39,183.61,379.78,563.39,0,0,0,16892.55,34939.360000000001,51831.91,28985.05,3188.35,6376.7,53,3188.35,null,0,0,0,0,0,0,0,0,0,0,0,0,0,0,0,0,0,0,0,0,0,0,null,18361.45,37977.58,56339.03,1101.68,2278.66,3380.34,183.61,379.78,563.39,183.61,379.78,563.39,0,0,0,16892.55,34939.360000000001,51831.91,28985.05,3188.35,6376.7,3188.35,"2022-10-01",1,{"$error":"#REF!"},18361.45,37977.58,{"$error":"#REF!"},{"$error":"#REF!"},{"$error":"#REF!"},{"$error":"#REF!"},{"$error":"#REF!"},{"$error":"#REF!"},{"$error":"#REF!"},{"$error":"#REF!"},{"$error":"#REF!"},{"$error":"#REF!"},{"$error":"#REF!"},{"$error":"#REF!"},{"$error":"#REF!"},null,0,0,0,0,0,{"$error":"#REF!"},0,0,0,0,null,{"$error":"#REF!"},{"$error":"#REF!"},{"$error":"#REF!"},{"$error":"#REF!"},0,{"$error":"#REF!"},{"$error":"#REF!"},{"$error":"#REF!"},{"$error":"#REF!"},{"$error":"#REF!"},null,0,0,0,0,null,null,null,0,0,0,0]
[117,14838,"2022/0336963-9","2022-10-19","Paga em FEV-2023 - 4ª remessa","2023-02-01","NÃO",4,"MS 4.151/DF","1995-07-21","1999-02-12","Mandado de Segurança 4.151/DF","2016/0174738-0","2022-08-03","UNIÃO","Administrativo - Servidor Público Civil - Reajustes de Remuneração, Proventos ou Pensão","Alimentar","Severo José de Miranda Filho","754.427.958-87","Servidor Público Civil Ativo","Diferença de remuneração - 3,17%","Ministério da Fazenda",6,"Mota & Advogados Associados","03.996.810/0001-38",1,"Mauro Menezes e Advogados","32.901.423/0001-79",1,"Caputo, Bastos e Serra Advogados","12.291.813/0001-67",0," x x x "," x x x ","Dedução de Honorários Contratuais","Não","Não","Não","-","-","Não informada","Não Informada","Não",25735.22,45063.66,70798.880000000005,1544.11,2703.82,4247.93,257.35000000000002,450.63,707.98,257.35000000000002,450.63,707.98,0,0,0,23676.41,41458.58,65134.99,29639.98,3260.39,6520.78,53,3260.39,null,0,0,0,0,0,0,0,0,0,0,0,0,0,0,0,0,0,0,0,0,0,0,null,25735.22,45063.66,70798.880000000005,1544.11,2703.82,4247.93,257.35000000000002,450.63,707.98,257.35000000000002,450.63,707.98,0,0,0,23676.41,41458.58,65134.99,29639.98,3260.39,6520.78,3260.39,"2022-10-01",1,{"$error":"#REF!"},25735.22,45063.66,{"$error":"#REF!"},{"$error":"#REF!"},{"$error":"#REF!"},{"$error":"#REF!"},{"$error":"#REF!"},{"$error":"#REF!"},{"$error":"#REF!"},{"$error":"#REF!"},{"$error":"#REF!"},{"$error":"#REF!"},{"$error":"#REF!"},{"$error":"#REF!"},{"$error":"#REF!"},null,0,0,0,0,0,{"$error":"#REF!"},0,0,0,0,null,{"$error":"#REF!"},{"$error":"#REF!"},{"$error":"#REF!"},{"$error":"#REF!"},0,{"$error":"#REF!"},{"$error":"#REF!"},{"$error":"#REF!"},{"$error":"#REF!"},{"$error":"#REF!"},null,0,0,0,0,null,null,null,0,0,0,0]
[118,14839,"2022/0336973-0","2022-10-19","Paga em FEV-2023 - 4ª remessa","2023-02-01","NÃO",4,"MS 4.151/DF","1995-07-21","1999-02-12","Mandado de Segurança 4.151/DF","2016/0174738-0","2022-08-03","UNIÃO","Administrativo - Servidor Público Civil - Reajustes de Remuneração, Proventos ou Pensão","Alimentar","Shogo Yamamoto","010.859.558-77","Servidor Público Civil Ativo","Diferença de remuneração - 3,17%","Ministério da Fazenda",6,"Mota & Advogados Associados","03.996.810/0001-38",1,"Mauro Menezes e Advogados","32.901.423/0001-79",1,"Caputo, Bastos e Serra Advogados","12.291.813/0001-67",0," x x x "," x x x ","Dedução de Honorários Contratuais","Não","Não","Não","-","-","Não informada","Não Informada","Não",22410.39,41883.090000000004,64293.48,1344.62,2512.98,3857.6,224.1,418.83,642.92999999999995,224.1,418.83,642.92999999999995,0,0,0,20617.57,38532.449999999997,59150.02,29823.21,3280.55,6561.1,53,3280.55,null,0,0,0,0,0,0,0,0,0,0,0,0,0,0,0,0,0,0,0,0,0,0,null,22410.39,41883.090000000004,64293.48,1344.62,2512.98,3857.6,224.1,418.83,642.92999999999995,224.1,418.83,642.92999999999995,0,0,0,20617.57,38532.449999999997,59150.02,29823.21,3280.55,6561.1,3280.55,"2022-10-01",1,{"$error":"#REF!"},22410.39,41883.089999999997,{"$error":"#REF!"},{"$error":"#REF!"},{"$error":"#REF!"},{"$error":"#REF!"},{"$error":"#REF!"},{"$error":"#REF!"},{"$error":"#REF!"},{"$error":"#REF!"},{"$error":"#REF!"},{"$error":"#REF!"},{"$error":"#REF!"},{"$error":"#REF!"},{"$error":"#REF!"},null,0,0,0,0,0,{"$error":"#REF!"},0,0,0,0,null,{"$error":"#REF!"},{"$error":"#REF!"},{"$error":"#REF!"},{"$error":"#REF!"},0,{"$error":"#REF!"},{"$error":"#REF!"},{"$error":"#REF!"},{"$error":"#REF!"},{"$error":"#REF!"},null,0,0,0,0,null,null,null,0,0,0,0]
[119,14840,"2022/0336975-3","2022-10-19","Paga em FEV-2023 - 4ª remessa","2023-02-01","NÃO",4,"MS 4.151/DF","1995-07-21","1999-02-12","Mandado de Segurança 4.151/DF","2016/0174738-0","2022-08-03","UNIÃO","Administrativo - Servidor Público Civil - Reajustes de Remuneração, Proventos ou Pensão","Alimentar","Shoji Mori","901.942.928-00","Servidor Público Civil Ativo","Diferença de remuneração - 3,17%","Ministério da Fazenda",6,"Mota & Advogados Associados","03.996.810/0001-38",1,"Mauro Menezes e Advogados","32.901.423/0001-79",1,"Caputo, Bastos e Serra Advogados","12.291.813/0001-67",0," x x x "," x x x ","Dedução de Honorários Contratuais","Não","Não","Não","-","-","Não informada","Não Informada","Não",18732.36,38553.620000000003,57285.98,1123.94,2313.21,3437.15,187.32,385.53,572.85,187.32,385.53,572.85,0,0,0,17233.78,35469.35,52703.13,29318.93,3225.08,6450.16,53,3225.08,null,0,0,0,0,0,0,0,0,0,0,0,0,0,0,0,0,0,0,0,0,0,0,null,18732.36,38553.620000000003,57285.98,1123.94,2313.21,3437.15,187.32,385.53,572.85,187.32,385.53,572.85,0,0,0,17233.78,35469.35,52703.13,29318.93,3225.08,6450.16,3225.08,"2022-10-01",1,{"$error":"#REF!"},18732.36,38553.620000000003,{"$error":"#REF!"},{"$error":"#REF!"},{"$error":"#REF!"},{"$error":"#REF!"},{"$error":"#REF!"},{"$error":"#REF!"},{"$error":"#REF!"},{"$error":"#REF!"},{"$error":"#REF!"},{"$error":"#REF!"},{"$error":"#REF!"},{"$error":"#REF!"},{"$error":"#REF!"},null,0,0,0,0,0,{"$error":"#REF!"},0,0,0,0,null,{"$error":"#REF!"},{"$error":"#REF!"},{"$error":"#REF!"},{"$error":"#REF!"},0,{"$error":"#REF!"},{"$error":"#REF!"},{"$error":"#REF!"},{"$error":"#REF!"},{"$error":"#REF!"},null,0,0,0,0,null,null,null,0,0,0,0]
[120,14841,"2022/0336989-1","2022-10-19","Paga em FEV-2023 - 4ª remessa","2023-02-01","NÃO",4,"MS 4.151/DF","1995-07-21","1999-02-12","Mandado de Segurança 4.151/DF","2016/0174738-0","2022-08-03","UNIÃO","Administrativo - Servidor Público Civil - Reajustes de Remuneração, Proventos ou Pensão","Alimentar","Sidnei Guarenghi","166.235.929-20","Servidor Público Civil Ativo","Diferença de remuneração - 3,17%","Ministério da Fazenda",6,"Mota & Advogados Associados","03.996.810/0001-38",1,"Mauro Menezes e Advogados","32.901.423/0001-79",1,"Caputo, Bastos e Serra Advogados","12.291.813/0001-67",0," x x x "," x x x ","Dedução de Honorários Contratuais","Não","Não","Não","-","-","Não informada","Não Informada","Não",20082.02,37727.03,57809.05,1204.92,2263.62,3468.54,200.82,377.27,578.09,200.82,377.27,578.09,0,0,0,18475.46,34708.870000000003,53184.33,6097.98,670.77,1341.54,53,670.77,null,0,0,0,0,0,0,0,0,0,0,0,0,0,0,0,0,0,0,0,0,0,0,null,20082.02,37727.03,57809.05,1204.92,2263.62,3468.54,200.82,377.27,578.09,200.82,377.27,578.09,0,0,0,18475.46,34708.870000000003,53184.33,6097.98,670.77,1341.54,670.77,"2022-10-01",1,{"$error":"#REF!"},20082.02,37727.03,{"$error":"#REF!"},{"$error":"#REF!"},{"$error":"#REF!"},{"$error":"#REF!"},{"$error":"#REF!"},{"$error":"#REF!"},{"$error":"#REF!"},{"$error":"#REF!"},{"$error":"#REF!"},{"$error":"#REF!"},{"$error":"#REF!"},{"$error":"#REF!"},{"$error":"#REF!"},null,0,0,0,0,0,{"$error":"#REF!"},0,0,0,0,null,{"$error":"#REF!"},{"$error":"#REF!"},{"$error":"#REF!"},{"$error":"#REF!"},0,{"$error":"#REF!"},{"$error":"#REF!"},{"$error":"#REF!"},{"$error":"#REF!"},{"$error":"#REF!"},null,0,0,0,0,null,null,null,0,0,0,0]
[121,14842,"2022/0336997-9","2022-10-19","Paga em FEV-2023 - 4ª remessa","2023-02-01","NÃO",4,"MS 4.151/DF","1995-07-21","1999-02-12","Mandado de Segurança 4.151/DF","2016/0174812-6","2022-08-03","UNIÃO","Administrativo - Servidor Público Civil - Reajustes de Remuneração, Proventos ou Pensão","Alimentar","Ruth Hryszko","232.188.519-04","Servidor Público Civil Ativo","Diferença de remuneração - 3,17%","Ministério da Fazenda",9,"Mota & Advogados Associados","03.996.810/0001-38",2,"Mauro Menezes e Advogados","32.901.423/0001-79",1,"Caputo, Bastos e Serra Advogados","12.291.813/0001-67",0," x x x "," x x x ","Dedução de Honorários Contratuais","Não","Não","Não","-","-","Não informada","Não Informada","Não",21329.68,40835.919999999998,62165.599999999999,1919.67,3675.23,5594.9,426.59,816.72,1243.31,213.29,408.36,621.65,0,0,0,18770.13,35935.61,54705.74,22477.22,2472.4899999999998,4944.9799999999996,53,2472.4899999999998,null,0,0,0,0,0,0,0,0,0,0,0,0,0,0,0,0,0,0,0,0,0,0,null,21329.68,40835.919999999998,62165.599999999999,1919.67,3675.23,5594.9,426.59,816.72,1243.31,213.29,408.36,621.65,0,0,0,18770.13,35935.61,54705.74,22477.22,2472.4899999999998,4944.9799999999996,2472.4899999999998,"2022-10-01",1,{"$error":"#REF!"},21329.68,40835.919999999998,{"$error":"#REF!"},{"$error":"#REF!"},{"$error":"#REF!"},{"$error":"#REF!"},{"$error":"#REF!"},{"$error":"#REF!"},{"$error":"#REF!"},{"$error":"#REF!"},{"$error":"#REF!"},{"$error":"#REF!"},{"$error":"#REF!"},{"$error":"#REF!"},{"$error":"#REF!"},null,0,0,0,0,0,{"$error":"#REF!"},0,0,0,0,null,{"$error":"#REF!"},{"$error":"#REF!"},{"$error":"#REF!"},{"$error":"#REF!"},0,{"$error":"#REF!"},{"$error":"#REF!"},{"$error":"#REF!"},{"$error":"#REF!"},{"$error":"#REF!"},null,0,0,0,0,null,null,null,0,0,0,0]
[122,14844,"2022/0337009-8","2022-10-19","Paga em FEV-2023 - 4ª remessa","2023-02-01","NÃO",4,"MS 4.151/DF","1995-07-21","1999-02-12","Mandado de Segurança 4.151/DF","2016/0174812-6","2022-08-03","UNIÃO","Administrativo - Servidor Público Civil - Reajustes de Remuneração, Proventos ou Pensão","Alimentar","Rui Adolfo Soares","393.014.608-82","Servidor Público Civil Ativo","Diferença de remuneração - 3,17%","Ministério da Fazenda",6,"Mota & Advogados Associados","03.996.810/0001-38",1,"Mauro Menezes e Advogados","32.901.423/0001-79",1,"Caputo, Bastos e Serra Advogados","12.291.813/0001-67",0," x x x "," x x x ","Dedução de Honorários Contratuais","Não","Não","Não","-","-","Não informada","Não Informada","Não",20172.04,42165.1,62337.14,1210.32,2529.9,3740.22,201.72,421.65,623.37,201.72,421.65,623.37,0,0,0,18558.28,38791.9,57350.18,32331.75,3556.49,7112.98,53,3556.49,null,0,0,0,0,0,0,0,0,0,0,0,0,0,0,0,0,0,0,0,0,0,0,null,20172.04,42165.1,62337.14,1210.32,2529.9,3740.22,201.72,421.65,623.37,201.72,421.65,623.37,0,0,0,18558.28,38791.9,57350.18,32331.75,3556.49,7112.98,3556.49,"2022-10-01",1,{"$error":"#REF!"},20172.04,42165.1,{"$error":"#REF!"},{"$error":"#REF!"},{"$error":"#REF!"},{"$error":"#REF!"},{"$error":"#REF!"},{"$error":"#REF!"},{"$error":"#REF!"},{"$error":"#REF!"},{"$error":"#REF!"},{"$error":"#REF!"},{"$error":"#REF!"},{"$error":"#REF!"},{"$error":"#REF!"},null,0,0,0,0,0,{"$error":"#REF!"},0,0,0,0,null,{"$error":"#REF!"},{"$error":"#REF!"},{"$error":"#REF!"},{"$error":"#REF!"},0,{"$error":"#REF!"},{"$error":"#REF!"},{"$error":"#REF!"},{"$error":"#REF!"},{"$error":"#REF!"},null,0,0,0,0,null,null,null,0,0,0,0]
[123,14845,"2022/0337017-5","2022-10-19","Paga em FEV-2023 - 4ª remessa","2023-02-01","NÃO",4,"MS 4.151/DF","1995-07-21","1999-02-12","Mandado de Segurança 4.151/DF","2016/0174812-6","2022-08-03","UNIÃO","Administrativo - Servidor Público Civil - Reajustes de Remuneração, Proventos ou Pensão","Alimentar","Rumi Yamazaki Shinohara","082.734.768-55","Servidor Público Civil Ativo","Diferença de remuneração - 3,17%","Ministério da Fazenda",6,"Mota & Advogados Associados","03.996.810/0001-38",1,"Mauro Menezes e Advogados","32.901.423/0001-79",1,"Caputo, Bastos e Serra Advogados","12.291.813/0001-67",0," x x x "," x x x ","Dedução de Honorários Contratuais","Não","Não","Não","-","-","Não informada","Não Informada","Não",21856.93,41183.47,63040.4,1311.41,2471.0100000000002,3782.42,218.56,411.84,630.4,218.56,411.84,630.4,0,0,0,20108.400000000001,37888.78,57997.18,29372.27,3230.94,6461.88,53,3230.94,null,0,0,0,0,0,0,0,0,0,0,0,0,0,0,0,0,0,0,0,0,0,0,null,21856.93,41183.47,63040.4,1311.41,2471.0100000000002,3782.42,218.56,411.84,630.4,218.56,411.84,630.4,0,0,0,20108.400000000001,37888.78,57997.18,29372.27,3230.94,6461.88,3230.94,"2022-10-01",1,{"$error":"#REF!"},21856.93,41183.47,{"$error":"#REF!"},{"$error":"#REF!"},{"$error":"#REF!"},{"$error":"#REF!"},{"$error":"#REF!"},{"$error":"#REF!"},{"$error":"#REF!"},{"$error":"#REF!"},{"$error":"#REF!"},{"$error":"#REF!"},{"$error":"#REF!"},{"$error":"#REF!"},{"$error":"#REF!"},null,0,0,0,0,0,{"$error":"#REF!"},0,0,0,0,null,{"$error":"#REF!"},{"$error":"#REF!"},{"$error":"#REF!"},{"$error":"#REF!"},0,{"$error":"#REF!"},{"$error":"#REF!"},{"$error":"#REF!"},{"$error":"#REF!"},{"$error":"#REF!"},null,0,0,0,0,null,null,null,0,0,0,0]
[124,14846,"2022/0337062-0","2022-10-19","Paga em FEV-2023 - 4ª remessa","2023-02-01","NÃO",4,"MS 4.151/DF","1995-07-21","1999-02-12","Mandado de Segurança 4.151/DF","2016/0247985-4","2022-08-03","UNIÃO","Administrativo - Servidor Público Civil - Reajustes de Remuneração, Proventos ou Pensão","Alimentar","Joaquim Roberto dos Santos","125.058.701-87","Servidor Público Civil Ativo","Diferença de remuneração - 3,17%","Ministério da Fazenda",6,"Mota & Advogados Associados","03.996.810/0001-38",1,"Mauro Menezes e Advogados","32.901.423/0001-79",1,"Caputo, Bastos e Serra Advogados","12.291.813/0001-67",0," x x x "," x x x ","Dedução de Honorários Contratuais","Não","Não","Não","-","-","Não informada","Não Informada","Não",25224,44920.899999999994,70144.899999999994,1513.44,2695.25,4208.6899999999996,252.24,449.2,701.44,252.24,449.2,701.44,0,0,0,23206.080000000002,41327.25,64533.33,30151.14,3316.62,6633.24,53,3316.62,null,0,0,0,0,0,0,0,0,0,0,0,0,0,0,0,0,0,0,0,0,0,0,null,25224,44920.899999999994,70144.899999999994,1513.44,2695.25,4208.6899999999996,252.24,449.2,701.44,252.24,449.2,701.44,0,0,0,23206.080000000002,41327.25,64533.33,30151.14,3316.62,6633.24,3316.62,"2022-10-01",1,{"$error":"#REF!"},25224,44920.9,{"$error":"#REF!"},{"$error":"#REF!"},{"$error":"#REF!"},{"$error":"#REF!"},{"$error":"#REF!"},{"$error":"#REF!"},{"$error":"#REF!"},{"$error":"#REF!"},{"$error":"#REF!"},{"$error":"#REF!"},{"$error":"#REF!"},{"$error":"#REF!"},{"$error":"#REF!"},null,0,0,0,0,0,{"$error":"#REF!"},0,0,0,0,null,{"$error":"#REF!"},{"$error":"#REF!"},{"$error":"#REF!"},{"$error":"#REF!"},0,{"$error":"#REF!"},{"$error":"#REF!"},{"$error":"#REF!"},{"$error":"#REF!"},{"$error":"#REF!"},null,0,0,0,0,null,null,null,0,0,0,0]
[125,14847,"2022/0337071-0","2022-10-19","Paga em FEV-2023 - 4ª remessa","2023-02-01","NÃO",4,"MS 4.151/DF","1995-07-21","1999-02-12","Mandado de Segurança 4.151/DF","2016/0247985-4","2022-08-03","UNIÃO","Administrativo - Servidor Público Civil - Reajustes de Remuneração, Proventos ou Pensão","Alimentar","Joel Blaszcyk","299.527.009-20","Servidor Público Civil Ativo","Diferença de remuneração - 3,17%","Ministério da Fazenda",6,"Mota & Advogados Associados","03.996.810/0001-38",1,"Mauro Menezes e Advogados","32.901.423/0001-79",1,"Caputo, Bastos e Serra Advogados","12.291.813/0001-67",0," x x x "," x x x ","Dedução de Honorários Contratuais","Não","Não","Não","-","-","Não informada","Não Informada","Não",21704.97,40821.15,62526.12,1302.29,2449.27,3751.56,217.04,408.22,625.26,217.04,408.22,625.26,0,0,0,19968.599999999999,37555.440000000002,57524.04,29162.11,3207.83,6415.66,53,3207.83,null,0,0,0,0,0,0,0,0,0,0,0,0,0,0,0,0,0,0,0,0,0,0,null,21704.97,40821.15,62526.12,1302.29,2449.27,3751.56,217.04,408.22,625.26,217.04,408.22,625.26,0,0,0,19968.599999999999,37555.440000000002,57524.04,29162.11,3207.83,6415.66,3207.83,"2022-10-01",1,{"$error":"#REF!"},21704.97,40821.15,{"$error":"#REF!"},{"$error":"#REF!"},{"$error":"#REF!"},{"$error":"#REF!"},{"$error":"#REF!"},{"$error":"#REF!"},{"$error":"#REF!"},{"$error":"#REF!"},{"$error":"#REF!"},{"$error":"#REF!"},{"$error":"#REF!"},{"$error":"#REF!"},{"$error":"#REF!"},null,0,0,0,0,0,{"$error":"#REF!"},0,0,0,0,null,{"$error":"#REF!"},{"$error":"#REF!"},{"$error":"#REF!"},{"$error":"#REF!"},0,{"$error":"#REF!"},{"$error":"#REF!"},{"$error":"#REF!"},{"$error":"#REF!"},{"$error":"#REF!"},null,0,0,0,0,null,null,null,0,0,0,0]
[126,14848,"2022/0337072-1","2022-10-19","Paga em FEV-2023 - 4ª remessa","2023-02-01","NÃO",4,"MS 4.151/DF","1995-07-21","1999-02-12","Mandado de Segurança 4.151/DF","2016/0247985-4","2022-08-03","UNIÃO","Administrativo - Servidor Público Civil - Reajustes de Remuneração, Proventos ou Pensão","Alimentar","Joaquina Aparecida Mazzitelli Felisberto","017.950.098-88","Servidor Público Civil Ativo","Diferença de remuneração - 3,17%","Ministério da Fazenda",6,"Mota & Advogados Associados","03.996.810/0001-38",1,"Mauro Menezes e Advogados","32.901.423/0001-79",1,"Caputo, Bastos e Serra Advogados","12.291.813/0001-67",0," x x x "," x x x ","Dedução de Honorários Contratuais","Não","Não","Não","-","-","Não informada","Não Informada","Não",23591.25,43452.240000000005,67043.490000000005,1415.47,2607.13,4022.6,235.91,434.52,670.43,235.91,434.52,670.43,0,0,0,21703.96,39976.07,61680.03,30326.76,3335.94,6671.88,53,3335.94,null,0,0,0,0,0,0,0,0,0,0,0,0,0,0,0,0,0,0,0,0,0,0,null,23591.25,43452.240000000005,67043.490000000005,1415.47,2607.13,4022.6,235.91,434.52,670.43,235.91,434.52,670.43,0,0,0,21703.96,39976.07,61680.03,30326.76,3335.94,6671.88,3335.94,"2022-10-01",1,{"$error":"#REF!"},23591.25,43452.24,{"$error":"#REF!"},{"$error":"#REF!"},{"$error":"#REF!"},{"$error":"#REF!"},{"$error":"#REF!"},{"$error":"#REF!"},{"$error":"#REF!"},{"$error":"#REF!"},{"$error":"#REF!"},{"$error":"#REF!"},{"$error":"#REF!"},{"$error":"#REF!"},{"$error":"#REF!"},null,0,0,0,0,0,{"$error":"#REF!"},0,0,0,0,null,{"$error":"#REF!"},{"$error":"#REF!"},{"$error":"#REF!"},{"$error":"#REF!"},0,{"$error":"#REF!"},{"$error":"#REF!"},{"$error":"#REF!"},{"$error":"#REF!"},{"$error":"#REF!"},null,0,0,0,0,null,null,null,0,0,0,0]
[127,14849,"2022/0337086-0","2022-10-19","Paga em FEV-2023 - 4ª remessa","2023-02-01","NÃO",4,"MS 4.151/DF","1995-07-21","1999-02-12","Mandado de Segurança 4.151/DF","2016/0247985-4","2022-08-03","UNIÃO","Administrativo - Servidor Público Civil - Reajustes de Remuneração, Proventos ou Pensão","Alimentar","Joel do Nascimento Floriano","693.085.278-34","Servidor Público Civil Ativo","Diferença de remuneração - 3,17%","Ministério da Fazenda",6,"Mota & Advogados Associados","03.996.810/0001-38",1,"Mauro Menezes e Advogados","32.901.423/0001-79",1,"Caputo, Bastos e Serra Advogados","12.291.813/0001-67",0," x x x "," x x x ","Dedução de Honorários Contratuais","Não","Não","Não","-","-","Não informada","Não Informada","Não",19854.87,40906.540000000008,60761.41,1191.29,2454.39,3645.68,198.54,409.07,607.61,198.54,409.07,607.61,0,0,0,18266.5,37634.01,55900.51,31059.4,3416.53,6833.06,53,3416.53,null,0,0,0,0,0,0,0,0,0,0,0,0,0,0,0,0,0,0,0,0,0,0,null,19854.87,40906.540000000008,60761.41,1191.29,2454.39,3645.68,198.54,409.07,607.61,198.54,409.07,607.61,0,0,0,18266.5,37634.01,55900.51,31059.4,3416.53,6833.06,3416.53,"2022-10-01",1,{"$error":"#REF!"},19854.87,40906.54,{"$error":"#REF!"},{"$error":"#REF!"},{"$error":"#REF!"},{"$error":"#REF!"},{"$error":"#REF!"},{"$error":"#REF!"},{"$error":"#REF!"},{"$error":"#REF!"},{"$error":"#REF!"},{"$error":"#REF!"},{"$error":"#REF!"},{"$error":"#REF!"},{"$error":"#REF!"},null,0,0,0,0,0,{"$error":"#REF!"},0,0,0,0,null,{"$error":"#REF!"},{"$error":"#REF!"},{"$error":"#REF!"},{"$error":"#REF!"},0,{"$error":"#REF!"},{"$error":"#REF!"},{"$error":"#REF!"},{"$error":"#REF!"},{"$error":"#REF!"},null,0,0,0,0,null,null,null,0,0,0,0]
[128,14850,"2022/0337114-8","2022-10-19","Paga em FEV-2023 - 4ª remessa","2023-02-01","NÃO",4,"MS 4.151/DF","1995-07-21","1999-02-12","Mandado de Segurança 4.151/DF","2016/0247985-4","2022-08-03","UNIÃO","Administrativo - Servidor Público Civil - Reajustes de Remuneração, Proventos ou Pensão","Alimentar","Jonas Rogge Mugnaini","821.951.298-91","Servidor Público Civil Ativo","Diferença de remuneração - 3,17%","Ministério da Fazenda",6,"Mota & Advogados Associados","03.996.810/0001-38",1,"Mauro Menezes e Advogados","32.901.423/0001-79",1,"Caputo, Bastos e Serra Advogados","12.291.813/0001-67",0," x x x "," x x x ","Dedução de Honorários Contratuais","Não","Não","Não","-","-","Não informada","Não Informada","Não",25975.23,45437.400000000009,71412.63,1558.51,2726.24,4284.75,259.75,454.37,714.12,259.75,454.37,714.12,0,0,0,23897.22,41802.42,65699.64,29938.62,3293.24,6586.48,53,3293.24,null,0,0,0,0,0,0,0,0,0,0,0,0,0,0,0,0,0,0,0,0,0,0,null,25975.23,45437.400000000009,71412.63,1558.51,2726.24,4284.75,259.75,454.37,714.12,259.75,454.37,714.12,0,0,0,23897.22,41802.42,65699.64,29938.62,3293.24,6586.48,3293.24,"2022-10-01",1,{"$error":"#REF!"},25975.23,45437.4,{"$error":"#REF!"},{"$error":"#REF!"},{"$error":"#REF!"},{"$error":"#REF!"},{"$error":"#REF!"},{"$error":"#REF!"},{"$error":"#REF!"},{"$error":"#REF!"},{"$error":"#REF!"},{"$error":"#REF!"},{"$error":"#REF!"},{"$error":"#REF!"},{"$error":"#REF!"},null,0,0,0,0,0,{"$error":"#REF!"},0,0,0,0,null,{"$error":"#REF!"},{"$error":"#REF!"},{"$error":"#REF!"},{"$error":"#REF!"},0,{"$error":"#REF!"},{"$error":"#REF!"},{"$error":"#REF!"},{"$error":"#REF!"},{"$error":"#REF!"},null,0,0,0,0,null,null,null,0,0,0,0]
[{"$f":"IF(B137=\"\",\"\",A136+1)","v":129},14851,{"$f":"IF(B137=\"\",\"\",VLOOKUP(B137,expedidas,4))","v":"2022/0337117-3"},{"$f":"IF(B137=\"\",\"\",VLOOKUP(B137,expedidas,5))","v":"2022-10-19"},{"$f":"IF(B137=\"\",\"\",VLOOKUP(B137,expedidas,7))","v":"Paga em FEV-2023 - 4ª remessa"},{"$f":"IF(B137=\"\",\"\",VLOOKUP(B137,expedidas,8))","v":"2023-02-01"},{"$f":"IF(B137=\"\",\"\",VLOOKUP(B137,expedidas,9))","v":"NÃO"},{"$f":"IF(B137=\"\",\"\",VLOOKUP(B137,expedidas,11))","v":4},{"$f":"IF(B137=\"\",\"\",VLOOKUP(B137,expedidas,12))","v":"MS 4.151/DF"},{"$f":"IF(B137=\"\",\"\",VLOOKUP(B137,expedidas,14))","v":"1995-07-21"},{"$f":"IF(B137=\"\",\"\",VLOOKUP(B137,expedidas,15))","v":"1999-02-12"},{"$f":"IF(B137=\"\",\"\",VLOOKUP(B137,expedidas,19))","v":"Mandado de Segurança 4.151/DF"},{"$f":"IF(B137=\"\",\"\",VLOOKUP(B137,expedidas,20))","v":"2016/0247985-4"},{"$f":"IF(B137=\"\",\"\",VLOOKUP(B137,expedidas,21))","v":"2022-08-03"},{"$f":"IF(B137=\"\",\"\",VLOOKUP(B137,expedidas,18))","v":"UNIÃO"},{"$f":"IF(B137=\"\",\"\",VLOOKUP(B137,expedidas,16))","v":"Administrativo - Servidor Público Civil - Reajustes de Remuneração, Proventos ou Pensão"},{"$f":"IF(B137=\"\",\"\",VLOOKUP(B137,expedidas,26))","v":"Alimentar"},{"$f":"IF(B137=\"\",\"\",VLOOKUP(B137,expedidas,22))","v":"Jorge Antônio de Alencar"},{"$f":"IF(B137=\"\",\"\",VLOOKUP(B137,expedidas,23))","v":"875.102.278-87"},{"$f":"IF(B137=\"\",\"\",VLOOKUP(B137,expedidas,24))","v":"Servidor Público Civil Ativo"},{"$f":"IF(B137=\"\",\"\",VLOOKUP(B137,expedidas,25))","v":"Diferença de remuneração - 3,17%"},{"$f":"IF(B137=\"\",\"\",VLOOKUP(B137,expedidas,17))","v":"Ministério da Fazenda"},{"$f":"IF(B137=\"\",\"\",VLOOKUP(B137,expedidas,27))","v":6},{"$f":"IF(B137=\"\",\"\",IF(W137=0,\" x x x \",VLOOKUP(B137,expedidas,28)))","v":"Mota & Advogados Associados"},{"$f":"IF(B137=\"\",\"\",VLOOKUP(B137,expedidas,29))","v":"03.996.810/0001-38"},{"$f":"IF(B137=\"\",\"\",VLOOKUP(B137,expedidas,30))","v":1},{"$f":"IF(B137=\"\",\"\",VLOOKUP(B137,expedidas,31))","v":"Mauro Menezes e Advogados"},{"$f":"IF(B137=\"\",\"\",IF(Z137=0,\"x x x\",VLOOKUP(B137,expedidas,32)))","v":"32.901.423/0001-79"},{"$f":"IF(B137=\"\",\"\",VLOOKUP(B137,expedidas,33))","v":1},{"$f":"IF(B137=\"\",\"\",IF(AC137=0,\" x x x \",VLOOKUP(B137,expedidas,34)))","v":"Caputo, Bastos e Serra Advogados"},{"$f":"IF(B137=\"\",\"\",IF(AC137=0,\" x x x \",VLOOKUP(B137,expedidas,35)))","v":"12.291.813/0001-67"},{"$f":"IF(B137=\"\",\"\",VLOOKUP(B137,expedidas,36))","v":0},{"$f":"IF(B137=\"\",\"\",IF(AF137=0,\" x x x \",VLOOKUP(B137,expedidas,37)))","v":" x x x "},{"$f":"IF(B137=\"\",\"\",IF(AF137=0,\" x x x \",VLOOKUP(B137,expedidas,38)))","v":" x x x "},{"$f":"IF(B137=\"\",\"\",VLOOKUP(B137,expedidas,39))","v":"Dedução de Honorários Contratuais"},{"$f":"IF(B137=\"\",\"\",VLOOKUP(B137,expedidas,40))","v":"Não"},{"$f":"IF(B137=\"\",\"\",VLOOKUP(B137,expedidas,41))","v":"Não"},{"$f":"IF(B137=\"\",\"\",VLOOKUP(B137,expedidas,42))","v":"Não"},{"$f":"IF(B137=\"\",\"\",VLOOKUP(B137,expedidas,43))","v":"-"},{"$f":"IF(B137=\"\",\"\",VLOOKUP(B137,expedidas,44))","v":"-"},{"$f":"IF(B137=\"\",\"\",VLOOKUP(B137,expedidas,45))","v":"Não informada"},{"$f":"IF(B137=\"\",\"\",VLOOKUP(B137,expedidas,46))","v":"Não Informada"},{"$f":"IF(B137=\"\",\"\",VLOOKUP(B137,expedidas,47))","v":"Não"},{"$f":"IF(B137=\"\",\"\",IF(I137=\"MS 11.371/DF\",0,VLOOKUP(B137,expedidas,49)+VLOOKUP(B137,expedidas,51)))","v":25584.28},{"$f":"IF(B137=\"\",\"\",IF(I137=\"MS 11.371/DF\",AT137,VLOOKUP(B137,expedidas,52)))","v":45188.740000000005},{"$f":"IF(B137=\"\",\"\",VLOOKUP(B137,expedidas,53))","v":70773.02},{"$f":"IF(B137=\"\",\"\",IF(I137=\"MS 11.371/DF\",0,VLOOKUP(B137,expedidas,54)))","v":1535.05},{"$f":"IF(B137=\"\",\"\",IF(I137=\"MS 11.371/DF\",AW137,VLOOKUP(B137,expedidas,55)))","v":2711.33},{"$f":"IF(B137=\"\",\"\",VLOOKUP(B137,expedidas,56))","v":4246.38},{"$f":"IF(B137=\"\",\"\",VLOOKUP(B137,expedidas,57))","v":255.84},{"$f":"IF(B137=\"\",\"\",VLOOKUP(B137,expedidas,58))","v":451.89},{"$f":"IF(B137=\"\",\"\",VLOOKUP(B137,expedidas,59))","v":707.73},{"$f":"IF(B137=\"\",\"\",VLOOKUP(B137,expedidas,60))","v":255.84},{"$f":"IF(B137=\"\",\"\",VLOOKUP(B137,expedidas,61))","v":451.89},{"$f":"IF(B137=\"\",\"\",VLOOKUP(B137,expedidas,62))","v":707.73},{"$f":"IF(B137=\"\",\"\",VLOOKUP(B137,expedidas,63))","v":0},{"$f":"IF(B137=\"\",\"\",VLOOKUP(B137,expedidas,64))","v":0},{"$f":"IF(B137=\"\",\"\",VLOOKUP(B137,expedidas,65))","v":0},{"$f":"IF(B137=\"\",\"\",IF(I137=\"MS 11.371/DF\",0,VLOOKUP(B137,expedidas,66)))","v":23537.55},{"$f":"IF(B137=\"\",\"\",IF(I137=\"MS 11.371/DF\",BI137,VLOOKUP(B137,expedidas,67)))","v":41573.629999999997},{"$f":"IF(B137=\"\",\"\",VLOOKUP(B137,expedidas,68))","v":65111.18},{"$f":"IF(B137=\"\",\"\",VLOOKUP(B137,expedidas,69))","v":30150.94},{"$f":"IF(B137=\"\",\"\",VLOOKUP(B137,expedidas,70))","v":3316.6},{"$f":"IF(B137=\"\",\"\",VLOOKUP(B137,expedidas,71))","v":6633.2},{"$f":"IF(B137=\"\",\"\",VLOOKUP(B137,expedidas,72))","v":53},{"$f":"IF(B137=\"\",\"\",IF(BM137=\"-\",\"-\",VLOOKUP(B137,expedidas,74)))","v":3316.6},null,{"$f":"IF($G137=\"\",\"\",IF(CA137=\"informar\",0,IF($G137=\"não\",0,BS137+BV137+BY137+CE137)))","v":0},{"$f":"IF($AS137=\"\",\"\",IF(G137=\"não\",0,BR137-BP137))","v":0},{"$f":"IF($G137=\"\",\"\",IF(BP137=0,0,IF($G137=\"não\",0,BU137+BX137+CA137+CG137)))","v":0},{"$f":"IF($G137=\"\",\"\",IF($G137=\"não\",0,IF(VLOOKUP(B137,expedidas,10)=\"sim\",0,\"informar\")))","v":0},{"$f":"IF($G137=\"\",\"\",IF($G137=\"não\",0,IF(VLOOKUP(B137,expedidas,10)=\"sim\",0,\"informar\")))","v":0},{"$f":"IF($G137=\"\",\"\",IF($G137=\"não\",0,IF(VLOOKUP(B137,expedidas,10)=\"sim\",0,\"informar\")))","v":0},{"$f":"IF($G137=\"\",\"\",IF($G137=\"não\",0,IF(VLOOKUP(B137,expedidas,10)=\"sim\",0,\"informar\")))","v":0},{"$f":"IF($G137=\"\",\"\",IF($G137=\"não\",0,IF(VLOOKUP(B137,expedidas,10)=\"sim\",0,\"informar\")))","v":0},{"$f":"IF($G137=\"\",\"\",IF($G137=\"não\",0,IF(VLOOKUP(B137,expedidas,10)=\"sim\",0,\"informar\")))","v":0},{"$f":"IF($G137=\"\",\"\",IF($G137=\"não\",0,IF(VLOOKUP(B137,expedidas,10)=\"sim\",0,\"informar\")))","v":0},{"$f":"IF($G137=\"\",\"\",IF($G137=\"não\",0,IF(VLOOKUP(B137,expedidas,10)=\"sim\",0,\"informar\")))","v":0},{"$f":"IF($G137=\"\",\"\",IF($G137=\"não\",0,IF(VLOOKUP(B137,expedidas,10)=\"sim\",0,\"informar\")))","v":0},{"$f":"IF($G137=\"\",\"\",IF($G137=\"não\",0,IF(VLOOKUP(B137,expedidas,10)=\"sim\",0,\"informar\")))","v":0},{"$f":"IF($G137=\"\",\"\",IF($G137=\"não\",0,IF(VLOOKUP(B137,expedidas,10)=\"sim\",0,\"informar\")))","v":0},{"$f":"IF($G137=\"\",\"\",IF($G137=\"não\",0,IF(VLOOKUP(B137,expedidas,10)=\"sim\",0,\"informar\")))","v":0},{"$f":"IF($G137=\"\",\"\",IF($G137=\"não\",0,IF(VLOOKUP(B137,expedidas,10)=\"NÃO\",\"informar\",VLOOKUP(B137,expedidas,75))))","v":0},{"$f":"IF($G137=\"\",\"\",IF(VLOOKUP(B137,expedidas,10)=\"sim\",0,IF($G137=\"não\",0,\"informar\")))","v":0},{"$f":"IF($G137=\"\",\"\",IF(VLOOKUP(B137,expedidas,10)=\"sim\",CE137,IF($G137=\"não\",0,\"informar\")))","v":0},{"$f":"IF(B137=\"\",\"\",IF(VLOOKUP(B137,expedidas,10)=\"sim\",0,IF(G137=\"não\",0,IF(BJ137=0,0,IF(BJ137=AR137,BP137,TRUNC(BJ137*BP137/AR137,2))))))","v":0},{"$f":"IF($BQ137=\"\",\"\",IF(G137=\"não\",0,IF(CH137=\"informar\",0,TRUNC(CH137*0.11,2))))","v":0},{"$f":"IF($BQ137=\"\",\"\",IF(G137=\"não\",0,IF(BL137=0,0,CI137*2)))","v":0},{"$f":"IF($BQ137=\"\",\"\",IF(G137=\"não\",0,IF(BN137=0,0,CI137)))","v":0},null,{"$f":"IF(AR137=\"\",\"\",IF(BP137=0,AR137,AR137-BP137))","v":25584.28},{"$f":"IF(AS137=\"\",\"\",IF(BQ137=0,AS137,AS137-BQ137))","v":45188.740000000005},{"$f":"IF(AT137=\"\",\"\",IF(BR137=0,AT137,AT137-BR137))","v":70773.02},{"$f":"IF(AU137=\"\",\"\",IF(BS137=0,AU137,AU137-BS137))","v":1535.05},{"$f":"IF(AV137=\"\",\"\",IF(BT137=0,AV137,AV137-BT137))","v":2711.33},{"$f":"IF(AW137=\"\",\"\",IF(BU137=0,AW137,AW137-BU137))","v":4246.38},{"$f":"IF(AX137=\"\",\"\",IF(BV137=0,AX137,AX137-BV137))","v":255.84},{"$f":"IF(AY137=\"\",\"\",IF(BW137=0,AY137,AY137-BW137))","v":451.89},{"$f":"IF(AZ137=\"\",\"\",IF(BX137=0,AZ137,AZ137-BX137))","v":707.73},{"$f":"IF(BA137=\"\",\"\",IF(BY137=0,BA137,BA137-BY137))","v":255.84},{"$f":"IF(BB137=\"\",\"\",IF(BZ137=0,BB137,BB137-BZ137))","v":451.89},{"$f":"IF(BC137=\"\",\"\",IF(CA137=0,BC137,BC137-CA137))","v":707.73},{"$f":"IF(BD137=\"\",\"\",IF(CB137=0,BD137,BD137-CB137))","v":0},{"$f":"IF(BE137=\"\",\"\",IF(CC137=0,BE137,BE137-CC137))","v":0},{"$f":"IF(BF137=\"\",\"\",IF(CD137=0,BF137,BF137-CD137))","v":0},{"$f":"IF(BG137=\"\",\"\",IF(CE137=0,BG137,BG137-CE137))","v":23537.55},{"$f":"IF(BH137=\"\",\"\",IF(CF137=0,BH137,BH137-CF137))","v":41573.629999999997},{"$f":"IF(BI137=\"\",\"\",IF(CG137=0,BI137,BI137-CG137))","v":65111.18},{"$f":"IF(CM137=\"\",\"\",IF(BJ137=AR137,CM137,TRUNC(CM137*(BJ137*100/AR137)/100,2)))","v":30150.94},{"$f":"IF(BK137=\"\",\"\",IF(CI137=0,BK137,BK137-CI137))","v":3316.6},{"$f":"IF(BL137=\"\",\"\",IF(CJ137=0,BL137,BL137-CJ137))","v":6633.2},{"$f":"DF137","v":3316.6},{"$f":"IF(B137=\"\",\"\",VLOOKUP(B137,expedidas,48))","v":"2022-10-01"},{"$f":"IF(DI137=\"\",\"\",IF(OR(DI137>=$DJ$7),1,1/VLOOKUP(DI137,indice,3)*VLOOKUP($DJ$7,indice,3)))","v":1},{"$f":"IF(DI137=\"\",\"\",IF(I137=\"ms 4.151/df\",VLOOKUP(DI137,indice,5),IF(DI137<$DJ$7,VLOOKUP(F137,indice,6),VLOOKUP(DI137,indice,5))))","v":{"$error":"#REF!"}},{"$f":"IF(DJ137=\"\",\"\",IF(DJ137=\"\",\"\",TRUNC((VLOOKUP(B137,expedidas,51))*DJ137,2)))","v":25584.28},{"$f":"IF(DJ137=\"\",\"\",IF(DJ137=\"\",\"\",(TRUNC((VLOOKUP(B137,expedidas,52))*DJ137,2))))","v":45188.74},{"$f":"IF(DK137=\"\",\"\",IF(DK137=\"informar\",\"\",VLOOKUP(B137,expedidas,49)+TRUNC(VLOOKUP(B137,expedidas,51)*DJ137*DK137/100,2)))","v":{"$error":"#REF!"}},{"$f":"IF(DI137=\"\",\"\",IF(I137=\"ms 4.151/df\",TRUNC(VLOOKUP(B137,expedidas,52)*DJ137*DK137/100,2),IF(VLOOKUP(B137,expedidas,50)=0,0,IF(AND(MONTH(DI137)=2,YEAR(DI137)=2022),0,IF(DK137=\"informar\",\"\",VLOOKUP(B137,expedidas,50)+TRUNC((VLOOKUP(B137,expedidas,52))*DJ137*DK137/100,2))))))","v":{"$error":"#REF!"}},{"$f":"IF(DJ137=\"\",\"\",IF(DJ137=\"\",\"\",DL137+DM137+DN137+DO137))","v":{"$error":"#REF!"}},{"$f":"IF(AT137=\"\",\"\",TRUNC(DP137*W137/100,2))","v":{"$error":"#REF!"}},{"$f":"IF($DJ137=\"\",\"\",TRUNC(DP137*Z137/100,2))","v":{"$error":"#REF!"}},{"$f":"IF($DJ137=\"\",\"\",TRUNC(DP137*AC137/100,2))","v":{"$error":"#REF!"}},{"$f":"IF($DJ137=\"\",\"\",TRUNC(DP137*AF137/100,2))","v":{"$error":"#REF!"}},{"$f":"IF(AT137=\"\",\"\",IF(DP137=\"\",\"\",DP137-DQ137-DR137-DS137-DT137))","v":{"$error":"#REF!"}},{"$f":"IF(DJ137=\"\",\"\",IF(BJ137=0,0,IF(I137=\"ms 4.151/df\",TRUNC(BJ137*DJ137,2)+TRUNC(BJ137*DK137/100,2),IF(BJ137<AR137,TRUNC((BJ137)+BJ137*DK137/100,2),DL137+DN137))))","v":{"$error":"#REF!"}},{"$f":"IF(DJ137=\"\",\"\",TRUNC(DV137*0.11,2))","v":{"$error":"#REF!"}},{"$f":"IF(BL137=0,0,((IF(DW137=\"\",\"\",IF(DW137>0,DW137*2,DW137)))))","v":{"$error":"#REF!"}},{"$f":"IF(DN137=\"\",\"\",IF(BM137=0,0,IF(DU137<(DM137+DO137),0,IF(DN137=0,0,(DU137-DM137))-DO137)))","v":{"$error":"#REF!"}},{"$f":"IF(DJ137=\"\",\"\",IF(DY137=0,0,DW137))","v":{"$error":"#REF!"}},null,{"$f":"IF(CO137=\"\",\"\",IF($G137=\"não\",0,EC137+ED137+EE137+EF137+EG137))","v":0},{"$f":"IF(CR137=\"\",\"\",IF($G137=\"não\",0,IF(BU137=AW137,DQ137,TRUNC(BU137*$DJ137,2))))","v":0},{"$f":"IF(CU137=\"\",\"\",IF($G137=\"não\",0,IF(BX137=AZ137,DR137,TRUNC(BX137*$DJ137,2))))","v":0},{"$f":"IF(CX137=\"\",\"\",IF($G137=\"não\",0,IF(CA137=BC137,DS137,TRUNC(CA137*$DJ137,2))))","v":0},{"$f":"IF(DA137=\"\",\"\",IF($G137=\"não\",0,IF(CD137=BF137,DT137,TRUNC(CD137*$DJ137,2))))","v":0},{"$f":"IF(DU137=\"\",\"\",IF($G137=\"não\",0,IF(CG137=BI137,DU137,VLOOKUP(B137,expedidas,76))))","v":{"$error":"#REF!"}},{"$f":"IF(CH137=\"\",\"\",IF($G137=\"não\",0,IF(BJ137=CH137,DV137,0)))","v":0},{"$f":"IF(EH137=\"\",\"\",TRUNC(EH137*0.11,2))","v":0},{"$f":"IF(CJ137=\"\",\"\",IF(CJ137=0,0,EI137*2))","v":0},{"$f":"IF(CK137=0,0,EI137)","v":0},null,{"$f":"IF(EB137=\"\",\"\",IF(G137=\"não\",DP137,EN137+EO137+EP137+EQ137+ER137))","v":{"$error":"#REF!"}},{"$f":"IF(EC137=\"\",\"\",IF(CR137=0,0,DQ137-EC137))","v":{"$error":"#REF!"}},{"$f":"IF(ED137=\"\",\"\",IF(CU137=0,0,DR137-ED137))","v":{"$error":"#REF!"}},{"$f":"IF(EE137=\"\",\"\",IF(CX137=0,0,DS137-EE137))","v":{"$error":"#REF!"}},{"$f":"IF(EF137=\"\",\"\",IF(DA137=0,0,DT137-EF137))","v":0},{"$f":"IF(EG137=\"\",\"\",IF(DD137=0,0,DU137-EG137))","v":{"$error":"#REF!"}},{"$f":"IF(DV137=\"\",\"\",IF(DV137=0,0,DV137-EH137))","v":{"$error":"#REF!"}},{"$f":"IF(ES137=\"\",\"\",IF(ES137=0,0,TRUNC(ES137*0.11,2)))","v":{"$error":"#REF!"}},{"$f":"IF(DX137=\"\",\"\",IF(DX137=0,0,ET137*2))","v":{"$error":"#REF!"}},{"$f":"IF(BM137=\"\",\"\",IF(BM137=0,0,ET137))","v":{"$error":"#REF!"}},null,0,{"$f":"IF(EX137>0,B137,0)","v":0},{"$f":"IF(AND(EX137>0,EX138=0),EX137,0)","v":0},{"$f":"IF(AND(EX137>0,EX136=0),EX137,0)","v":0},null,null,null,0,0,0,0]
[130,14852,"2022/0337201-0","2022-10-19","Paga em FEV-2023 - 4ª remessa","2023-02-01","NÃO",4,"AR 1.213/CE","1999-12-02","2002-08-12","Ação Rescisória 1.213/CE","2006/0045380-8","2021-06-02","Departamento Nacional de Obras contra a Seca – DNOCS","Administrativo - Servidor Público Civil - Sistema Remuneratório e Benefícios (PRINCIPAL)","Alimentar","Francisco Carvalho Goes","142.034.563-04","Servidor Público Civil Ativo","Anuênios","Departamento Nacional de Obras contra as Secas - DNOCS",0," x x x ","x x x",0," x x x ","x x x",0," x x x "," x x x ",0," x x x "," x x x ","x.x.x","Não","Não","Não","-","-","Não informada","Não Informada","Não",7821.41,9839.7899999999991,18580.23,0,0,0,0,0,0,0,0,0,0,0,0,7821.41,10758.82,18580.23,7821.42,860.35,1720.7,106,860.35,null,0,0,0,0,0,0,0,0,0,0,0,0,0,0,0,0,0,0,0,0,0,0,null,7821.41,9839.7899999999991,18580.23,0,0,0,0,0,0,0,0,0,0,0,0,7821.41,10758.82,18580.23,7821.42,860.35,1720.7,860.35,"2022-10-01",1,{"$error":"#REF!"},7153.3,9839.7900000000009,{"$error":"#REF!"},{"$error":"#REF!"},{"$error":"#REF!"},{"$error":"#REF!"},{"$error":"#REF!"},{"$error":"#REF!"},{"$error":"#REF!"},{"$error":"#REF!"},{"$error":"#REF!"},{"$error":"#REF!"},{"$error":"#REF!"},{"$error":"#REF!"},{"$error":"#REF!"},null,0,0,0,0,0,{"$error":"#REF!"},0,0,0,0,null,{"$error":"#REF!"},0,0,0,0,{"$error":"#REF!"},{"$error":"#REF!"},{"$error":"#REF!"},{"$error":"#REF!"},{"$error":"#REF!"},null,{"$f":"IF(F138=$EX$6,A138,0)","v":0},0,0,0,null,null,null,0,0,0,0]
[131,14853,"2022/0337209-4","2022-10-19","Paga em FEV-2023 - 4ª remessa","2023-02-01","NÃO",4,"AR 1.213/CE","1999-12-02","2002-08-12","Ação Rescisória 1.213/CE","2006/0045380-8","2021-06-02","Departamento Nacional de Obras contra a Seca – DNOCS","Administrativo - Servidor Público Civil - Sistema Remuneratório e Benefícios (PRINCIPAL)","Alimentar","Maria das Graças das Chagas","140.783.173-91","Servidor Público Civil Ativo","Anuênios","Departamento Nacional de Obras contra as Secas - DNOCS",0," x x x ","x x x",0," x x x ","x x x",0," x x x "," x x x ",0," x x x "," x x x ","x.x.x","Não","Não","Não","-","-","Não informada","Não Informada","Não",1421.8,3976.3899999999994,5769.58,0,0,0,0,0,0,0,0,0,0,0,0,1421.8,4347.78,5769.58,1421.81,156.38999999999999,312.77999999999997,106,156.38999999999999,null,0,0,0,0,0,0,0,0,0,0,0,0,0,0,0,0,0,0,0,0,0,0,null,1421.8,3976.3899999999994,5769.58,0,0,0,0,0,0,0,0,0,0,0,0,1421.8,4347.78,5769.58,1421.81,156.38999999999999,312.77999999999997,156.38999999999999,"2022-10-01",1,{"$error":"#REF!"},1300.3499999999999,3976.39,{"$error":"#REF!"},{"$error":"#REF!"},{"$error":"#REF!"},{"$error":"#REF!"},{"$error":"#REF!"},{"$error":"#REF!"},{"$error":"#REF!"},{"$error":"#REF!"},{"$error":"#REF!"},{"$error":"#REF!"},{"$error":"#REF!"},{"$error":"#REF!"},{"$error":"#REF!"},null,0,0,0,0,0,{"$error":"#REF!"},0,0,0,0,null,{"$error":"#REF!"},0,0,0,0,{"$error":"#REF!"},{"$error":"#REF!"},{"$error":"#REF!"},{"$error":"#REF!"},{"$error":"#REF!"},null,0,0,0,0,null,null,null,{"$f":"IF(AND(B139>0,B140=\"\"),B139,0)","v":0},{"$f":"IF(E139=\"\",0,IF(E139=$FE$5,A139,0))","v":0},{"$f":"IF(AND(FF139>0,FF138=0),FF139,0)","v":0},{"$f":"IF(FF139=\"\",\"\",IF(AND(FF139>0,FF140=0),FF139,0))","v":0}]
[132,14854,"2022/0337211-0","2022-10-19","Paga em FEV-2023 - 4ª remessa","2023-02-01","NÃO",4,"AR 1.213/CE","1999-12-02","2002-08-12","Ação Rescisória 1.213/CE","2006/0045380-8","2021-06-02","Departamento Nacional de Obras contra a Seca – DNOCS","Administrativo - Servidor Público Civil - Sistema Remuneratório e Benefícios (PRINCIPAL)","Alimentar","Milton Alves de Sousa","117.560.553-00","Servidor Público Civil Ativo","Anuênios","Departamento Nacional de Obras contra as Secas - DNOCS",0," x x x ","x x x",0," x x x ","x x x",0," x x x "," x x x ",0," x x x "," x x x ","x.x.x","Não","Não","Não","-","-","Não informada","Não Informada","Não",13092.98,16639.419999999998,31286.52,0,0,0,0,0,0,0,0,0,0,0,0,13092.98,18193.54,31286.52,13092.98,1440.22,2880.44,118,1440.22,null,0,0,0,0,0,0,0,0,0,0,0,0,0,0,0,0,0,0,0,0,0,0,null,13092.98,16639.419999999998,31286.52,0,0,0,0,0,0,0,0,0,0,0,0,13092.98,18193.54,31286.52,13092.98,1440.22,2880.44,1440.22,"2022-10-01",1,{"$error":"#REF!"},11974.56,16639.419999999998,{"$error":"#REF!"},{"$error":"#REF!"},{"$error":"#REF!"},{"$error":"#REF!"},{"$error":"#REF!"},{"$error":"#REF!"},{"$error":"#REF!"},{"$error":"#REF!"},{"$error":"#REF!"},{"$error":"#REF!"},{"$error":"#REF!"},{"$error":"#REF!"},{"$error":"#REF!"},null,0,0,0,0,0,{"$error":"#REF!"},0,0,0,0,null,{"$error":"#REF!"},0,0,0,0,{"$error":"#REF!"},{"$error":"#REF!"},{"$error":"#REF!"},{"$error":"#REF!"},{"$error":"#REF!"},null,0,0,0,0,null,null,null,0,0,0,0]
[133,14855,"2022/0337226-0","2022-10-19","Paga em FEV-2023 - 4ª remessa","2023-02-01","NÃO",4,"AR 1.213/CE","1999-12-02","2002-08-12","Ação Rescisória 1.213/CE","2006/0045380-8","2021-06-02","Departamento Nacional de Obras contra a Seca – DNOCS","Administrativo - Servidor Público Civil - Sistema Remuneratório e Benefícios (PRINCIPAL)","Alimentar","José Carneiro Fernandes","004.085.573-20","-","Verba Sucumbencial","-",0," x x x ","x x x",0," x x x ","x x x",0," x x x "," x x x ",0," x x x "," x x x ","x.x.x","Não","Não","Não","-","-","Não informada","Não Informada","Não",2958.16,5.6843418860808015E-14,2958.16,0,0,0,0,0,0,0,0,0,0,0,0,2958.16,0,2958.16,0,0,0,0,0,null,0,0,0,0,0,0,0,0,0,0,0,0,0,0,0,0,0,0,0,0,0,0,null,2958.16,5.6843418860808015E-14,2958.16,0,0,0,0,0,0,0,0,0,0,0,0,2958.16,0,2958.16,0,0,0,0,"2022-10-01",1,{"$error":"#REF!"},2705.47,0,{"$error":"#REF!"},0,{"$error":"#REF!"},{"$error":"#REF!"},{"$error":"#REF!"},{"$error":"#REF!"},{"$error":"#REF!"},{"$error":"#REF!"},0,0,0,{"$error":"#REF!"},{"$error":"#REF!"},null,0,0,0,0,0,{"$error":"#REF!"},0,0,0,0,null,{"$error":"#REF!"},0,0,0,0,{"$error":"#REF!"},0,0,0,0,null,0,0,0,0,null,null,null,0,0,0,0]
[134,14856,"2022/0338084-3","2022-10-20","Paga em FEV-2023 - 4ª remessa","2023-02-01","NÃO",4,"MS 4.151/DF","1995-07-21","1999-02-12","Mandado de Segurança 4.151/DF","2016/0128344-9","2022-08-03","UNIÃO","Administrativo - Servidor Público Civil - Reajustes de Remuneração, Proventos ou Pensão","Alimentar","Antonio Coelho Lopes","085.234.959-91","Servidor Público Civil Ativo","Diferença de remuneração - 3,17%","Ministério da Fazenda",6,"Mota & Advogados Associados","03.996.810/0001-38",1,"Mauro Menezes e Advogados","32.901.423/0001-79",1,"Caputo, Bastos e Serra Advogados","12.291.813/0001-67",0," x x x "," x x x ","Dedução de Honorários Contratuais","Não","Não","Não","-","-","Não informada","Não Informada","Não",20629.04,39079.479999999996,59708.52,1237.74,2344.77,3582.51,206.29,390.79,597.08000000000004,206.29,390.79,597.08000000000004,0,0,0,18978.72,35953.129999999997,54931.85,17550.23,1930.52,3861.04,53,1930.52,null,0,0,0,0,0,0,0,0,0,0,0,0,0,0,0,0,0,0,0,0,0,0,null,20629.04,39079.479999999996,59708.52,1237.74,2344.77,3582.51,206.29,390.79,597.08000000000004,206.29,390.79,597.08000000000004,0,0,0,18978.72,35953.129999999997,54931.85,17550.23,1930.52,3861.04,1930.52,"2022-10-01",1,{"$error":"#REF!"},20629.04,39079.480000000003,{"$error":"#REF!"},{"$error":"#REF!"},{"$error":"#REF!"},{"$error":"#REF!"},{"$error":"#REF!"},{"$error":"#REF!"},{"$error":"#REF!"},{"$error":"#REF!"},{"$error":"#REF!"},{"$error":"#REF!"},{"$error":"#REF!"},{"$error":"#REF!"},{"$error":"#REF!"},null,0,0,0,0,0,{"$error":"#REF!"},0,0,0,0,null,{"$error":"#REF!"},{"$error":"#REF!"},{"$error":"#REF!"},{"$error":"#REF!"},0,{"$error":"#REF!"},{"$error":"#REF!"},{"$error":"#REF!"},{"$error":"#REF!"},{"$error":"#REF!"},null,0,0,0,0,null,null,null,0,0,0,0]
[135,14857,"2022/0338086-7","2022-10-20","Paga em FEV-2023 - 4ª remessa","2023-02-01","NÃO",4,"MS 4.151/DF","1995-07-21","1999-02-12","Mandado de Segurança 4.151/DF","2016/0128344-9","2022-08-03","UNIÃO","Administrativo - Servidor Público Civil - Reajustes de Remuneração, Proventos ou Pensão","Alimentar","Antonio De Paiva Ferreira","238.873.466-53","Servidor Público Civil Ativo","Diferença de remuneração - 3,17%","Ministério da Fazenda",6,"Mota & Advogados Associados","03.996.810/0001-38",1,"Mauro Menezes e Advogados","32.901.423/0001-79",1,"Caputo, Bastos e Serra Advogados","12.291.813/0001-67",0," x x x "," x x x ","Dedução de Honorários Contratuais","Não","Não","Não","-","-","Não informada","Não Informada","Não",25472.959999999999,45093.140000000007,70566.100000000006,1528.37,2705.59,4233.96,254.72,450.94,705.66,254.72,450.94,705.66,0,0,0,23435.15,41485.67,64920.82,30064.02,3307.04,6614.08,53,3307.04,null,0,0,0,0,0,0,0,0,0,0,0,0,0,0,0,0,0,0,0,0,0,0,null,25472.959999999999,45093.140000000007,70566.100000000006,1528.37,2705.59,4233.96,254.72,450.94,705.66,254.72,450.94,705.66,0,0,0,23435.15,41485.67,64920.82,30064.02,3307.04,6614.08,3307.04,"2022-10-01",1,{"$error":"#REF!"},25472.959999999999,45093.14,{"$error":"#REF!"},{"$error":"#REF!"},{"$error":"#REF!"},{"$error":"#REF!"},{"$error":"#REF!"},{"$error":"#REF!"},{"$error":"#REF!"},{"$error":"#REF!"},{"$error":"#REF!"},{"$error":"#REF!"},{"$error":"#REF!"},{"$error":"#REF!"},{"$error":"#REF!"},null,0,0,0,0,0,{"$error":"#REF!"},0,0,0,0,null,{"$error":"#REF!"},{"$error":"#REF!"},{"$error":"#REF!"},{"$error":"#REF!"},0,{"$error":"#REF!"},{"$error":"#REF!"},{"$error":"#REF!"},{"$error":"#REF!"},{"$error":"#REF!"},null,0,0,0,0,null,null,null,0,0,0,0]
[136,14858,"2022/0338089-2","2022-10-20","Paga em FEV-2023 - 4ª remessa","2023-02-01","NÃO",4,"MS 4.151/DF","1995-07-21","1999-02-12","Mandado de Segurança 4.151/DF","2016/0157052-3","2022-08-09","UNIÃO","Administrativo - Servidor Público Civil - Reajustes de Remuneração, Proventos ou Pensão","Alimentar","Nelito de Jesus Ramos Campos","869.032.928-53","Servidor Público Civil Ativo","Diferença de remuneração - 3,17%","Ministério da Fazenda",6,"Mota & Advogados Associados","03.996.810/0001-38",1,"Mauro Menezes e Advogados","32.901.423/0001-79",1,"Caputo, Bastos e Serra Advogados","12.291.813/0001-67",0," x x x "," x x x ","Dedução de Honorários Contratuais","Não","Não","Não","-","-","Não informada","Não Informada","Não",21510.04,40662.159999999996,62172.2,1290.5999999999999,2439.73,3730.33,215.1,406.62,621.72,215.1,406.62,621.72,0,0,0,19789.240000000002,37409.19,57198.43,29152.35,3206.75,6413.5,53,3206.75,null,0,0,0,0,0,0,0,0,0,0,0,0,0,0,0,0,0,0,0,0,0,0,null,21510.04,40662.159999999996,62172.2,1290.5999999999999,2439.73,3730.33,215.1,406.62,621.72,215.1,406.62,621.72,0,0,0,19789.240000000002,37409.19,57198.43,29152.35,3206.75,6413.5,3206.75,"2022-10-01",1,{"$error":"#REF!"},21510.04,40662.160000000003,{"$error":"#REF!"},{"$error":"#REF!"},{"$error":"#REF!"},{"$error":"#REF!"},{"$error":"#REF!"},{"$error":"#REF!"},{"$error":"#REF!"},{"$error":"#REF!"},{"$error":"#REF!"},{"$error":"#REF!"},{"$error":"#REF!"},{"$error":"#REF!"},{"$error":"#REF!"},null,0,0,0,0,0,{"$error":"#REF!"},0,0,0,0,null,{"$error":"#REF!"},{"$error":"#REF!"},{"$error":"#REF!"},{"$error":"#REF!"},0,{"$error":"#REF!"},{"$error":"#REF!"},{"$error":"#REF!"},{"$error":"#REF!"},{"$error":"#REF!"},null,0,0,0,0,null,null,null,0,0,0,0]
[137,14859,"2022/0338090-7","2022-10-20","Paga em FEV-2023 - 4ª remessa","2023-02-01","NÃO",4,"MS 4.151/DF","1995-07-21","1999-02-12","Mandado de Segurança 4.151/DF","2016/0157052-3","2022-08-09","UNIÃO","Administrativo - Servidor Público Civil - Reajustes de Remuneração, Proventos ou Pensão","Alimentar","Nelson Cazarotti","743.512.908-97","Servidor Público Civil Ativo","Diferença de remuneração - 3,17%","Ministério da Fazenda",6,"Mota & Advogados Associados","03.996.810/0001-38",1,"Mauro Menezes e Advogados","32.901.423/0001-79",1,"Caputo, Bastos e Serra Advogados","12.291.813/0001-67",0," x x x "," x x x ","Dedução de Honorários Contratuais","Não","Não","Não","-","-","Não informada","Não Informada","Não",20902.400000000001,41310.869999999995,62213.27,1254.1400000000001,2478.65,3732.79,209.02,413.11,622.13,209.02,413.11,622.13,0,0,0,19230.22,38006,57236.22,30822.31,3390.45,6780.9,53,3390.45,null,0,0,0,0,0,0,0,0,0,0,0,0,0,0,0,0,0,0,0,0,0,0,null,20902.400000000001,41310.869999999995,62213.27,1254.1400000000001,2478.65,3732.79,209.02,413.11,622.13,209.02,413.11,622.13,0,0,0,19230.22,38006,57236.22,30822.31,3390.45,6780.9,3390.45,"2022-10-01",1,{"$error":"#REF!"},20902.400000000001,41310.870000000003,{"$error":"#REF!"},{"$error":"#REF!"},{"$error":"#REF!"},{"$error":"#REF!"},{"$error":"#REF!"},{"$error":"#REF!"},{"$error":"#REF!"},{"$error":"#REF!"},{"$error":"#REF!"},{"$error":"#REF!"},{"$error":"#REF!"},{"$error":"#REF!"},{"$error":"#REF!"},null,0,0,0,0,0,{"$error":"#REF!"},0,0,0,0,null,{"$error":"#REF!"},{"$error":"#REF!"},{"$error":"#REF!"},{"$error":"#REF!"},0,{"$error":"#REF!"},{"$error":"#REF!"},{"$error":"#REF!"},{"$error":"#REF!"},{"$error":"#REF!"},null,0,0,0,0,null,null,null,0,0,0,0]
[138,14860,"2022/0338092-0","2022-10-20","Paga em FEV-2023 - 4ª remessa","2023-02-01","NÃO",4,"MS 4.151/DF","1995-07-21","1999-02-12","Mandado de Segurança 4.151/DF","2016/0157052-3","2022-08-09","UNIÃO","Administrativo - Servidor Público Civil - Reajustes de Remuneração, Proventos ou Pensão","Alimentar","Nelio Machado de Vasconcelos","275.376.177-91","Servidor Público Civil Ativo","Diferença de remuneração - 3,17%","Ministério da Fazenda",6,"Mota & Advogados Associados","03.996.810/0001-38",1,"Mauro Menezes e Advogados","32.901.423/0001-79",1,"Caputo, Bastos e Serra Advogados","12.291.813/0001-67",0," x x x "," x x x ","Dedução de Honorários Contratuais","Não","Não","Não","-","-","Não informada","Não Informada","Não",18460.73,38134.17,56594.9,1107.6400000000001,2288.0500000000002,3395.69,184.6,381.34,565.94000000000005,184.6,381.34,565.94000000000005,0,0,0,16983.89,35083.440000000002,52067.33,29232.82,3215.61,6431.22,53,3215.61,null,0,0,0,0,0,0,0,0,0,0,0,0,0,0,0,0,0,0,0,0,0,0,null,18460.73,38134.17,56594.9,1107.6400000000001,2288.0500000000002,3395.69,184.6,381.34,565.94000000000005,184.6,381.34,565.94000000000005,0,0,0,16983.89,35083.440000000002,52067.33,29232.82,3215.61,6431.22,3215.61,"2022-10-01",1,{"$error":"#REF!"},18460.73,38134.17,{"$error":"#REF!"},{"$error":"#REF!"},{"$error":"#REF!"},{"$error":"#REF!"},{"$error":"#REF!"},{"$error":"#REF!"},{"$error":"#REF!"},{"$error":"#REF!"},{"$error":"#REF!"},{"$error":"#REF!"},{"$error":"#REF!"},{"$error":"#REF!"},{"$error":"#REF!"},null,0,0,0,0,0,{"$error":"#REF!"},0,0,0,0,null,{"$error":"#REF!"},{"$error":"#REF!"},{"$error":"#REF!"},{"$error":"#REF!"},0,{"$error":"#REF!"},{"$error":"#REF!"},{"$error":"#REF!"},{"$error":"#REF!"},{"$error":"#REF!"},null,0,0,0,0,null,null,null,0,0,0,0]
[139,14861,"2022/0338147-3","2022-10-20","Paga em FEV-2023 - 4ª remessa","2023-02-01","NÃO",4,"MS 4.151/DF","1995-07-21","1999-02-12","Mandado de Segurança 4.151/DF","2016/0164449-2","2021-10-07","UNIÃO","Administrativo - Servidor Público Civil - Reajustes de Remuneração, Proventos ou Pensão","Alimentar","Rita Aparecida Salgado","757.289.668-53","Servidor Público Civil Ativo","Diferença de remuneração - 3,17%","Ministério da Fazenda",6,"Mota & Advogados Associados","03.996.810/0001-38",1,"Mauro Menezes e Advogados","32.901.423/0001-79",1,"Caputo, Bastos e Serra Advogados","12.291.813/0001-67",0," x x x "," x x x ","Dedução de Honorários Contratuais","Não","Não","Não","-","-","Não informada","Não Informada","Não",13935.56,37815.850000000006,51751.41,836.13,2268.9499999999998,3105.08,139.35,378.16,517.51,139.35,378.16,517.51,0,0,0,12820.73,34790.58,47611.31,31795.1,3497.46,6994.92,53,3497.46,null,0,0,0,0,0,0,0,0,0,0,0,0,0,0,0,0,0,0,0,0,0,0,null,13935.56,37815.850000000006,51751.41,836.13,2268.9499999999998,3105.08,139.35,378.16,517.51,139.35,378.16,517.51,0,0,0,12820.73,34790.58,47611.31,31795.1,3497.46,6994.92,3497.46,"2022-10-01",1,{"$error":"#REF!"},13935.56,37815.85,{"$error":"#REF!"},{"$error":"#REF!"},{"$error":"#REF!"},{"$error":"#REF!"},{"$error":"#REF!"},{"$error":"#REF!"},{"$error":"#REF!"},{"$error":"#REF!"},{"$error":"#REF!"},{"$error":"#REF!"},{"$error":"#REF!"},{"$error":"#REF!"},{"$error":"#REF!"},null,0,0,0,0,0,{"$error":"#REF!"},0,0,0,0,null,{"$error":"#REF!"},{"$error":"#REF!"},{"$error":"#REF!"},{"$error":"#REF!"},0,{"$error":"#REF!"},{"$error":"#REF!"},{"$error":"#REF!"},{"$error":"#REF!"},{"$error":"#REF!"},null,0,0,0,0,null,null,null,0,0,0,0]
[140,14862,"2022/0338149-7","2022-10-20","Paga em FEV-2023 - 4ª remessa","2023-02-01","NÃO",4,"MS 4.151/DF","1995-07-21","1999-02-12","Mandado de Segurança 4.151/DF","2016/0164449-2","2021-10-07","UNIÃO","Administrativo - Servidor Público Civil - Reajustes de Remuneração, Proventos ou Pensão","Alimentar","Rita de Cassia de Miranda Ribeiro","185.646.825-91","Servidor Público Civil Ativo","Diferença de remuneração - 3,17%","Ministério da Fazenda",6,"Mota & Advogados Associados","03.996.810/0001-38",1,"Mauro Menezes e Advogados","32.901.423/0001-79",1,"Caputo, Bastos e Serra Advogados","12.291.813/0001-67",0," x x x "," x x x ","Dedução de Honorários Contratuais","Não","Não","Não","-","-","Não informada","Não Informada","Não",23455.42,42924.36,66379.78,1407.32,2575.46,3982.78,234.55,429.24,663.79,234.55,429.24,663.79,0,0,0,21579,39490.42,61069.42,29988.15,3298.69,6597.38,53,3298.69,null,0,0,0,0,0,0,0,0,0,0,0,0,0,0,0,0,0,0,0,0,0,0,null,23455.42,42924.36,66379.78,1407.32,2575.46,3982.78,234.55,429.24,663.79,234.55,429.24,663.79,0,0,0,21579,39490.42,61069.42,29988.15,3298.69,6597.38,3298.69,"2022-10-01",1,{"$error":"#REF!"},23455.42,42924.36,{"$error":"#REF!"},{"$error":"#REF!"},{"$error":"#REF!"},{"$error":"#REF!"},{"$error":"#REF!"},{"$error":"#REF!"},{"$error":"#REF!"},{"$error":"#REF!"},{"$error":"#REF!"},{"$error":"#REF!"},{"$error":"#REF!"},{"$error":"#REF!"},{"$error":"#REF!"},null,0,0,0,0,0,{"$error":"#REF!"},0,0,0,0,null,{"$error":"#REF!"},{"$error":"#REF!"},{"$error":"#REF!"},{"$error":"#REF!"},0,{"$error":"#REF!"},{"$error":"#REF!"},{"$error":"#REF!"},{"$error":"#REF!"},{"$error":"#REF!"},null,0,0,0,0,null,null,null,0,0,0,0]
[141,14863,"2022/0338169-9","2022-10-20","Paga em FEV-2023 - 4ª remessa","2023-02-01","NÃO",4,"MS 4.151/DF","1995-07-21","1999-02-12","Mandado de Segurança 4.151/DF","2016/0164449-2","2021-10-07","UNIÃO","Administrativo - Servidor Público Civil - Reajustes de Remuneração, Proventos ou Pensão","Alimentar","Rita Marta Marinelli Franco Maciel","361.139.569-20","Servidor Público Civil Ativo","Diferença de remuneração - 3,17%","Ministério da Fazenda",6,"Mota & Advogados Associados","03.996.810/0001-38",1,"Mauro Menezes e Advogados","32.901.423/0001-79",1,"Caputo, Bastos e Serra Advogados","12.291.813/0001-67",0," x x x "," x x x ","Dedução de Honorários Contratuais","Não","Não","Não","-","-","Não informada","Não Informada","Não",25893.65,46094.74,71988.39,1553.61,2765.69,4319.3,258.93,460.95,719.88,258.93,460.95,719.88,0,0,0,23822.18,42407.15,66229.33,30803.919999999998,3388.43,6776.86,53,3388.43,null,0,0,0,0,0,0,0,0,0,0,0,0,0,0,0,0,0,0,0,0,0,0,null,25893.65,46094.74,71988.39,1553.61,2765.69,4319.3,258.93,460.95,719.88,258.93,460.95,719.88,0,0,0,23822.18,42407.15,66229.33,30803.919999999998,3388.43,6776.86,3388.43,"2022-10-01",1,{"$error":"#REF!"},25893.65,46094.74,{"$error":"#REF!"},{"$error":"#REF!"},{"$error":"#REF!"},{"$error":"#REF!"},{"$error":"#REF!"},{"$error":"#REF!"},{"$error":"#REF!"},{"$error":"#REF!"},{"$error":"#REF!"},{"$error":"#REF!"},{"$error":"#REF!"},{"$error":"#REF!"},{"$error":"#REF!"},null,0,0,0,0,0,{"$error":"#REF!"},0,0,0,0,null,{"$error":"#REF!"},{"$error":"#REF!"},{"$error":"#REF!"},{"$error":"#REF!"},0,{"$error":"#REF!"},{"$error":"#REF!"},{"$error":"#REF!"},{"$error":"#REF!"},{"$error":"#REF!"},null,0,0,0,0,null,null,null,0,0,0,0]
[142,14865,"2022/0338181-6","2022-10-20","Paga em FEV-2023 - 4ª remessa","2023-02-01","NÃO",4,"MS 4.151/DF","1995-07-21","1999-02-12","Mandado de Segurança 4.151/DF","2016/0164449-2","2021-10-07","UNIÃO","Administrativo - Servidor Público Civil - Reajustes de Remuneração, Proventos ou Pensão","Alimentar","Roberto Alves Ribeiro","177.706.967-04","Servidor Público Civil Ativo","Diferença de remuneração - 3,17%","Ministério da Fazenda",6,"Mota & Advogados Associados","03.996.810/0001-38",1,"Mauro Menezes e Advogados","32.901.423/0001-79",1,"Caputo, Bastos e Serra Advogados","12.291.813/0001-67",0," x x x "," x x x ","Dedução de Honorários Contratuais","Não","Não","Não","-","-","Não informada","Não Informada","Não",24753.200000000001,45510.31,70263.509999999995,1485.19,2730.62,4215.8100000000004,247.53,455.1,702.63,247.53,455.1,702.63,0,0,0,22772.95,41869.49,64642.44,31896.43,3508.6,7017.2,53,3508.6,null,0,0,0,0,0,0,0,0,0,0,0,0,0,0,0,0,0,0,0,0,0,0,null,24753.200000000001,45510.31,70263.509999999995,1485.19,2730.62,4215.8100000000004,247.53,455.1,702.63,247.53,455.1,702.63,0,0,0,22772.95,41869.49,64642.44,31896.43,3508.6,7017.2,3508.6,"2022-10-01",1,{"$error":"#REF!"},24753.200000000001,45510.31,{"$error":"#REF!"},{"$error":"#REF!"},{"$error":"#REF!"},{"$error":"#REF!"},{"$error":"#REF!"},{"$error":"#REF!"},{"$error":"#REF!"},{"$error":"#REF!"},{"$error":"#REF!"},{"$error":"#REF!"},{"$error":"#REF!"},{"$error":"#REF!"},{"$error":"#REF!"},null,0,0,0,0,0,{"$error":"#REF!"},0,0,0,0,null,{"$error":"#REF!"},{"$error":"#REF!"},{"$error":"#REF!"},{"$error":"#REF!"},0,{"$error":"#REF!"},{"$error":"#REF!"},{"$error":"#REF!"},{"$error":"#REF!"},{"$error":"#REF!"},null,0,0,0,0,null,null,null,0,0,0,0]
[143,14866,"2022/0338184-1","2022-10-20","Paga em FEV-2023 - 4ª remessa","2023-02-01","NÃO",4,"MS 4.151/DF","1995-07-21","1999-02-12","Mandado de Segurança 4.151/DF","2016/0164449-2","2021-10-07","UNIÃO","Administrativo - Servidor Público Civil - Reajustes de Remuneração, Proventos ou Pensão","Alimentar","Ricardo Simone de Andrade","813.780.848-53","Servidor Público Civil Ativo","Diferença de remuneração - 3,17%","Ministério da Fazenda",6,"Mota & Advogados Associados","03.996.810/0001-38",1,"Mauro Menezes e Advogados","32.901.423/0001-79",1,"Caputo, Bastos e Serra Advogados","12.291.813/0001-67",0," x x x "," x x x ","Dedução de Honorários Contratuais","Não","Não","Não","-","-","Não informada","Não Informada","Não",25913.39,46023.210000000006,71936.600000000006,1554.8,2761.39,4316.1899999999996,259.13,460.23,719.36,259.13,460.23,719.36,0,0,0,23840.33,42341.36,66181.69,30687.17,3375.58,6751.16,53,3375.58,null,0,0,0,0,0,0,0,0,0,0,0,0,0,0,0,0,0,0,0,0,0,0,null,25913.39,46023.210000000006,71936.600000000006,1554.8,2761.39,4316.1899999999996,259.13,460.23,719.36,259.13,460.23,719.36,0,0,0,23840.33,42341.36,66181.69,30687.17,3375.58,6751.16,3375.58,"2022-10-01",1,{"$error":"#REF!"},25913.39,46023.21,{"$error":"#REF!"},{"$error":"#REF!"},{"$error":"#REF!"},{"$error":"#REF!"},{"$error":"#REF!"},{"$error":"#REF!"},{"$error":"#REF!"},{"$error":"#REF!"},{"$error":"#REF!"},{"$error":"#REF!"},{"$error":"#REF!"},{"$error":"#REF!"},{"$error":"#REF!"},null,0,0,0,0,0,{"$error":"#REF!"},0,0,0,0,null,{"$error":"#REF!"},{"$error":"#REF!"},{"$error":"#REF!"},{"$error":"#REF!"},0,{"$error":"#REF!"},{"$error":"#REF!"},{"$error":"#REF!"},{"$error":"#REF!"},{"$error":"#REF!"},null,0,0,0,0,null,null,null,0,0,0,0]
[144,14867,"2022/0338196-6","2022-10-20","Paga em FEV-2023 - 4ª remessa","2023-02-01","NÃO",4,"MS 4.151/DF","1995-07-21","1999-02-12","Mandado de Segurança 4.151/DF","2016/0164449-2","2021-10-07","UNIÃO","Administrativo - Servidor Público Civil - Reajustes de Remuneração, Proventos ou Pensão","Alimentar","Rita de Cassia Moraes Leonel","072.109.188-17","Servidor Público Civil Ativo","Diferença de remuneração - 3,17%","Ministério da Fazenda",6,"Mota & Advogados Associados","03.996.810/0001-38",1,"Mauro Menezes e Advogados","32.901.423/0001-79",1,"Caputo, Bastos e Serra Advogados","12.291.813/0001-67",0," x x x "," x x x ","Dedução de Honorários Contratuais","Não","Não","Não","-","-","Não informada","Não Informada","Não",22926.39,43534.539999999994,66460.929999999993,1375.58,2612.0700000000002,3987.65,229.26,435.34,664.6,229.26,435.34,664.6,0,0,0,21092.29,40051.79,61144.08,31458.65,3460.45,6920.9,53,3460.45,null,0,0,0,0,0,0,0,0,0,0,0,0,0,0,0,0,0,0,0,0,0,0,null,22926.39,43534.539999999994,66460.929999999993,1375.58,2612.0700000000002,3987.65,229.26,435.34,664.6,229.26,435.34,664.6,0,0,0,21092.29,40051.79,61144.08,31458.65,3460.45,6920.9,3460.45,"2022-10-01",1,{"$error":"#REF!"},22926.39,43534.54,{"$error":"#REF!"},{"$error":"#REF!"},{"$error":"#REF!"},{"$error":"#REF!"},{"$error":"#REF!"},{"$error":"#REF!"},{"$error":"#REF!"},{"$error":"#REF!"},{"$error":"#REF!"},{"$error":"#REF!"},{"$error":"#REF!"},{"$error":"#REF!"},{"$error":"#REF!"},null,0,0,0,0,0,{"$error":"#REF!"},0,0,0,0,null,{"$error":"#REF!"},{"$error":"#REF!"},{"$error":"#REF!"},{"$error":"#REF!"},0,{"$error":"#REF!"},{"$error":"#REF!"},{"$error":"#REF!"},{"$error":"#REF!"},{"$error":"#REF!"},null,0,0,0,0,null,null,null,0,0,0,0]
[145,14868,"2022/0338197-8","2022-10-20","Paga em FEV-2023 - 4ª remessa","2023-02-01","NÃO",4,"MS 4.151/DF","1995-07-21","1999-02-12","Mandado de Segurança 4.151/DF","2016/0164449-2","2021-10-07","UNIÃO","Administrativo - Servidor Público Civil - Reajustes de Remuneração, Proventos ou Pensão","Alimentar","Rita Maria Gaona ","031.037.948-27","Servidor Público Civil Ativo","Diferença de remuneração - 3,17%","Ministério da Fazenda",6,"Mota & Advogados Associados","03.996.810/0001-38",1,"Mauro Menezes e Advogados","32.901.423/0001-79",1,"Caputo, Bastos e Serra Advogados","12.291.813/0001-67",0," x x x "," x x x ","Dedução de Honorários Contratuais","Não","Não","Não","-","-","Não informada","Não Informada","Não",19999.580000000002,39900.04,59899.62,1199.97,2394,3593.97,199.99,399,598.99,199.99,399,598.99,0,0,0,18399.63,36708.04,55107.67,30096.78,3310.64,6621.28,53,3310.64,null,0,0,0,0,0,0,0,0,0,0,0,0,0,0,0,0,0,0,0,0,0,0,null,19999.580000000002,39900.04,59899.62,1199.97,2394,3593.97,199.99,399,598.99,199.99,399,598.99,0,0,0,18399.63,36708.04,55107.67,30096.78,3310.64,6621.28,3310.64,"2022-10-01",1,{"$error":"#REF!"},19999.580000000002,39900.04,{"$error":"#REF!"},{"$error":"#REF!"},{"$error":"#REF!"},{"$error":"#REF!"},{"$error":"#REF!"},{"$error":"#REF!"},{"$error":"#REF!"},{"$error":"#REF!"},{"$error":"#REF!"},{"$error":"#REF!"},{"$error":"#REF!"},{"$error":"#REF!"},{"$error":"#REF!"},null,0,0,0,0,0,{"$error":"#REF!"},0,0,0,0,null,{"$error":"#REF!"},{"$error":"#REF!"},{"$error":"#REF!"},{"$error":"#REF!"},0,{"$error":"#REF!"},{"$error":"#REF!"},{"$error":"#REF!"},{"$error":"#REF!"},{"$error":"#REF!"},null,0,0,0,0,null,null,null,0,0,0,0]
[146,14870,"2022/0338211-8","2022-10-20","Paga em FEV-2023 - 4ª remessa","2023-02-01","NÃO",4,"MS 4.151/DF","1995-07-21","1999-02-12","Mandado de Segurança 4.151/DF","2016/0164449-2","2021-10-07","UNIÃO","Administrativo - Servidor Público Civil - Reajustes de Remuneração, Proventos ou Pensão","Alimentar","Roberto Carvalheiro da Silva","012.869.688-52","Servidor Público Civil Ativo","Diferença de remuneração - 3,17%","Ministério da Fazenda",6,"Mota & Advogados Associados","03.996.810/0001-38",1,"Mauro Menezes e Advogados","32.901.423/0001-79",1,"Caputo, Bastos e Serra Advogados","12.291.813/0001-67",0," x x x "," x x x ","Dedução de Honorários Contratuais","Não","Não","Não","-","-","Não informada","Não Informada","Não",21924.55,40935.289999999994,62859.839999999997,1315.47,2456.12,3771.59,219.24,409.35,628.59,219.24,409.35,628.59,0,0,0,20170.599999999999,37660.47,57831.07,29167.45,3208.41,6416.82,53,3208.41,null,0,0,0,0,0,0,0,0,0,0,0,0,0,0,0,0,0,0,0,0,0,0,null,21924.55,40935.289999999994,62859.839999999997,1315.47,2456.12,3771.59,219.24,409.35,628.59,219.24,409.35,628.59,0,0,0,20170.599999999999,37660.47,57831.07,29167.45,3208.41,6416.82,3208.41,"2022-10-01",1,{"$error":"#REF!"},21924.55,40935.29,{"$error":"#REF!"},{"$error":"#REF!"},{"$error":"#REF!"},{"$error":"#REF!"},{"$error":"#REF!"},{"$error":"#REF!"},{"$error":"#REF!"},{"$error":"#REF!"},{"$error":"#REF!"},{"$error":"#REF!"},{"$error":"#REF!"},{"$error":"#REF!"},{"$error":"#REF!"},null,0,0,0,0,0,{"$error":"#REF!"},0,0,0,0,null,{"$error":"#REF!"},{"$error":"#REF!"},{"$error":"#REF!"},{"$error":"#REF!"},0,{"$error":"#REF!"},{"$error":"#REF!"},{"$error":"#REF!"},{"$error":"#REF!"},{"$error":"#REF!"},null,0,0,0,0,null,null,null,0,0,0,0]
[147,14871,"2022/0340374-5","2022-10-21","Paga em FEV-2023 - 4ª remessa","2023-02-01","NÃO",4,"AR 1.169/CE","1999-10-18","2004-06-07","Ação Rescisória 1.169/CE","2009/0056168-9","2013-08-01","Instituto Nacional do Seguro Social – INSS","Administrativo - Servidor Público Civil - Sistema Remuneratório e Benefícios","Alimentar","Maria Da Conceição Jorge Sampaio ","239.816.527-20","Servidor Público Civil Ativo","Anuênios","Instituto Nacional do Seguro Social - INSS",20,"Glayddes Sindeaux Advogados","17.291.820/0001-82",0," x x x ","x x x",0," x x x "," x x x ",0," x x x "," x x x ","Dedução de Honorários Contratuais","Não","Não","Não","-","-","Não informada","Não Informada","Não",9619.85,12761.800000000001,22381.65,1923.97,2552.36,4476.33,0,0,0,0,0,0,0,0,0,7695.88,10209.44,17905.32,1120.1099999999999,123.21,246.42,60,123.21,null,0,0,0,0,0,0,0,0,0,0,0,0,0,0,0,0,0,0,0,0,0,0,null,9619.85,12761.800000000001,22381.65,1923.97,2552.36,4476.33,0,0,0,0,0,0,0,0,0,7695.88,10209.44,17905.32,1120.1099999999999,123.21,246.42,123.21,"2022-10-01",1,{"$error":"#REF!"},8798.11,12761.8,{"$error":"#REF!"},0,{"$error":"#REF!"},{"$error":"#REF!"},{"$error":"#REF!"},{"$error":"#REF!"},{"$error":"#REF!"},{"$error":"#REF!"},{"$error":"#REF!"},{"$error":"#REF!"},{"$error":"#REF!"},{"$error":"#REF!"},{"$error":"#REF!"},null,0,0,0,0,0,{"$error":"#REF!"},0,0,0,0,null,{"$error":"#REF!"},{"$error":"#REF!"},0,0,0,{"$error":"#REF!"},{"$error":"#REF!"},{"$error":"#REF!"},{"$error":"#REF!"},{"$error":"#REF!"},null,0,0,0,0,null,null,null,0,0,0,0]
[148,14872,"2022/0340400-0","2022-10-21","Paga em FEV-2023 - 4ª remessa","2023-02-01","NÃO",4,"AR 1.169/CE","1999-10-18","2004-06-07","Ação Rescisória 1.169/CE","2009/0056168-9","2013-08-01","Instituto Nacional do Seguro Social – INSS","Administrativo - Servidor Público Civil - Sistema Remuneratório e Benefícios","Alimentar","Maria De Lourdes Santiago Mendonça ","045.550.403-25","Servidor Público Civil Ativo","Anuênios","Instituto Nacional do Seguro Social - INSS",10,"Glayddes Sindeaux Advogados","17.291.820/0001-82",0," x x x ","x x x",0," x x x "," x x x ",0," x x x "," x x x ","Dedução de Honorários Contratuais","Não","Não","Não","-","-","Não informada","Não Informada","Não",9467.66,12560.349999999999,22028.01,946.76,1256.04,2202.8000000000002,0,0,0,0,0,0,0,0,0,8520.9,11304.31,19825.21,8331.2900000000009,916.44,1832.88,116,916.44,null,0,0,0,0,0,0,0,0,0,0,0,0,0,0,0,0,0,0,0,0,0,0,null,9467.66,12560.349999999999,22028.01,946.76,1256.04,2202.8000000000002,0,0,0,0,0,0,0,0,0,8520.9,11304.31,19825.21,8331.2900000000009,916.44,1832.88,916.44,"2022-10-01",1,{"$error":"#REF!"},8658.92,12560.35,{"$error":"#REF!"},0,{"$error":"#REF!"},{"$error":"#REF!"},{"$error":"#REF!"},{"$error":"#REF!"},{"$error":"#REF!"},{"$error":"#REF!"},{"$error":"#REF!"},{"$error":"#REF!"},{"$error":"#REF!"},{"$error":"#REF!"},{"$error":"#REF!"},null,0,0,0,0,0,{"$error":"#REF!"},0,0,0,0,null,{"$error":"#REF!"},{"$error":"#REF!"},0,0,0,{"$error":"#REF!"},{"$error":"#REF!"},{"$error":"#REF!"},{"$error":"#REF!"},{"$error":"#REF!"},null,0,0,0,0,null,null,null,0,0,0,0]
[149,14873,"2022/0340862-1","2022-10-21","Paga em FEV-2023 - 4ª remessa","2023-02-01","NÃO",4,"AR 1.169/CE","1999-10-18","2004-06-07","Ação Rescisória 1.169/CE","2009/0055220-1","2014-09-30","Instituto Nacional do Seguro Social – INSS","Administrativo - Servidor Público Civil - Sistema Remuneratório e Benefícios","Alimentar","Alja Maria Aguiar De Freitas Guimarães ","014.873.883-49","Servidor Público Civil Ativo","Anuênios","Instituto Nacional do Seguro Social - INSS",10,"Glayddes Sindeaux Advogados","17.291.820/0001-82",0," x x x ","x x x",0," x x x "," x x x ",0," x x x "," x x x ","Dedução de Honorários Contratuais","Não","Não","Não","-","-","Não informada","Não Informada","Não",8263.58,9216.84,18270.3,826.35,1000.68,1827.03,0,0,0,0,0,0,0,0,0,7437.23,9006.0400000000009,16443.27,814.16,89.55,179.1,47,89.55,null,0,0,0,0,0,0,0,0,0,0,0,0,0,0,0,0,0,0,0,0,0,0,null,8263.58,9216.84,18270.3,826.35,1000.68,1827.03,0,0,0,0,0,0,0,0,0,7437.23,9006.0400000000009,16443.27,814.16,89.55,179.1,89.55,"2022-10-01",1,{"$error":"#REF!"},7611.3,9216.84,{"$error":"#REF!"},{"$error":"#REF!"},{"$error":"#REF!"},{"$error":"#REF!"},{"$error":"#REF!"},{"$error":"#REF!"},{"$error":"#REF!"},{"$error":"#REF!"},{"$error":"#REF!"},{"$error":"#REF!"},{"$error":"#REF!"},{"$error":"#REF!"},{"$error":"#REF!"},null,0,0,0,0,0,{"$error":"#REF!"},0,0,0,0,null,{"$error":"#REF!"},{"$error":"#REF!"},0,0,0,{"$error":"#REF!"},{"$error":"#REF!"},{"$error":"#REF!"},{"$error":"#REF!"},{"$error":"#REF!"},null,0,0,0,0,null,null,null,0,0,0,0]
[150,14874,"2022/0340866-9","2022-10-21","Paga em FEV-2023 - 4ª remessa","2023-02-01","NÃO",4,"AR 1.169/CE","1999-10-18","2004-06-07","Ação Rescisória 1.169/CE","2009/0055220-1","2014-09-30","Instituto Nacional do Seguro Social – INSS","Administrativo - Servidor Público Civil - Sistema Remuneratório e Benefícios","Alimentar","Almir Chagas Duarte ","010.723.233-20","Servidor Público Civil Ativo","Anuênios","Instituto Nacional do Seguro Social - INSS",10,"Glayddes Sindeaux Advogados","17.291.820/0001-82",0," x x x ","x x x",0," x x x "," x x x ",0," x x x "," x x x ","Dedução de Honorários Contratuais","Não","Não","Não","-","-","Não informada","Não Informada","Não",8622.36,9616.9999999999982,19063.53,862.23,1044.1199999999999,1906.35,0,0,0,0,0,0,0,0,0,7760.13,9397.0499999999993,17157.18,957.98,105.37,210.74,47,105.37,null,0,0,0,0,0,0,0,0,0,0,0,0,0,0,0,0,0,0,0,0,0,0,null,8622.36,9616.9999999999982,19063.53,862.23,1044.1199999999999,1906.35,0,0,0,0,0,0,0,0,0,7760.13,9397.0499999999993,17157.18,957.98,105.37,210.74,105.37,"2022-10-01",1,{"$error":"#REF!"},7941.76,9617,{"$error":"#REF!"},{"$error":"#REF!"},{"$error":"#REF!"},{"$error":"#REF!"},{"$error":"#REF!"},{"$error":"#REF!"},{"$error":"#REF!"},{"$error":"#REF!"},{"$error":"#REF!"},{"$error":"#REF!"},{"$error":"#REF!"},{"$error":"#REF!"},{"$error":"#REF!"},null,0,0,0,0,0,{"$error":"#REF!"},0,0,0,0,null,{"$error":"#REF!"},{"$error":"#REF!"},0,0,0,{"$error":"#REF!"},{"$error":"#REF!"},{"$error":"#REF!"},{"$error":"#REF!"},{"$error":"#REF!"},null,0,0,0,0,null,null,null,0,0,0,0]
[151,14875,"2022/0340870-9","2022-10-21","Paga em FEV-2023 - 4ª remessa","2023-02-01","NÃO",4,"AR 1.169/CE","1999-10-18","2004-06-07","Ação Rescisória 1.169/CE","2009/0055220-1","2014-09-30","Instituto Nacional do Seguro Social – INSS","Administrativo - Servidor Público Civil - Sistema Remuneratório e Benefícios","Alimentar","Aluízio Alves Martins ","071.757.443-15","Servidor Público Civil Ativo","Anuênios","Instituto Nacional do Seguro Social - INSS",10,"Glayddes Sindeaux Advogados","17.291.820/0001-82",0," x x x ","x x x",0," x x x "," x x x ",0," x x x "," x x x ","Dedução de Honorários Contratuais","Não","Não","Não","-","-","Não informada","Não Informada","Não",2126.19,2371.4600000000005,4700.88,212.61,257.47000000000003,470.08,0,0,0,0,0,0,0,0,0,1913.58,2317.2199999999998,4230.8,2126.19,233.88,467.76,47,233.88,null,0,0,0,0,0,0,0,0,0,0,0,0,0,0,0,0,0,0,0,0,0,0,null,2126.19,2371.4600000000005,4700.88,212.61,257.47000000000003,470.08,0,0,0,0,0,0,0,0,0,1913.58,2317.2199999999998,4230.8,2126.19,233.88,467.76,233.88,"2022-10-01",1,{"$error":"#REF!"},1958.36,2371.46,{"$error":"#REF!"},{"$error":"#REF!"},{"$error":"#REF!"},{"$error":"#REF!"},{"$error":"#REF!"},{"$error":"#REF!"},{"$error":"#REF!"},{"$error":"#REF!"},{"$error":"#REF!"},{"$error":"#REF!"},{"$error":"#REF!"},{"$error":"#REF!"},{"$error":"#REF!"},null,0,0,0,0,0,{"$error":"#REF!"},0,0,0,0,null,{"$error":"#REF!"},{"$error":"#REF!"},0,0,0,{"$error":"#REF!"},{"$error":"#REF!"},{"$error":"#REF!"},{"$error":"#REF!"},{"$error":"#REF!"},null,0,0,0,0,null,null,null,0,0,0,0]
[152,14876,"2022/0340871-0","2022-10-21","Paga em FEV-2023 - 4ª remessa","2023-02-01","NÃO",4,"AR 1.169/CE","1999-10-18","2004-06-07","Ação Rescisória 1.169/CE","2009/0055220-1","2014-09-30","Instituto Nacional do Seguro Social – INSS","Administrativo - Servidor Público Civil - Sistema Remuneratório e Benefícios","Alimentar","Aluízio Mário De Melo Mamede ","067.549.023-53","Servidor Público Civil Ativo","Anuênios","Instituto Nacional do Seguro Social - INSS",20,"Glayddes Sindeaux Advogados","17.291.820/0001-82",0," x x x ","x x x",0," x x x "," x x x ",0," x x x "," x x x ","Dedução de Honorários Contratuais","Não","Não","Não","-","-","Não informada","Não Informada","Não",5297.4,5908.48,11712.23,1059.48,1282.96,2342.44,0,0,0,0,0,0,0,0,0,4237.92,5131.87,9369.7900000000009,5297.4,582.71,1165.42,47,582.71,null,0,0,0,0,0,0,0,0,0,0,0,0,0,0,0,0,0,0,0,0,0,0,null,5297.4,5908.48,11712.23,1059.48,1282.96,2342.44,0,0,0,0,0,0,0,0,0,4237.92,5131.87,9369.7900000000009,5297.4,582.71,1165.42,582.71,"2022-10-01",1,{"$error":"#REF!"},4879.25,5908.48,{"$error":"#REF!"},{"$error":"#REF!"},{"$error":"#REF!"},{"$error":"#REF!"},{"$error":"#REF!"},{"$error":"#REF!"},{"$error":"#REF!"},{"$error":"#REF!"},{"$error":"#REF!"},{"$error":"#REF!"},{"$error":"#REF!"},{"$error":"#REF!"},{"$error":"#REF!"},null,0,0,0,0,0,{"$error":"#REF!"},0,0,0,0,null,{"$error":"#REF!"},{"$error":"#REF!"},0,0,0,{"$error":"#REF!"},{"$error":"#REF!"},{"$error":"#REF!"},{"$error":"#REF!"},{"$error":"#REF!"},null,0,0,0,0,null,null,null,0,0,0,0]
[153,14877,"2022/0340873-4","2022-10-21","Paga em FEV-2023 - 4ª remessa","2023-02-01","NÃO",4,"AR 1.169/CE","1999-10-18","2004-06-07","Ação Rescisória 1.169/CE","2009/0055220-1","2014-09-30","Instituto Nacional do Seguro Social – INSS","Administrativo - Servidor Público Civil - Sistema Remuneratório e Benefícios","Alimentar","Alzerina Felix De Carvalho ","223.141.563-15","Servidor Público Civil Ativo","Anuênios","Instituto Nacional do Seguro Social - INSS",10,"Glayddes Sindeaux Advogados","17.291.820/0001-82",0," x x x ","x x x",0," x x x "," x x x ",0," x x x "," x x x ","Dedução de Honorários Contratuais","Não","Não","Não","-","-","Não informada","Não Informada","Não",2475.33,2760.8700000000003,5472.8,247.53,299.75,547.28,0,0,0,0,0,0,0,0,0,2227.8000000000002,2697.72,4925.5200000000004,2475.33,272.27999999999997,544.55999999999995,47,272.27999999999997,null,0,0,0,0,0,0,0,0,0,0,0,0,0,0,0,0,0,0,0,0,0,0,null,2475.33,2760.8700000000003,5472.8,247.53,299.75,547.28,0,0,0,0,0,0,0,0,0,2227.8000000000002,2697.72,4925.5200000000004,2475.33,272.27999999999997,544.55999999999995,272.27999999999997,"2022-10-01",1,{"$error":"#REF!"},2279.94,2760.87,{"$error":"#REF!"},{"$error":"#REF!"},{"$error":"#REF!"},{"$error":"#REF!"},{"$error":"#REF!"},{"$error":"#REF!"},{"$error":"#REF!"},{"$error":"#REF!"},{"$error":"#REF!"},{"$error":"#REF!"},{"$error":"#REF!"},{"$error":"#REF!"},{"$error":"#REF!"},null,0,0,0,0,0,{"$error":"#REF!"},0,0,0,0,null,{"$error":"#REF!"},{"$error":"#REF!"},0,0,0,{"$error":"#REF!"},{"$error":"#REF!"},{"$error":"#REF!"},{"$error":"#REF!"},{"$error":"#REF!"},null,0,0,0,0,null,null,null,0,0,0,0]
[154,14878,"2022/0340876-0","2022-10-21","Paga em FEV-2023 - 4ª remessa","2023-02-01","NÃO",4,"AR 1.169/CE","1999-10-18","2004-06-07","Ação Rescisória 1.169/CE","2009/0055220-1","2014-09-30","Instituto Nacional do Seguro Social – INSS","Administrativo - Servidor Público Civil - Sistema Remuneratório e Benefícios","Alimentar","Espólio De Alzerina Ferreira Carvalho ","048.697.883-49","Servidor Público Civil Ativo","Anuênios","Instituto Nacional do Seguro Social - INSS",20,"Glayddes Sindeaux Advogados","17.291.820/0001-82",0," x x x ","x x x",0," x x x "," x x x ",0," x x x "," x x x ","Dedução de Honorários Contratuais","Não","Não","Não","-","-","Não informada","Não Informada","Não",5943.0599999999995,6628.6400000000012,13139.77,1188.6099999999999,1439.34,2627.95,0,0,0,0,0,0,0,0,0,4754.45,5757.37,10511.82,5943.06,653.73,1307.46,47,653.73,null,0,0,0,0,0,0,0,0,0,0,0,0,0,0,0,0,0,0,0,0,0,0,null,5943.0599999999995,6628.6400000000012,13139.77,1188.6099999999999,1439.34,2627.95,0,0,0,0,0,0,0,0,0,4754.45,5757.37,10511.82,5943.0599999999995,653.73,1307.46,653.73,"2022-10-01",1,{"$error":"#REF!"},5473.95,6628.64,{"$error":"#REF!"},{"$error":"#REF!"},{"$error":"#REF!"},{"$error":"#REF!"},{"$error":"#REF!"},{"$error":"#REF!"},{"$error":"#REF!"},{"$error":"#REF!"},{"$error":"#REF!"},{"$error":"#REF!"},{"$error":"#REF!"},{"$error":"#REF!"},{"$error":"#REF!"},null,0,0,0,0,0,{"$error":"#REF!"},0,0,0,0,null,{"$error":"#REF!"},{"$error":"#REF!"},0,0,0,{"$error":"#REF!"},{"$error":"#REF!"},{"$error":"#REF!"},{"$error":"#REF!"},{"$error":"#REF!"},null,0,0,0,0,null,null,null,0,0,0,0]
[155,14879,"2022/0340878-3","2022-10-21","Paga em FEV-2023 - 4ª remessa","2023-02-01","NÃO",4,"AR 1.169/CE","1999-10-18","2004-06-07","Ação Rescisória 1.169/CE","2009/0055220-1","2014-09-30","Instituto Nacional do Seguro Social – INSS","Administrativo - Servidor Público Civil - Sistema Remuneratório e Benefícios","Alimentar","Amélia Aguiar Batista ","037.415.403-15","Servidor Público Civil Ativo","Anuênios","Instituto Nacional do Seguro Social - INSS",10,"Glayddes Sindeaux Advogados","17.291.820/0001-82",0," x x x ","x x x",0," x x x "," x x x ",0," x x x "," x x x ","Dedução de Honorários Contratuais","Não","Não","Não","-","-","Não informada","Não Informada","Não",4949.82,5520.8200000000006,10943.77,494.98,599.39,1094.3699999999999,0,0,0,0,0,0,0,0,0,4454.84,5394.56,9849.4,4949.82,544.48,1088.96,47,544.48,null,0,0,0,0,0,0,0,0,0,0,0,0,0,0,0,0,0,0,0,0,0,0,null,4949.82,5520.8200000000006,10943.77,494.98,599.39,1094.3699999999999,0,0,0,0,0,0,0,0,0,4454.84,5394.56,9849.4,4949.82,544.48,1088.96,544.48,"2022-10-01",1,{"$error":"#REF!"},4559.1099999999997,5520.82,{"$error":"#REF!"},{"$error":"#REF!"},{"$error":"#REF!"},{"$error":"#REF!"},{"$error":"#REF!"},{"$error":"#REF!"},{"$error":"#REF!"},{"$error":"#REF!"},{"$error":"#REF!"},{"$error":"#REF!"},{"$error":"#REF!"},{"$error":"#REF!"},{"$error":"#REF!"},null,0,0,0,0,0,{"$error":"#REF!"},0,0,0,0,null,{"$error":"#REF!"},{"$error":"#REF!"},0,0,0,{"$error":"#REF!"},{"$error":"#REF!"},{"$error":"#REF!"},{"$error":"#REF!"},{"$error":"#REF!"},null,0,0,0,0,null,null,null,0,0,0,0]
[156,14880,"2022/0340882-3","2022-10-21","Paga em FEV-2023 - 4ª remessa","2023-02-01","NÃO",4,"AR 1.169/CE","1999-10-18","2004-06-07","Ação Rescisória 1.169/CE","2009/0055220-1","2014-09-30","Instituto Nacional do Seguro Social – INSS","Administrativo - Servidor Público Civil - Sistema Remuneratório e Benefícios","Alimentar","Ana Adail Ferreira De Mesquita ","074.140.803-15","Servidor Público Civil Ativo","Anuênios","Instituto Nacional do Seguro Social - INSS",10,"Glayddes Sindeaux Advogados","17.291.820/0001-82",0," x x x ","x x x",0," x x x "," x x x ",0," x x x "," x x x ","Dedução de Honorários Contratuais","Não","Não","Não","-","-","Não informada","Não Informada","Não",4169.79,4650.8100000000004,9219.17,416.97,504.94,921.91,0,0,0,0,0,0,0,0,0,3752.82,4544.4399999999996,8297.26,4169.79,458.67,917.34,47,458.67,null,0,0,0,0,0,0,0,0,0,0,0,0,0,0,0,0,0,0,0,0,0,0,null,4169.79,4650.8100000000004,9219.17,416.97,504.94,921.91,0,0,0,0,0,0,0,0,0,3752.82,4544.4399999999996,8297.26,4169.79,458.67,917.34,458.67,"2022-10-01",1,{"$error":"#REF!"},3840.65,4650.8100000000004,{"$error":"#REF!"},{"$error":"#REF!"},{"$error":"#REF!"},{"$error":"#REF!"},{"$error":"#REF!"},{"$error":"#REF!"},{"$error":"#REF!"},{"$error":"#REF!"},{"$error":"#REF!"},{"$error":"#REF!"},{"$error":"#REF!"},{"$error":"#REF!"},{"$error":"#REF!"},null,0,0,0,0,0,{"$error":"#REF!"},0,0,0,0,null,{"$error":"#REF!"},{"$error":"#REF!"},0,0,0,{"$error":"#REF!"},{"$error":"#REF!"},{"$error":"#REF!"},{"$error":"#REF!"},{"$error":"#REF!"},null,0,0,0,0,null,null,null,0,0,0,0]
[157,14881,"2022/0340883-5","2022-10-21","Paga em FEV-2023 - 4ª remessa","2023-02-01","NÃO",4,"AR 1.169/CE","1999-10-18","2004-06-07","Ação Rescisória 1.169/CE","2009/0055220-1","2014-09-30","Instituto Nacional do Seguro Social – INSS","Administrativo - Servidor Público Civil - Sistema Remuneratório e Benefícios","Alimentar","Ana Alves Da Silva ","223.163.613-15","Servidor Público Civil Ativo","Anuênios","Instituto Nacional do Seguro Social - INSS",10,"Glayddes Sindeaux Advogados","17.291.820/0001-82",0," x x x ","x x x",0," x x x "," x x x ",0," x x x "," x x x ","Dedução de Honorários Contratuais","Não","Não","Não","-","-","Não informada","Não Informada","Não",1367.8500000000001,1525.6299999999997,3024.22,136.78,165.64,302.42,0,0,0,0,0,0,0,0,0,1231.07,1490.73,2721.8,1367.85,150.46,300.92,47,150.46,null,0,0,0,0,0,0,0,0,0,0,0,0,0,0,0,0,0,0,0,0,0,0,null,1367.8500000000001,1525.6299999999997,3024.22,136.78,165.64,302.42,0,0,0,0,0,0,0,0,0,1231.07,1490.73,2721.8,1367.8500000000001,150.46,300.92,150.46,"2022-10-01",1,{"$error":"#REF!"},1259.8800000000001,1525.63,{"$error":"#REF!"},{"$error":"#REF!"},{"$error":"#REF!"},{"$error":"#REF!"},{"$error":"#REF!"},{"$error":"#REF!"},{"$error":"#REF!"},{"$error":"#REF!"},{"$error":"#REF!"},{"$error":"#REF!"},{"$error":"#REF!"},{"$error":"#REF!"},{"$error":"#REF!"},null,0,0,0,0,0,{"$error":"#REF!"},0,0,0,0,null,{"$error":"#REF!"},{"$error":"#REF!"},0,0,0,{"$error":"#REF!"},{"$error":"#REF!"},{"$error":"#REF!"},{"$error":"#REF!"},{"$error":"#REF!"},null,0,0,0,0,null,null,null,0,0,0,0]
[158,14882,"2022/0340886-0","2022-10-21","Paga em FEV-2023 - 4ª remessa","2023-02-01","NÃO",4,"AR 1.169/CE","1999-10-18","2004-06-07","Ação Rescisória 1.169/CE","2009/0055220-1","2014-09-30","Instituto Nacional do Seguro Social – INSS","Administrativo - Servidor Público Civil - Sistema Remuneratório e Benefícios","Alimentar","Ana Alves Rodrigues ","070.875.353-15","Servidor Público Civil Ativo","Anuênios","Instituto Nacional do Seguro Social - INSS",10,"Glayddes Sindeaux Advogados","17.291.820/0001-82",0," x x x ","x x x",0," x x x "," x x x ",0," x x x "," x x x ","Dedução de Honorários Contratuais","Não","Não","Não","-","-","Não informada","Não Informada","Não",5211.3100000000004,5812.48,11521.91,521.13,631.05999999999995,1152.19,0,0,0,0,0,0,0,0,0,4690.18,5679.54,10369.719999999999,5211.3100000000004,573.24,1146.48,47,573.24,null,0,0,0,0,0,0,0,0,0,0,0,0,0,0,0,0,0,0,0,0,0,0,null,5211.3100000000004,5812.48,11521.91,521.13,631.05999999999995,1152.19,0,0,0,0,0,0,0,0,0,4690.18,5679.54,10369.719999999999,5211.3100000000004,573.24,1146.48,573.24,"2022-10-01",1,{"$error":"#REF!"},4799.96,5812.48,{"$error":"#REF!"},{"$error":"#REF!"},{"$error":"#REF!"},{"$error":"#REF!"},{"$error":"#REF!"},{"$error":"#REF!"},{"$error":"#REF!"},{"$error":"#REF!"},{"$error":"#REF!"},{"$error":"#REF!"},{"$error":"#REF!"},{"$error":"#REF!"},{"$error":"#REF!"},null,0,0,0,0,0,{"$error":"#REF!"},0,0,0,0,null,{"$error":"#REF!"},{"$error":"#REF!"},0,0,0,{"$error":"#REF!"},{"$error":"#REF!"},{"$error":"#REF!"},{"$error":"#REF!"},{"$error":"#REF!"},null,0,0,0,0,null,null,null,0,0,0,0]
[159,14883,"2022/0340892-4","2022-10-21","Paga em FEV-2023 - 4ª remessa","2023-02-01","NÃO",4,"AR 1.169/CE","1999-10-18","2004-06-07","Ação Rescisória 1.169/CE","2009/0055220-1","2014-09-30","Instituto Nacional do Seguro Social – INSS","Administrativo - Servidor Público Civil - Sistema Remuneratório e Benefícios","Alimentar","Ana Cleide Moura Maia Farias ","167.506.833-04","Servidor Público Civil Ativo","Anuênios","Instituto Nacional do Seguro Social - INSS",10,"Glayddes Sindeaux Advogados","17.291.820/0001-82",0," x x x ","x x x",0," x x x "," x x x ",0," x x x "," x x x ","Dedução de Honorários Contratuais","Não","Não","Não","-","-","Não informada","Não Informada","Não",2604.48,2904.9200000000005,5758.35,260.44,315.39,575.83000000000004,0,0,0,0,0,0,0,0,0,2344.04,2838.48,5182.5200000000004,2604.48,286.49,572.98,47,286.49,null,0,0,0,0,0,0,0,0,0,0,0,0,0,0,0,0,0,0,0,0,0,0,null,2604.48,2904.9200000000005,5758.35,260.44,315.39,575.83000000000004,0,0,0,0,0,0,0,0,0,2344.04,2838.48,5182.5200000000004,2604.48,286.49,572.98,286.49,"2022-10-01",1,{"$error":"#REF!"},2398.9,2904.92,{"$error":"#REF!"},{"$error":"#REF!"},{"$error":"#REF!"},{"$error":"#REF!"},{"$error":"#REF!"},{"$error":"#REF!"},{"$error":"#REF!"},{"$error":"#REF!"},{"$error":"#REF!"},{"$error":"#REF!"},{"$error":"#REF!"},{"$error":"#REF!"},{"$error":"#REF!"},null,0,0,0,0,0,{"$error":"#REF!"},0,0,0,0,null,{"$error":"#REF!"},{"$error":"#REF!"},0,0,0,{"$error":"#REF!"},{"$error":"#REF!"},{"$error":"#REF!"},{"$error":"#REF!"},{"$error":"#REF!"},null,0,0,0,0,null,null,null,0,0,0,0]
[160,14884,"2022/0340897-3","2022-10-21","Paga em FEV-2023 - 4ª remessa","2023-02-01","NÃO",4,"AR 1.169/CE","1999-10-18","2004-06-07","Ação Rescisória 1.169/CE","2009/0055220-1","2014-09-30","Instituto Nacional do Seguro Social – INSS","Administrativo - Servidor Público Civil - Sistema Remuneratório e Benefícios","Alimentar","Ana Cristina De Melo Craveiro ","248.754.653-00","Servidor Público Civil Ativo","Anuênios","Instituto Nacional do Seguro Social - INSS",10,"Glayddes Sindeaux Advogados","17.291.820/0001-82",0," x x x ","x x x",0," x x x "," x x x ",0," x x x "," x x x ","Dedução de Honorários Contratuais","Não","Não","Não","-","-","Não informada","Não Informada","Não",2034.9099999999999,2269.66,4499.07,203.49,246.41,449.9,0,0,0,0,0,0,0,0,0,1831.42,2217.75,4049.17,2034.91,223.84,447.68,47,223.84,null,0,0,0,0,0,0,0,0,0,0,0,0,0,0,0,0,0,0,0,0,0,0,null,2034.9099999999999,2269.66,4499.07,203.49,246.41,449.9,0,0,0,0,0,0,0,0,0,1831.42,2217.75,4049.17,2034.9099999999999,223.84,447.68,223.84,"2022-10-01",1,{"$error":"#REF!"},1874.29,2269.66,{"$error":"#REF!"},{"$error":"#REF!"},{"$error":"#REF!"},{"$error":"#REF!"},{"$error":"#REF!"},{"$error":"#REF!"},{"$error":"#REF!"},{"$error":"#REF!"},{"$error":"#REF!"},{"$error":"#REF!"},{"$error":"#REF!"},{"$error":"#REF!"},{"$error":"#REF!"},null,0,0,0,0,0,{"$error":"#REF!"},0,0,0,0,null,{"$error":"#REF!"},{"$error":"#REF!"},0,0,0,{"$error":"#REF!"},{"$error":"#REF!"},{"$error":"#REF!"},{"$error":"#REF!"},{"$error":"#REF!"},null,0,0,0,0,null,null,null,0,0,0,0]
[161,14885,"2022/0340921-4","2022-10-21","Paga em FEV-2023 - 4ª remessa","2023-02-01","NÃO",4,"AR 1.169/CE","1999-10-18","2004-06-07","Ação Rescisória 1.169/CE","2009/0055220-1","2014-09-30","Instituto Nacional do Seguro Social – INSS","Administrativo - Servidor Público Civil - Sistema Remuneratório e Benefícios","Alimentar","Ana Cristine De Matos Rolim","220.316.423-91","Servidor Público Civil Ativo","Anuênios","Instituto Nacional do Seguro Social - INSS",10,"Glayddes Sindeaux Advogados","17.291.820/0001-82",0," x x x ","x x x",0," x x x "," x x x ",0," x x x "," x x x ","Dedução de Honorários Contratuais","Não","Não","Não","-","-","Não informada","Não Informada","Não",2823.87,3149.62,6243.41,282.38,341.96,624.34,0,0,0,0,0,0,0,0,0,2541.4899999999998,3077.58,5619.07,2823.87,310.62,621.24,47,310.62,null,0,0,0,0,0,0,0,0,0,0,0,0,0,0,0,0,0,0,0,0,0,0,null,2823.87,3149.62,6243.41,282.38,341.96,624.34,0,0,0,0,0,0,0,0,0,2541.4899999999998,3077.58,5619.07,2823.87,310.62,621.24,310.62,"2022-10-01",1,{"$error":"#REF!"},2600.9699999999998,3149.62,{"$error":"#REF!"},{"$error":"#REF!"},{"$error":"#REF!"},{"$error":"#REF!"},{"$error":"#REF!"},{"$error":"#REF!"},{"$error":"#REF!"},{"$error":"#REF!"},{"$error":"#REF!"},{"$error":"#REF!"},{"$error":"#REF!"},{"$error":"#REF!"},{"$error":"#REF!"},null,0,0,0,0,0,{"$error":"#REF!"},0,0,0,0,null,{"$error":"#REF!"},{"$error":"#REF!"},0,0,0,{"$error":"#REF!"},{"$error":"#REF!"},{"$error":"#REF!"},{"$error":"#REF!"},{"$error":"#REF!"},null,0,0,0,0,null,null,null,0,0,0,0]
[162,14886,"2022/0340925-1","2022-10-21","Paga em FEV-2023 - 4ª remessa","2023-02-01","NÃO",4,"AR 1.169/CE","1999-10-18","2004-06-07","Ação Rescisória 1.169/CE","2009/0055220-1","2014-09-30","Instituto Nacional do Seguro Social – INSS","Administrativo - Servidor Público Civil - Sistema Remuneratório e Benefícios","Alimentar","Ana Ilde Maria De Oliveira Ricarte","116.879.833-72","Servidor Público Civil Ativo","Anuênios","Instituto Nacional do Seguro Social - INSS",10,"Glayddes Sindeaux Advogados","17.291.820/0001-82",0," x x x ","x x x",0," x x x "," x x x ",0," x x x "," x x x ","Dedução de Honorários Contratuais","Não","Não","Não","-","-","Não informada","Não Informada","Não",3225.22,3597.2799999999997,7130.78,322.52,390.55,713.07,0,0,0,0,0,0,0,0,0,2902.7,3515.01,6417.71,3225.22,354.77,709.54,47,354.77,null,0,0,0,0,0,0,0,0,0,0,0,0,0,0,0,0,0,0,0,0,0,0,null,3225.22,3597.2799999999997,7130.78,322.52,390.55,713.07,0,0,0,0,0,0,0,0,0,2902.7,3515.01,6417.71,3225.22,354.77,709.54,354.77,"2022-10-01",1,{"$error":"#REF!"},2970.64,3597.28,{"$error":"#REF!"},{"$error":"#REF!"},{"$error":"#REF!"},{"$error":"#REF!"},{"$error":"#REF!"},{"$error":"#REF!"},{"$error":"#REF!"},{"$error":"#REF!"},{"$error":"#REF!"},{"$error":"#REF!"},{"$error":"#REF!"},{"$error":"#REF!"},{"$error":"#REF!"},null,0,0,0,0,0,{"$error":"#REF!"},0,0,0,0,null,{"$error":"#REF!"},{"$error":"#REF!"},0,0,0,{"$error":"#REF!"},{"$error":"#REF!"},{"$error":"#REF!"},{"$error":"#REF!"},{"$error":"#REF!"},null,0,0,0,0,null,null,null,0,0,0,0]
[163,14887,"2022/0340936-4","2022-10-21","Paga em FEV-2023 - 4ª remessa","2023-02-01","NÃO",4,"AR 1.169/CE","1999-10-18","2004-06-07","Ação Rescisória 1.169/CE","2009/0055220-1","2014-09-30","Instituto Nacional do Seguro Social – INSS","Administrativo - Servidor Público Civil - Sistema Remuneratório e Benefícios","Alimentar","Ana Lúcia Bezerra De Carvalho ","303.055.193-87","Servidor Público Civil Ativo","Anuênios","Instituto Nacional do Seguro Social - INSS",10,"Glayddes Sindeaux Advogados","17.291.820/0001-82",0," x x x ","x x x",0," x x x "," x x x ",0," x x x "," x x x ","Dedução de Honorários Contratuais","Não","Não","Não","-","-","Não informada","Não Informada","Não",1367.8500000000001,1525.6299999999997,3024.22,136.78,165.64,302.42,0,0,0,0,0,0,0,0,0,1231.07,1490.73,2721.8,1367.85,150.46,300.92,47,150.46,null,0,0,0,0,0,0,0,0,0,0,0,0,0,0,0,0,0,0,0,0,0,0,null,1367.8500000000001,1525.6299999999997,3024.22,136.78,165.64,302.42,0,0,0,0,0,0,0,0,0,1231.07,1490.73,2721.8,1367.8500000000001,150.46,300.92,150.46,"2022-10-01",1,{"$error":"#REF!"},1259.8800000000001,1525.63,{"$error":"#REF!"},{"$error":"#REF!"},{"$error":"#REF!"},{"$error":"#REF!"},{"$error":"#REF!"},{"$error":"#REF!"},{"$error":"#REF!"},{"$error":"#REF!"},{"$error":"#REF!"},{"$error":"#REF!"},{"$error":"#REF!"},{"$error":"#REF!"},{"$error":"#REF!"},null,0,0,0,0,0,{"$error":"#REF!"},0,0,0,0,null,{"$error":"#REF!"},{"$error":"#REF!"},0,0,0,{"$error":"#REF!"},{"$error":"#REF!"},{"$error":"#REF!"},{"$error":"#REF!"},{"$error":"#REF!"},null,0,0,0,0,null,null,null,0,0,0,0]
[164,14889,"2022/0340940-4","2022-10-21","Paga em FEV-2023 - 4ª remessa","2023-02-01","NÃO",4,"AR 1.169/CE","1999-10-18","2004-06-07","Ação Rescisória 1.169/CE","2009/0055220-1","2014-09-30","Instituto Nacional do Seguro Social – INSS","Administrativo - Servidor Público Civil - Sistema Remuneratório e Benefícios","Alimentar","Ana Lúcia Santiago Felix ","122.977.043-72","Servidor Público Civil Ativo","Anuênios","Instituto Nacional do Seguro Social - INSS",10,"Glayddes Sindeaux Advogados","17.291.820/0001-82",0," x x x ","x x x",0," x x x "," x x x ",0," x x x "," x x x ","Dedução de Honorários Contratuais","Não","Não","Não","-","-","Não informada","Não Informada","Não",2644.04,2949.0400000000004,5845.81,264.39999999999998,320.18,584.58000000000004,0,0,0,0,0,0,0,0,0,2379.64,2881.59,5261.23,2644.04,290.83999999999997,581.67999999999995,47,290.83999999999997,null,0,0,0,0,0,0,0,0,0,0,0,0,0,0,0,0,0,0,0,0,0,0,null,2644.04,2949.0400000000004,5845.81,264.39999999999998,320.18,584.58000000000004,0,0,0,0,0,0,0,0,0,2379.64,2881.59,5261.23,2644.04,290.83999999999997,581.67999999999995,290.83999999999997,"2022-10-01",1,{"$error":"#REF!"},2435.34,2949.04,{"$error":"#REF!"},{"$error":"#REF!"},{"$error":"#REF!"},{"$error":"#REF!"},{"$error":"#REF!"},{"$error":"#REF!"},{"$error":"#REF!"},{"$error":"#REF!"},{"$error":"#REF!"},{"$error":"#REF!"},{"$error":"#REF!"},{"$error":"#REF!"},{"$error":"#REF!"},null,0,0,0,0,0,{"$error":"#REF!"},0,0,0,0,null,{"$error":"#REF!"},{"$error":"#REF!"},0,0,0,{"$error":"#REF!"},{"$error":"#REF!"},{"$error":"#REF!"},{"$error":"#REF!"},{"$error":"#REF!"},null,0,0,0,0,null,null,null,0,0,0,0]
[165,14890,"2022/0340942-8","2022-10-21","Paga em FEV-2023 - 4ª remessa","2023-02-01","NÃO",4,"AR 1.169/CE","1999-10-18","2004-06-07","Ação Rescisória 1.169/CE","2009/0055220-1","2014-09-30","Instituto Nacional do Seguro Social – INSS","Administrativo - Servidor Público Civil - Sistema Remuneratório e Benefícios","Alimentar","Ana Margarida Furtado Arruda Rosemberg","045.009.383-20","Servidor Público Civil Ativo","Anuênios","Instituto Nacional do Seguro Social - INSS",10,"Glayddes Sindeaux Advogados","17.291.820/0001-82",0," x x x ","x x x",0," x x x "," x x x ",0," x x x "," x x x ","Dedução de Honorários Contratuais","Não","Não","Não","-","-","Não informada","Não Informada","Não",10660.26,11889.98,23569.21,1066.02,1290.9000000000001,2356.92,0,0,0,0,0,0,0,0,0,9594.24,11618.05,21212.29,10660.26,1172.6199999999999,2345.2399999999998,47,1172.6199999999999,null,0,0,0,0,0,0,0,0,0,0,0,0,0,0,0,0,0,0,0,0,0,0,null,10660.26,11889.98,23569.21,1066.02,1290.9000000000001,2356.92,0,0,0,0,0,0,0,0,0,9594.24,11618.05,21212.29,10660.26,1172.6199999999999,2345.2399999999998,1172.6199999999999,"2022-10-01",1,{"$error":"#REF!"},9818.7900000000009,11889.98,{"$error":"#REF!"},{"$error":"#REF!"},{"$error":"#REF!"},{"$error":"#REF!"},{"$error":"#REF!"},{"$error":"#REF!"},{"$error":"#REF!"},{"$error":"#REF!"},{"$error":"#REF!"},{"$error":"#REF!"},{"$error":"#REF!"},{"$error":"#REF!"},{"$error":"#REF!"},null,0,0,0,0,0,{"$error":"#REF!"},0,0,0,0,null,{"$error":"#REF!"},{"$error":"#REF!"},0,0,0,{"$error":"#REF!"},{"$error":"#REF!"},{"$error":"#REF!"},{"$error":"#REF!"},{"$error":"#REF!"},null,0,0,0,0,null,null,null,0,0,0,0]
[166,14891,"2022/0340949-0","2022-10-21","Paga em FEV-2023 - 4ª remessa","2023-02-01","NÃO",4,"AR 1.169/CE","1999-10-18","2004-06-07","Ação Rescisória 1.169/CE","2009/0055220-1","2014-09-30","Instituto Nacional do Seguro Social – INSS","Administrativo - Servidor Público Civil - Sistema Remuneratório e Benefícios","Alimentar","Ana Maria Andrade Da Silva ","122.187.073-49","Servidor Público Civil Ativo","Anuênios","Instituto Nacional do Seguro Social - INSS",10,"Glayddes Sindeaux Advogados","17.291.820/0001-82",0," x x x ","x x x",0," x x x "," x x x ",0," x x x "," x x x ","Dedução de Honorários Contratuais","Não","Não","Não","-","-","Não informada","Não Informada","Não",2453.21,2736.1999999999994,5423.9,245.32,297.07,542.39,0,0,0,0,0,0,0,0,0,2207.89,2673.62,4881.51,2453.21,269.85000000000002,539.70000000000005,47,269.85000000000002,null,0,0,0,0,0,0,0,0,0,0,0,0,0,0,0,0,0,0,0,0,0,0,null,2453.21,2736.1999999999994,5423.9,245.32,297.07,542.39,0,0,0,0,0,0,0,0,0,2207.89,2673.62,4881.51,2453.21,269.85000000000002,539.70000000000005,269.85000000000002,"2022-10-01",1,{"$error":"#REF!"},2259.5700000000002,2736.2,{"$error":"#REF!"},{"$error":"#REF!"},{"$error":"#REF!"},{"$error":"#REF!"},{"$error":"#REF!"},{"$error":"#REF!"},{"$error":"#REF!"},{"$error":"#REF!"},{"$error":"#REF!"},{"$error":"#REF!"},{"$error":"#REF!"},{"$error":"#REF!"},{"$error":"#REF!"},null,0,0,0,0,0,{"$error":"#REF!"},0,0,0,0,null,{"$error":"#REF!"},{"$error":"#REF!"},0,0,0,{"$error":"#REF!"},{"$error":"#REF!"},{"$error":"#REF!"},{"$error":"#REF!"},{"$error":"#REF!"},null,0,0,0,0,null,null,null,0,0,0,0]
[167,14892,"2022/0340933-9","2022-10-21","Paga em FEV-2023 - 4ª remessa","2023-02-01","NÃO",4,"AR 1.169/CE","1999-10-18","2004-06-07","Ação Rescisória 1.169/CE","2009/0055220-1","2014-09-30","Instituto Nacional do Seguro Social – INSS","Administrativo - Servidor Público Civil - Sistema Remuneratório e Benefícios","Alimentar","Ana Lourdes Pinho Carvalho ","124.092.603-06","Servidor Público Civil Ativo","Anuênios","Instituto Nacional do Seguro Social - INSS",10,"Glayddes Sindeaux Advogados","17.291.820/0001-82",0," x x x ","x x x",0," x x x "," x x x ",0," x x x "," x x x ","Dedução de Honorários Contratuais","Não","Não","Não","-","-","Não informada","Não Informada","Não",2693.38,3004.09,5954.92,269.33,326.16000000000003,595.49,0,0,0,0,0,0,0,0,0,2424.0500000000002,2935.38,5359.43,2693.38,296.27,592.54,47,296.27,null,0,0,0,0,0,0,0,0,0,0,0,0,0,0,0,0,0,0,0,0,0,0,null,2693.38,3004.09,5954.92,269.33,326.16000000000003,595.49,0,0,0,0,0,0,0,0,0,2424.0500000000002,2935.38,5359.43,2693.38,296.27,592.54,296.27,"2022-10-01",1,{"$error":"#REF!"},2480.7800000000002,3004.09,{"$error":"#REF!"},{"$error":"#REF!"},{"$error":"#REF!"},{"$error":"#REF!"},{"$error":"#REF!"},{"$error":"#REF!"},{"$error":"#REF!"},{"$error":"#REF!"},{"$error":"#REF!"},{"$error":"#REF!"},{"$error":"#REF!"},{"$error":"#REF!"},{"$error":"#REF!"},null,0,0,0,0,0,{"$error":"#REF!"},0,0,0,0,null,{"$error":"#REF!"},{"$error":"#REF!"},0,0,0,{"$error":"#REF!"},{"$error":"#REF!"},{"$error":"#REF!"},{"$error":"#REF!"},{"$error":"#REF!"},null,0,0,0,0,null,null,null,0,0,0,0]
[168,14893,"2022/0341820-1","2022-10-24","Paga em FEV-2023 - 4ª remessa","2023-02-01","NÃO",4,"AR 1.169/CE","1999-10-18","2004-06-07","Ação Rescisória 1.169/CE","2009/0055220-1","2014-09-30","Instituto Nacional do Seguro Social – INSS","Administrativo - Servidor Público Civil - Sistema Remuneratório e Benefícios","Alimentar","Ana Maria Baima Cartaxo ","013.934.303-25","Servidor Público Civil Ativo","Anuênios","Instituto Nacional do Seguro Social - INSS",10,"Glayddes Sindeaux Advogados","17.291.820/0001-82",0," x x x ","x x x",0," x x x "," x x x ",0," x x x "," x x x ","Dedução de Honorários Contratuais","Não","Não","Não","-","-","Não informada","Não Informada","Não",14261.21,15906.330000000002,31530.71,1426.12,1726.95,3153.07,0,0,0,0,0,0,0,0,0,12835.09,15542.55,28377.64,14261.21,1568.73,3137.46,47,1568.73,null,0,0,0,0,0,0,0,0,0,0,0,0,0,0,0,0,0,0,0,0,0,0,null,14261.21,15906.330000000002,31530.71,1426.12,1726.95,3153.07,0,0,0,0,0,0,0,0,0,12835.09,15542.55,28377.64,14261.21,1568.73,3137.46,1568.73,"2022-10-01",1,{"$error":"#REF!"},13135.5,15906.33,{"$error":"#REF!"},{"$error":"#REF!"},{"$error":"#REF!"},{"$error":"#REF!"},{"$error":"#REF!"},{"$error":"#REF!"},{"$error":"#REF!"},{"$error":"#REF!"},{"$error":"#REF!"},{"$error":"#REF!"},{"$error":"#REF!"},{"$error":"#REF!"},{"$error":"#REF!"},null,0,0,0,0,0,{"$error":"#REF!"},0,0,0,0,null,{"$error":"#REF!"},{"$error":"#REF!"},0,0,0,{"$error":"#REF!"},{"$error":"#REF!"},{"$error":"#REF!"},{"$error":"#REF!"},{"$error":"#REF!"},null,0,0,0,0,null,null,null,0,0,0,0]
[169,14894,"2022/0341882-0","2022-10-24","Paga em FEV-2023 - 4ª remessa","2023-02-01","NÃO",4,"AR 1.169/CE","1999-10-18","2004-06-07","Ação Rescisória 1.169/CE","2009/0055220-1","2014-09-30","Instituto Nacional do Seguro Social – INSS","Administrativo - Servidor Público Civil - Sistema Remuneratório e Benefícios","Alimentar","Ana Maria Borges De Farias ","028.385.243-72","Servidor Público Civil Ativo","Anuênios","Instituto Nacional do Seguro Social - INSS",10,"Glayddes Sindeaux Advogados","17.291.820/0001-82",0," x x x ","x x x",0," x x x "," x x x ",0," x x x "," x x x ","Dedução de Honorários Contratuais","Não","Não","Não","-","-","Não informada","Não Informada","Não",14432.060000000001,16096.899999999996,31908.46,1443.2,1747.64,3190.84,0,0,0,0,0,0,0,0,0,12988.86,15728.76,28717.62,2057.13,226.28,452.56,47,226.28,null,0,0,0,0,0,0,0,0,0,0,0,0,0,0,0,0,0,0,0,0,0,0,null,14432.060000000001,16096.899999999996,31908.46,1443.2,1747.64,3190.84,0,0,0,0,0,0,0,0,0,12988.86,15728.76,28717.62,2057.13,226.28,452.56,226.28,"2022-10-01",1,{"$error":"#REF!"},13292.87,16096.9,{"$error":"#REF!"},{"$error":"#REF!"},{"$error":"#REF!"},{"$error":"#REF!"},{"$error":"#REF!"},{"$error":"#REF!"},{"$error":"#REF!"},{"$error":"#REF!"},{"$error":"#REF!"},{"$error":"#REF!"},{"$error":"#REF!"},{"$error":"#REF!"},{"$error":"#REF!"},null,0,0,0,0,0,{"$error":"#REF!"},0,0,0,0,null,{"$error":"#REF!"},{"$error":"#REF!"},0,0,0,{"$error":"#REF!"},{"$error":"#REF!"},{"$error":"#REF!"},{"$error":"#REF!"},{"$error":"#REF!"},null,0,0,0,0,null,null,null,0,0,0,0]
[170,14896,"2022/0341886-8","2022-10-24","Paga em FEV-2023 - 4ª remessa","2023-02-01","NÃO",4,"AR 1.169/CE","1999-10-18","2004-06-07","Ação Rescisória 1.169/CE","2009/0055220-1","2014-09-30","Instituto Nacional do Seguro Social – INSS","Administrativo - Servidor Público Civil - Sistema Remuneratório e Benefícios","Alimentar","Ana Maria Da Costa E Sena ","135.279.404-72","Servidor Público Civil Ativo","Anuênios","Instituto Nacional do Seguro Social - INSS",10,"Glayddes Sindeaux Advogados","17.291.820/0001-82",0," x x x ","x x x",0," x x x "," x x x ",0," x x x "," x x x ","Dedução de Honorários Contratuais","Não","Não","Não","-","-","Não informada","Não Informada","Não",2495.67,2783.5599999999995,5517.78,249.56,302.20999999999998,551.77,0,0,0,0,0,0,0,0,0,2246.11,2719.9,4966.01,2495.67,274.52,549.04,47,274.52,null,0,0,0,0,0,0,0,0,0,0,0,0,0,0,0,0,0,0,0,0,0,0,null,2495.67,2783.5599999999995,5517.78,249.56,302.20999999999998,551.77,0,0,0,0,0,0,0,0,0,2246.11,2719.9,4966.01,2495.67,274.52,549.04,274.52,"2022-10-01",1,{"$error":"#REF!"},2298.6799999999998,2783.56,{"$error":"#REF!"},{"$error":"#REF!"},{"$error":"#REF!"},{"$error":"#REF!"},{"$error":"#REF!"},{"$error":"#REF!"},{"$error":"#REF!"},{"$error":"#REF!"},{"$error":"#REF!"},{"$error":"#REF!"},{"$error":"#REF!"},{"$error":"#REF!"},{"$error":"#REF!"},null,0,0,0,0,0,{"$error":"#REF!"},0,0,0,0,null,{"$error":"#REF!"},{"$error":"#REF!"},0,0,0,{"$error":"#REF!"},{"$error":"#REF!"},{"$error":"#REF!"},{"$error":"#REF!"},{"$error":"#REF!"},null,0,0,0,0,null,null,null,0,0,0,0]
[171,14897,"2022/0342908-0","2022-10-24","Paga em FEV-2023 - 4ª remessa","2023-02-01","NÃO",4,"MS 4.151/DF","1995-07-21","1999-02-12","Mandado de Segurança 4.151/DF","2016/0128484-0","2022-08-03","UNIÃO","Administrativo - Servidor Público Civil - Reajustes de Remuneração, Proventos ou Pensão","Alimentar","Espolio De Antonio Vitelli De Carvalho","065.769.668-49","Servidor Público Civil Inativo","Diferença de remuneração - 3,17%","Ministério da Fazenda",4,"Mota & Advogados Associados","03.996.810/0001-38",1,"Mauro Menezes e Advogados","32.901.423/0001-79",1,"Caputo, Bastos e Serra Advogados","12.291.813/0001-67",5,"Ibaneis Advocacia e Consultoria Sociedade Simples","05.613.437/0001-14","Dedução de Honorários Contratuais","Não","Não","Não","-","-","Não informada","Não Informada","Não",25743.919999999998,46976.08,72720,1029.75,1879.05,2908.8,257.43,469.77,727.2,257.43,469.77,727.2,1287.19,2348.81,3636,22912.12,41808.68,64720.800000000003,0,0,0,53,0,null,0,0,0,0,0,0,0,0,0,0,0,0,0,0,0,0,0,0,0,0,0,0,null,25743.919999999998,46976.08,72720,1029.75,1879.05,2908.8,257.43,469.77,727.2,257.43,469.77,727.2,1287.19,2348.81,3636,22912.12,41808.68,64720.800000000003,0,0,0,0,"2022-10-01",1,{"$error":"#REF!"},25743.919999999998,46976.08,{"$error":"#REF!"},{"$error":"#REF!"},{"$error":"#REF!"},{"$error":"#REF!"},{"$error":"#REF!"},{"$error":"#REF!"},{"$error":"#REF!"},{"$error":"#REF!"},0,0,0,{"$error":"#REF!"},{"$error":"#REF!"},null,0,0,0,0,0,{"$error":"#REF!"},0,0,0,0,null,{"$error":"#REF!"},{"$error":"#REF!"},{"$error":"#REF!"},{"$error":"#REF!"},{"$error":"#REF!"},{"$error":"#REF!"},0,0,0,0,null,0,0,0,0,null,null,null,0,0,0,0]
[172,14898,"2022/0342910-6","2022-10-24","Paga em FEV-2023 - 4ª remessa","2023-02-01","NÃO",4,"MS 4.151/DF","1995-07-21","1999-02-12","Mandado de Segurança 4.151/DF","2016/0174886-0","2022-08-03","UNIÃO","Administrativo - Servidor Público Civil - Reajustes de Remuneração, Proventos ou Pensão","Alimentar","Solange Contador Sneideris","798.048.888-15","Servidor Público Civil Ativo","Diferença de remuneração - 3,17%","Ministério da Fazenda",6,"Mota & Advogados Associados","03.996.810/0001-38",1,"Mauro Menezes e Advogados","32.901.423/0001-79",1,"Caputo, Bastos e Serra Advogados","12.291.813/0001-67",0," x x x "," x x x ","Dedução de Honorários Contratuais","Não","Não","Não","-","-","Não informada","Não Informada","Não",24911.06,43958.210000000006,68869.27,1494.66,2637.49,4132.1499999999996,249.11,439.58,688.69,249.11,439.58,688.69,0,0,0,22918.18,40441.56,63359.74,29208.86,3212.97,6425.94,53,3212.97,null,0,0,0,0,0,0,0,0,0,0,0,0,0,0,0,0,0,0,0,0,0,0,null,24911.06,43958.210000000006,68869.27,1494.66,2637.49,4132.1499999999996,249.11,439.58,688.69,249.11,439.58,688.69,0,0,0,22918.18,40441.56,63359.74,29208.86,3212.97,6425.94,3212.97,"2022-10-01",1,{"$error":"#REF!"},24911.06,43958.21,{"$error":"#REF!"},{"$error":"#REF!"},{"$error":"#REF!"},{"$error":"#REF!"},{"$error":"#REF!"},{"$error":"#REF!"},{"$error":"#REF!"},{"$error":"#REF!"},{"$error":"#REF!"},{"$error":"#REF!"},{"$error":"#REF!"},{"$error":"#REF!"},{"$error":"#REF!"},null,0,0,0,0,0,{"$error":"#REF!"},0,0,0,0,null,{"$error":"#REF!"},{"$error":"#REF!"},{"$error":"#REF!"},{"$error":"#REF!"},0,{"$error":"#REF!"},{"$error":"#REF!"},{"$error":"#REF!"},{"$error":"#REF!"},{"$error":"#REF!"},null,0,0,0,0,null,null,null,0,0,0,0]
[173,14899,"2022/0342919-2","2022-10-24","Paga em FEV-2023 - 4ª remessa","2023-02-01","NÃO",4,"MS 4.151/DF","1995-07-21","1999-02-12","Mandado de Segurança 4.151/DF","2016/0174886-0","2022-08-03","UNIÃO","Administrativo - Servidor Público Civil - Reajustes de Remuneração, Proventos ou Pensão","Alimentar","Solange Gamonal","047.621.006-25","Servidor Público Civil Inativo","Diferença de remuneração - 3,17%","Ministério da Fazenda",6,"Mota & Advogados Associados","03.996.810/0001-38",1,"Mauro Menezes e Advogados","32.901.423/0001-79",1,"Caputo, Bastos e Serra Advogados","12.291.813/0001-67",0," x x x "," x x x ","Dedução de Honorários Contratuais","Não","Não","Não","-","-","Não informada","Não Informada","Não",26200.11,46519.89,72720,1572,2791.2,4363.2,262,465.2,727.2,262,465.2,727.2,0,0,0,24104.11,42798.29,66902.399999999994,0,0,0,53,0,null,0,0,0,0,0,0,0,0,0,0,0,0,0,0,0,0,0,0,0,0,0,0,null,26200.11,46519.89,72720,1572,2791.2,4363.2,262,465.2,727.2,262,465.2,727.2,0,0,0,24104.11,42798.29,66902.399999999994,0,0,0,0,"2022-10-01",1,{"$error":"#REF!"},26200.11,46519.89,{"$error":"#REF!"},{"$error":"#REF!"},{"$error":"#REF!"},{"$error":"#REF!"},{"$error":"#REF!"},{"$error":"#REF!"},{"$error":"#REF!"},{"$error":"#REF!"},0,0,0,{"$error":"#REF!"},{"$error":"#REF!"},null,0,0,0,0,0,{"$error":"#REF!"},0,0,0,0,null,{"$error":"#REF!"},{"$error":"#REF!"},{"$error":"#REF!"},{"$error":"#REF!"},0,{"$error":"#REF!"},0,0,0,0,null,0,0,0,0,null,null,null,0,0,0,0]
[174,14900,"2022/0342921-9","2022-10-24","Paga em FEV-2023 - 4ª remessa","2023-02-01","NÃO",4,"MS 4.151/DF","1995-07-21","1999-02-12","Mandado de Segurança 4.151/DF","2016/0174886-0","2022-08-03","UNIÃO","Administrativo - Servidor Público Civil - Reajustes de Remuneração, Proventos ou Pensão","Alimentar","Solange Kokol Pinto","868.339.288-00","Servidor Público Civil Ativo","Diferença de remuneração - 3,17%","Ministério da Fazenda",6,"Mota & Advogados Associados","03.996.810/0001-38",1,"Mauro Menezes e Advogados","32.901.423/0001-79",1,"Caputo, Bastos e Serra Advogados","12.291.813/0001-67",0," x x x "," x x x ","Dedução de Honorários Contratuais","Não","Não","Não","-","-","Não informada","Não Informada","Não",25959.05,45449.229999999996,71408.28,1557.54,2726.95,4284.49,259.58999999999997,454.49,714.08,259.58999999999997,454.49,714.08,0,0,0,23882.33,41813.300000000003,65695.63,30013.94,3301.53,6603.06,53,3301.53,null,0,0,0,0,0,0,0,0,0,0,0,0,0,0,0,0,0,0,0,0,0,0,null,25959.05,45449.229999999996,71408.28,1557.54,2726.95,4284.49,259.58999999999997,454.49,714.08,259.58999999999997,454.49,714.08,0,0,0,23882.33,41813.300000000003,65695.63,30013.94,3301.53,6603.06,3301.53,"2022-10-01",1,{"$error":"#REF!"},25959.05,45449.23,{"$error":"#REF!"},{"$error":"#REF!"},{"$error":"#REF!"},{"$error":"#REF!"},{"$error":"#REF!"},{"$error":"#REF!"},{"$error":"#REF!"},{"$error":"#REF!"},{"$error":"#REF!"},{"$error":"#REF!"},{"$error":"#REF!"},{"$error":"#REF!"},{"$error":"#REF!"},null,0,0,0,0,0,{"$error":"#REF!"},0,0,0,0,null,{"$error":"#REF!"},{"$error":"#REF!"},{"$error":"#REF!"},{"$error":"#REF!"},0,{"$error":"#REF!"},{"$error":"#REF!"},{"$error":"#REF!"},{"$error":"#REF!"},{"$error":"#REF!"},null,0,0,0,0,null,null,null,0,0,0,0]
[175,14901,"2022/0342926-8","2022-10-24","Paga em FEV-2023 - 4ª remessa","2023-02-01","NÃO",4,"MS 4.151/DF","1995-07-21","1999-02-12","Mandado de Segurança 4.151/DF","2016/0174886-0","2022-08-03","UNIÃO","Administrativo - Servidor Público Civil - Reajustes de Remuneração, Proventos ou Pensão","Alimentar","Solange Metzker Morgado","641.477.547-91","Servidor Público Civil Ativo","Diferença de remuneração - 3,17%","Ministério da Fazenda",9,"Mota & Advogados Associados","03.996.810/0001-38",2,"Mauro Menezes e Advogados","32.901.423/0001-79",1,"Caputo, Bastos e Serra Advogados","12.291.813/0001-67",0," x x x "," x x x ","Dedução de Honorários Contratuais","Não","Não","Não","-","-","Não informada","Não Informada","Não",24325.42,43882.729999999996,68208.149999999994,2189.2800000000002,3949.45,6138.73,486.5,877.66,1364.16,243.25,438.83,682.08,0,0,0,21406.39,38616.79,60023.18,30170.97,3318.8,6637.6,53,3318.8,null,0,0,0,0,0,0,0,0,0,0,0,0,0,0,0,0,0,0,0,0,0,0,null,24325.42,43882.729999999996,68208.149999999994,2189.2800000000002,3949.45,6138.73,486.5,877.66,1364.16,243.25,438.83,682.08,0,0,0,21406.39,38616.79,60023.18,30170.97,3318.8,6637.6,3318.8,"2022-10-01",1,{"$error":"#REF!"},24325.42,43882.73,{"$error":"#REF!"},{"$error":"#REF!"},{"$error":"#REF!"},{"$error":"#REF!"},{"$error":"#REF!"},{"$error":"#REF!"},{"$error":"#REF!"},{"$error":"#REF!"},{"$error":"#REF!"},{"$error":"#REF!"},{"$error":"#REF!"},{"$error":"#REF!"},{"$error":"#REF!"},null,0,0,0,0,0,{"$error":"#REF!"},0,0,0,0,null,{"$error":"#REF!"},{"$error":"#REF!"},{"$error":"#REF!"},{"$error":"#REF!"},0,{"$error":"#REF!"},{"$error":"#REF!"},{"$error":"#REF!"},{"$error":"#REF!"},{"$error":"#REF!"},null,0,0,0,0,null,null,null,0,0,0,0]
[176,14902,"2022/0342932-1","2022-10-24","Paga em FEV-2023 - 4ª remessa","2023-02-01","NÃO",4,"MS 4.151/DF","1995-07-21","1999-02-12","Mandado de Segurança 4.151/DF","2016/0174886-0","2022-08-03","UNIÃO","Administrativo - Servidor Público Civil - Reajustes de Remuneração, Proventos ou Pensão","Alimentar","Solange Ribas D'Avila ","076.436.178-30","Servidor Público Civil Ativo","Diferença de remuneração - 3,17%","Ministério da Fazenda",6,"Mota & Advogados Associados","03.996.810/0001-38",1,"Mauro Menezes e Advogados","32.901.423/0001-79",1,"Caputo, Bastos e Serra Advogados","12.291.813/0001-67",0," x x x "," x x x ","Dedução de Honorários Contratuais","Não","Não","Não","-","-","Não informada","Não Informada","Não",21550.51,40643.479999999996,62193.99,1293.03,2438.6,3731.63,215.5,406.43,621.92999999999995,215.5,406.43,621.92999999999995,0,0,0,19826.48,37392.019999999997,57218.5,29138.05,3205.18,6410.36,53,3205.18,null,0,0,0,0,0,0,0,0,0,0,0,0,0,0,0,0,0,0,0,0,0,0,null,21550.51,40643.479999999996,62193.99,1293.03,2438.6,3731.63,215.5,406.43,621.92999999999995,215.5,406.43,621.92999999999995,0,0,0,19826.48,37392.019999999997,57218.5,29138.05,3205.18,6410.36,3205.18,"2022-10-01",1,{"$error":"#REF!"},21550.51,40643.480000000003,{"$error":"#REF!"},{"$error":"#REF!"},{"$error":"#REF!"},{"$error":"#REF!"},{"$error":"#REF!"},{"$error":"#REF!"},{"$error":"#REF!"},{"$error":"#REF!"},{"$error":"#REF!"},{"$error":"#REF!"},{"$error":"#REF!"},{"$error":"#REF!"},{"$error":"#REF!"},null,0,0,0,0,0,{"$error":"#REF!"},0,0,0,0,null,{"$error":"#REF!"},{"$error":"#REF!"},{"$error":"#REF!"},{"$error":"#REF!"},0,{"$error":"#REF!"},{"$error":"#REF!"},{"$error":"#REF!"},{"$error":"#REF!"},{"$error":"#REF!"},null,0,0,0,0,null,null,null,0,0,0,0]
[177,14904,"2022/0342940-9","2022-10-24","Paga em FEV-2023 - 4ª remessa","2023-02-01","NÃO",4,"MS 4.151/DF","1995-07-21","1999-02-12","Mandado de Segurança 4.151/DF","2016/0174886-0","2022-08-03","UNIÃO","Administrativo - Servidor Público Civil - Reajustes de Remuneração, Proventos ou Pensão","Alimentar","Solange De Fátima Maciel Branco","322.064.377-91","Servidor Público Civil Ativo","Diferença de remuneração - 3,17%","Ministério da Fazenda",6,"Mota & Advogados Associados","03.996.810/0001-38",1,"Mauro Menezes e Advogados","32.901.423/0001-79",1,"Caputo, Bastos e Serra Advogados","12.291.813/0001-67",0," x x x "," x x x ","Dedução de Honorários Contratuais","Não","Não","Não","-","-","Não informada","Não Informada","Não",21940.39,41207.79,63148.18,1316.42,2472.4699999999998,3788.89,219.4,412.08,631.48,219.4,412.08,631.48,0,0,0,20185.169999999998,37911.160000000003,58096.33,29858.66,3284.45,6568.9,53,3284.45,null,0,0,0,0,0,0,0,0,0,0,0,0,0,0,0,0,0,0,0,0,0,0,null,21940.39,41207.79,63148.18,1316.42,2472.4699999999998,3788.89,219.4,412.08,631.48,219.4,412.08,631.48,0,0,0,20185.169999999998,37911.160000000003,58096.33,29858.66,3284.45,6568.9,3284.45,"2022-10-01",1,{"$error":"#REF!"},21940.39,41207.79,{"$error":"#REF!"},{"$error":"#REF!"},{"$error":"#REF!"},{"$error":"#REF!"},{"$error":"#REF!"},{"$error":"#REF!"},{"$error":"#REF!"},{"$error":"#REF!"},{"$error":"#REF!"},{"$error":"#REF!"},{"$error":"#REF!"},{"$error":"#REF!"},{"$error":"#REF!"},null,0,0,0,0,0,{"$error":"#REF!"},0,0,0,0,null,{"$error":"#REF!"},{"$error":"#REF!"},{"$error":"#REF!"},{"$error":"#REF!"},0,{"$error":"#REF!"},{"$error":"#REF!"},{"$error":"#REF!"},{"$error":"#REF!"},{"$error":"#REF!"},null,0,0,0,0,null,null,null,0,0,0,0]
[178,14905,"2022/0342942-2","2022-10-24","Paga em FEV-2023 - 4ª remessa","2023-02-01","NÃO",4,"MS 4.151/DF","1995-07-21","1999-02-12","Mandado de Segurança 4.151/DF","2016/0128313-4","2022-08-03","UNIÃO","Administrativo - Servidor Público Civil - Reajustes de Remuneração, Proventos ou Pensão","Alimentar","Anita Simplicia Dantas","055.318.885-20","Servidor Público Civil Inativo","Diferença de remuneração - 3,17%","Ministério da Fazenda",9,"Mota & Advogados Associados","03.996.810/0001-38",2,"Mauro Menezes e Advogados","32.901.423/0001-79",1,"Caputo, Bastos e Serra Advogados","12.291.813/0001-67",0," x x x "," x x x ","Dedução de Honorários Contratuais","Não","Não","Não","-","-","Não informada","Não Informada","Não",23682.560000000001,43745.520000000004,67428.08,2131.4299999999998,3937.09,6068.52,473.65,874.91,1348.56,236.82,437.46,674.28,0,0,0,20840.66,38496.06,59336.72,0,0,0,53,0,null,0,0,0,0,0,0,0,0,0,0,0,0,0,0,0,0,0,0,0,0,0,0,null,23682.560000000001,43745.520000000004,67428.08,2131.4299999999998,3937.09,6068.52,473.65,874.91,1348.56,236.82,437.46,674.28,0,0,0,20840.66,38496.06,59336.72,0,0,0,0,"2022-10-01",1,{"$error":"#REF!"},23682.560000000001,43745.52,{"$error":"#REF!"},{"$error":"#REF!"},{"$error":"#REF!"},{"$error":"#REF!"},{"$error":"#REF!"},{"$error":"#REF!"},{"$error":"#REF!"},{"$error":"#REF!"},0,0,0,{"$error":"#REF!"},{"$error":"#REF!"},null,0,0,0,0,0,{"$error":"#REF!"},0,0,0,0,null,{"$error":"#REF!"},{"$error":"#REF!"},{"$error":"#REF!"},{"$error":"#REF!"},0,{"$error":"#REF!"},0,0,0,0,null,0,0,0,0,null,null,null,0,0,0,0]
[179,14908,"2022/0342952-3","2022-10-24","Paga em FEV-2023 - 4ª remessa","2023-02-01","NÃO",4,"MS 4.151/DF","1995-07-21","1999-02-12","Mandado de Segurança 4.151/DF","2016/0128313-4","2022-08-03","UNIÃO","Administrativo - Servidor Público Civil - Reajustes de Remuneração, Proventos ou Pensão","Alimentar","Antonia Aparecida Ferreira Martins","551.726.608-87","Servidor Público Civil Inativo","Diferença de remuneração - 3,17%","Ministério da Fazenda",6,"Mota & Advogados Associados","03.996.810/0001-38",1,"Mauro Menezes e Advogados","32.901.423/0001-79",1,"Caputo, Bastos e Serra Advogados","12.291.813/0001-67",0," x x x "," x x x ","Dedução de Honorários Contratuais","Não","Não","Não","-","-","Não informada","Não Informada","Não",19428.23,36878.350000000006,56306.58,1165.69,2212.6999999999998,3378.39,194.28,368.78,563.05999999999995,194.28,368.78,563.05999999999995,0,0,0,17873.98,33928.089999999997,51802.07,0,0,0,53,0,null,0,0,0,0,0,0,0,0,0,0,0,0,0,0,0,0,0,0,0,0,0,0,null,19428.23,36878.350000000006,56306.58,1165.69,2212.6999999999998,3378.39,194.28,368.78,563.05999999999995,194.28,368.78,563.05999999999995,0,0,0,17873.98,33928.089999999997,51802.07,0,0,0,0,"2022-10-01",1,{"$error":"#REF!"},19428.23,36878.35,{"$error":"#REF!"},{"$error":"#REF!"},{"$error":"#REF!"},{"$error":"#REF!"},{"$error":"#REF!"},{"$error":"#REF!"},{"$error":"#REF!"},{"$error":"#REF!"},0,0,0,{"$error":"#REF!"},{"$error":"#REF!"},null,0,0,0,0,0,{"$error":"#REF!"},0,0,0,0,null,{"$error":"#REF!"},{"$error":"#REF!"},{"$error":"#REF!"},{"$error":"#REF!"},0,{"$error":"#REF!"},0,0,0,0,null,0,0,0,0,null,null,null,0,0,0,0]
[180,14909,"2022/0342958-4","2022-10-24","Paga em FEV-2023 - 4ª remessa","2023-02-01","NÃO",4,"MS 4.151/DF","1995-07-21","1999-02-12","Mandado de Segurança 4.151/DF","2016/0128313-4","2022-08-03","UNIÃO","Administrativo - Servidor Público Civil - Reajustes de Remuneração, Proventos ou Pensão","Alimentar","Antonia Rosalina Pereira","400.681.108-04","Servidor Público Civil Ativo","Diferença de remuneração - 3,17%","Ministério da Fazenda",6,"Mota & Advogados Associados","03.996.810/0001-38",1,"Mauro Menezes e Advogados","32.901.423/0001-79",1,"Caputo, Bastos e Serra Advogados","12.291.813/0001-67",0," x x x "," x x x ","Dedução de Honorários Contratuais","Não","Não","Não","-","-","Não informada","Não Informada","Não",23567.08,44926.240000000005,68493.320000000007,1414.02,2695.57,4109.59,235.67,449.26,684.93,235.67,449.26,684.93,0,0,0,21681.72,41332.15,63013.87,11122.74,1223.5,2447,53,1223.5,null,0,0,0,0,0,0,0,0,0,0,0,0,0,0,0,0,0,0,0,0,0,0,null,23567.08,44926.240000000005,68493.320000000007,1414.02,2695.57,4109.59,235.67,449.26,684.93,235.67,449.26,684.93,0,0,0,21681.72,41332.15,63013.87,11122.74,1223.5,2447,1223.5,"2022-10-01",1,{"$error":"#REF!"},23567.08,44926.239999999998,{"$error":"#REF!"},{"$error":"#REF!"},{"$error":"#REF!"},{"$error":"#REF!"},{"$error":"#REF!"},{"$error":"#REF!"},{"$error":"#REF!"},{"$error":"#REF!"},{"$error":"#REF!"},{"$error":"#REF!"},{"$error":"#REF!"},{"$error":"#REF!"},{"$error":"#REF!"},null,0,0,0,0,0,{"$error":"#REF!"},0,0,0,0,null,{"$error":"#REF!"},{"$error":"#REF!"},{"$error":"#REF!"},{"$error":"#REF!"},0,{"$error":"#REF!"},{"$error":"#REF!"},{"$error":"#REF!"},{"$error":"#REF!"},{"$error":"#REF!"},null,0,0,0,0,null,null,null,0,0,0,0]
[181,14912,"2022/0342968-5","2022-10-24","Paga em FEV-2023 - 4ª remessa","2023-02-01","NÃO",4,"MS 4.151/DF","1995-07-21","1999-02-12","Mandado de Segurança 4.151/DF","2016/0128435-8","2022-08-03","UNIÃO","Administrativo - Servidor Público Civil - Reajustes de Remuneração, Proventos ou Pensão","Alimentar","Antonio Medeiros da Silva","221.203.277-34","Servidor Público Civil Ativo","Diferença de remuneração - 3,17%","Ministério da Fazenda",6,"Mota & Advogados Associados","03.996.810/0001-38",1,"Mauro Menezes e Advogados","32.901.423/0001-79",1,"Caputo, Bastos e Serra Advogados","12.291.813/0001-67",0," x x x "," x x x ","Dedução de Honorários Contratuais","Não","Não","Não","-","-","Não informada","Não Informada","Não",23888.12,42555.450000000012,66443.570000000007,1433.28,2553.33,3986.61,238.88,425.55,664.43,238.88,425.55,664.43,0,0,0,21977.08,39151.019999999997,61128.1,10523.99,1157.6300000000001,2315.2600000000002,53,1157.6300000000001,null,0,0,0,0,0,0,0,0,0,0,0,0,0,0,0,0,0,0,0,0,0,0,null,23888.12,42555.450000000012,66443.570000000007,1433.28,2553.33,3986.61,238.88,425.55,664.43,238.88,425.55,664.43,0,0,0,21977.08,39151.019999999997,61128.1,10523.99,1157.6300000000001,2315.2600000000002,1157.6300000000001,"2022-10-01",1,{"$error":"#REF!"},23888.12,42555.45,{"$error":"#REF!"},{"$error":"#REF!"},{"$error":"#REF!"},{"$error":"#REF!"},{"$error":"#REF!"},{"$error":"#REF!"},{"$error":"#REF!"},{"$error":"#REF!"},{"$error":"#REF!"},{"$error":"#REF!"},{"$error":"#REF!"},{"$error":"#REF!"},{"$error":"#REF!"},null,0,0,0,0,0,{"$error":"#REF!"},0,0,0,0,null,{"$error":"#REF!"},{"$error":"#REF!"},{"$error":"#REF!"},{"$error":"#REF!"},0,{"$error":"#REF!"},{"$error":"#REF!"},{"$error":"#REF!"},{"$error":"#REF!"},{"$error":"#REF!"},null,0,0,0,0,null,null,null,0,0,0,0]
[182,14915,"2022/0342978-6","2022-10-24","Paga em FEV-2023 - 4ª remessa","2023-02-01","NÃO",4,"MS 4.151/DF","1995-07-21","1999-02-12","Mandado de Segurança 4.151/DF","2016/0141590-4","2022-08-03","UNIÃO","Administrativo - Servidor Público Civil - Reajustes de Remuneração, Proventos ou Pensão","Alimentar","Helio de Matos Correa","210.023.478-15","Servidor Público Civil Ativo","Diferença de remuneração - 3,17%","Ministério da Fazenda",6,"Mota & Advogados Associados","03.996.810/0001-38",1,"Mauro Menezes e Advogados","32.901.423/0001-79",1,"Caputo, Bastos e Serra Advogados","12.291.813/0001-67",0," x x x "," x x x ","Dedução de Honorários Contratuais","Não","Não","Não","-","-","Não informada","Não Informada","Não",11669.64,33786.68,45456.32,700.17,2027.2,2727.37,116.69,337.87,454.56,116.69,337.87,454.56,0,0,0,10736.09,31083.74,41819.83,7878.74,866.66,1733.32,53,866.66,null,0,0,0,0,0,0,0,0,0,0,0,0,0,0,0,0,0,0,0,0,0,0,null,11669.64,33786.68,45456.32,700.17,2027.2,2727.37,116.69,337.87,454.56,116.69,337.87,454.56,0,0,0,10736.09,31083.74,41819.83,7878.74,866.66,1733.32,866.66,"2022-10-01",1,{"$error":"#REF!"},11669.64,33786.68,{"$error":"#REF!"},{"$error":"#REF!"},{"$error":"#REF!"},{"$error":"#REF!"},{"$error":"#REF!"},{"$error":"#REF!"},{"$error":"#REF!"},{"$error":"#REF!"},{"$error":"#REF!"},{"$error":"#REF!"},{"$error":"#REF!"},{"$error":"#REF!"},{"$error":"#REF!"},null,0,0,0,0,0,{"$error":"#REF!"},0,0,0,0,null,{"$error":"#REF!"},{"$error":"#REF!"},{"$error":"#REF!"},{"$error":"#REF!"},0,{"$error":"#REF!"},{"$error":"#REF!"},{"$error":"#REF!"},{"$error":"#REF!"},{"$error":"#REF!"},null,0,0,0,0,null,null,null,0,0,0,0]
[183,14916,"2022/0342986-3","2022-10-24","Paga em FEV-2023 - 4ª remessa","2023-02-01","NÃO",4,"MS 4.151/DF","1995-07-21","1999-02-12","Mandado de Segurança 4.151/DF","2016/0141590-4","2022-08-03","UNIÃO","Administrativo - Servidor Público Civil - Reajustes de Remuneração, Proventos ou Pensão","Alimentar","Helio Divino Bastos","069.743.171-15","Servidor Público Civil Ativo","Diferença de remuneração - 3,17%","Ministério da Fazenda",6,"Mota & Advogados Associados","03.996.810/0001-38",1,"Mauro Menezes e Advogados","32.901.423/0001-79",1,"Caputo, Bastos e Serra Advogados","12.291.813/0001-67",0," x x x "," x x x ","Dedução de Honorários Contratuais","Não","Não","Não","-","-","Não informada","Não Informada","Não",26061.94,46658.06,72720,1563.71,2799.49,4363.2,260.61,466.59,727.2,260.61,466.59,727.2,0,0,0,23977.01,42925.39,66902.399999999994,33621.79,3698.39,7396.78,53,3698.39,null,0,0,0,0,0,0,0,0,0,0,0,0,0,0,0,0,0,0,0,0,0,0,null,26061.94,46658.06,72720,1563.71,2799.49,4363.2,260.61,466.59,727.2,260.61,466.59,727.2,0,0,0,23977.01,42925.39,66902.399999999994,33621.79,3698.39,7396.78,3698.39,"2022-10-01",1,{"$error":"#REF!"},26061.94,46658.06,{"$error":"#REF!"},{"$error":"#REF!"},{"$error":"#REF!"},{"$error":"#REF!"},{"$error":"#REF!"},{"$error":"#REF!"},{"$error":"#REF!"},{"$error":"#REF!"},{"$error":"#REF!"},{"$error":"#REF!"},{"$error":"#REF!"},{"$error":"#REF!"},{"$error":"#REF!"},null,0,0,0,0,0,{"$error":"#REF!"},0,0,0,0,null,{"$error":"#REF!"},{"$error":"#REF!"},{"$error":"#REF!"},{"$error":"#REF!"},0,{"$error":"#REF!"},{"$error":"#REF!"},{"$error":"#REF!"},{"$error":"#REF!"},{"$error":"#REF!"},null,0,0,0,0,null,null,null,0,0,0,0]
[184,14917,"2022/0344687-5","2022-10-25","Paga em FEV-2023 - 4ª remessa","2023-02-01","NÃO",4,"MS 10.424/DF","2005-02-17","2005-10-27","Mandado de Segurança 10.424/DF","2006/0180802-0","2016-02-12","UNIÃO","Administrativo - Servidor Público Civil - Sistema Remuneratório e Benefícios - Gratificações","Alimentar","Luzinete Domingas Simões Alves","162.406.002-10","Servidor Público Civil Ativo","Gratificação Específica de Atividade Docente - GEAD","Ministério do Planejamento, Orçamento e Gestão",11,"Fonseca e Assis Advogados Associados","01.971.231/0001-05",0," x x x ","x x x",0," x x x "," x x x ",0," x x x "," x x x ","Dedução de Honorários Contratuais","Não","Não","Não","-","-","Não informada","Não Informada","Não",17021.28,13548.47,31835.17,1872.34,1629.52,3501.86,0,0,0,0,0,0,0,0,0,15148.94,13184.37,28333.31,17021.28,1872.34,3744.68,9,1872.34,null,0,0,0,0,0,0,0,0,0,0,0,0,0,0,0,0,0,0,0,0,0,0,null,17021.28,13548.47,31835.17,1872.34,1629.52,3501.86,0,0,0,0,0,0,0,0,0,15148.94,13184.37,28333.31,17021.28,1872.34,3744.68,1872.34,"2022-10-01",1,{"$error":"#REF!"},15567.3,13548.47,{"$error":"#REF!"},{"$error":"#REF!"},{"$error":"#REF!"},{"$error":"#REF!"},{"$error":"#REF!"},{"$error":"#REF!"},{"$error":"#REF!"},{"$error":"#REF!"},{"$error":"#REF!"},{"$error":"#REF!"},{"$error":"#REF!"},{"$error":"#REF!"},{"$error":"#REF!"},null,0,0,0,0,0,{"$error":"#REF!"},0,0,0,0,null,{"$error":"#REF!"},{"$error":"#REF!"},0,0,0,{"$error":"#REF!"},{"$error":"#REF!"},{"$error":"#REF!"},{"$error":"#REF!"},{"$error":"#REF!"},null,0,0,0,0,null,null,null,0,0,0,0]
[185,14918,"2022/0344692-7","2022-10-25","Paga em FEV-2023 - 4ª remessa","2023-02-01","NÃO",4,"MS 10.424/DF","2005-02-17","2005-10-27","Mandado de Segurança 10.424/DF","2006/0199688-3","2016-02-12","UNIÃO","Administrativo - Servidor Público Civil - Sistema Remuneratório e Benefícios - Gratificações","Alimentar","Claudionora Dos Anjos Silva","021.485.282-20","Servidor Público Civil Inativo","Gratificação Específica de Atividade Docente - GEAD","Ministério do Planejamento, Orçamento e Gestão",11,"Fonseca e Assis Advogados Associados","01.971.231/0001-05",0," x x x ","x x x",0," x x x "," x x x ",0," x x x "," x x x ","Dedução de Honorários Contratuais","Não","Não","Não","-","-","Não informada","Não Informada","Não",17021.28,13548.47,31835.17,1872.34,1629.52,3501.86,0,0,0,0,0,0,0,0,0,15148.94,13184.37,28333.31,17021.28,1872.34,0,9,1872.34,null,0,0,0,0,0,0,0,0,0,0,0,0,0,0,0,0,0,0,0,0,0,0,null,17021.28,13548.47,31835.17,1872.34,1629.52,3501.86,0,0,0,0,0,0,0,0,0,15148.94,13184.37,28333.31,17021.28,1872.34,0,1872.34,"2022-10-01",1,{"$error":"#REF!"},15567.3,13548.47,{"$error":"#REF!"},{"$error":"#REF!"},{"$error":"#REF!"},{"$error":"#REF!"},{"$error":"#REF!"},{"$error":"#REF!"},{"$error":"#REF!"},{"$error":"#REF!"},{"$error":"#REF!"},{"$error":"#REF!"},0,{"$error":"#REF!"},{"$error":"#REF!"},null,0,0,0,0,0,{"$error":"#REF!"},0,0,0,0,null,{"$error":"#REF!"},{"$error":"#REF!"},0,0,0,{"$error":"#REF!"},{"$error":"#REF!"},{"$error":"#REF!"},0,{"$error":"#REF!"},null,0,0,0,0,null,null,null,0,0,0,0]
[186,14919,"2022/0344699-0","2022-10-25","Paga em FEV-2023 - 4ª remessa","2023-02-01","NÃO",4,"MS 4.151/DF","1995-07-21","1999-02-12","Mandado de Segurança 4.151/DF","2016/0129581-0","2022-02-09","UNIÃO","Administrativo - Servidor Público Civil - Reajustes de Remuneração, Proventos ou Pensão","Alimentar","Carlos Domingos Vido","575.869.858-04","Servidor Público Civil Ativo","Diferença de remuneração - 3,17%","Ministério da Fazenda",6,"Mota & Advogados Associados","03.996.810/0001-38",1,"Mauro Menezes e Advogados","32.901.423/0001-79",1,"Caputo, Bastos e Serra Advogados","12.291.813/0001-67",0," x x x "," x x x ","Dedução de Honorários Contratuais","Não","Não","Não","-","-","Não informada","Não Informada","Não",21224.93,41610.78,62835.71,1273.49,2496.65,3770.14,212.24,416.11,628.35,212.24,416.11,628.35,0,0,0,19526.96,38281.910000000003,57808.87,30851.1,3393.62,6787.24,53,3393.62,null,0,0,0,0,0,0,0,0,0,0,0,0,0,0,0,0,0,0,0,0,0,0,null,21224.93,41610.78,62835.71,1273.49,2496.65,3770.14,212.24,416.11,628.35,212.24,416.11,628.35,0,0,0,19526.96,38281.910000000003,57808.87,30851.1,3393.62,6787.24,3393.62,"2022-10-01",1,{"$error":"#REF!"},21224.93,41610.78,{"$error":"#REF!"},{"$error":"#REF!"},{"$error":"#REF!"},{"$error":"#REF!"},{"$error":"#REF!"},{"$error":"#REF!"},{"$error":"#REF!"},{"$error":"#REF!"},{"$error":"#REF!"},{"$error":"#REF!"},{"$error":"#REF!"},{"$error":"#REF!"},{"$error":"#REF!"},null,0,0,0,0,0,{"$error":"#REF!"},0,0,0,0,null,{"$error":"#REF!"},{"$error":"#REF!"},{"$error":"#REF!"},{"$error":"#REF!"},0,{"$error":"#REF!"},{"$error":"#REF!"},{"$error":"#REF!"},{"$error":"#REF!"},{"$error":"#REF!"},null,0,0,0,0,null,null,null,0,0,0,0]
[187,14921,"2022/0344718-9","2022-10-25","Paga em FEV-2023 - 4ª remessa","2023-02-01","NÃO",4,"MS 4.151/DF","1995-07-21","1999-02-12","Mandado de Segurança 4.151/DF","2016/0129581-0","2022-08-03","UNIÃO","Administrativo - Servidor Público Civil - Reajustes de Remuneração, Proventos ou Pensão","Alimentar","Espólio de Carlos da Silva Moreira","044.464.967-00","Servidor Público Civil Inativo","Diferença de remuneração - 3,17%","Ministério da Fazenda",4,"Mota & Advogados Associados","03.996.810/0001-38",1,"Mauro Menezes e Advogados","32.901.423/0001-79",1,"Caputo, Bastos e Serra Advogados","12.291.813/0001-67",5,"Ibaneis Advocacia e Consultoria Sociedade Simples","05.613.437/0001-14","Dedução de Honorários Contratuais","Não","Não","Não","-","-","Não informada","Não Informada","Não",26184.28,46535.72,72720,1047.3699999999999,1861.43,2908.8,261.83999999999997,465.36,727.2,261.83999999999997,465.36,727.2,1309.21,2326.79,3636,23304.02,41416.78,64720.800000000003,0,0,0,53,0,null,0,0,0,0,0,0,0,0,0,0,0,0,0,0,0,0,0,0,0,0,0,0,null,26184.28,46535.72,72720,1047.3699999999999,1861.43,2908.8,261.83999999999997,465.36,727.2,261.83999999999997,465.36,727.2,1309.21,2326.79,3636,23304.02,41416.78,64720.800000000003,0,0,0,0,"2022-10-01",1,{"$error":"#REF!"},26184.28,46535.72,{"$error":"#REF!"},{"$error":"#REF!"},{"$error":"#REF!"},{"$error":"#REF!"},{"$error":"#REF!"},{"$error":"#REF!"},{"$error":"#REF!"},{"$error":"#REF!"},0,0,0,{"$error":"#REF!"},{"$error":"#REF!"},null,0,0,0,0,0,{"$error":"#REF!"},0,0,0,0,null,{"$error":"#REF!"},{"$error":"#REF!"},{"$error":"#REF!"},{"$error":"#REF!"},{"$error":"#REF!"},{"$error":"#REF!"},0,0,0,0,null,0,0,0,0,null,null,null,0,0,0,0]
[188,14924,"2022/0344779-6","2022-10-25","Paga em FEV-2023 - 4ª remessa","2023-02-01","NÃO",4,"MS 4.151/DF","1995-07-21","1999-02-12","Mandado de Segurança 4.151/DF","2016/0129313-1","2022-06-27","UNIÃO","Administrativo - Servidor Público Civil - Reajustes de Remuneração, Proventos ou Pensão","Alimentar","Christine Elaine Diane Taves","778.620.318-49","Servidor Público Civil Ativo","Diferença de remuneração - 3,17%","Ministério da Fazenda",6,"Mota & Advogados Associados","03.996.810/0001-38",1,"Mauro Menezes e Advogados","32.901.423/0001-79",1,"Caputo, Bastos e Serra Advogados","12.291.813/0001-67",0," x x x "," x x x ","Dedução de Honorários Contratuais","Não","Não","Não","-","-","Não informada","Não Informada","Não",24333.78,44399.009999999995,68732.789999999994,1460.02,2663.94,4123.96,243.33,443.99,687.32,243.33,443.99,687.32,0,0,0,22387.1,40847.089999999997,63234.19,30578.45,3363.62,6727.24,53,3363.62,null,0,0,0,0,0,0,0,0,0,0,0,0,0,0,0,0,0,0,0,0,0,0,null,24333.78,44399.009999999995,68732.789999999994,1460.02,2663.94,4123.96,243.33,443.99,687.32,243.33,443.99,687.32,0,0,0,22387.1,40847.089999999997,63234.19,30578.45,3363.62,6727.24,3363.62,"2022-10-01",1,{"$error":"#REF!"},24333.78,44399.01,{"$error":"#REF!"},{"$error":"#REF!"},{"$error":"#REF!"},{"$error":"#REF!"},{"$error":"#REF!"},{"$error":"#REF!"},{"$error":"#REF!"},{"$error":"#REF!"},{"$error":"#REF!"},{"$error":"#REF!"},{"$error":"#REF!"},{"$error":"#REF!"},{"$error":"#REF!"},null,0,0,0,0,0,{"$error":"#REF!"},0,0,0,0,null,{"$error":"#REF!"},{"$error":"#REF!"},{"$error":"#REF!"},{"$error":"#REF!"},0,{"$error":"#REF!"},{"$error":"#REF!"},{"$error":"#REF!"},{"$error":"#REF!"},{"$error":"#REF!"},null,0,0,0,0,null,null,null,0,0,0,0]
[189,14925,"2022/0344785-0","2022-10-25","Paga em FEV-2023 - 4ª remessa","2023-02-01","NÃO",4,"MS 4.151/DF","1995-07-21","1999-02-12","Mandado de Segurança 4.151/DF","2016/0129313-1","2022-06-27","UNIÃO","Administrativo - Servidor Público Civil - Reajustes de Remuneração, Proventos ou Pensão","Alimentar","Clair Seabra","383.352.398-00","Servidor Público Civil Ativo","Diferença de remuneração - 3,17%","Ministério da Fazenda",6,"Mota & Advogados Associados","03.996.810/0001-38",1,"Mauro Menezes e Advogados","32.901.423/0001-79",1,"Caputo, Bastos e Serra Advogados","12.291.813/0001-67",0," x x x "," x x x ","Dedução de Honorários Contratuais","Não","Não","Não","-","-","Não informada","Não Informada","Não",23155.83,42294.81,65450.64,1389.34,2537.69,3927.03,231.55,422.95,654.5,231.55,422.95,654.5,0,0,0,21303.39,38911.22,60214.61,221.05,24.31,48.62,53,24.31,null,0,0,0,0,0,0,0,0,0,0,0,0,0,0,0,0,0,0,0,0,0,0,null,23155.83,42294.81,65450.64,1389.34,2537.69,3927.03,231.55,422.95,654.5,231.55,422.95,654.5,0,0,0,21303.39,38911.22,60214.61,221.05,24.31,48.62,24.31,"2022-10-01",1,{"$error":"#REF!"},23155.83,42294.81,{"$error":"#REF!"},{"$error":"#REF!"},{"$error":"#REF!"},{"$error":"#REF!"},{"$error":"#REF!"},{"$error":"#REF!"},{"$error":"#REF!"},{"$error":"#REF!"},{"$error":"#REF!"},{"$error":"#REF!"},{"$error":"#REF!"},{"$error":"#REF!"},{"$error":"#REF!"},null,0,0,0,0,0,{"$error":"#REF!"},0,0,0,0,null,{"$error":"#REF!"},{"$error":"#REF!"},{"$error":"#REF!"},{"$error":"#REF!"},0,{"$error":"#REF!"},{"$error":"#REF!"},{"$error":"#REF!"},{"$error":"#REF!"},{"$error":"#REF!"},null,0,0,0,0,null,null,null,0,0,0,0]
[190,14926,"2022/0344790-1","2022-10-25","Paga em FEV-2023 - 4ª remessa","2023-02-01","NÃO",4,"MS 4.151/DF","1995-07-21","1999-02-12","Mandado de Segurança 4.151/DF","2016/0129313-1","2022-06-27","UNIÃO","Administrativo - Servidor Público Civil - Reajustes de Remuneração, Proventos ou Pensão","Alimentar","Clarice de Oliveira Marques","679.050.568-72","Servidor Público Civil Ativo","Diferença de remuneração - 3,17%","Ministério da Fazenda",6,"Mota & Advogados Associados","03.996.810/0001-38",1,"Mauro Menezes e Advogados","32.901.423/0001-79",1,"Caputo, Bastos e Serra Advogados","12.291.813/0001-67",0," x x x "," x x x ","Dedução de Honorários Contratuais","Não","Não","Não","-","-","Não informada","Não Informada","Não",24932.29,43619.249999999993,68551.539999999994,1495.93,2617.16,4113.09,249.32,436.19,685.51,249.32,436.19,685.51,0,0,0,22937.72,40129.71,63067.43,17490.53,1923.95,3847.9,53,1923.95,null,0,0,0,0,0,0,0,0,0,0,0,0,0,0,0,0,0,0,0,0,0,0,null,24932.29,43619.249999999993,68551.539999999994,1495.93,2617.16,4113.09,249.32,436.19,685.51,249.32,436.19,685.51,0,0,0,22937.72,40129.71,63067.43,17490.53,1923.95,3847.9,1923.95,"2022-10-01",1,{"$error":"#REF!"},24932.29,43619.25,{"$error":"#REF!"},{"$error":"#REF!"},{"$error":"#REF!"},{"$error":"#REF!"},{"$error":"#REF!"},{"$error":"#REF!"},{"$error":"#REF!"},{"$error":"#REF!"},{"$error":"#REF!"},{"$error":"#REF!"},{"$error":"#REF!"},{"$error":"#REF!"},{"$error":"#REF!"},null,0,0,0,0,0,{"$error":"#REF!"},0,0,0,0,null,{"$error":"#REF!"},{"$error":"#REF!"},{"$error":"#REF!"},{"$error":"#REF!"},0,{"$error":"#REF!"},{"$error":"#REF!"},{"$error":"#REF!"},{"$error":"#REF!"},{"$error":"#REF!"},null,0,0,0,0,null,null,null,0,0,0,0]
[191,14927,"2022/0344791-3","2022-10-25","Paga em FEV-2023 - 4ª remessa","2023-02-01","NÃO",4,"MS 4.151/DF","1995-07-21","1999-02-12","Mandado de Segurança 4.151/DF","2016/0129313-1","2022-06-27","UNIÃO","Administrativo - Servidor Público Civil - Reajustes de Remuneração, Proventos ou Pensão","Alimentar","Clarinda Candida de Jesus","742.699.688-34","Servidor Público Civil Ativo","Diferença de remuneração - 3,17%","Ministério da Fazenda",6,"Mota & Advogados Associados","03.996.810/0001-38",1,"Mauro Menezes e Advogados","32.901.423/0001-79",1,"Caputo, Bastos e Serra Advogados","12.291.813/0001-67",0," x x x "," x x x ","Dedução de Honorários Contratuais","Não","Não","Não","-","-","Não informada","Não Informada","Não",19969.82,39272.22,59242.04,1198.18,2356.34,3554.52,199.69,392.73,592.41999999999996,199.69,392.73,592.41999999999996,0,0,0,18372.259999999998,36130.42,54502.68,22456.22,2470.1799999999998,4940.3599999999997,53,2470.1799999999998,null,0,0,0,0,0,0,0,0,0,0,0,0,0,0,0,0,0,0,0,0,0,0,null,19969.82,39272.22,59242.04,1198.18,2356.34,3554.52,199.69,392.73,592.41999999999996,199.69,392.73,592.41999999999996,0,0,0,18372.259999999998,36130.42,54502.68,22456.22,2470.1799999999998,4940.3599999999997,2470.1799999999998,"2022-10-01",1,{"$error":"#REF!"},19969.82,39272.22,{"$error":"#REF!"},{"$error":"#REF!"},{"$error":"#REF!"},{"$error":"#REF!"},{"$error":"#REF!"},{"$error":"#REF!"},{"$error":"#REF!"},{"$error":"#REF!"},{"$error":"#REF!"},{"$error":"#REF!"},{"$error":"#REF!"},{"$error":"#REF!"},{"$error":"#REF!"},null,0,0,0,0,0,{"$error":"#REF!"},0,0,0,0,null,{"$error":"#REF!"},{"$error":"#REF!"},{"$error":"#REF!"},{"$error":"#REF!"},0,{"$error":"#REF!"},{"$error":"#REF!"},{"$error":"#REF!"},{"$error":"#REF!"},{"$error":"#REF!"},null,0,0,0,0,null,null,null,0,0,0,0]
[192,14931,"2022/0344804-9","2022-10-25","Paga em FEV-2023 - 4ª remessa","2023-02-01","NÃO",4,"MS 4.151/DF","1995-07-21","1999-02-12","Mandado de Segurança 4.151/DF","2016/0129313-1","2022-06-27","UNIÃO","Administrativo - Servidor Público Civil - Reajustes de Remuneração, Proventos ou Pensão","Alimentar","Clara Miyoko Nakayama","224.600.208-72","Servidor Público Civil Inativo","Diferença de remuneração - 3,17%","Ministério da Fazenda",6,"Mota & Advogados Associados","03.996.810/0001-38",1,"Mauro Menezes e Advogados","32.901.423/0001-79",1,"Caputo, Bastos e Serra Advogados","12.291.813/0001-67",0," x x x "," x x x ","Dedução de Honorários Contratuais","Não","Não","Não","-","-","Não informada","Não Informada","Não",25754.1,46965.9,72720,1545.24,2817.96,4363.2,257.54000000000002,469.66,727.2,257.54000000000002,469.66,727.2,0,0,0,23693.78,43208.62,66902.399999999994,0,0,0,53,0,null,0,0,0,0,0,0,0,0,0,0,0,0,0,0,0,0,0,0,0,0,0,0,null,25754.1,46965.9,72720,1545.24,2817.96,4363.2,257.54000000000002,469.66,727.2,257.54000000000002,469.66,727.2,0,0,0,23693.78,43208.62,66902.399999999994,0,0,0,0,"2022-10-01",1,{"$error":"#REF!"},25754.1,46965.9,{"$error":"#REF!"},{"$error":"#REF!"},{"$error":"#REF!"},{"$error":"#REF!"},{"$error":"#REF!"},{"$error":"#REF!"},{"$error":"#REF!"},{"$error":"#REF!"},0,0,0,{"$error":"#REF!"},{"$error":"#REF!"},null,0,0,0,0,0,{"$error":"#REF!"},0,0,0,0,null,{"$error":"#REF!"},{"$error":"#REF!"},{"$error":"#REF!"},{"$error":"#REF!"},0,{"$error":"#REF!"},0,0,0,0,null,0,0,0,0,null,null,null,0,0,0,0]
[{"$f":"IF(B201=\"\",\"\",A200+1)","v":193},14932,{"$f":"IF(B201=\"\",\"\",VLOOKUP(B201,expedidas,4))","v":"2022/0344806-2"},{"$f":"IF(B201=\"\",\"\",VLOOKUP(B201,expedidas,5))","v":"2022-10-25"},{"$f":"IF(B201=\"\",\"\",VLOOKUP(B201,expedidas,7))","v":"Paga em FEV-2023 - 4ª remessa"},{"$f":"IF(B201=\"\",\"\",VLOOKUP(B201,expedidas,8))","v":"2023-02-01"},{"$f":"IF(B201=\"\",\"\",VLOOKUP(B201,expedidas,9))","v":"NÃO"},{"$f":"IF(B201=\"\",\"\",VLOOKUP(B201,expedidas,11))","v":4},{"$f":"IF(B201=\"\",\"\",VLOOKUP(B201,expedidas,12))","v":"MS 4.151/DF"},{"$f":"IF(B201=\"\",\"\",VLOOKUP(B201,expedidas,14))","v":"1995-07-21"},{"$f":"IF(B201=\"\",\"\",VLOOKUP(B201,expedidas,15))","v":"1999-02-12"},{"$f":"IF(B201=\"\",\"\",VLOOKUP(B201,expedidas,19))","v":"Mandado de Segurança 4.151/DF"},{"$f":"IF(B201=\"\",\"\",VLOOKUP(B201,expedidas,20))","v":"2016/0129313-1"},{"$f":"IF(B201=\"\",\"\",VLOOKUP(B201,expedidas,21))","v":"2022-08-23"},{"$f":"IF(B201=\"\",\"\",VLOOKUP(B201,expedidas,18))","v":"UNIÃO"},{"$f":"IF(B201=\"\",\"\",VLOOKUP(B201,expedidas,16))","v":"Administrativo - Servidor Público Civil - Reajustes de Remuneração, Proventos ou Pensão"},{"$f":"IF(B201=\"\",\"\",VLOOKUP(B201,expedidas,26))","v":"Alimentar"},{"$f":"IF(B201=\"\",\"\",VLOOKUP(B201,expedidas,22))","v":"Espólio de Cidemar Antonio Angelico"},{"$f":"IF(B201=\"\",\"\",VLOOKUP(B201,expedidas,23))","v":"792.329.068-72"},{"$f":"IF(B201=\"\",\"\",VLOOKUP(B201,expedidas,24))","v":"Servidor Público Civil Ativo"},{"$f":"IF(B201=\"\",\"\",VLOOKUP(B201,expedidas,25))","v":"Diferença de remuneração - 3,17%"},{"$f":"IF(B201=\"\",\"\",VLOOKUP(B201,expedidas,17))","v":"Ministério da Fazenda"},{"$f":"IF(B201=\"\",\"\",VLOOKUP(B201,expedidas,27))","v":8},{"$f":"IF(B201=\"\",\"\",IF(W201=0,\" x x x \",VLOOKUP(B201,expedidas,28)))","v":"Mota & Advogados Associados"},{"$f":"IF(B201=\"\",\"\",VLOOKUP(B201,expedidas,29))","v":"03.996.810/0001-38"},{"$f":"IF(B201=\"\",\"\",VLOOKUP(B201,expedidas,30))","v":1},{"$f":"IF(B201=\"\",\"\",VLOOKUP(B201,expedidas,31))","v":"Mauro Menezes e Advogados"},{"$f":"IF(B201=\"\",\"\",IF(Z201=0,\"x x x\",VLOOKUP(B201,expedidas,32)))","v":"32.901.423/0001-79"},{"$f":"IF(B201=\"\",\"\",VLOOKUP(B201,expedidas,33))","v":1},{"$f":"IF(B201=\"\",\"\",IF(AC201=0,\" x x x \",VLOOKUP(B201,expedidas,34)))","v":"Caputo, Bastos e Serra Advogados"},{"$f":"IF(B201=\"\",\"\",IF(AC201=0,\" x x x \",VLOOKUP(B201,expedidas,35)))","v":"12.291.813/0001-67"},{"$f":"IF(B201=\"\",\"\",VLOOKUP(B201,expedidas,36))","v":0},{"$f":"IF(B201=\"\",\"\",IF(AF201=0,\" x x x \",VLOOKUP(B201,expedidas,37)))","v":" x x x "},{"$f":"IF(B201=\"\",\"\",IF(AF201=0,\" x x x \",VLOOKUP(B201,expedidas,38)))","v":" x x x "},{"$f":"IF(B201=\"\",\"\",VLOOKUP(B201,expedidas,39))","v":"Dedução de Honorários Contratuais"},{"$f":"IF(B201=\"\",\"\",VLOOKUP(B201,expedidas,40))","v":"Não"},{"$f":"IF(B201=\"\",\"\",VLOOKUP(B201,expedidas,41))","v":"Não"},{"$f":"IF(B201=\"\",\"\",VLOOKUP(B201,expedidas,42))","v":"Não"},{"$f":"IF(B201=\"\",\"\",VLOOKUP(B201,expedidas,43))","v":"-"},{"$f":"IF(B201=\"\",\"\",VLOOKUP(B201,expedidas,44))","v":"-"},{"$f":"IF(B201=\"\",\"\",VLOOKUP(B201,expedidas,45))","v":"Não informada"},{"$f":"IF(B201=\"\",\"\",VLOOKUP(B201,expedidas,46))","v":"Não Informada"},{"$f":"IF(B201=\"\",\"\",VLOOKUP(B201,expedidas,47))","v":"Não"},{"$f":"IF(B201=\"\",\"\",IF(I201=\"MS 11.371/DF\",0,VLOOKUP(B201,expedidas,49)+VLOOKUP(B201,expedidas,51)))","v":24577.119999999999},{"$f":"IF(B201=\"\",\"\",IF(I201=\"MS 11.371/DF\",AT201,VLOOKUP(B201,expedidas,52)))","v":44236.900000000009},{"$f":"IF(B201=\"\",\"\",VLOOKUP(B201,expedidas,53))","v":68814.02},{"$f":"IF(B201=\"\",\"\",IF(I201=\"MS 11.371/DF\",0,VLOOKUP(B201,expedidas,54)))","v":1966.16},{"$f":"IF(B201=\"\",\"\",IF(I201=\"MS 11.371/DF\",AW201,VLOOKUP(B201,expedidas,55)))","v":3538.96},{"$f":"IF(B201=\"\",\"\",VLOOKUP(B201,expedidas,56))","v":5505.12},{"$f":"IF(B201=\"\",\"\",VLOOKUP(B201,expedidas,57))","v":245.77},{"$f":"IF(B201=\"\",\"\",VLOOKUP(B201,expedidas,58))","v":442.37},{"$f":"IF(B201=\"\",\"\",VLOOKUP(B201,expedidas,59))","v":688.14},{"$f":"IF(B201=\"\",\"\",VLOOKUP(B201,expedidas,60))","v":245.77},{"$f":"IF(B201=\"\",\"\",VLOOKUP(B201,expedidas,61))","v":442.37},{"$f":"IF(B201=\"\",\"\",VLOOKUP(B201,expedidas,62))","v":688.14},{"$f":"IF(B201=\"\",\"\",VLOOKUP(B201,expedidas,63))","v":0},{"$f":"IF(B201=\"\",\"\",VLOOKUP(B201,expedidas,64))","v":0},{"$f":"IF(B201=\"\",\"\",VLOOKUP(B201,expedidas,65))","v":0},{"$f":"IF(B201=\"\",\"\",IF(I201=\"MS 11.371/DF\",0,VLOOKUP(B201,expedidas,66)))","v":22119.42},{"$f":"IF(B201=\"\",\"\",IF(I201=\"MS 11.371/DF\",BI201,VLOOKUP(B201,expedidas,67)))","v":39813.199999999997},{"$f":"IF(B201=\"\",\"\",VLOOKUP(B201,expedidas,68))","v":61932.62},{"$f":"IF(B201=\"\",\"\",VLOOKUP(B201,expedidas,69))","v":30078.61},{"$f":"IF(B201=\"\",\"\",VLOOKUP(B201,expedidas,70))","v":3308.64},{"$f":"IF(B201=\"\",\"\",VLOOKUP(B201,expedidas,71))","v":6617.28},{"$f":"IF(B201=\"\",\"\",VLOOKUP(B201,expedidas,72))","v":53},{"$f":"IF(B201=\"\",\"\",IF(BM201=\"-\",\"-\",VLOOKUP(B201,expedidas,74)))","v":3308.64},null,{"$f":"IF($G201=\"\",\"\",IF(CA201=\"informar\",0,IF($G201=\"não\",0,BS201+BV201+BY201+CE201)))","v":0},{"$f":"IF($AS201=\"\",\"\",IF(G201=\"não\",0,BR201-BP201))","v":0},{"$f":"IF($G201=\"\",\"\",IF(BP201=0,0,IF($G201=\"não\",0,BU201+BX201+CA201+CG201)))","v":0},{"$f":"IF($G201=\"\",\"\",IF($G201=\"não\",0,IF(VLOOKUP(B201,expedidas,10)=\"sim\",0,\"informar\")))","v":0},{"$f":"IF($G201=\"\",\"\",IF($G201=\"não\",0,IF(VLOOKUP(B201,expedidas,10)=\"sim\",0,\"informar\")))","v":0},{"$f":"IF($G201=\"\",\"\",IF($G201=\"não\",0,IF(VLOOKUP(B201,expedidas,10)=\"sim\",0,\"informar\")))","v":0},{"$f":"IF($G201=\"\",\"\",IF($G201=\"não\",0,IF(VLOOKUP(B201,expedidas,10)=\"sim\",0,\"informar\")))","v":0},{"$f":"IF($G201=\"\",\"\",IF($G201=\"não\",0,IF(VLOOKUP(B201,expedidas,10)=\"sim\",0,\"informar\")))","v":0},{"$f":"IF($G201=\"\",\"\",IF($G201=\"não\",0,IF(VLOOKUP(B201,expedidas,10)=\"sim\",0,\"informar\")))","v":0},{"$f":"IF($G201=\"\",\"\",IF($G201=\"não\",0,IF(VLOOKUP(B201,expedidas,10)=\"sim\",0,\"informar\")))","v":0},{"$f":"IF($G201=\"\",\"\",IF($G201=\"não\",0,IF(VLOOKUP(B201,expedidas,10)=\"sim\",0,\"informar\")))","v":0},{"$f":"IF($G201=\"\",\"\",IF($G201=\"não\",0,IF(VLOOKUP(B201,expedidas,10)=\"sim\",0,\"informar\")))","v":0},{"$f":"IF($G201=\"\",\"\",IF($G201=\"não\",0,IF(VLOOKUP(B201,expedidas,10)=\"sim\",0,\"informar\")))","v":0},{"$f":"IF($G201=\"\",\"\",IF($G201=\"não\",0,IF(VLOOKUP(B201,expedidas,10)=\"sim\",0,\"informar\")))","v":0},{"$f":"IF($G201=\"\",\"\",IF($G201=\"não\",0,IF(VLOOKUP(B201,expedidas,10)=\"sim\",0,\"informar\")))","v":0},{"$f":"IF($G201=\"\",\"\",IF($G201=\"não\",0,IF(VLOOKUP(B201,expedidas,10)=\"NÃO\",\"informar\",VLOOKUP(B201,expedidas,75))))","v":0},{"$f":"IF($G201=\"\",\"\",IF(VLOOKUP(B201,expedidas,10)=\"sim\",0,IF($G201=\"não\",0,\"informar\")))","v":0},{"$f":"IF($G201=\"\",\"\",IF(VLOOKUP(B201,expedidas,10)=\"sim\",CE201,IF($G201=\"não\",0,\"informar\")))","v":0},{"$f":"IF(B201=\"\",\"\",IF(VLOOKUP(B201,expedidas,10)=\"sim\",0,IF(G201=\"não\",0,IF(BJ201=0,0,IF(BJ201=AR201,BP201,TRUNC(BJ201*BP201/AR201,2))))))","v":0},{"$f":"IF($BQ201=\"\",\"\",IF(G201=\"não\",0,IF(CH201=\"informar\",0,TRUNC(CH201*0.11,2))))","v":0},{"$f":"IF($BQ201=\"\",\"\",IF(G201=\"não\",0,IF(BL201=0,0,CI201*2)))","v":0},{"$f":"IF($BQ201=\"\",\"\",IF(G201=\"não\",0,IF(BN201=0,0,CI201)))","v":0},null,{"$f":"IF(AR201=\"\",\"\",IF(BP201=0,AR201,AR201-BP201))","v":24577.119999999999},{"$f":"IF(AS201=\"\",\"\",IF(BQ201=0,AS201,AS201-BQ201))","v":44236.900000000009},{"$f":"IF(AT201=\"\",\"\",IF(BR201=0,AT201,AT201-BR201))","v":68814.02},{"$f":"IF(AU201=\"\",\"\",IF(BS201=0,AU201,AU201-BS201))","v":1966.16},{"$f":"IF(AV201=\"\",\"\",IF(BT201=0,AV201,AV201-BT201))","v":3538.96},{"$f":"IF(AW201=\"\",\"\",IF(BU201=0,AW201,AW201-BU201))","v":5505.12},{"$f":"IF(AX201=\"\",\"\",IF(BV201=0,AX201,AX201-BV201))","v":245.77},{"$f":"IF(AY201=\"\",\"\",IF(BW201=0,AY201,AY201-BW201))","v":442.37},{"$f":"IF(AZ201=\"\",\"\",IF(BX201=0,AZ201,AZ201-BX201))","v":688.14},{"$f":"IF(BA201=\"\",\"\",IF(BY201=0,BA201,BA201-BY201))","v":245.77},{"$f":"IF(BB201=\"\",\"\",IF(BZ201=0,BB201,BB201-BZ201))","v":442.37},{"$f":"IF(BC201=\"\",\"\",IF(CA201=0,BC201,BC201-CA201))","v":688.14},{"$f":"IF(BD201=\"\",\"\",IF(CB201=0,BD201,BD201-CB201))","v":0},{"$f":"IF(BE201=\"\",\"\",IF(CC201=0,BE201,BE201-CC201))","v":0},{"$f":"IF(BF201=\"\",\"\",IF(CD201=0,BF201,BF201-CD201))","v":0},{"$f":"IF(BG201=\"\",\"\",IF(CE201=0,BG201,BG201-CE201))","v":22119.42},{"$f":"IF(BH201=\"\",\"\",IF(CF201=0,BH201,BH201-CF201))","v":39813.199999999997},{"$f":"IF(BI201=\"\",\"\",IF(CG201=0,BI201,BI201-CG201))","v":61932.62},{"$f":"IF(CM201=\"\",\"\",IF(BJ201=AR201,CM201,TRUNC(CM201*(BJ201*100/AR201)/100,2)))","v":30078.61},{"$f":"IF(BK201=\"\",\"\",IF(CI201=0,BK201,BK201-CI201))","v":3308.64},{"$f":"IF(BL201=\"\",\"\",IF(CJ201=0,BL201,BL201-CJ201))","v":6617.28},{"$f":"DF201","v":3308.64},{"$f":"IF(B201=\"\",\"\",VLOOKUP(B201,expedidas,48))","v":"2022-10-01"},{"$f":"IF(DI201=\"\",\"\",IF(OR(DI201>=$DJ$7),1,1/VLOOKUP(DI201,indice,3)*VLOOKUP($DJ$7,indice,3)))","v":1},{"$f":"IF(DI201=\"\",\"\",IF(I201=\"ms 4.151/df\",VLOOKUP(DI201,indice,5),IF(DI201<$DJ$7,VLOOKUP(F201,indice,6),VLOOKUP(DI201,indice,5))))","v":{"$error":"#REF!"}},{"$f":"IF(DJ201=\"\",\"\",IF(DJ201=\"\",\"\",TRUNC((VLOOKUP(B201,expedidas,51))*DJ201,2)))","v":24577.119999999999},{"$f":"IF(DJ201=\"\",\"\",IF(DJ201=\"\",\"\",(TRUNC((VLOOKUP(B201,expedidas,52))*DJ201,2))))","v":44236.9},{"$f":"IF(DK201=\"\",\"\",IF(DK201=\"informar\",\"\",VLOOKUP(B201,expedidas,49)+TRUNC(VLOOKUP(B201,expedidas,51)*DJ201*DK201/100,2)))","v":{"$error":"#REF!"}},{"$f":"IF(DI201=\"\",\"\",IF(I201=\"ms 4.151/df\",TRUNC(VLOOKUP(B201,expedidas,52)*DJ201*DK201/100,2),IF(VLOOKUP(B201,expedidas,50)=0,0,IF(AND(MONTH(DI201)=2,YEAR(DI201)=2022),0,IF(DK201=\"informar\",\"\",VLOOKUP(B201,expedidas,50)+TRUNC((VLOOKUP(B201,expedidas,52))*DJ201*DK201/100,2))))))","v":{"$error":"#REF!"}},{"$f":"IF(DJ201=\"\",\"\",IF(DJ201=\"\",\"\",DL201+DM201+DN201+DO201))","v":{"$error":"#REF!"}},{"$f":"IF(AT201=\"\",\"\",TRUNC(DP201*W201/100,2))","v":{"$error":"#REF!"}},{"$f":"IF($DJ201=\"\",\"\",TRUNC(DP201*Z201/100,2))","v":{"$error":"#REF!"}},{"$f":"IF($DJ201=\"\",\"\",TRUNC(DP201*AC201/100,2))","v":{"$error":"#REF!"}},{"$f":"IF($DJ201=\"\",\"\",TRUNC(DP201*AF201/100,2))","v":{"$error":"#REF!"}},{"$f":"IF(AT201=\"\",\"\",IF(DP201=\"\",\"\",DP201-DQ201-DR201-DS201-DT201))","v":{"$error":"#REF!"}},{"$f":"IF(DJ201=\"\",\"\",IF(BJ201=0,0,IF(I201=\"ms 4.151/df\",TRUNC(BJ201*DJ201,2)+TRUNC(BJ201*DK201/100,2),IF(BJ201<AR201,TRUNC((BJ201)+BJ201*DK201/100,2),DL201+DN201))))","v":{"$error":"#REF!"}},{"$f":"IF(DJ201=\"\",\"\",TRUNC(DV201*0.11,2))","v":{"$error":"#REF!"}},{"$f":"IF(BL201=0,0,((IF(DW201=\"\",\"\",IF(DW201>0,DW201*2,DW201)))))","v":{"$error":"#REF!"}},{"$f":"IF(DN201=\"\",\"\",IF(BM201=0,0,IF(DU201<(DM201+DO201),0,IF(DN201=0,0,(DU201-DM201))-DO201)))","v":{"$error":"#REF!"}},{"$f":"IF(DJ201=\"\",\"\",IF(DY201=0,0,DW201))","v":{"$error":"#REF!"}},null,{"$f":"IF(CO201=\"\",\"\",IF($G201=\"não\",0,EC201+ED201+EE201+EF201+EG201))","v":0},{"$f":"IF(CR201=\"\",\"\",IF($G201=\"não\",0,IF(BU201=AW201,DQ201,TRUNC(BU201*$DJ201,2))))","v":0},{"$f":"IF(CU201=\"\",\"\",IF($G201=\"não\",0,IF(BX201=AZ201,DR201,TRUNC(BX201*$DJ201,2))))","v":0},{"$f":"IF(CX201=\"\",\"\",IF($G201=\"não\",0,IF(CA201=BC201,DS201,TRUNC(CA201*$DJ201,2))))","v":0},{"$f":"IF(DA201=\"\",\"\",IF($G201=\"não\",0,IF(CD201=BF201,DT201,TRUNC(CD201*$DJ201,2))))","v":0},{"$f":"IF(DU201=\"\",\"\",IF($G201=\"não\",0,IF(CG201=BI201,DU201,VLOOKUP(B201,expedidas,76))))","v":{"$error":"#REF!"}},{"$f":"IF(CH201=\"\",\"\",IF($G201=\"não\",0,IF(BJ201=CH201,DV201,0)))","v":0},{"$f":"IF(EH201=\"\",\"\",TRUNC(EH201*0.11,2))","v":0},{"$f":"IF(CJ201=\"\",\"\",IF(CJ201=0,0,EI201*2))","v":0},{"$f":"IF(CK201=0,0,EI201)","v":0},null,{"$f":"IF(EB201=\"\",\"\",IF(G201=\"não\",DP201,EN201+EO201+EP201+EQ201+ER201))","v":{"$error":"#REF!"}},{"$f":"IF(EC201=\"\",\"\",IF(CR201=0,0,DQ201-EC201))","v":{"$error":"#REF!"}},{"$f":"IF(ED201=\"\",\"\",IF(CU201=0,0,DR201-ED201))","v":{"$error":"#REF!"}},{"$f":"IF(EE201=\"\",\"\",IF(CX201=0,0,DS201-EE201))","v":{"$error":"#REF!"}},{"$f":"IF(EF201=\"\",\"\",IF(DA201=0,0,DT201-EF201))","v":0},{"$f":"IF(EG201=\"\",\"\",IF(DD201=0,0,DU201-EG201))","v":{"$error":"#REF!"}},{"$f":"IF(DV201=\"\",\"\",IF(DV201=0,0,DV201-EH201))","v":{"$error":"#REF!"}},{"$f":"IF(ES201=\"\",\"\",IF(ES201=0,0,TRUNC(ES201*0.11,2)))","v":{"$error":"#REF!"}},{"$f":"IF(DX201=\"\",\"\",IF(DX201=0,0,ET201*2))","v":{"$error":"#REF!"}},{"$f":"IF(BM201=\"\",\"\",IF(BM201=0,0,ET201))","v":{"$error":"#REF!"}},null,0,{"$f":"IF(EX201>0,B201,0)","v":0},{"$f":"IF(AND(EX201>0,EX202=0),EX201,0)","v":0},{"$f":"IF(AND(EX201>0,EX200=0),EX201,0)","v":0},null,null,null,0,0,0,0]
[194,14933,"2022/0344814-0","2022-10-25","Paga em FEV-2023 - 4ª remessa","2023-02-01","NÃO",4,"MS 4.151/DF","1995-07-21","1999-02-12","Mandado de Segurança 4.151/DF","2016/0129313-1","2022-08-23","UNIÃO","Administrativo - Servidor Público Civil - Reajustes de Remuneração, Proventos ou Pensão","Alimentar","Espólio de Cicero Pedro Costa","778.973.588-87","Servidor Público Civil Ativo","Diferença de remuneração - 3,17%","Ministério da Fazenda",6,"Mota & Advogados Associados","03.996.810/0001-38",17,"Francisco Edio Mota Torres Sociedade Individual de Advocacia","38.461.439/0001-94",7,"Sidnei Siqueira","058.830.078-05",0," x x x "," x x x ","Dedução de Honorários Contratuais","Não","Não","Não","-","-","Não informada","Não Informada","Não",22702.31,41448.83,64151.14,1362.13,2486.9299999999998,3849.06,3859.39,7046.3,10905.69,1589.16,2901.41,4490.57,0,0,0,15891.63,29014.19,44905.82,28939.9,3183.38,6366.76,53,3183.38,null,0,0,0,0,0,0,0,0,0,0,0,0,0,0,0,0,0,0,0,0,0,0,null,22702.31,41448.83,64151.14,1362.13,2486.9299999999998,3849.06,3859.39,7046.3,10905.69,1589.16,2901.41,4490.57,0,0,0,15891.63,29014.19,44905.82,28939.9,3183.38,6366.76,3183.38,"2022-10-01",1,{"$error":"#REF!"},22702.31,41448.83,{"$error":"#REF!"},{"$error":"#REF!"},{"$error":"#REF!"},{"$error":"#REF!"},{"$error":"#REF!"},{"$error":"#REF!"},{"$error":"#REF!"},{"$error":"#REF!"},{"$error":"#REF!"},{"$error":"#REF!"},{"$error":"#REF!"},{"$error":"#REF!"},{"$error":"#REF!"},null,0,0,0,0,0,{"$error":"#REF!"},0,0,0,0,null,{"$error":"#REF!"},{"$error":"#REF!"},{"$error":"#REF!"},{"$error":"#REF!"},0,{"$error":"#REF!"},{"$error":"#REF!"},{"$error":"#REF!"},{"$error":"#REF!"},{"$error":"#REF!"},null,{"$f":"IF(F202=$EX$6,A202,0)","v":0},0,0,0,null,null,null,0,0,0,0]
[195,14934,"2022/0345837-4","2022-10-25","Paga em FEV-2023 - 4ª remessa","2023-02-01","NÃO",4,"MS 4.151/DF","1995-07-21","1999-02-12","Mandado de Segurança 4.151/DF","2016/0174899-6","2022-08-18","UNIÃO","Administrativo - Servidor Público Civil - Reajustes de Remuneração, Proventos ou Pensão","Alimentar","Walter Otto Knevels","230.619.109-30","Servidor Público Civil Ativo","Diferença de remuneração - 3,17%","Ministério da Fazenda",4,"Mota & Advogados Associados","03.996.810/0001-38",1,"Mauro Menezes e Advogados","32.901.423/0001-79",1,"Caputo, Bastos e Serra Advogados","12.291.813/0001-67",5,"Ibaneis Advocacia e Consultoria Sociedade Simples","05.613.437/0001-14","Dedução de Honorários Contratuais","Não","Não","Não","-","-","Não informada","Não Informada","Não",22924.58,42059.869999999995,64984.45,916.98,1682.39,2599.37,229.24,420.6,649.84,229.24,420.6,649.84,1146.22,2103,3249.22,20402.900000000001,37433.279999999999,57836.18,29131.17,3204.42,6408.84,53,3204.42,null,0,0,0,0,0,0,0,0,0,0,0,0,0,0,0,0,0,0,0,0,0,0,null,22924.58,42059.869999999995,64984.45,916.98,1682.39,2599.37,229.24,420.6,649.84,229.24,420.6,649.84,1146.22,2103,3249.22,20402.900000000001,37433.279999999999,57836.18,29131.17,3204.42,6408.84,3204.42,"2022-10-01",1,{"$error":"#REF!"},22924.58,42059.87,{"$error":"#REF!"},{"$error":"#REF!"},{"$error":"#REF!"},{"$error":"#REF!"},{"$error":"#REF!"},{"$error":"#REF!"},{"$error":"#REF!"},{"$error":"#REF!"},{"$error":"#REF!"},{"$error":"#REF!"},{"$error":"#REF!"},{"$error":"#REF!"},{"$error":"#REF!"},null,0,0,0,0,0,{"$error":"#REF!"},0,0,0,0,null,{"$error":"#REF!"},{"$error":"#REF!"},{"$error":"#REF!"},{"$error":"#REF!"},{"$error":"#REF!"},{"$error":"#REF!"},{"$error":"#REF!"},{"$error":"#REF!"},{"$error":"#REF!"},{"$error":"#REF!"},null,0,0,0,0,null,null,null,{"$f":"IF(AND(B203>0,B204=\"\"),B203,0)","v":0},{"$f":"IF(E203=\"\",0,IF(E203=$FE$5,A203,0))","v":0},{"$f":"IF(AND(FF203>0,FF202=0),FF203,0)","v":0},{"$f":"IF(FF203=\"\",\"\",IF(AND(FF203>0,FF204=0),FF203,0))","v":0}]
[196,14935,"2022/0345885-5","2022-10-26","Paga em FEV-2023 - 4ª remessa","2023-02-01","NÃO",4,"MS 4.151/DF","1995-07-21","1999-02-12","Mandado de Segurança 4.151/DF","2016/0127307-3","2021-11-26","UNIÃO","Administrativo - Servidor Público Civil - Reajustes de Remuneração, Proventos ou Pensão","Alimentar","Alcenor Crescencio de Souza","011.260.911-20","Servidor Público Civil Inativo","Diferença de remuneração - 3,17%","Ministério da Fazenda",6,"Mota & Advogados Associados","03.996.810/0001-38",1,"Mauro Menezes e Advogados","32.901.423/0001-79",1,"Caputo, Bastos e Serra Advogados","12.291.813/0001-67",0," x x x "," x x x ","Dedução de Honorários Contratuais","Não","Não","Não","-","-","Não informada","Não Informada","Não",25951.13,46768.869999999995,72720,1557.06,2806.14,4363.2,259.51,467.69,727.2,259.51,467.69,727.2,0,0,0,23875.05,43027.35,66902.399999999994,0,0,0,53,0,null,0,0,0,0,0,0,0,0,0,0,0,0,0,0,0,0,0,0,0,0,0,0,null,25951.13,46768.869999999995,72720,1557.06,2806.14,4363.2,259.51,467.69,727.2,259.51,467.69,727.2,0,0,0,23875.05,43027.35,66902.399999999994,0,0,0,0,"2022-10-01",1,{"$error":"#REF!"},25951.13,46768.87,{"$error":"#REF!"},{"$error":"#REF!"},{"$error":"#REF!"},{"$error":"#REF!"},{"$error":"#REF!"},{"$error":"#REF!"},{"$error":"#REF!"},{"$error":"#REF!"},0,0,0,{"$error":"#REF!"},{"$error":"#REF!"},null,0,0,0,0,0,{"$error":"#REF!"},0,0,0,0,null,{"$error":"#REF!"},{"$error":"#REF!"},{"$error":"#REF!"},{"$error":"#REF!"},0,{"$error":"#REF!"},0,0,0,0,null,0,0,0,0,null,null,null,0,0,0,0]
[197,14938,"2022/0345896-8","2022-10-26","Paga em FEV-2023 - 4ª remessa","2023-02-01","NÃO",4,"MS 4.151/DF","1995-07-21","1999-02-12","Mandado de Segurança 4.151/DF","2016/0127307-3","2021-11-26","UNIÃO","Administrativo - Servidor Público Civil - Reajustes de Remuneração, Proventos ou Pensão","Alimentar","Alcides Guilhen Ferrez","434.794.808-53","Servidor Público Civil Ativo","Diferença de remuneração - 3,17%","Ministério da Fazenda",6,"Mota & Advogados Associados","03.996.810/0001-38",1,"Mauro Menezes e Advogados","32.901.423/0001-79",1,"Caputo, Bastos e Serra Advogados","12.291.813/0001-67",0," x x x "," x x x ","Dedução de Honorários Contratuais","Não","Não","Não","-","-","Não informada","Não Informada","Não",22655.58,42884.880000000005,65540.460000000006,1359.33,2573.09,3932.42,226.55,428.85,655.4,226.55,428.85,655.4,0,0,0,20843.150000000001,39454.089999999997,60297.24,30894.66,3398.41,6796.82,53,3398.41,null,0,0,0,0,0,0,0,0,0,0,0,0,0,0,0,0,0,0,0,0,0,0,null,22655.58,42884.880000000005,65540.460000000006,1359.33,2573.09,3932.42,226.55,428.85,655.4,226.55,428.85,655.4,0,0,0,20843.150000000001,39454.089999999997,60297.24,30894.66,3398.41,6796.82,3398.41,"2022-10-01",1,{"$error":"#REF!"},22655.58,42884.88,{"$error":"#REF!"},{"$error":"#REF!"},{"$error":"#REF!"},{"$error":"#REF!"},{"$error":"#REF!"},{"$error":"#REF!"},{"$error":"#REF!"},{"$error":"#REF!"},{"$error":"#REF!"},{"$error":"#REF!"},{"$error":"#REF!"},{"$error":"#REF!"},{"$error":"#REF!"},null,0,0,0,0,0,{"$error":"#REF!"},0,0,0,0,null,{"$error":"#REF!"},{"$error":"#REF!"},{"$error":"#REF!"},{"$error":"#REF!"},0,{"$error":"#REF!"},{"$error":"#REF!"},{"$error":"#REF!"},{"$error":"#REF!"},{"$error":"#REF!"},null,0,0,0,0,null,null,null,0,0,0,0]
[198,14941,"2022/0345950-1","2022-10-26","Paga em FEV-2023 - 4ª remessa","2023-02-01","NÃO",4,"MS 4.151/DF","1995-07-21","1999-02-12","Mandado de Segurança 4.151/DF","2016/0127307-3","2021-11-26","UNIÃO","Administrativo - Servidor Público Civil - Reajustes de Remuneração, Proventos ou Pensão","Alimentar","Alberto Durek Neto","033.212.829-68","Servidor Público Civil Inativo","Diferença de remuneração - 3,17%","Ministério da Fazenda",6,"Mota & Advogados Associados","03.996.810/0001-38",1,"Mauro Menezes e Advogados","32.901.423/0001-79",1,"Caputo, Bastos e Serra Advogados","12.291.813/0001-67",0," x x x "," x x x ","Dedução de Honorários Contratuais","Não","Não","Não","-","-","Não informada","Não Informada","Não",22401.29,42373.549999999996,64774.84,1344.07,2542.42,3886.49,224.01,423.73,647.74,224.01,423.73,647.74,0,0,0,20609.2,38983.67,59592.87,0,0,0,53,0,null,0,0,0,0,0,0,0,0,0,0,0,0,0,0,0,0,0,0,0,0,0,0,null,22401.29,42373.549999999996,64774.84,1344.07,2542.42,3886.49,224.01,423.73,647.74,224.01,423.73,647.74,0,0,0,20609.2,38983.67,59592.87,0,0,0,0,"2022-10-01",1,{"$error":"#REF!"},22401.29,42373.55,{"$error":"#REF!"},{"$error":"#REF!"},{"$error":"#REF!"},{"$error":"#REF!"},{"$error":"#REF!"},{"$error":"#REF!"},{"$error":"#REF!"},{"$error":"#REF!"},0,0,0,{"$error":"#REF!"},{"$error":"#REF!"},null,0,0,0,0,0,{"$error":"#REF!"},0,0,0,0,null,{"$error":"#REF!"},{"$error":"#REF!"},{"$error":"#REF!"},{"$error":"#REF!"},0,{"$error":"#REF!"},0,0,0,0,null,0,0,0,0,null,null,null,0,0,0,0]
[199,14942,"2022/0347510-0","2022-10-26","Paga em FEV-2023 - 4ª remessa","2023-02-01","NÃO",4,"MS 21.586/DF","2015-02-12","2020-05-29","Mandado de Segurança 21.586/DF","2022/0034206-0","2022-10-06","União","Administrativo - Servidor Público Civil","Alimentar","Neri Luiz Cenzi","242.957.449-72","Servidor Público Civil Inativo","Reestabelecimento de aposentadoria cassada","Ministério da Saúde",0," x x x ","x x x",0," x x x ","x x x",0," x x x "," x x x ",0," x x x "," x x x ","x.x.x","Não","Não","Não","-","-","Não informada","Não Informada","Não",69946.14,2590.4600000000009,72720,0,0,0,0,0,0,0,0,0,0,0,0,69946.14,2773.86,72720,69946.14,7694.07,0,8,7694.07,null,0,0,0,0,0,0,0,0,0,0,0,0,0,0,0,0,0,0,0,0,0,0,null,69946.14,2590.4600000000009,72720,0,0,0,0,0,0,0,0,0,0,0,0,69946.14,2773.86,72720,69946.14,7694.07,0,7694.07,"2022-10-01",1,{"$error":"#REF!"},65321.39,2590.46,{"$error":"#REF!"},{"$error":"#REF!"},{"$error":"#REF!"},{"$error":"#REF!"},{"$error":"#REF!"},{"$error":"#REF!"},{"$error":"#REF!"},{"$error":"#REF!"},{"$error":"#REF!"},{"$error":"#REF!"},0,{"$error":"#REF!"},{"$error":"#REF!"},null,0,0,0,0,0,{"$error":"#REF!"},0,0,0,0,null,{"$error":"#REF!"},0,0,0,0,{"$error":"#REF!"},{"$error":"#REF!"},{"$error":"#REF!"},0,{"$error":"#REF!"},null,0,0,0,0,null,null,null,0,0,0,0]
[200,14944,"2022/0347568-9","2022-10-27","Paga em FEV-2023 - 4ª remessa","2023-02-01","NÃO",4,"MS 10.424/DF","2005-02-17","2005-10-27","Mandado de Segurança 10.424/DF","2006/0235389-9","2016-02-12","UNIÃO","Administrativo - Servidor Público Civil - Sistema Remuneratório e Benefícios - Gratificações","Alimentar","Cleide Maria Mazarello Oliveira Fonseca","143.098.822-34","Servidor Público Civil Ativo","Gratificação Específica de Atividade Docente - GEAD","Ministério do Planejamento, Orçamento e Gestão",11,"Fonseca e Assis Advogados Associados","01.971.231/0001-05",0," x x x ","x x x",0," x x x "," x x x ",0," x x x "," x x x ","Dedução de Honorários Contratuais","Não","Não","Não","-","-","Não informada","Não Informada","Não",7167.6,5705.1799999999994,13405.64,788.43,686.19,1474.62,0,0,0,0,0,0,0,0,0,6379.17,5551.85,11931.02,7167.6,788.43,1576.86,9,788.43,null,0,0,0,0,0,0,0,0,0,0,0,0,0,0,0,0,0,0,0,0,0,0,null,7167.6,5705.1799999999994,13405.64,788.43,686.19,1474.62,0,0,0,0,0,0,0,0,0,6379.17,5551.85,11931.02,7167.6,788.43,1576.86,788.43,"2022-10-01",1,{"$error":"#REF!"},6555.34,5705.18,{"$error":"#REF!"},{"$error":"#REF!"},{"$error":"#REF!"},{"$error":"#REF!"},{"$error":"#REF!"},{"$error":"#REF!"},{"$error":"#REF!"},{"$error":"#REF!"},{"$error":"#REF!"},{"$error":"#REF!"},{"$error":"#REF!"},{"$error":"#REF!"},{"$error":"#REF!"},null,0,0,0,0,0,{"$error":"#REF!"},0,0,0,0,null,{"$error":"#REF!"},{"$error":"#REF!"},0,0,0,{"$error":"#REF!"},{"$error":"#REF!"},{"$error":"#REF!"},{"$error":"#REF!"},{"$error":"#REF!"},null,0,0,0,0,null,null,null,0,0,0,0]
[201,14945,"2022/0348720-4","2022-10-28","Paga em FEV-2023 - 4ª remessa","2023-02-01","NÃO",4,"AR 1.169/CE","1999-10-18","2004-06-07","Ação Rescisória 1.169/CE","2009/0055213-6","2014-05-22","Instituto Nacional do Seguro Social – INSS","Administrativo - Servidor Público Civil - Sistema Remuneratório e Benefícios","Alimentar","Francisca David Alves De Mesquita ","058.438.983-34","Servidor Público Civil Ativo","Anuênios","Instituto Nacional do Seguro Social - INSS",10,"Glayddes Sindeaux Advogados","17.291.820/0001-82",0," x x x ","x x x",0," x x x "," x x x ",0," x x x "," x x x ","Dedução de Honorários Contratuais","Não","Não","Não","-","-","Não informada","Não Informada","Não",3290.19,4982,8737.5,329.01,544.74,873.75,0,0,0,0,0,0,0,0,0,2961.18,4902.57,7863.75,3290.19,361.92,723.84,116,361.92,null,0,0,0,0,0,0,0,0,0,0,0,0,0,0,0,0,0,0,0,0,0,0,null,3290.19,4982,8737.5,329.01,544.74,873.75,0,0,0,0,0,0,0,0,0,2961.18,4902.57,7863.75,3290.19,361.92,723.84,361.92,"2022-10-01",1,{"$error":"#REF!"},3009.14,4982,{"$error":"#REF!"},{"$error":"#REF!"},{"$error":"#REF!"},{"$error":"#REF!"},{"$error":"#REF!"},{"$error":"#REF!"},{"$error":"#REF!"},{"$error":"#REF!"},{"$error":"#REF!"},{"$error":"#REF!"},{"$error":"#REF!"},{"$error":"#REF!"},{"$error":"#REF!"},null,0,0,0,0,0,{"$error":"#REF!"},0,0,0,0,null,{"$error":"#REF!"},{"$error":"#REF!"},0,0,0,{"$error":"#REF!"},{"$error":"#REF!"},{"$error":"#REF!"},{"$error":"#REF!"},{"$error":"#REF!"},null,0,0,0,0,null,null,null,0,0,0,0]
[202,14946,"2022/0348725-3","2022-10-28","Paga em FEV-2023 - 4ª remessa","2023-02-01","NÃO",4,"AR 1.169/CE","1999-10-18","2004-06-07","Ação Rescisória 1.169/CE","2009/0055213-6","2014-05-22","Instituto Nacional do Seguro Social – INSS","Administrativo - Servidor Público Civil - Sistema Remuneratório e Benefícios","Alimentar","Francisco Afonso Costa De Moraes Lima ","023.342.403-20","Servidor Público Civil Ativo","Anuênios","Instituto Nacional do Seguro Social - INSS",20,"Glayddes Sindeaux Advogados","17.291.820/0001-82",0," x x x ","x x x",0," x x x "," x x x ",0," x x x "," x x x ","Dedução de Honorários Contratuais","Não","Não","Não","-","-","Não informada","Não Informada","Não",4698.2,7181.32,12550.25,939.64,1570.41,2510.0500000000002,0,0,0,0,0,0,0,0,0,3758.56,6281.64,10040.200000000001,4698.2,516.79999999999995,1033.5999999999999,115,516.79999999999995,null,0,0,0,0,0,0,0,0,0,0,0,0,0,0,0,0,0,0,0,0,0,0,null,4698.2,7181.32,12550.25,939.64,1570.41,2510.0500000000002,0,0,0,0,0,0,0,0,0,3758.56,6281.64,10040.200000000001,4698.2,516.79999999999995,1033.5999999999999,516.79999999999995,"2022-10-01",1,{"$error":"#REF!"},4296.88,7181.32,{"$error":"#REF!"},{"$error":"#REF!"},{"$error":"#REF!"},{"$error":"#REF!"},{"$error":"#REF!"},{"$error":"#REF!"},{"$error":"#REF!"},{"$error":"#REF!"},{"$error":"#REF!"},{"$error":"#REF!"},{"$error":"#REF!"},{"$error":"#REF!"},{"$error":"#REF!"},null,0,0,0,0,0,{"$error":"#REF!"},0,0,0,0,null,{"$error":"#REF!"},{"$error":"#REF!"},0,0,0,{"$error":"#REF!"},{"$error":"#REF!"},{"$error":"#REF!"},{"$error":"#REF!"},{"$error":"#REF!"},null,0,0,0,0,null,null,null,0,0,0,0]
[203,14947,"2022/0348727-7","2022-10-28","Paga em FEV-2023 - 4ª remessa","2023-02-01","NÃO",4,"AR 1.169/CE","1999-10-18","2004-06-07","Ação Rescisória 1.169/CE","2009/0055213-6","2014-05-22","Instituto Nacional do Seguro Social – INSS","Administrativo - Servidor Público Civil - Sistema Remuneratório e Benefícios","Alimentar","Francisco Airton Araújo Júnior ","090.633.903-00","Servidor Público Civil Ativo","Anuênios","Instituto Nacional do Seguro Social - INSS",10,"Glayddes Sindeaux Advogados","17.291.820/0001-82",0," x x x ","x x x",0," x x x "," x x x ",0," x x x "," x x x ","Dedução de Honorários Contratuais","Não","Não","Não","-","-","Não informada","Não Informada","Não",6609.35,10102.630000000001,17655.560000000001,660.93,1104.6199999999999,1765.55,0,0,0,0,0,0,0,0,0,5948.42,9941.59,15890.01,6609.35,727.02,1454.04,115,727.02,null,0,0,0,0,0,0,0,0,0,0,0,0,0,0,0,0,0,0,0,0,0,0,null,6609.35,10102.630000000001,17655.560000000001,660.93,1104.6199999999999,1765.55,0,0,0,0,0,0,0,0,0,5948.42,9941.59,15890.01,6609.35,727.02,1454.04,727.02,"2022-10-01",1,{"$error":"#REF!"},6044.77,10102.629999999999,{"$error":"#REF!"},{"$error":"#REF!"},{"$error":"#REF!"},{"$error":"#REF!"},{"$error":"#REF!"},{"$error":"#REF!"},{"$error":"#REF!"},{"$error":"#REF!"},{"$error":"#REF!"},{"$error":"#REF!"},{"$error":"#REF!"},{"$error":"#REF!"},{"$error":"#REF!"},null,0,0,0,0,0,{"$error":"#REF!"},0,0,0,0,null,{"$error":"#REF!"},{"$error":"#REF!"},0,0,0,{"$error":"#REF!"},{"$error":"#REF!"},{"$error":"#REF!"},{"$error":"#REF!"},{"$error":"#REF!"},null,0,0,0,0,null,null,null,0,0,0,0]
[204,14948,"2022/0348733-0","2022-10-28","Paga em FEV-2023 - 4ª remessa","2023-02-01","NÃO",4,"AR 1.169/CE","1999-10-18","2004-06-07","Ação Rescisória 1.169/CE","2009/0055213-6","2014-05-22","Instituto Nacional do Seguro Social – INSS","Administrativo - Servidor Público Civil - Sistema Remuneratório e Benefícios","Alimentar","Francisco Airton De Vasconcelos ","058.157.623-34","Servidor Público Civil Ativo","Anuênios","Instituto Nacional do Seguro Social - INSS",20,"Glayddes Sindeaux Advogados","17.291.820/0001-82",0," x x x ","x x x",0," x x x "," x x x ",0," x x x "," x x x ","Dedução de Honorários Contratuais","Não","Não","Não","-","-","Não informada","Não Informada","Não",6723.03,10203.57,17879.61,1344.6,2231.3200000000002,3575.92,0,0,0,0,0,0,0,0,0,5378.43,8925.26,14303.69,6723.03,739.53,1479.06,115,739.53,null,0,0,0,0,0,0,0,0,0,0,0,0,0,0,0,0,0,0,0,0,0,0,null,6723.03,10203.57,17879.61,1344.6,2231.3200000000002,3575.92,0,0,0,0,0,0,0,0,0,5378.43,8925.26,14303.69,6723.03,739.53,1479.06,739.53,"2022-10-01",1,{"$error":"#REF!"},6148.74,10203.57,{"$error":"#REF!"},{"$error":"#REF!"},{"$error":"#REF!"},{"$error":"#REF!"},{"$error":"#REF!"},{"$error":"#REF!"},{"$error":"#REF!"},{"$error":"#REF!"},{"$error":"#REF!"},{"$error":"#REF!"},{"$error":"#REF!"},{"$error":"#REF!"},{"$error":"#REF!"},null,0,0,0,0,0,{"$error":"#REF!"},0,0,0,0,null,{"$error":"#REF!"},{"$error":"#REF!"},0,0,0,{"$error":"#REF!"},{"$error":"#REF!"},{"$error":"#REF!"},{"$error":"#REF!"},{"$error":"#REF!"},null,0,0,0,0,null,null,null,0,0,0,0]
[205,14949,"2022/0348735-4","2022-10-28","Paga em FEV-2023 - 4ª remessa","2023-02-01","NÃO",4,"AR 1.169/CE","1999-10-18","2004-06-07","Ação Rescisória 1.169/CE","2009/0055213-6","2014-05-22","Instituto Nacional do Seguro Social – INSS","Administrativo - Servidor Público Civil - Sistema Remuneratório e Benefícios","Alimentar","Francisco Alcântara Da Fonseca ","161.736.603-00","Servidor Público Civil Ativo","Anuênios","Instituto Nacional do Seguro Social - INSS",10,"Glayddes Sindeaux Advogados","17.291.820/0001-82",0," x x x ","x x x",0," x x x "," x x x ",0," x x x "," x x x ","Dedução de Honorários Contratuais","Não","Não","Não","-","-","Não informada","Não Informada","Não",4548.33,6903.0300000000007,12096.1,454.83,754.78,1209.6099999999999,0,0,0,0,0,0,0,0,0,4093.5,6792.99,10886.49,4548.33,500.31,1000.62,115,500.31,null,0,0,0,0,0,0,0,0,0,0,0,0,0,0,0,0,0,0,0,0,0,0,null,4548.33,6903.0300000000007,12096.1,454.83,754.78,1209.6099999999999,0,0,0,0,0,0,0,0,0,4093.5,6792.99,10886.49,4548.33,500.31,1000.62,500.31,"2022-10-01",1,{"$error":"#REF!"},4159.8100000000004,6903.03,{"$error":"#REF!"},{"$error":"#REF!"},{"$error":"#REF!"},{"$error":"#REF!"},{"$error":"#REF!"},{"$error":"#REF!"},{"$error":"#REF!"},{"$error":"#REF!"},{"$error":"#REF!"},{"$error":"#REF!"},{"$error":"#REF!"},{"$error":"#REF!"},{"$error":"#REF!"},null,0,0,0,0,0,{"$error":"#REF!"},0,0,0,0,null,{"$error":"#REF!"},{"$error":"#REF!"},0,0,0,{"$error":"#REF!"},{"$error":"#REF!"},{"$error":"#REF!"},{"$error":"#REF!"},{"$error":"#REF!"},null,0,0,0,0,null,null,null,0,0,0,0]
[206,14950,"2022/0348738-0","2022-10-28","Paga em FEV-2023 - 4ª remessa","2023-02-01","NÃO",4,"AR 1.169/CE","1999-10-18","2004-06-07","Ação Rescisória 1.169/CE","2009/0055213-6","2014-05-22","Instituto Nacional do Seguro Social – INSS","Administrativo - Servidor Público Civil - Sistema Remuneratório e Benefícios","Alimentar","Francisco Assis Araújo ","091.685.163-04","Servidor Público Civil Ativo","Anuênios","Instituto Nacional do Seguro Social - INSS",10,"Glayddes Sindeaux Advogados","17.291.820/0001-82",0," x x x ","x x x",0," x x x "," x x x ",0," x x x "," x x x ","Dedução de Honorários Contratuais","Não","Não","Não","-","-","Não informada","Não Informada","Não",2851.8700000000003,4359.2300000000005,7618.25,285.18,476.64,761.82,0,0,0,0,0,0,0,0,0,2566.69,4289.74,6856.43,2851.87,313.7,627.4,115,313.7,null,0,0,0,0,0,0,0,0,0,0,0,0,0,0,0,0,0,0,0,0,0,0,null,2851.8700000000003,4359.2300000000005,7618.25,285.18,476.64,761.82,0,0,0,0,0,0,0,0,0,2566.69,4289.74,6856.43,2851.8700000000003,313.7,627.4,313.7,"2022-10-01",1,{"$error":"#REF!"},2608.2600000000002,4359.2299999999996,{"$error":"#REF!"},{"$error":"#REF!"},{"$error":"#REF!"},{"$error":"#REF!"},{"$error":"#REF!"},{"$error":"#REF!"},{"$error":"#REF!"},{"$error":"#REF!"},{"$error":"#REF!"},{"$error":"#REF!"},{"$error":"#REF!"},{"$error":"#REF!"},{"$error":"#REF!"},null,0,0,0,0,0,{"$error":"#REF!"},0,0,0,0,null,{"$error":"#REF!"},{"$error":"#REF!"},0,0,0,{"$error":"#REF!"},{"$error":"#REF!"},{"$error":"#REF!"},{"$error":"#REF!"},{"$error":"#REF!"},null,0,0,0,0,null,null,null,0,0,0,0]
[207,14951,"2022/0348743-1","2022-10-28","Paga em FEV-2023 - 4ª remessa","2023-02-01","NÃO",4,"AR 1.169/CE","1999-10-18","2004-06-07","Ação Rescisória 1.169/CE","2009/0055213-6","2014-05-22","Instituto Nacional do Seguro Social – INSS","Administrativo - Servidor Público Civil - Sistema Remuneratório e Benefícios","Alimentar","Francisco Da Silva Barroso ","636.076.978-68","Servidor Público Civil Ativo","Anuênios","Instituto Nacional do Seguro Social - INSS",10,"Glayddes Sindeaux Advogados","17.291.820/0001-82",0," x x x ","x x x",0," x x x "," x x x ",0," x x x "," x x x ","Dedução de Honorários Contratuais","Não","Não","Não","-","-","Não informada","Não Informada","Não",5196.9900000000007,7943.3599999999988,13882.25,519.69000000000005,868.53,1388.22,0,0,0,0,0,0,0,0,0,4677.3,7816.73,12494.03,5196.99,571.66,1143.32,106,571.66,null,0,0,0,0,0,0,0,0,0,0,0,0,0,0,0,0,0,0,0,0,0,0,null,5196.9900000000007,7943.3599999999988,13882.25,519.69000000000005,868.53,1388.22,0,0,0,0,0,0,0,0,0,4677.3,7816.73,12494.03,5196.9900000000007,571.66,1143.32,571.66,"2022-10-01",1,{"$error":"#REF!"},4753.0600000000004,7943.36,{"$error":"#REF!"},{"$error":"#REF!"},{"$error":"#REF!"},{"$error":"#REF!"},{"$error":"#REF!"},{"$error":"#REF!"},{"$error":"#REF!"},{"$error":"#REF!"},{"$error":"#REF!"},{"$error":"#REF!"},{"$error":"#REF!"},{"$error":"#REF!"},{"$error":"#REF!"},null,0,0,0,0,0,{"$error":"#REF!"},0,0,0,0,null,{"$error":"#REF!"},{"$error":"#REF!"},0,0,0,{"$error":"#REF!"},{"$error":"#REF!"},{"$error":"#REF!"},{"$error":"#REF!"},{"$error":"#REF!"},null,0,0,0,0,null,null,null,0,0,0,0]
[208,14952,"2022/0348744-3","2022-10-28","Paga em FEV-2023 - 4ª remessa","2023-02-01","NÃO",4,"AR 1.169/CE","1999-10-18","2004-06-07","Ação Rescisória 1.169/CE","2009/0055213-6","2014-05-22","Instituto Nacional do Seguro Social – INSS","Administrativo - Servidor Público Civil - Sistema Remuneratório e Benefícios","Alimentar","Francisco Das Chagas Fernandes ","028.410.453-15","Servidor Público Civil Ativo","Anuênios","Instituto Nacional do Seguro Social - INSS",20,"Glayddes Sindeaux Advogados","17.291.820/0001-82",0," x x x ","x x x",0," x x x "," x x x ",0," x x x "," x x x ","Dedução de Honorários Contratuais","Não","Não","Não","-","-","Não informada","Não Informada","Não",5455.07,8337.91,14571.74,1091.01,1823.33,2914.34,0,0,0,0,0,0,0,0,0,4364.0600000000004,7293.34,11657.4,3836,421.96,843.92,110,421.96,null,0,0,0,0,0,0,0,0,0,0,0,0,0,0,0,0,0,0,0,0,0,0,null,5455.07,8337.91,14571.74,1091.01,1823.33,2914.34,0,0,0,0,0,0,0,0,0,4364.0600000000004,7293.34,11657.4,3836,421.96,843.92,421.96,"2022-10-01",1,{"$error":"#REF!"},4989.09,8337.91,{"$error":"#REF!"},{"$error":"#REF!"},{"$error":"#REF!"},{"$error":"#REF!"},{"$error":"#REF!"},{"$error":"#REF!"},{"$error":"#REF!"},{"$error":"#REF!"},{"$error":"#REF!"},{"$error":"#REF!"},{"$error":"#REF!"},{"$error":"#REF!"},{"$error":"#REF!"},null,0,0,0,0,0,{"$error":"#REF!"},0,0,0,0,null,{"$error":"#REF!"},{"$error":"#REF!"},0,0,0,{"$error":"#REF!"},{"$error":"#REF!"},{"$error":"#REF!"},{"$error":"#REF!"},{"$error":"#REF!"},null,0,0,0,0,null,null,null,0,0,0,0]
[209,14953,"2022/0348751-9","2022-10-28","Paga em FEV-2023 - 4ª remessa","2023-02-01","NÃO",4,"AR 1.169/CE","1999-10-18","2004-06-07","Ação Rescisória 1.169/CE","2009/0055213-6","2014-05-22","Instituto Nacional do Seguro Social – INSS","Administrativo - Servidor Público Civil - Sistema Remuneratório e Benefícios","Alimentar","Francisco Das Chagas Sobrinho ","241.900.123-00","Servidor Público Civil Ativo","Anuênios","Instituto Nacional do Seguro Social - INSS",10,"Glayddes Sindeaux Advogados","17.291.820/0001-82",0," x x x ","x x x",0," x x x "," x x x ",0," x x x "," x x x ","Dedução de Honorários Contratuais","Não","Não","Não","-","-","Não informada","Não Informada","Não",3318.25,5002.3300000000008,8787.7900000000009,331.82,546.95000000000005,878.77,0,0,0,0,0,0,0,0,0,2986.43,4922.59,7909.02,3318.25,365,730,115,365,null,0,0,0,0,0,0,0,0,0,0,0,0,0,0,0,0,0,0,0,0,0,0,null,3318.25,5002.3300000000008,8787.7900000000009,331.82,546.95000000000005,878.77,0,0,0,0,0,0,0,0,0,2986.43,4922.59,7909.02,3318.25,365,730,365,"2022-10-01",1,{"$error":"#REF!"},3034.8,5002.33,{"$error":"#REF!"},{"$error":"#REF!"},{"$error":"#REF!"},{"$error":"#REF!"},{"$error":"#REF!"},{"$error":"#REF!"},{"$error":"#REF!"},{"$error":"#REF!"},{"$error":"#REF!"},{"$error":"#REF!"},{"$error":"#REF!"},{"$error":"#REF!"},{"$error":"#REF!"},null,0,0,0,0,0,{"$error":"#REF!"},0,0,0,0,null,{"$error":"#REF!"},{"$error":"#REF!"},0,0,0,{"$error":"#REF!"},{"$error":"#REF!"},{"$error":"#REF!"},{"$error":"#REF!"},{"$error":"#REF!"},null,0,0,0,0,null,null,null,0,0,0,0]
[210,14954,"2022/0348752-0","2022-10-28","Paga em FEV-2023 - 4ª remessa","2023-02-01","NÃO",4,"AR 1.169/CE","1999-10-18","2004-06-07","Ação Rescisória 1.169/CE","2009/0055213-6","2014-05-22","Instituto Nacional do Seguro Social – INSS","Administrativo - Servidor Público Civil - Sistema Remuneratório e Benefícios","Alimentar","Francisco De Assis Almeida Silva ","053.618.263-91","Servidor Público Civil Ativo","Anuênios","Instituto Nacional do Seguro Social - INSS",10,"Glayddes Sindeaux Advogados","17.291.820/0001-82",0," x x x ","x x x",0," x x x "," x x x ",0," x x x "," x x x ","Dedução de Honorários Contratuais","Não","Não","Não","-","-","Não informada","Não Informada","Não",4682.34,7122.52,12470.1,468.23,778.78,1247.01,0,0,0,0,0,0,0,0,0,4214.1099999999997,7008.98,11223.09,4682.34,515.04999999999995,1030.0999999999999,108,515.04999999999995,null,0,0,0,0,0,0,0,0,0,0,0,0,0,0,0,0,0,0,0,0,0,0,null,4682.34,7122.52,12470.1,468.23,778.78,1247.01,0,0,0,0,0,0,0,0,0,4214.1099999999997,7008.98,11223.09,4682.34,515.04999999999995,1030.0999999999999,515.04999999999995,"2022-10-01",1,{"$error":"#REF!"},4282.37,7122.52,{"$error":"#REF!"},{"$error":"#REF!"},{"$error":"#REF!"},{"$error":"#REF!"},{"$error":"#REF!"},{"$error":"#REF!"},{"$error":"#REF!"},{"$error":"#REF!"},{"$error":"#REF!"},{"$error":"#REF!"},{"$error":"#REF!"},{"$error":"#REF!"},{"$error":"#REF!"},null,0,0,0,0,0,{"$error":"#REF!"},0,0,0,0,null,{"$error":"#REF!"},{"$error":"#REF!"},0,0,0,{"$error":"#REF!"},{"$error":"#REF!"},{"$error":"#REF!"},{"$error":"#REF!"},{"$error":"#REF!"},null,0,0,0,0,null,null,null,0,0,0,0]
[211,14955,"2022/0348755-6","2022-10-28","Paga em FEV-2023 - 4ª remessa","2023-02-01","NÃO",4,"AR 1.169/CE","1999-10-18","2004-06-07","Ação Rescisória 1.169/CE","2009/0055213-6","2014-05-22","Instituto Nacional do Seguro Social – INSS","Administrativo - Servidor Público Civil - Sistema Remuneratório e Benefícios","Alimentar","Francisco De Assis Da Silva Santos ","141.212.473-53","Servidor Público Civil Ativo","Anuênios","Instituto Nacional do Seguro Social - INSS",10,"Glayddes Sindeaux Advogados","17.291.820/0001-82",0," x x x ","x x x",0," x x x "," x x x ",0," x x x "," x x x ","Dedução de Honorários Contratuais","Não","Não","Não","-","-","Não informada","Não Informada","Não",3212.35,4910.0999999999995,8581.0499999999993,321.23,536.87,858.1,0,0,0,0,0,0,0,0,0,2891.12,4831.83,7722.95,3212.35,353.35,706.7,115,353.35,null,0,0,0,0,0,0,0,0,0,0,0,0,0,0,0,0,0,0,0,0,0,0,null,3212.35,4910.0999999999995,8581.0499999999993,321.23,536.87,858.1,0,0,0,0,0,0,0,0,0,2891.12,4831.83,7722.95,3212.35,353.35,706.7,353.35,"2022-10-01",1,{"$error":"#REF!"},2937.95,4910.1000000000004,{"$error":"#REF!"},{"$error":"#REF!"},{"$error":"#REF!"},{"$error":"#REF!"},{"$error":"#REF!"},{"$error":"#REF!"},{"$error":"#REF!"},{"$error":"#REF!"},{"$error":"#REF!"},{"$error":"#REF!"},{"$error":"#REF!"},{"$error":"#REF!"},{"$error":"#REF!"},null,0,0,0,0,0,{"$error":"#REF!"},0,0,0,0,null,{"$error":"#REF!"},{"$error":"#REF!"},0,0,0,{"$error":"#REF!"},{"$error":"#REF!"},{"$error":"#REF!"},{"$error":"#REF!"},{"$error":"#REF!"},null,0,0,0,0,null,null,null,0,0,0,0]
[212,14956,"2022/0348758-1","2022-10-28","Paga em FEV-2023 - 4ª remessa","2023-02-01","NÃO",4,"AR 1.169/CE","1999-10-18","2004-06-07","Ação Rescisória 1.169/CE","2009/0055213-6","2014-05-22","Instituto Nacional do Seguro Social – INSS","Administrativo - Servidor Público Civil - Sistema Remuneratório e Benefícios","Alimentar","Francisco De Assis Nogueira ","059.041.293-00","Servidor Público Civil Ativo","Anuênios","Instituto Nacional do Seguro Social - INSS",10,"Glayddes Sindeaux Advogados","17.291.820/0001-82",0," x x x ","x x x",0," x x x "," x x x ",0," x x x "," x x x ","Dedução de Honorários Contratuais","Não","Não","Não","-","-","Não informada","Não Informada","Não",3318.25,5072.0600000000004,8864.0400000000009,331.82,554.58000000000004,886.4,0,0,0,0,0,0,0,0,0,2986.43,4991.21,7977.64,3318.25,365,730,115,365,null,0,0,0,0,0,0,0,0,0,0,0,0,0,0,0,0,0,0,0,0,0,0,null,3318.25,5072.0600000000004,8864.0400000000009,331.82,554.58000000000004,886.4,0,0,0,0,0,0,0,0,0,2986.43,4991.21,7977.64,3318.25,365,730,365,"2022-10-01",1,{"$error":"#REF!"},3034.8,5072.0600000000004,{"$error":"#REF!"},{"$error":"#REF!"},{"$error":"#REF!"},{"$error":"#REF!"},{"$error":"#REF!"},{"$error":"#REF!"},{"$error":"#REF!"},{"$error":"#REF!"},{"$error":"#REF!"},{"$error":"#REF!"},{"$error":"#REF!"},{"$error":"#REF!"},{"$error":"#REF!"},null,0,0,0,0,0,{"$error":"#REF!"},0,0,0,0,null,{"$error":"#REF!"},{"$error":"#REF!"},0,0,0,{"$error":"#REF!"},{"$error":"#REF!"},{"$error":"#REF!"},{"$error":"#REF!"},{"$error":"#REF!"},null,0,0,0,0,null,null,null,0,0,0,0]
[213,14957,"2022/0348762-1","2022-10-28","Paga em FEV-2023 - 4ª remessa","2023-02-01","NÃO",4,"AR 1.169/CE","1999-10-18","2004-06-07","Ação Rescisória 1.169/CE","2009/0055213-6","2014-05-22","Instituto Nacional do Seguro Social – INSS","Administrativo - Servidor Público Civil - Sistema Remuneratório e Benefícios","Alimentar","Francisco De Assis Oliveira Barros ","032.854.303-97","Servidor Público Civil Ativo","Anuênios","Instituto Nacional do Seguro Social - INSS",20,"Glayddes Sindeaux Advogados","17.291.820/0001-82",0," x x x ","x x x",0," x x x "," x x x ",0," x x x "," x x x ","Dedução de Honorários Contratuais","Não","Não","Não","-","-","Não informada","Não Informada","Não",5085.0999999999995,7772.44,13583.48,1017.02,1699.67,2716.69,0,0,0,0,0,0,0,0,0,4068.08,6798.71,10866.79,4472.96,492.02,984.04,111,492.02,null,0,0,0,0,0,0,0,0,0,0,0,0,0,0,0,0,0,0,0,0,0,0,null,5085.0999999999995,7772.44,13583.48,1017.02,1699.67,2716.69,0,0,0,0,0,0,0,0,0,4068.08,6798.71,10866.79,4472.96,492.02,984.04,492.02,"2022-10-01",1,{"$error":"#REF!"},4650.7299999999996,7772.44,{"$error":"#REF!"},{"$error":"#REF!"},{"$error":"#REF!"},{"$error":"#REF!"},{"$error":"#REF!"},{"$error":"#REF!"},{"$error":"#REF!"},{"$error":"#REF!"},{"$error":"#REF!"},{"$error":"#REF!"},{"$error":"#REF!"},{"$error":"#REF!"},{"$error":"#REF!"},null,0,0,0,0,0,{"$error":"#REF!"},0,0,0,0,null,{"$error":"#REF!"},{"$error":"#REF!"},0,0,0,{"$error":"#REF!"},{"$error":"#REF!"},{"$error":"#REF!"},{"$error":"#REF!"},{"$error":"#REF!"},null,0,0,0,0,null,null,null,0,0,0,0]
[214,14959,"2022/0348765-7","2022-10-28","Paga em FEV-2023 - 4ª remessa","2023-02-01","NÃO",4,"AR 1.169/CE","1999-10-18","2004-06-07","Ação Rescisória 1.169/CE","2009/0055213-6","2014-05-22","Instituto Nacional do Seguro Social – INSS","Administrativo - Servidor Público Civil - Sistema Remuneratório e Benefícios","Alimentar","Francisco Erivaldo Carvalho De Sousa ","168.463.113-00","Servidor Público Civil Ativo","Anuênios","Instituto Nacional do Seguro Social - INSS",20,"Glayddes Sindeaux Advogados","17.291.820/0001-82",0," x x x ","x x x",0," x x x "," x x x ",0," x x x "," x x x ","Dedução de Honorários Contratuais","Não","Não","Não","-","-","Não informada","Não Informada","Não",3878.61,5928.5499999999984,10360.879999999999,775.72,1296.45,2072.17,0,0,0,0,0,0,0,0,0,3102.89,5185.82,8288.7099999999991,3878.61,426.64,853.28,115,426.64,null,0,0,0,0,0,0,0,0,0,0,0,0,0,0,0,0,0,0,0,0,0,0,null,3878.61,5928.5499999999984,10360.879999999999,775.72,1296.45,2072.17,0,0,0,0,0,0,0,0,0,3102.89,5185.82,8288.7099999999991,3878.61,426.64,853.28,426.64,"2022-10-01",1,{"$error":"#REF!"},3547.3,5928.55,{"$error":"#REF!"},{"$error":"#REF!"},{"$error":"#REF!"},{"$error":"#REF!"},{"$error":"#REF!"},{"$error":"#REF!"},{"$error":"#REF!"},{"$error":"#REF!"},{"$error":"#REF!"},{"$error":"#REF!"},{"$error":"#REF!"},{"$error":"#REF!"},{"$error":"#REF!"},null,0,0,0,0,0,{"$error":"#REF!"},0,0,0,0,null,{"$error":"#REF!"},{"$error":"#REF!"},0,0,0,{"$error":"#REF!"},{"$error":"#REF!"},{"$error":"#REF!"},{"$error":"#REF!"},{"$error":"#REF!"},null,0,0,0,0,null,null,null,0,0,0,0]
[215,14960,"2022/0348767-0","2022-10-28","Paga em FEV-2023 - 4ª remessa","2023-02-01","NÃO",4,"AR 1.169/CE","1999-10-18","2004-06-07","Ação Rescisória 1.169/CE","2009/0055213-6","2014-05-22","Instituto Nacional do Seguro Social – INSS","Administrativo - Servidor Público Civil - Sistema Remuneratório e Benefícios","Alimentar","Francisco Feijão Ximenes ","112.597.603-91","Servidor Público Civil Ativo","Anuênios","Instituto Nacional do Seguro Social - INSS",10,"Glayddes Sindeaux Advogados","17.291.820/0001-82",0," x x x ","x x x",0," x x x "," x x x ",0," x x x "," x x x ","Dedução de Honorários Contratuais","Não","Não","Não","-","-","Não informada","Não Informada","Não",4507.1900000000005,6888.85,12039.45,450.71,753.23,1203.94,0,0,0,0,0,0,0,0,0,4056.48,6779.03,10835.51,4507.1899999999996,495.79,991.58,117,495.79,null,0,0,0,0,0,0,0,0,0,0,0,0,0,0,0,0,0,0,0,0,0,0,null,4507.1900000000005,6888.85,12039.45,450.71,753.23,1203.94,0,0,0,0,0,0,0,0,0,4056.48,6779.03,10835.51,4507.1900000000005,495.79,991.58,495.79,"2022-10-01",1,{"$error":"#REF!"},4122.18,6888.85,{"$error":"#REF!"},{"$error":"#REF!"},{"$error":"#REF!"},{"$error":"#REF!"},{"$error":"#REF!"},{"$error":"#REF!"},{"$error":"#REF!"},{"$error":"#REF!"},{"$error":"#REF!"},{"$error":"#REF!"},{"$error":"#REF!"},{"$error":"#REF!"},{"$error":"#REF!"},null,0,0,0,0,0,{"$error":"#REF!"},0,0,0,0,null,{"$error":"#REF!"},{"$error":"#REF!"},0,0,0,{"$error":"#REF!"},{"$error":"#REF!"},{"$error":"#REF!"},{"$error":"#REF!"},{"$error":"#REF!"},null,0,0,0,0,null,null,null,0,0,0,0]
[216,14961,"2022/0348768-2","2022-10-28","Paga em FEV-2023 - 4ª remessa","2023-02-01","NÃO",4,"AR 1.169/CE","1999-10-18","2004-06-07","Ação Rescisória 1.169/CE","2009/0055213-6","2014-05-22","Instituto Nacional do Seguro Social – INSS","Administrativo - Servidor Público Civil - Sistema Remuneratório e Benefícios","Alimentar","Francisco Gonzaga Sales ","000.315.183-20","Servidor Público Civil Ativo","Anuênios","Instituto Nacional do Seguro Social - INSS",20,"Glayddes Sindeaux Advogados","17.291.820/0001-82",0," x x x ","x x x",0," x x x "," x x x ",0," x x x "," x x x ","Dedução de Honorários Contratuais","Não","Não","Não","-","-","Não informada","Não Informada","Não",8488.93,12975.110000000002,22675.91,1697.78,2837.4,4535.18,0,0,0,0,0,0,0,0,0,6791.15,11349.58,18140.73,7402.21,814.24,1628.48,109,814.24,null,0,0,0,0,0,0,0,0,0,0,0,0,0,0,0,0,0,0,0,0,0,0,null,8488.93,12975.110000000002,22675.91,1697.78,2837.4,4535.18,0,0,0,0,0,0,0,0,0,6791.15,11349.58,18140.73,7402.21,814.24,1628.48,814.24,"2022-10-01",1,{"$error":"#REF!"},7763.8,12975.11,{"$error":"#REF!"},{"$error":"#REF!"},{"$error":"#REF!"},{"$error":"#REF!"},{"$error":"#REF!"},{"$error":"#REF!"},{"$error":"#REF!"},{"$error":"#REF!"},{"$error":"#REF!"},{"$error":"#REF!"},{"$error":"#REF!"},{"$error":"#REF!"},{"$error":"#REF!"},null,0,0,0,0,0,{"$error":"#REF!"},0,0,0,0,null,{"$error":"#REF!"},{"$error":"#REF!"},0,0,0,{"$error":"#REF!"},{"$error":"#REF!"},{"$error":"#REF!"},{"$error":"#REF!"},{"$error":"#REF!"},null,0,0,0,0,null,null,null,0,0,0,0]
[217,14963,"2022/0348776-0","2022-10-28","Paga em FEV-2023 - 4ª remessa","2023-02-01","NÃO",4,"AR 1.169/CE","1999-10-18","2004-06-07","Ação Rescisória 1.169/CE","2009/0055213-6","2014-05-22","Instituto Nacional do Seguro Social – INSS","Administrativo - Servidor Público Civil - Sistema Remuneratório e Benefícios","Alimentar","Francisco Luciano Oliveira Da Silva ","219.189.883-15","Servidor Público Civil Ativo","Anuênios","Instituto Nacional do Seguro Social - INSS",10,"Glayddes Sindeaux Advogados","17.291.820/0001-82",0," x x x ","x x x",0," x x x "," x x x ",0," x x x "," x x x ","Dedução de Honorários Contratuais","Não","Não","Não","-","-","Não informada","Não Informada","Não",3339.1,5103.9000000000015,8919.7000000000007,333.91,558.05999999999995,891.97,0,0,0,0,0,0,0,0,0,3005.19,5022.54,8027.73,3339.1,367.3,734.6,115,367.3,null,0,0,0,0,0,0,0,0,0,0,0,0,0,0,0,0,0,0,0,0,0,0,null,3339.1,5103.9000000000015,8919.7000000000007,333.91,558.05999999999995,891.97,0,0,0,0,0,0,0,0,0,3005.19,5022.54,8027.73,3339.1,367.3,734.6,367.3,"2022-10-01",1,{"$error":"#REF!"},3053.87,5103.8999999999996,{"$error":"#REF!"},{"$error":"#REF!"},{"$error":"#REF!"},{"$error":"#REF!"},{"$error":"#REF!"},{"$error":"#REF!"},{"$error":"#REF!"},{"$error":"#REF!"},{"$error":"#REF!"},{"$error":"#REF!"},{"$error":"#REF!"},{"$error":"#REF!"},{"$error":"#REF!"},null,0,0,0,0,0,{"$error":"#REF!"},0,0,0,0,null,{"$error":"#REF!"},{"$error":"#REF!"},0,0,0,{"$error":"#REF!"},{"$error":"#REF!"},{"$error":"#REF!"},{"$error":"#REF!"},{"$error":"#REF!"},null,0,0,0,0,null,null,null,0,0,0,0]
[218,14964,"2022/0348778-3","2022-10-28","Paga em FEV-2023 - 4ª remessa","2023-02-01","NÃO",4,"AR 1.169/CE","1999-10-18","2004-06-07","Ação Rescisória 1.169/CE","2009/0055213-6","2014-05-22","Instituto Nacional do Seguro Social – INSS","Administrativo - Servidor Público Civil - Sistema Remuneratório e Benefícios","Alimentar","Francisco Marcos Bezerra ","135.115.993-34","Servidor Público Civil Ativo","Anuênios","Instituto Nacional do Seguro Social - INSS",10,"Glayddes Sindeaux Advogados","17.291.820/0001-82",0," x x x ","x x x",0," x x x "," x x x ",0," x x x "," x x x ","Dedução de Honorários Contratuais","Não","Não","Não","-","-","Não informada","Não Informada","Não",4939.18,7549.6799999999994,13194,493.91,825.49,1319.4,0,0,0,0,0,0,0,0,0,4445.2700000000004,7429.33,11874.6,4939.18,543.29999999999995,1086.5999999999999,115,543.29999999999995,null,0,0,0,0,0,0,0,0,0,0,0,0,0,0,0,0,0,0,0,0,0,0,null,4939.18,7549.6799999999994,13194,493.91,825.49,1319.4,0,0,0,0,0,0,0,0,0,4445.2700000000004,7429.33,11874.6,4939.18,543.29999999999995,1086.5999999999999,543.29999999999995,"2022-10-01",1,{"$error":"#REF!"},4517.2700000000004,7549.68,{"$error":"#REF!"},{"$error":"#REF!"},{"$error":"#REF!"},{"$error":"#REF!"},{"$error":"#REF!"},{"$error":"#REF!"},{"$error":"#REF!"},{"$error":"#REF!"},{"$error":"#REF!"},{"$error":"#REF!"},{"$error":"#REF!"},{"$error":"#REF!"},{"$error":"#REF!"},null,0,0,0,0,0,{"$error":"#REF!"},0,0,0,0,null,{"$error":"#REF!"},{"$error":"#REF!"},0,0,0,{"$error":"#REF!"},{"$error":"#REF!"},{"$error":"#REF!"},{"$error":"#REF!"},{"$error":"#REF!"},null,0,0,0,0,null,null,null,0,0,0,0]
[219,14965,"2022/0348781-1","2022-10-28","Paga em FEV-2023 - 4ª remessa","2023-02-01","NÃO",4,"AR 1.169/CE","1999-10-18","2004-06-07","Ação Rescisória 1.169/CE","2009/0055213-6","2014-05-22","Instituto Nacional do Seguro Social – INSS","Administrativo - Servidor Público Civil - Sistema Remuneratório e Benefícios","Alimentar","Francisco Sales De Alencar Pereira ","061.164.693-53","Servidor Público Civil Ativo","Anuênios","Instituto Nacional do Seguro Social - INSS",10,"Glayddes Sindeaux Advogados","17.291.820/0001-82",0," x x x ","x x x",0," x x x "," x x x ",0," x x x "," x x x ","Dedução de Honorários Contratuais","Não","Não","Não","-","-","Não informada","Não Informada","Não",3438.8,5256.3400000000011,9186.08,343.88,574.72,918.6,0,0,0,0,0,0,0,0,0,3094.92,5172.5600000000004,8267.48,3438.8,378.26,756.52,115,378.26,null,0,0,0,0,0,0,0,0,0,0,0,0,0,0,0,0,0,0,0,0,0,0,null,3438.8,5256.3400000000011,9186.08,343.88,574.72,918.6,0,0,0,0,0,0,0,0,0,3094.92,5172.5600000000004,8267.48,3438.8,378.26,756.52,378.26,"2022-10-01",1,{"$error":"#REF!"},3145.06,5256.34,{"$error":"#REF!"},{"$error":"#REF!"},{"$error":"#REF!"},{"$error":"#REF!"},{"$error":"#REF!"},{"$error":"#REF!"},{"$error":"#REF!"},{"$error":"#REF!"},{"$error":"#REF!"},{"$error":"#REF!"},{"$error":"#REF!"},{"$error":"#REF!"},{"$error":"#REF!"},null,0,0,0,0,0,{"$error":"#REF!"},0,0,0,0,null,{"$error":"#REF!"},{"$error":"#REF!"},0,0,0,{"$error":"#REF!"},{"$error":"#REF!"},{"$error":"#REF!"},{"$error":"#REF!"},{"$error":"#REF!"},null,0,0,0,0,null,null,null,0,0,0,0]
[220,14966,"2022/0348783-5","2022-10-28","Paga em FEV-2023 - 4ª remessa","2023-02-01","NÃO",4,"AR 1.169/CE","1999-10-18","2004-06-07","Ação Rescisória 1.169/CE","2009/0055213-6","2014-05-22","Instituto Nacional do Seguro Social – INSS","Administrativo - Servidor Público Civil - Sistema Remuneratório e Benefícios","Alimentar","Francisco Tarcísio Ramos Cavalcante ","002.500.403-44","Servidor Público Civil Ativo","Anuênios","Instituto Nacional do Seguro Social - INSS",10,"Glayddes Sindeaux Advogados","17.291.820/0001-82",0," x x x ","x x x",0," x x x "," x x x ",0," x x x "," x x x ","Dedução de Honorários Contratuais","Não","Não","Não","-","-","Não informada","Não Informada","Não",294.17,445.44000000000005,781.21,29.41,48.71,78.12,0,0,0,0,0,0,0,0,0,264.76,438.33,703.09,294.17,32.35,64.7,9,32.35,null,0,0,0,0,0,0,0,0,0,0,0,0,0,0,0,0,0,0,0,0,0,0,null,294.17,445.44000000000005,781.21,29.41,48.71,78.12,0,0,0,0,0,0,0,0,0,264.76,438.33,703.09,294.17,32.35,64.7,32.35,"2022-10-01",1,{"$error":"#REF!"},269.05,445.44,{"$error":"#REF!"},{"$error":"#REF!"},{"$error":"#REF!"},{"$error":"#REF!"},{"$error":"#REF!"},{"$error":"#REF!"},{"$error":"#REF!"},{"$error":"#REF!"},{"$error":"#REF!"},{"$error":"#REF!"},{"$error":"#REF!"},{"$error":"#REF!"},{"$error":"#REF!"},null,0,0,0,0,0,{"$error":"#REF!"},0,0,0,0,null,{"$error":"#REF!"},{"$error":"#REF!"},0,0,0,{"$error":"#REF!"},{"$error":"#REF!"},{"$error":"#REF!"},{"$error":"#REF!"},{"$error":"#REF!"},null,0,0,0,0,null,null,null,0,0,0,0]
[221,14967,"2022/0348787-2","2022-10-28","Paga em FEV-2023 - 4ª remessa","2023-02-01","NÃO",4,"AR 1.169/CE","1999-10-18","2004-06-07","Ação Rescisória 1.169/CE","2009/0055213-6","2014-05-22","Instituto Nacional do Seguro Social – INSS","Administrativo - Servidor Público Civil - Sistema Remuneratório e Benefícios","Alimentar","Francisco Torres Ribeiro Júnior ","395.363.000-87","Servidor Público Civil Ativo","Anuênios","Instituto Nacional do Seguro Social - INSS",10,"Glayddes Sindeaux Advogados","17.291.820/0001-82",0," x x x ","x x x",0," x x x "," x x x ",0," x x x "," x x x ","Dedução de Honorários Contratuais","Não","Não","Não","-","-","Não informada","Não Informada","Não",3050.7799999999997,4663.1799999999994,8149.5,305.07,509.88,814.95,0,0,0,0,0,0,0,0,0,2745.71,4588.84,7334.55,3050.78,335.58,671.16,115,335.58,null,0,0,0,0,0,0,0,0,0,0,0,0,0,0,0,0,0,0,0,0,0,0,null,3050.7799999999997,4663.1799999999994,8149.5,305.07,509.88,814.95,0,0,0,0,0,0,0,0,0,2745.71,4588.84,7334.55,3050.7799999999997,335.58,671.16,335.58,"2022-10-01",1,{"$error":"#REF!"},2790.18,4663.18,{"$error":"#REF!"},{"$error":"#REF!"},{"$error":"#REF!"},{"$error":"#REF!"},{"$error":"#REF!"},{"$error":"#REF!"},{"$error":"#REF!"},{"$error":"#REF!"},{"$error":"#REF!"},{"$error":"#REF!"},{"$error":"#REF!"},{"$error":"#REF!"},{"$error":"#REF!"},null,0,0,0,0,0,{"$error":"#REF!"},0,0,0,0,null,{"$error":"#REF!"},{"$error":"#REF!"},0,0,0,{"$error":"#REF!"},{"$error":"#REF!"},{"$error":"#REF!"},{"$error":"#REF!"},{"$error":"#REF!"},null,0,0,0,0,null,null,null,0,0,0,0]
[222,14968,"2022/0348788-4","2022-10-28","Paga em FEV-2023 - 4ª remessa","2023-02-01","NÃO",4,"AR 1.169/CE","1999-10-18","2004-06-07","Ação Rescisória 1.169/CE","2009/0055213-6","2014-05-22","Instituto Nacional do Seguro Social – INSS","Administrativo - Servidor Público Civil - Sistema Remuneratório e Benefícios","Alimentar","Francisco Assis Santos Mano Barreto ","236.060.103-20","Servidor Público Civil Ativo","Anuênios","Instituto Nacional do Seguro Social - INSS",10,"Glayddes Sindeaux Advogados","17.291.820/0001-82",0," x x x ","x x x",0," x x x "," x x x ",0," x x x "," x x x ","Dedução de Honorários Contratuais","Não","Não","Não","-","-","Não informada","Não Informada","Não",2976.1,4548.7399999999989,7949.69,297.61,497.35,794.96,0,0,0,0,0,0,0,0,0,2678.49,4476.24,7154.73,2976.1,327.37,654.74,116,327.37,null,0,0,0,0,0,0,0,0,0,0,0,0,0,0,0,0,0,0,0,0,0,0,null,2976.1,4548.7399999999989,7949.69,297.61,497.35,794.96,0,0,0,0,0,0,0,0,0,2678.49,4476.24,7154.73,2976.1,327.37,654.74,327.37,"2022-10-01",1,{"$error":"#REF!"},2721.88,4548.74,{"$error":"#REF!"},{"$error":"#REF!"},{"$error":"#REF!"},{"$error":"#REF!"},{"$error":"#REF!"},{"$error":"#REF!"},{"$error":"#REF!"},{"$error":"#REF!"},{"$error":"#REF!"},{"$error":"#REF!"},{"$error":"#REF!"},{"$error":"#REF!"},{"$error":"#REF!"},null,0,0,0,0,0,{"$error":"#REF!"},0,0,0,0,null,{"$error":"#REF!"},{"$error":"#REF!"},0,0,0,{"$error":"#REF!"},{"$error":"#REF!"},{"$error":"#REF!"},{"$error":"#REF!"},{"$error":"#REF!"},null,0,{"$f":"IF(EX230>0,B230,0)","v":0},{"$f":"IF(AND(EX230>0,EX231=0),EX230,0)","v":0},0,null,null,null,0,0,0,0]
[223,9829,"2020/0033960-8","2020-02-12","Paga em MAR-2023 - 1ª remessa","2023-03-01","NÃO",1,"MS 6.864/DF","2000-04-05","2006-05-03","Mandado de Segurança 6.864/DF","2007/0262666-7","2019-04-16","Instituto Nacional do Seguro Social - INSS","Administrativo - Servidor Público Civil - Sistema Remuneratório e Benefícios","Alimentar"," Maria de Lourdes Vital Cerqueira  ","002.119.585-49","Pensionista de Servidor Público Civil Inativo","Reajuste  3,17% - Lei 8.880/94","Ministério do Planejamento, Orçamento e Gestão",6,"Mota & Advogados Associados","03.996.810/0001-38",0," x x x ","x x x",0," x x x "," x x x ",0," x x x "," x x x ","Dedução de Honorários Contratuais","Não","Não","Não","-","-","Não informada","Não Informada","Não",11007.99,23884.630000000005,34892.620000000003,660.47,1433.08,2093.5500000000002,0,0,0,0,0,0,0,0,0,10347.52,22451.55,32799.07,0,0,0,47,0,null,0,0,0,0,0,0,0,0,0,0,0,0,0,0,0,0,0,0,0,0,0,0,null,11007.99,23884.630000000005,34892.620000000003,660.47,1433.08,2093.5500000000002,0,0,0,0,0,0,0,0,0,10347.52,22451.55,32799.07,0,0,0,0,"2020-02-01",{"$error":"#REF!"},{"$error":"#REF!"},{"$error":"#REF!"},{"$error":"#REF!"},{"$error":"#REF!"},{"$f":"TRUNC(DM231*0.1454,2)","v":{"$error":"#REF!"}},{"$error":"#REF!"},{"$error":"#REF!"},{"$error":"#REF!"},{"$error":"#REF!"},{"$error":"#REF!"},{"$error":"#REF!"},{"$error":"#REF!"},{"$error":"#REF!"},0,{"$error":"#REF!"},{"$error":"#REF!"},null,0,0,0,0,0,{"$error":"#REF!"},0,0,0,0,null,{"$error":"#REF!"},{"$error":"#REF!"},0,0,0,{"$error":"#REF!"},{"$error":"#REF!"},{"$error":"#REF!"},0,{"$error":"#REF!"},null,0,{"$f":"IF(EX231>0,B231,0)","v":0},{"$f":"IF(AND(EX231>0,EX232=0),EX231,0)","v":0},0,null,null,null,0,0,0,0]
[224,14209,"2022/0186088-7","2022-06-15","Paga em MAR-2023 - 1ª remessa","2023-03-01","NÃO",1,"MS 4.151/DF","1995-07-21","1999-02-12","Mandado de Segurança 4.151/DF","2016/0157146-8","2022-05-12","UNIÃO","Administrativo - Servidor Público Civil - Reajustes de Remuneração, Proventos ou Pensão","Alimentar","Nildea de Brito Falcão","639.362.598-87","Servidor Público Civil Ativo","Diferença de remuneração - 3,17%","Ministério da Fazenda",6,"Mota & Advogados Associados","03.996.810/0001-38",1,"Mauro Menezes e Advogados","32.901.423/0001-79",1,"Caputo, Bastos e Serra Advogados","12.291.813/0001-67",0," x x x "," x x x ","Dedução de Honorários Contratuais","Não","Não","Não","-","-","Não informada","Não Informada","Não",22310.34,41338.160000000003,63648.5,1338.62,2480.29,3818.91,223.1,413.38,636.48,223.1,413.38,636.48,0,0,0,20525.52,38031.109999999986,58556.62999999999,29987.41,3298.61,6597.22,53,3298.61,null,0,0,0,0,0,0,0,0,0,0,0,0,0,0,0,0,0,0,0,0,0,0,null,22310.34,41338.160000000003,63648.5,1338.62,2480.29,3818.91,223.1,413.38,636.48,223.1,413.38,636.48,0,0,0,20525.52,38031.109999999986,58556.62999999999,29987.41,3298.61,6597.22,3298.61,"2022-06-01",1,{"$error":"#REF!"},22310.34,41338.160000000003,{"$error":"#REF!"},{"$error":"#REF!"},{"$error":"#REF!"},{"$error":"#REF!"},{"$error":"#REF!"},{"$error":"#REF!"},{"$error":"#REF!"},{"$error":"#REF!"},{"$error":"#REF!"},{"$error":"#REF!"},{"$error":"#REF!"},{"$error":"#REF!"},{"$error":"#REF!"},null,0,0,0,0,0,{"$error":"#REF!"},0,0,0,0,null,{"$error":"#REF!"},{"$error":"#REF!"},{"$error":"#REF!"},{"$error":"#REF!"},0,{"$error":"#REF!"},{"$error":"#REF!"},{"$error":"#REF!"},{"$error":"#REF!"},{"$error":"#REF!"},null,0,0,0,0,null,null,null,0,0,0,0]
[225,14228,"2022/0186920-0","2022-06-15","Paga em MAR-2023 - 1ª remessa","2023-03-01","NÃO",1,"MS 4.151/DF","1995-07-21","1999-02-12","Mandado de Segurança 4.151/DF","2016/0128321-1","2022-05-27","UNIÃO","Administrativo - Servidor Público Civil - Reajustes de Remuneração, Proventos ou Pensão","Alimentar","Elsa Geralda dos Santos Zaidan","333.205.786-34","Servidor Público Civil Ativo","Diferença de remuneração - 3,17%","Ministério da Fazenda",6,"Mota & Advogados Associados","03.996.810/0001-38",1,"Mauro Menezes e Advogados","32.901.423/0001-79",1,"Caputo, Bastos e Serra Advogados","12.291.813/0001-67",0," x x x "," x x x ","Dedução de Honorários Contratuais","Não","Não","Não","-","-","Não informada","Não Informada","Não",26525.56,46194.44,72720,1591.53,2771.67,4363.2,265.25,461.95000000000005,727.2,265.25,461.95000000000005,727.2,0,0,0,24403.53,42498.87000000001,66902.400000000009,33554.67,3691.01,7382.02,53,3691.01,null,0,0,0,0,0,0,0,0,0,0,0,0,0,0,0,0,0,0,0,0,0,0,null,26525.56,46194.44,72720,1591.53,2771.67,4363.2,265.25,461.95000000000005,727.2,265.25,461.95000000000005,727.2,0,0,0,24403.53,42498.87000000001,66902.400000000009,33554.67,3691.01,7382.02,3691.01,"2022-06-01",1,{"$error":"#REF!"},26525.56,46194.44,{"$error":"#REF!"},{"$error":"#REF!"},{"$error":"#REF!"},{"$error":"#REF!"},{"$error":"#REF!"},{"$error":"#REF!"},{"$error":"#REF!"},{"$error":"#REF!"},{"$error":"#REF!"},{"$error":"#REF!"},{"$error":"#REF!"},{"$error":"#REF!"},{"$error":"#REF!"},null,0,0,0,0,0,{"$error":"#REF!"},0,0,0,0,null,{"$error":"#REF!"},{"$error":"#REF!"},{"$error":"#REF!"},{"$error":"#REF!"},0,{"$error":"#REF!"},{"$error":"#REF!"},{"$error":"#REF!"},{"$error":"#REF!"},{"$error":"#REF!"},null,0,0,0,0,null,null,null,0,0,0,0]
[226,14549,"2022/0273224-8","2022-08-29","Paga em MAR-2023 - 1ª remessa","2023-03-01","NÃO",1,"AR 1.169/CE","1999-10-18","2004-06-07","Ação Rescisória 1.169/CE","2009/0056134-9","2013-08-01","Instituto Nacional do Seguro Social – INSS","Administrativo - Servidor Público Civil - Sistema Remuneratório e Benefícios","Alimentar","Maria De Fátima Fontenele De Oliveira","123.462.173-87","Servidor Público Civil Ativo","Anuênios","Instituto Nacional do Seguro Social - INSS",10,"Glayddes Sindeaux Advogados","17.291.820/0001-82",0," x x x ","x x x",0," x x x "," x x x ",0," x x x "," x x x ","Dedução de Honorários Contratuais","Não","Não","Não","-","-","Não informada","Não Informada","Não",3821.57,5246.97,9441.0700000000015,382.15,561.95000000000005,944.1,0,0,0,0,0,0,0,0,0,3439.42,5057.5500000000011,8496.9700000000012,3821.57,420.37,840.74,111,420.37,null,0,0,0,0,0,0,0,0,0,0,0,0,0,0,0,0,0,0,0,0,0,0,null,3821.57,5246.97,9441.0700000000015,382.15,561.95000000000005,944.1,0,0,0,0,0,0,0,0,0,3439.42,5057.5500000000011,8496.9700000000012,3821.57,420.37,840.74,420.37,"2022-08-01",1,{"$error":"#REF!"},3568.23,5246.97,{"$error":"#REF!"},{"$error":"#REF!"},{"$error":"#REF!"},{"$error":"#REF!"},{"$error":"#REF!"},{"$error":"#REF!"},{"$error":"#REF!"},{"$error":"#REF!"},{"$error":"#REF!"},{"$error":"#REF!"},{"$error":"#REF!"},{"$error":"#REF!"},{"$error":"#REF!"},null,0,0,0,0,0,{"$error":"#REF!"},0,0,0,0,null,{"$error":"#REF!"},{"$error":"#REF!"},0,0,0,{"$error":"#REF!"},{"$error":"#REF!"},{"$error":"#REF!"},{"$error":"#REF!"},{"$error":"#REF!"},null,0,0,0,0,null,null,null,0,0,0,0]
[227,14617,"2022/0299496-0","2022-09-19","Paga em MAR-2023 - 1ª remessa","2023-03-01","NÃO",1,"MS 6.019/DF","1998-10-22","2007-12-10","Mandado de Segurança 6.019/DF","2013/0199140-6","2020-06-17","Instituto Nacional do Seguro Social – INSS","Administrativo - Servidor Público Civil - Sistema Remuneratório e Benefícios","Alimentar","Espólio de Adelson Rodrigues ","001.777.847-68","Servidor Público Civil Inativo","Reajuste Salarial - Resíduo de 3,17%","Instituto Nacional do Seguro Social - INSS",15,"Mota & Advogados Associados","03.996.810/0001-38",0," x x x ","x x x",0," x x x "," x x x ",0," x x x "," x x x ","Dedução de Honorários Contratuais","Não","Não","Não","-","-","Não informada","Não Informada","Não",11286.779999999999,14603.76,26927.399999999998,1693.01,2346.1000000000004,4039.11,0,0,0,0,0,0,0,0,0,9593.7699999999986,13294.519999999999,22888.289999999997,0,0,0,13,0,null,0,0,0,0,0,0,0,0,0,0,0,0,0,0,0,0,0,0,0,0,0,0,null,11286.779999999999,14603.76,26927.399999999998,1693.01,2346.1000000000004,4039.11,0,0,0,0,0,0,0,0,0,9593.7699999999986,13294.519999999999,22888.289999999997,0,0,0,0,"2022-08-01",1,{"$error":"#REF!"},10538.55,14603.76,{"$error":"#REF!"},{"$error":"#REF!"},{"$error":"#REF!"},{"$error":"#REF!"},{"$error":"#REF!"},{"$error":"#REF!"},{"$error":"#REF!"},{"$error":"#REF!"},0,0,0,{"$error":"#REF!"},{"$error":"#REF!"},null,0,0,0,0,0,{"$error":"#REF!"},0,0,0,0,null,{"$error":"#REF!"},{"$error":"#REF!"},0,0,0,{"$error":"#REF!"},0,0,0,0,null,0,0,0,0,null,null,null,0,0,0,0]
[228,14663,"2022/0301424-0","2022-09-20","Paga em MAR-2023 - 1ª remessa","2023-03-01","NÃO",1,"AR 1.169/CE","1999-10-18","2004-06-07","Ação Rescisória 1.169/CE","2009/0056303-0","2014-11-04","Instituto Nacional do Seguro Social – INSS","Administrativo - Servidor Público Civil - Sistema Remuneratório e Benefícios","Alimentar","Maria Da Cruz Lima Garcia ","051.623.273-87","Servidor Público Civil Ativo","Anuênios","Instituto Nacional do Seguro Social - INSS",10,"Glayddes Sindeaux Advogados","17.291.820/0001-82",0," x x x ","x x x",0," x x x "," x x x ",0," x x x "," x x x ","Dedução de Honorários Contratuais","Não","Não","Não","-","-","Não informada","Não Informada","Não",4368.57,5922.68,10735.450000000003,436.85,636.68999999999994,1073.54,0,0,0,0,0,0,0,0,0,3931.72,5730.1900000000041,9661.9100000000035,4368.57,480.54,961.08,47,480.54,null,0,0,0,0,0,0,0,0,0,0,0,0,0,0,0,0,0,0,0,0,0,0,null,4368.57,5922.68,10735.450000000003,436.85,636.68999999999994,1073.54,0,0,0,0,0,0,0,0,0,3931.72,5730.1900000000041,9661.9100000000035,4368.57,480.54,961.08,480.54,"2022-09-01",1,{"$error":"#REF!"},4063.79,5922.68,{"$error":"#REF!"},{"$error":"#REF!"},{"$error":"#REF!"},{"$error":"#REF!"},{"$error":"#REF!"},{"$error":"#REF!"},{"$error":"#REF!"},{"$error":"#REF!"},{"$error":"#REF!"},{"$error":"#REF!"},{"$error":"#REF!"},{"$error":"#REF!"},{"$error":"#REF!"},null,0,0,0,0,0,{"$error":"#REF!"},0,0,0,0,null,{"$error":"#REF!"},{"$error":"#REF!"},0,0,0,{"$error":"#REF!"},{"$error":"#REF!"},{"$error":"#REF!"},{"$error":"#REF!"},{"$error":"#REF!"},null,0,0,0,0,null,null,null,0,0,0,0]
[229,14666,"2022/0301429-0","2022-09-20","Paga em MAR-2023 - 1ª remessa","2023-03-01","NÃO",1,"AR 1.169/CE","1999-10-18","2004-06-07","Ação Rescisória 1.169/CE","2009/0056303-0","2014-11-04","Instituto Nacional do Seguro Social – INSS","Administrativo - Servidor Público Civil - Sistema Remuneratório e Benefícios","Alimentar","Maria Dalila Ferreira Bastos ","189.988.443-20","Servidor Público Civil Ativo","Anuênios","Instituto Nacional do Seguro Social - INSS",10,"Glayddes Sindeaux Advogados","17.291.820/0001-82",0," x x x ","x x x",0," x x x "," x x x ",0," x x x "," x x x ","Dedução de Honorários Contratuais","Não","Não","Não","-","-","Não informada","Não Informada","Não",2491.7600000000002,3366.6000000000004,6110.85,249.17,361.91000000000008,611.08000000000004,0,0,0,0,0,0,0,0,0,2242.59,3257.1800000000003,5499.77,2491.7600000000002,274.08999999999997,548.17999999999995,47,274.08999999999997,null,0,0,0,0,0,0,0,0,0,0,0,0,0,0,0,0,0,0,0,0,0,0,null,2491.7600000000002,3366.6000000000004,6110.85,249.17,361.91000000000008,611.08000000000004,0,0,0,0,0,0,0,0,0,2242.59,3257.1800000000003,5499.77,2491.7600000000002,274.08999999999997,548.17999999999995,274.08999999999997,"2022-09-01",1,{"$error":"#REF!"},2317.92,3366.6,{"$error":"#REF!"},{"$error":"#REF!"},{"$error":"#REF!"},{"$error":"#REF!"},{"$error":"#REF!"},{"$error":"#REF!"},{"$error":"#REF!"},{"$error":"#REF!"},{"$error":"#REF!"},{"$error":"#REF!"},{"$error":"#REF!"},{"$error":"#REF!"},{"$error":"#REF!"},null,0,0,0,0,0,{"$error":"#REF!"},0,0,0,0,null,{"$error":"#REF!"},{"$error":"#REF!"},0,0,0,{"$error":"#REF!"},{"$error":"#REF!"},{"$error":"#REF!"},{"$error":"#REF!"},{"$error":"#REF!"},null,0,0,0,0,null,null,null,0,0,0,0]
[230,14701,"2022/0302927-4","2022-09-21","Paga em MAR-2023 - 1ª remessa","2023-03-01","NÃO",1,"AR 6.074/RS","2017-07-13","2019-10-23","Ação Rescisória 6.074/RS","2021/0360033-4","2022-08-04","Instituto Nacional do Seguro Social - INSS","Previdenciário - Benefícios em Espécie - Aposentadoria por Tempo de Contribuição (Art. 55/6) (PRINCIPAL)","Alimentar","Caroline Bozzetto","007.552.100-85","-","Honorários de Sucumbência","-",0," x x x ","x x x",0," x x x ","x x x",0," x x x "," x x x ",0," x x x "," x x x ","x.x.x","Não","Não","Não","-","-","Não informada","Não Informada","Não",1253.53,284.90500000000003,1561.9949999999999,0,0,0,0,0,0,0,0,0,0,0,0,1561.9949999999999,0,1561.9949999999999,0,0,0,0,0,null,0,0,0,0,0,0,0,0,0,0,0,0,0,0,0,0,0,0,0,0,0,0,null,1253.53,284.90500000000003,1561.9949999999999,0,0,0,0,0,0,0,0,0,0,0,0,1561.9949999999999,0,1561.9949999999999,0,0,0,0,"2022-09-01",1,{"$error":"#REF!"},1157.78,284.89999999999998,{"$error":"#REF!"},{"$error":"#REF!"},{"$error":"#REF!"},{"$error":"#REF!"},{"$error":"#REF!"},{"$error":"#REF!"},{"$error":"#REF!"},{"$error":"#REF!"},0,0,0,{"$error":"#REF!"},{"$error":"#REF!"},null,0,0,0,0,0,{"$error":"#REF!"},0,0,0,0,null,{"$error":"#REF!"},0,0,0,0,{"$error":"#REF!"},0,0,0,0,null,0,0,0,0,null,null,null,0,0,0,0]
[231,14718,"2022/0305788-7","2022-09-22","Paga em MAR-2023 - 1ª remessa","2023-03-01","NÃO",1,"MS 4.151/DF","1995-07-21","1999-02-12","Mandado de Segurança 4.151/DF","2016/0174895_9","2022-08-03","UNIÃO","Administrativo - Servidor Público Civil - Reajustes de Remuneração, Proventos ou Pensão","Alimentar","Xerxes Pereira da Cunha","918.357.478-68","Servidor Público Civil Ativo","Diferença de remuneração - 3,17%","Ministério da Fazenda",6,"Mota & Advogados Associados","03.996.810/0001-38",1,"Mauro Menezes e Advogados","32.901.423/0001-79",1,"Caputo, Bastos e Serra Advogados","12.291.813/0001-67",0," x x x "," x x x ","Dedução de Honorários Contratuais","Não","Não","Não","-","-","Não informada","Não Informada","Não",25325.96,44845.32,70171.279999999984,1519.55,2690.7200000000003,4210.2700000000004,253.25,448.46000000000004,701.71,253.25,448.46000000000004,701.71,0,0,0,23299.91,41257.679999999978,64557.589999999982,30013.19,3301.45,6602.9,53,3301.45,null,0,0,0,0,0,0,0,0,0,0,0,0,0,0,0,0,0,0,0,0,0,0,null,25325.96,44845.32,70171.279999999984,1519.55,2690.7200000000003,4210.2700000000004,253.25,448.46000000000004,701.71,253.25,448.46000000000004,701.71,0,0,0,23299.91,41257.679999999978,64557.589999999982,30013.19,3301.45,6602.9,3301.45,"2022-09-01",1,{"$error":"#REF!"},25325.96,44845.32,{"$error":"#REF!"},{"$error":"#REF!"},{"$error":"#REF!"},{"$error":"#REF!"},{"$error":"#REF!"},{"$error":"#REF!"},{"$error":"#REF!"},{"$error":"#REF!"},{"$error":"#REF!"},{"$error":"#REF!"},{"$error":"#REF!"},{"$error":"#REF!"},{"$error":"#REF!"},null,0,0,0,0,0,{"$error":"#REF!"},0,0,0,0,null,{"$error":"#REF!"},{"$error":"#REF!"},{"$error":"#REF!"},{"$error":"#REF!"},0,{"$error":"#REF!"},{"$error":"#REF!"},{"$error":"#REF!"},{"$error":"#REF!"},{"$error":"#REF!"},null,0,0,0,0,null,null,null,0,0,0,0]
[232,14741,"2022/0307383-0","2022-09-23","Paga em MAR-2023 - 1ª remessa","2023-03-01","NÃO",1,"MS 4.151/DF","1995-07-21","1999-02-12","Mandado de Segurança 4.151/DF","2016/0153101-6","2022-08-03","UNIÃO","Administrativo - Servidor Público Civil - Reajustes de Remuneração, Proventos ou Pensão","Alimentar","Maria Teresinha Calil","598.629.718-00","Servidor Público Civil Ativo","Diferença de remuneração - 3,17%","Ministério da Fazenda",6,"Mota & Advogados Associados","03.996.810/0001-38",1,"Mauro Menezes e Advogados","32.901.423/0001-79",1,"Caputo, Bastos e Serra Advogados","12.291.813/0001-67",0," x x x "," x x x ","Dedução de Honorários Contratuais","Não","Não","Não","-","-","Não informada","Não Informada","Não",23335.35,41486.200000000004,64821.55,1400.12,2489.17,3889.29,233.35,414.86,648.21,233.35,414.86,648.21,0,0,0,21468.530000000002,38167.31,59635.840000000004,17333,1906.63,3813.26,53,1906.63,null,0,0,0,0,0,0,0,0,0,0,0,0,0,0,0,0,0,0,0,0,0,0,null,23335.35,41486.200000000004,64821.55,1400.12,2489.17,3889.29,233.35,414.86,648.21,233.35,414.86,648.21,0,0,0,21468.530000000002,38167.31,59635.840000000004,17333,1906.63,3813.26,1906.63,"2022-09-01",1,{"$error":"#REF!"},23335.35,41486.199999999997,{"$error":"#REF!"},{"$error":"#REF!"},{"$error":"#REF!"},{"$error":"#REF!"},{"$error":"#REF!"},{"$error":"#REF!"},{"$error":"#REF!"},{"$error":"#REF!"},{"$error":"#REF!"},{"$error":"#REF!"},{"$error":"#REF!"},{"$error":"#REF!"},{"$error":"#REF!"},null,0,0,0,0,0,{"$error":"#REF!"},0,0,0,0,null,{"$error":"#REF!"},{"$error":"#REF!"},{"$error":"#REF!"},{"$error":"#REF!"},0,{"$error":"#REF!"},{"$error":"#REF!"},{"$error":"#REF!"},{"$error":"#REF!"},{"$error":"#REF!"},null,0,0,0,0,null,null,null,0,0,0,0]
[233,14744,"2022/0307399-1","2022-09-23","Paga em MAR-2023 - 1ª remessa","2023-03-01","NÃO",1,"MS 4.151/DF","1995-07-21","1999-02-12","Mandado de Segurança 4.151/DF","2016/0153101-6","2022-08-03","UNIÃO","Administrativo - Servidor Público Civil - Reajustes de Remuneração, Proventos ou Pensão","Alimentar","Maria Zenaide Ferreira de Oliveira","799.287.658-04","Servidor Público Civil Ativo","Diferença de remuneração - 3,17%","Ministério da Fazenda",6,"Mota & Advogados Associados","03.996.810/0001-38",1,"Mauro Menezes e Advogados","32.901.423/0001-79",1,"Caputo, Bastos e Serra Advogados","12.291.813/0001-67",0," x x x "," x x x ","Dedução de Honorários Contratuais","Não","Não","Não","-","-","Não informada","Não Informada","Não",25855.02,45424.33,71279.350000000006,1551.3,2725.46,4276.76,258.55,454.23999999999995,712.79,258.55,454.23999999999995,712.79,0,0,0,23786.620000000003,41790.390000000021,65577.010000000024,27048.28,2975.31,5950.62,53,2975.31,null,0,0,0,0,0,0,0,0,0,0,0,0,0,0,0,0,0,0,0,0,0,0,null,25855.02,45424.33,71279.350000000006,1551.3,2725.46,4276.76,258.55,454.23999999999995,712.79,258.55,454.23999999999995,712.79,0,0,0,23786.620000000003,41790.390000000021,65577.010000000024,27048.28,2975.31,5950.62,2975.31,"2022-09-01",1,{"$error":"#REF!"},25855.02,45424.33,{"$error":"#REF!"},{"$error":"#REF!"},{"$error":"#REF!"},{"$error":"#REF!"},{"$error":"#REF!"},{"$error":"#REF!"},{"$error":"#REF!"},{"$error":"#REF!"},{"$error":"#REF!"},{"$error":"#REF!"},{"$error":"#REF!"},{"$error":"#REF!"},{"$error":"#REF!"},null,0,0,0,0,0,{"$error":"#REF!"},0,0,0,0,null,{"$error":"#REF!"},{"$error":"#REF!"},{"$error":"#REF!"},{"$error":"#REF!"},0,{"$error":"#REF!"},{"$error":"#REF!"},{"$error":"#REF!"},{"$error":"#REF!"},{"$error":"#REF!"},null,0,0,0,0,null,null,null,0,0,0,0]
[234,14757,"2022/0307536-7","2022-09-23","Paga em MAR-2023 - 1ª remessa","2023-03-01","NÃO",1,"MS 4.151/DF","1995-07-21","1999-02-12","Mandado de Segurança 4.151/DF","2016/0157116-5","2022-08-03","UNIÃO","Administrativo - Servidor Público Civil - Reajustes de Remuneração, Proventos ou Pensão","Alimentar","Neusa Amaral Sturion","329.345.139-04","Servidor Público Civil Ativo","Diferença de remuneração - 3,17%","Ministério da Fazenda",6,"Mota & Advogados Associados","03.996.810/0001-38",1,"Mauro Menezes e Advogados","32.901.423/0001-79",1,"Caputo, Bastos e Serra Advogados","12.291.813/0001-67",0," x x x "," x x x ","Dedução de Honorários Contratuais","Não","Não","Não","-","-","Não informada","Não Informada","Não",25672.87,45159.75,70832.62,1540.37,2709.58,4249.95,256.72000000000003,451.6,708.32,256.72000000000003,451.6,708.32,0,0,0,23619.059999999998,41546.969999999994,65166.029999999992,30119.22,3313.11,6626.22,53,3313.11,null,0,0,0,0,0,0,0,0,0,0,0,0,0,0,0,0,0,0,0,0,0,0,null,25672.87,45159.75,70832.62,1540.37,2709.58,4249.95,256.72000000000003,451.6,708.32,256.72000000000003,451.6,708.32,0,0,0,23619.059999999998,41546.969999999994,65166.029999999992,30119.22,3313.11,6626.22,3313.11,"2022-09-01",1,{"$error":"#REF!"},25672.87,45159.75,{"$error":"#REF!"},{"$error":"#REF!"},{"$error":"#REF!"},{"$error":"#REF!"},{"$error":"#REF!"},{"$error":"#REF!"},{"$error":"#REF!"},{"$error":"#REF!"},{"$error":"#REF!"},{"$error":"#REF!"},{"$error":"#REF!"},{"$error":"#REF!"},{"$error":"#REF!"},null,0,0,0,0,0,{"$error":"#REF!"},0,0,0,0,null,{"$error":"#REF!"},{"$error":"#REF!"},{"$error":"#REF!"},{"$error":"#REF!"},0,{"$error":"#REF!"},{"$error":"#REF!"},{"$error":"#REF!"},{"$error":"#REF!"},{"$error":"#REF!"},null,0,0,0,0,null,null,null,0,0,0,0]
[235,14759,"2022/0307570-0","2022-09-23","Paga em MAR-2023 - 1ª remessa","2023-03-01","NÃO",1,"MS 4.151/DF","1995-07-21","1999-02-12","Mandado de Segurança 4.151/DF","2016/0157116-5","2022-08-03","UNIÃO","Administrativo - Servidor Público Civil - Reajustes de Remuneração, Proventos ou Pensão","Alimentar","Neutelina Jurema Badini","223.562.587-87","Servidor Público Civil Ativo","Diferença de remuneração - 3,17%","Ministério da Fazenda",6,"Mota & Advogados Associados","03.996.810/0001-38",1,"Mauro Menezes e Advogados","32.901.423/0001-79",1,"Caputo, Bastos e Serra Advogados","12.291.813/0001-67",0," x x x "," x x x ","Dedução de Honorários Contratuais","Não","Não","Não","-","-","Não informada","Não Informada","Não",25132.09,44423.01,69555.099999999991,1507.92,2665.38,4173.3,251.32,444.22999999999996,695.55,251.32,444.22999999999996,695.55,0,0,0,23121.53,40869.169999999984,63990.699999999983,29788.11,3276.69,6553.38,53,3276.69,null,0,0,0,0,0,0,0,0,0,0,0,0,0,0,0,0,0,0,0,0,0,0,null,25132.09,44423.01,69555.099999999991,1507.92,2665.38,4173.3,251.32,444.22999999999996,695.55,251.32,444.22999999999996,695.55,0,0,0,23121.53,40869.169999999984,63990.699999999983,29788.11,3276.69,6553.38,3276.69,"2022-09-01",1,{"$error":"#REF!"},25132.09,44423.01,{"$error":"#REF!"},{"$error":"#REF!"},{"$error":"#REF!"},{"$error":"#REF!"},{"$error":"#REF!"},{"$error":"#REF!"},{"$error":"#REF!"},{"$error":"#REF!"},{"$error":"#REF!"},{"$error":"#REF!"},{"$error":"#REF!"},{"$error":"#REF!"},{"$error":"#REF!"},null,0,0,0,0,0,{"$error":"#REF!"},0,0,0,0,null,{"$error":"#REF!"},{"$error":"#REF!"},{"$error":"#REF!"},{"$error":"#REF!"},0,{"$error":"#REF!"},{"$error":"#REF!"},{"$error":"#REF!"},{"$error":"#REF!"},{"$error":"#REF!"},null,0,0,0,0,null,null,null,0,0,0,0]
[236,14765,"2022/0307649-1","2022-09-23","Paga em MAR-2023 - 1ª remessa","2023-03-01","NÃO",1,"MS 4.151/DF","1995-07-21","1999-02-12","Mandado de Segurança 4.151/DF","2016/0129574-5","2022-08-03","UNIÃO","Administrativo - Servidor Público Civil - Reajustes de Remuneração, Proventos ou Pensão","Alimentar","Benedito Rodrigues da Costa","602.112.888-53","Servidor Público Civil Ativo","Diferença de remuneração - 3,17%","Ministério da Fazenda",6,"Mota & Advogados Associados","03.996.810/0001-38",1,"Mauro Menezes e Advogados","32.901.423/0001-79",1,"Caputo, Bastos e Serra Advogados","12.291.813/0001-67",0," x x x "," x x x ","Dedução de Honorários Contratuais","Não","Não","Não","-","-","Não informada","Não Informada","Não",24781.919999999998,44379.95,69161.87,1486.91,2662.8,4149.71,247.81,443.8,691.61,247.81,443.8,691.61,0,0,0,22799.389999999996,40829.550000000003,63628.939999999995,30354.02,3338.94,6677.88,53,3338.94,null,0,0,0,0,0,0,0,0,0,0,0,0,0,0,0,0,0,0,0,0,0,0,null,24781.919999999998,44379.95,69161.87,1486.91,2662.8,4149.71,247.81,443.8,691.61,247.81,443.8,691.61,0,0,0,22799.389999999996,40829.550000000003,63628.939999999995,30354.02,3338.94,6677.88,3338.94,"2022-09-01",1,{"$error":"#REF!"},24781.919999999998,44379.95,{"$error":"#REF!"},{"$error":"#REF!"},{"$error":"#REF!"},{"$error":"#REF!"},{"$error":"#REF!"},{"$error":"#REF!"},{"$error":"#REF!"},{"$error":"#REF!"},{"$error":"#REF!"},{"$error":"#REF!"},{"$error":"#REF!"},{"$error":"#REF!"},{"$error":"#REF!"},null,0,0,0,0,0,{"$error":"#REF!"},0,0,0,0,null,{"$error":"#REF!"},{"$error":"#REF!"},{"$error":"#REF!"},{"$error":"#REF!"},0,{"$error":"#REF!"},{"$error":"#REF!"},{"$error":"#REF!"},{"$error":"#REF!"},{"$error":"#REF!"},null,0,0,0,0,null,null,null,0,0,0,0]
[237,14771,"2022/0307668-1","2022-09-23","Paga em MAR-2023 - 1ª remessa","2023-03-01","NÃO",1,"MS 4.151/DF","1995-07-21","1999-02-12","Mandado de Segurança 4.151/DF","2016/0130464-7","2022-08-03","UNIÃO","Administrativo - Servidor Público Civil - Reajustes de Remuneração, Proventos ou Pensão","Alimentar","Florentino Alves de Sousa","085.866.831-91","Servidor Público Civil Ativo","Diferença de remuneração - 3,17%","Ministério da Fazenda",6,"Mota & Advogados Associados","03.996.810/0001-38",1,"Mauro Menezes e Advogados","32.901.423/0001-79",1,"Caputo, Bastos e Serra Advogados","12.291.813/0001-67",0," x x x "," x x x ","Dedução de Honorários Contratuais","Não","Não","Não","-","-","Não informada","Não Informada","Não",23350.82,41928.03,65278.85,1401.04,2515.69,3916.73,233.5,419.28,652.78,233.5,419.28,652.78,0,0,0,21482.78,38573.78,60056.56,21027.07,2312.9699999999998,4625.9399999999996,53,2312.9699999999998,null,0,0,0,0,0,0,0,0,0,0,0,0,0,0,0,0,0,0,0,0,0,0,null,23350.82,41928.03,65278.85,1401.04,2515.69,3916.73,233.5,419.28,652.78,233.5,419.28,652.78,0,0,0,21482.78,38573.78,60056.56,21027.07,2312.9699999999998,4625.9399999999996,2312.9699999999998,"2022-09-01",1,{"$error":"#REF!"},23350.82,41928.03,{"$error":"#REF!"},{"$error":"#REF!"},{"$error":"#REF!"},{"$error":"#REF!"},{"$error":"#REF!"},{"$error":"#REF!"},{"$error":"#REF!"},{"$error":"#REF!"},{"$error":"#REF!"},{"$error":"#REF!"},{"$error":"#REF!"},{"$error":"#REF!"},{"$error":"#REF!"},null,0,0,0,0,0,{"$error":"#REF!"},0,0,0,0,null,{"$error":"#REF!"},{"$error":"#REF!"},{"$error":"#REF!"},{"$error":"#REF!"},0,{"$error":"#REF!"},{"$error":"#REF!"},{"$error":"#REF!"},{"$error":"#REF!"},{"$error":"#REF!"},null,0,0,0,0,null,null,null,0,0,0,0]
[238,14773,"2022/0307673-3","2022-09-23","Paga em MAR-2023 - 1ª remessa","2023-03-01","NÃO",1,"MS 4.151/DF","1995-07-21","1999-02-12","Mandado de Segurança 4.151/DF","2016/0130464-7","2022-08-03","UNIÃO","Administrativo - Servidor Público Civil - Reajustes de Remuneração, Proventos ou Pensão","Alimentar","Floriza Maria Domanski de Souza","235.995.969-72","Servidor Público Civil Ativo","Diferença de remuneração - 3,17%","Ministério da Fazenda",6,"Mota & Advogados Associados","03.996.810/0001-38",1,"Mauro Menezes e Advogados","32.901.423/0001-79",1,"Caputo, Bastos e Serra Advogados","12.291.813/0001-67",0," x x x "," x x x ","Dedução de Honorários Contratuais","Não","Não","Não","-","-","Não informada","Não Informada","Não",24653.35,44716.590000000004,69369.94,1479.2,2682.99,4162.1899999999996,246.53,447.16000000000008,693.69,246.53,447.16000000000008,693.69,0,0,0,22681.09,41139.279999999999,63820.369999999995,31034.560000000001,3413.8,6827.6,53,3413.8,null,0,0,0,0,0,0,0,0,0,0,0,0,0,0,0,0,0,0,0,0,0,0,null,24653.35,44716.590000000004,69369.94,1479.2,2682.99,4162.1899999999996,246.53,447.16000000000008,693.69,246.53,447.16000000000008,693.69,0,0,0,22681.09,41139.279999999999,63820.369999999995,31034.560000000001,3413.8,6827.6,3413.8,"2022-09-01",1,{"$error":"#REF!"},24653.35,44716.59,{"$error":"#REF!"},{"$error":"#REF!"},{"$error":"#REF!"},{"$error":"#REF!"},{"$error":"#REF!"},{"$error":"#REF!"},{"$error":"#REF!"},{"$error":"#REF!"},{"$error":"#REF!"},{"$error":"#REF!"},{"$error":"#REF!"},{"$error":"#REF!"},{"$error":"#REF!"},null,0,0,0,0,0,{"$error":"#REF!"},0,0,0,0,null,{"$error":"#REF!"},{"$error":"#REF!"},{"$error":"#REF!"},{"$error":"#REF!"},0,{"$error":"#REF!"},{"$error":"#REF!"},{"$error":"#REF!"},{"$error":"#REF!"},{"$error":"#REF!"},null,0,0,0,0,null,null,null,0,0,0,0]
[239,14775,"2022/0307703-5","2022-09-23","Paga em MAR-2023 - 1ª remessa","2023-03-01","NÃO",1,"MS 4.151/DF","1995-07-21","1999-02-12","Mandado de Segurança 4.151/DF","2016/0141589-0","2022-08-04","UNIÃO","Administrativo - Servidor Público Civil - Reajustes de Remuneração, Proventos ou Pensão","Alimentar","Heloisa Maria Rosemback ","062.287.518-32","Servidor Público Civil Ativo","Diferença de remuneração - 3,17%","Ministério da Fazenda",6,"Mota & Advogados Associados","03.996.810/0001-38",1,"Mauro Menezes e Advogados","32.901.423/0001-79",1,"Caputo, Bastos e Serra Advogados","12.291.813/0001-67",0," x x x "," x x x ","Dedução de Honorários Contratuais","Não","Não","Não","-","-","Não informada","Não Informada","Não",18566.02,38785.58,57351.600000000006,1113.96,2327.13,3441.09,185.66,387.85,573.51,185.66,387.85,573.51,0,0,0,17080.740000000002,35682.75,52763.490000000005,29976.15,3297.37,6594.74,53,3297.37,null,0,0,0,0,0,0,0,0,0,0,0,0,0,0,0,0,0,0,0,0,0,0,null,18566.02,38785.58,57351.600000000006,1113.96,2327.13,3441.09,185.66,387.85,573.51,185.66,387.85,573.51,0,0,0,17080.740000000002,35682.75,52763.490000000005,29976.15,3297.37,6594.74,3297.37,"2022-09-01",1,{"$error":"#REF!"},18566.02,38785.58,{"$error":"#REF!"},{"$error":"#REF!"},{"$error":"#REF!"},{"$error":"#REF!"},{"$error":"#REF!"},{"$error":"#REF!"},{"$error":"#REF!"},{"$error":"#REF!"},{"$error":"#REF!"},{"$error":"#REF!"},{"$error":"#REF!"},{"$error":"#REF!"},{"$error":"#REF!"},null,0,0,0,0,0,{"$error":"#REF!"},0,0,0,0,null,{"$error":"#REF!"},{"$error":"#REF!"},{"$error":"#REF!"},{"$error":"#REF!"},0,{"$error":"#REF!"},{"$error":"#REF!"},{"$error":"#REF!"},{"$error":"#REF!"},{"$error":"#REF!"},null,0,0,0,0,null,null,null,0,0,0,0]
[240,14803,"2022/0309597-9","2022-09-26","Paga em MAR-2023 - 1ª remessa","2023-03-01","NÃO",1,"AR 1.169/CE","1999-10-18","2004-06-07","Ação Rescisória 1.169/CE","2009/0056219-4","2022-08-19","Instituto Nacional do Seguro Social – INSS","Administrativo - Servidor Público Civil - Sistema Remuneratório e Benefícios","Alimentar","José Forte Gomes","017.851.093-91","Servidor Público Civil Ativo","Anuênios","Instituto Nacional do Seguro Social - INSS",20,"Glayddes Sindeaux Advogados","17.291.820/0001-82",0," x x x ","x x x",0," x x x "," x x x ",0," x x x "," x x x ","Dedução de Honorários Contratuais","Não","Não","Não","-","-","Não informada","Não Informada","Não",4294.9000000000005,8160.7499999999991,13067.699999999999,858.98,1754.56,2613.54,0,0,0,0,0,0,0,0,0,3435.9200000000005,7018.24,10454.16,3262.63,358.88,717.76,61,358.88,null,0,0,0,0,0,0,0,0,0,0,0,0,0,0,0,0,0,0,0,0,0,0,null,4294.9000000000005,8160.7499999999991,13067.699999999999,858.98,1754.56,2613.54,0,0,0,0,0,0,0,0,0,3435.9200000000005,7018.24,10454.16,3262.63,358.88,717.76,358.88,"2022-09-01",1,{"$error":"#REF!"},3995.26,8160.75,{"$error":"#REF!"},{"$error":"#REF!"},{"$error":"#REF!"},{"$error":"#REF!"},{"$error":"#REF!"},{"$error":"#REF!"},{"$error":"#REF!"},{"$error":"#REF!"},{"$error":"#REF!"},{"$error":"#REF!"},{"$error":"#REF!"},{"$error":"#REF!"},{"$error":"#REF!"},null,0,0,0,0,0,{"$error":"#REF!"},0,0,0,0,null,{"$error":"#REF!"},{"$error":"#REF!"},0,0,0,{"$error":"#REF!"},{"$error":"#REF!"},{"$error":"#REF!"},{"$error":"#REF!"},{"$error":"#REF!"},null,0,0,0,0,null,null,null,0,0,0,0]
[241,14815,"2022/0310534-9","2022-09-27","Paga em MAR-2023 - 1ª remessa","2023-03-01","NÃO",1,"MS 4.151/DF","1995-07-21","1999-02-12","Mandado de Segurança 4.151/DF","2016/0164413-9","2022-08-03","UNIÃO","Administrativo - Servidor Público Civil - Reajustes de Remuneração, Proventos ou Pensão","Alimentar","Roberto Souza Andrade","049.344.317-72","Servidor Público Civil Ativo","Diferença de remuneração - 3,17%","Ministério da Fazenda",6,"Mota & Advogados Associados","03.996.810/0001-38",1,"Mauro Menezes e Advogados","32.901.423/0001-79",1,"Caputo, Bastos e Serra Advogados","12.291.813/0001-67",0," x x x "," x x x ","Dedução de Honorários Contratuais","Não","Não","Não","-","-","Não informada","Não Informada","Não",20341.09,42608.54,62949.63,1220.46,2556.5099999999998,3776.97,203.41,426.08000000000004,629.49,203.41,426.08000000000004,629.49,0,0,0,18713.810000000001,39199.869999999995,57913.68,33178.82,3649.67,7299.34,53,3649.67,null,0,0,0,0,0,0,0,0,0,0,0,0,0,0,0,0,0,0,0,0,0,0,null,20341.09,42608.54,62949.63,1220.46,2556.5099999999998,3776.97,203.41,426.08000000000004,629.49,203.41,426.08000000000004,629.49,0,0,0,18713.810000000001,39199.869999999995,57913.68,33178.82,3649.67,7299.34,3649.67,"2022-09-01",1,{"$error":"#REF!"},20341.09,42608.54,{"$error":"#REF!"},{"$error":"#REF!"},{"$error":"#REF!"},{"$error":"#REF!"},{"$error":"#REF!"},{"$error":"#REF!"},{"$error":"#REF!"},{"$error":"#REF!"},{"$error":"#REF!"},{"$error":"#REF!"},{"$error":"#REF!"},{"$error":"#REF!"},{"$error":"#REF!"},null,0,0,0,0,0,{"$error":"#REF!"},0,0,0,0,null,{"$error":"#REF!"},{"$error":"#REF!"},{"$error":"#REF!"},{"$error":"#REF!"},0,{"$error":"#REF!"},{"$error":"#REF!"},{"$error":"#REF!"},{"$error":"#REF!"},{"$error":"#REF!"},null,0,0,0,0,null,null,null,0,0,0,0]
[242,14824,"2022/0310600-7","2022-09-27","Paga em MAR-2023 - 1ª remessa","2023-03-01","NÃO",1,"MS 4.151/DF","1995-07-21","1999-02-12","Mandado de Segurança 4.151/DF","2016/0129401-5","2022-08-03","UNIÃO","Administrativo - Servidor Público Civil - Reajustes de Remuneração, Proventos ou Pensão","Alimentar","Celso Bispo Gama","037.073.775-04","Servidor Público Civil Ativo","Diferença de remuneração - 3,17%","Ministério da Fazenda",6,"Mota & Advogados Associados","03.996.810/0001-38",1,"Mauro Menezes e Advogados","32.901.423/0001-79",1,"Caputo, Bastos e Serra Advogados","12.291.813/0001-67",0," x x x "," x x x ","Dedução de Honorários Contratuais","Não","Não","Não","-","-","Não informada","Não Informada","Não",23049.73,42329.8,65379.530000000006,1382.98,2539.79,3922.77,230.49,423.29999999999995,653.79,230.49,423.29999999999995,653.79,0,0,0,21205.769999999997,38943.410000000011,60149.180000000008,29694.27,3266.36,6532.72,52,3266.36,null,0,0,0,0,0,0,0,0,0,0,0,0,0,0,0,0,0,0,0,0,0,0,null,23049.73,42329.8,65379.530000000006,1382.98,2539.79,3922.77,230.49,423.29999999999995,653.79,230.49,423.29999999999995,653.79,0,0,0,21205.769999999997,38943.410000000011,60149.180000000008,29694.27,3266.36,6532.72,3266.36,"2022-09-01",1,{"$error":"#REF!"},23049.73,42329.8,{"$error":"#REF!"},{"$error":"#REF!"},{"$error":"#REF!"},{"$error":"#REF!"},{"$error":"#REF!"},{"$error":"#REF!"},{"$error":"#REF!"},{"$error":"#REF!"},{"$error":"#REF!"},{"$error":"#REF!"},{"$error":"#REF!"},{"$error":"#REF!"},{"$error":"#REF!"},null,0,0,0,0,0,{"$error":"#REF!"},0,0,0,0,null,{"$error":"#REF!"},{"$error":"#REF!"},{"$error":"#REF!"},{"$error":"#REF!"},0,{"$error":"#REF!"},{"$error":"#REF!"},{"$error":"#REF!"},{"$error":"#REF!"},{"$error":"#REF!"},null,0,0,0,0,null,null,null,0,0,0,0]
[246,14903,"2022/0342935-7","2022-10-24","Paga em MAR-2023 - 1ª remessa","2023-03-01","NÃO",1,"MS 4.151/DF","1995-07-21","1999-02-12","Mandado de Segurança 4.151/DF","2016/0174886-0","2022-08-03","UNIÃO","Administrativo - Servidor Público Civil - Reajustes de Remuneração, Proventos ou Pensão","Alimentar","Sonia Aparecida Finati Richieri","016.030.738-41","Servidor Público Civil Ativo","Diferença de remuneração - 3,17%","Ministério da Fazenda",6,"Mota & Advogados Associados","03.996.810/0001-38",1,"Mauro Menezes e Advogados","32.901.423/0001-79",1,"Caputo, Bastos e Serra Advogados","12.291.813/0001-67",0," x x x "," x x x ","Dedução de Honorários Contratuais","Não","Não","Não","-","-","Não informada","Não Informada","Não",25345.61,44778.979999999996,70124.59,1520.73,2686.74,4207.47,253.45,447.79,701.24,253.45,447.79,701.24,0,0,0,23317.98,41196.660000000003,64514.64,21755.68,2393.12,4786.24,53,2393.12,null,0,0,0,0,0,0,0,0,0,0,0,0,0,0,0,0,0,0,0,0,0,0,null,25345.61,44778.979999999996,70124.59,1520.73,2686.74,4207.47,253.45,447.79,701.24,253.45,447.79,701.24,0,0,0,23317.98,41196.660000000003,64514.64,21755.68,2393.12,4786.24,2393.12,"2022-10-01",1,{"$error":"#REF!"},25345.61,44778.98,{"$error":"#REF!"},{"$error":"#REF!"},{"$error":"#REF!"},{"$error":"#REF!"},{"$error":"#REF!"},{"$error":"#REF!"},{"$error":"#REF!"},{"$error":"#REF!"},{"$error":"#REF!"},{"$error":"#REF!"},{"$error":"#REF!"},{"$error":"#REF!"},{"$error":"#REF!"},null,0,0,0,0,0,{"$error":"#REF!"},0,0,0,0,null,{"$error":"#REF!"},{"$error":"#REF!"},{"$error":"#REF!"},{"$error":"#REF!"},0,{"$error":"#REF!"},{"$error":"#REF!"},{"$error":"#REF!"},{"$error":"#REF!"},{"$error":"#REF!"},null,0,0,0,0,null,null,null,0,0,0,0]
[{"$f":"IF(B272=\"\",\"\",A271+1)","v":264},14975,{"$f":"IF(B272=\"\",\"\",VLOOKUP(B272,expedidas,4))","v":"2022/0348844-1"},{"$f":"IF(B272=\"\",\"\",VLOOKUP(B272,expedidas,5))","v":"2022-10-28"},{"$f":"IF(B272=\"\",\"\",VLOOKUP(B272,expedidas,7))","v":"Paga em MAR-2023 - 1ª remessa"},{"$f":"IF(B272=\"\",\"\",VLOOKUP(B272,expedidas,8))","v":"2023-03-01"},{"$f":"IF(B272=\"\",\"\",VLOOKUP(B272,expedidas,9))","v":"NÃO"},{"$f":"IF(B272=\"\",\"\",VLOOKUP(B272,expedidas,11))","v":1},{"$f":"IF(B272=\"\",\"\",VLOOKUP(B272,expedidas,12))","v":"MS 4.149/DF"},{"$f":"IF(B272=\"\",\"\",VLOOKUP(B272,expedidas,14))","v":"1995-07-20"},{"$f":"IF(B272=\"\",\"\",VLOOKUP(B272,expedidas,15))","v":"1998-09-23"},{"$f":"IF(B272=\"\",\"\",VLOOKUP(B272,expedidas,19))","v":"Mandado de Segurança 4.149/DF"},{"$f":"IF(B272=\"\",\"\",VLOOKUP(B272,expedidas,20))","v":"2008/0092108-6"},{"$f":"IF(B272=\"\",\"\",VLOOKUP(B272,expedidas,21))","v":"2014-09-26"},{"$f":"IF(B272=\"\",\"\",VLOOKUP(B272,expedidas,18))","v":"UNIÃO"},{"$f":"IF(B272=\"\",\"\",VLOOKUP(B272,expedidas,16))","v":"Administrativo - Servidor Público Civil - Sistema Remuneratório e Benefícios"},{"$f":"IF(B272=\"\",\"\",VLOOKUP(B272,expedidas,26))","v":"Alimentar"},{"$f":"IF(B272=\"\",\"\",VLOOKUP(B272,expedidas,22))","v":"Eustáquio Nunes Ferreira"},{"$f":"IF(B272=\"\",\"\",VLOOKUP(B272,expedidas,23))","v":"270.681.701-10"},{"$f":"IF(B272=\"\",\"\",VLOOKUP(B272,expedidas,24))","v":"Servidor Público Civil Ativo"},{"$f":"IF(B272=\"\",\"\",VLOOKUP(B272,expedidas,25))","v":"Diferença de remuneração - 3,17%"},{"$f":"IF(B272=\"\",\"\",VLOOKUP(B272,expedidas,17))","v":"INCRA"},{"$f":"IF(B272=\"\",\"\",VLOOKUP(B272,expedidas,27))","v":10},{"$f":"IF(B272=\"\",\"\",IF(W272=0,\" x x x \",VLOOKUP(B272,expedidas,28)))","v":"Josilma Saraiva - Advocacia E Consultoria - Sociedade Individual De Advocacia"},{"$f":"IF(B272=\"\",\"\",VLOOKUP(B272,expedidas,29))","v":"09.384.741/0001-98"},{"$f":"IF(B272=\"\",\"\",VLOOKUP(B272,expedidas,30))","v":0},{"$f":"IF(B272=\"\",\"\",VLOOKUP(B272,expedidas,31))","v":" x x x "},{"$f":"IF(B272=\"\",\"\",IF(Z272=0,\"x x x\",VLOOKUP(B272,expedidas,32)))","v":"x x x"},{"$f":"IF(B272=\"\",\"\",VLOOKUP(B272,expedidas,33))","v":0},{"$f":"IF(B272=\"\",\"\",IF(AC272=0,\" x x x \",VLOOKUP(B272,expedidas,34)))","v":" x x x "},{"$f":"IF(B272=\"\",\"\",IF(AC272=0,\" x x x \",VLOOKUP(B272,expedidas,35)))","v":" x x x "},{"$f":"IF(B272=\"\",\"\",VLOOKUP(B272,expedidas,36))","v":0},{"$f":"IF(B272=\"\",\"\",IF(AF272=0,\" x x x \",VLOOKUP(B272,expedidas,37)))","v":" x x x "},{"$f":"IF(B272=\"\",\"\",IF(AF272=0,\" x x x \",VLOOKUP(B272,expedidas,38)))","v":" x x x "},{"$f":"IF(B272=\"\",\"\",VLOOKUP(B272,expedidas,39))","v":"Dedução de Honorários Contratuais"},{"$f":"IF(B272=\"\",\"\",VLOOKUP(B272,expedidas,40))","v":"Não"},{"$f":"IF(B272=\"\",\"\",VLOOKUP(B272,expedidas,41))","v":"Não"},{"$f":"IF(B272=\"\",\"\",VLOOKUP(B272,expedidas,42))","v":"Não"},{"$f":"IF(B272=\"\",\"\",VLOOKUP(B272,expedidas,43))","v":"-"},{"$f":"IF(B272=\"\",\"\",VLOOKUP(B272,expedidas,44))","v":"-"},{"$f":"IF(B272=\"\",\"\",VLOOKUP(B272,expedidas,45))","v":"Não informada"},{"$f":"IF(B272=\"\",\"\",VLOOKUP(B272,expedidas,46))","v":"Não Informada"},{"$f":"IF(B272=\"\",\"\",VLOOKUP(B272,expedidas,47))","v":"Não"},{"$f":"IF(B272=\"\",\"\",IF(I272=\"MS 11.371/DF\",0,VLOOKUP(B272,expedidas,49)+VLOOKUP(B272,expedidas,51)))","v":1047.07},{"$f":"IF(B272=\"\",\"\",IF(I272=\"MS 11.371/DF\",AT272,VLOOKUP(B272,expedidas,52)))","v":3766.3},{"$f":"IF(B272=\"\",\"\",VLOOKUP(B272,expedidas,53))","v":5165.1400000000003},{"$f":"IF(B272=\"\",\"\",IF(I272=\"MS 11.371/DF\",0,VLOOKUP(B272,expedidas,54)))","v":104.7},{"$f":"IF(B272=\"\",\"\",IF(I272=\"MS 11.371/DF\",AW272,VLOOKUP(B272,expedidas,55)))","v":411.81},{"$f":"IF(B272=\"\",\"\",VLOOKUP(B272,expedidas,56))","v":516.51},{"$f":"IF(B272=\"\",\"\",VLOOKUP(B272,expedidas,57))","v":0},{"$f":"IF(B272=\"\",\"\",VLOOKUP(B272,expedidas,58))","v":0},{"$f":"IF(B272=\"\",\"\",VLOOKUP(B272,expedidas,59))","v":0},{"$f":"IF(B272=\"\",\"\",VLOOKUP(B272,expedidas,60))","v":0},{"$f":"IF(B272=\"\",\"\",VLOOKUP(B272,expedidas,61))","v":0},{"$f":"IF(B272=\"\",\"\",VLOOKUP(B272,expedidas,62))","v":0},{"$f":"IF(B272=\"\",\"\",VLOOKUP(B272,expedidas,63))","v":0},{"$f":"IF(B272=\"\",\"\",VLOOKUP(B272,expedidas,64))","v":0},{"$f":"IF(B272=\"\",\"\",VLOOKUP(B272,expedidas,65))","v":0},{"$f":"IF(B272=\"\",\"\",IF(I272=\"MS 11.371/DF\",0,VLOOKUP(B272,expedidas,66)))","v":942.37},{"$f":"IF(B272=\"\",\"\",IF(I272=\"MS 11.371/DF\",BI272,VLOOKUP(B272,expedidas,67)))","v":3706.26},{"$f":"IF(B272=\"\",\"\",VLOOKUP(B272,expedidas,68))","v":4648.63},{"$f":"IF(B272=\"\",\"\",VLOOKUP(B272,expedidas,69))","v":1047.07},{"$f":"IF(B272=\"\",\"\",VLOOKUP(B272,expedidas,70))","v":115.17},{"$f":"IF(B272=\"\",\"\",VLOOKUP(B272,expedidas,71))","v":230.34},{"$f":"IF(B272=\"\",\"\",VLOOKUP(B272,expedidas,72))","v":85},{"$f":"IF(B272=\"\",\"\",IF(BM272=\"-\",\"-\",VLOOKUP(B272,expedidas,74)))","v":115.17},null,{"$f":"IF($G272=\"\",\"\",IF(CA272=\"informar\",0,IF($G272=\"não\",0,BS272+BV272+BY272+CE272)))","v":0},{"$f":"IF($AS272=\"\",\"\",IF(G272=\"não\",0,BR272-BP272))","v":0},{"$f":"IF($G272=\"\",\"\",IF(BP272=0,0,IF($G272=\"não\",0,BU272+BX272+CA272+CG272)))","v":0},{"$f":"IF($G272=\"\",\"\",IF($G272=\"não\",0,IF(VLOOKUP(B272,expedidas,10)=\"sim\",0,\"informar\")))","v":0},{"$f":"IF($G272=\"\",\"\",IF($G272=\"não\",0,IF(VLOOKUP(B272,expedidas,10)=\"sim\",0,\"informar\")))","v":0},{"$f":"IF($G272=\"\",\"\",IF($G272=\"não\",0,IF(VLOOKUP(B272,expedidas,10)=\"sim\",0,\"informar\")))","v":0},{"$f":"IF($G272=\"\",\"\",IF($G272=\"não\",0,IF(VLOOKUP(B272,expedidas,10)=\"sim\",0,\"informar\")))","v":0},{"$f":"IF($G272=\"\",\"\",IF($G272=\"não\",0,IF(VLOOKUP(B272,expedidas,10)=\"sim\",0,\"informar\")))","v":0},{"$f":"IF($G272=\"\",\"\",IF($G272=\"não\",0,IF(VLOOKUP(B272,expedidas,10)=\"sim\",0,\"informar\")))","v":0},{"$f":"IF($G272=\"\",\"\",IF($G272=\"não\",0,IF(VLOOKUP(B272,expedidas,10)=\"sim\",0,\"informar\")))","v":0},{"$f":"IF($G272=\"\",\"\",IF($G272=\"não\",0,IF(VLOOKUP(B272,expedidas,10)=\"sim\",0,\"informar\")))","v":0},{"$f":"IF($G272=\"\",\"\",IF($G272=\"não\",0,IF(VLOOKUP(B272,expedidas,10)=\"sim\",0,\"informar\")))","v":0},{"$f":"IF($G272=\"\",\"\",IF($G272=\"não\",0,IF(VLOOKUP(B272,expedidas,10)=\"sim\",0,\"informar\")))","v":0},{"$f":"IF($G272=\"\",\"\",IF($G272=\"não\",0,IF(VLOOKUP(B272,expedidas,10)=\"sim\",0,\"informar\")))","v":0},{"$f":"IF($G272=\"\",\"\",IF($G272=\"não\",0,IF(VLOOKUP(B272,expedidas,10)=\"sim\",0,\"informar\")))","v":0},{"$f":"IF($G272=\"\",\"\",IF($G272=\"não\",0,IF(VLOOKUP(B272,expedidas,10)=\"NÃO\",\"informar\",VLOOKUP(B272,expedidas,75))))","v":0},{"$f":"IF($G272=\"\",\"\",IF(VLOOKUP(B272,expedidas,10)=\"sim\",0,IF($G272=\"não\",0,\"informar\")))","v":0},{"$f":"IF($G272=\"\",\"\",IF(VLOOKUP(B272,expedidas,10)=\"sim\",CE272,IF($G272=\"não\",0,\"informar\")))","v":0},{"$f":"IF(B272=\"\",\"\",IF(VLOOKUP(B272,expedidas,10)=\"sim\",0,IF(G272=\"não\",0,IF(BJ272=0,0,IF(BJ272=AR272,BP272,TRUNC(BJ272*BP272/AR272,2))))))","v":0},{"$f":"IF($BQ272=\"\",\"\",IF(G272=\"não\",0,IF(CH272=\"informar\",0,TRUNC(CH272*0.11,2))))","v":0},{"$f":"IF($BQ272=\"\",\"\",IF(G272=\"não\",0,IF(BL272=0,0,CI272*2)))","v":0},{"$f":"IF($BQ272=\"\",\"\",IF(G272=\"não\",0,IF(BN272=0,0,CI272)))","v":0},null,{"$f":"IF(AR272=\"\",\"\",IF(BP272=0,AR272,AR272-BP272))","v":1047.07},{"$f":"IF(AS272=\"\",\"\",IF(BQ272=0,AS272,AS272-BQ272))","v":3766.3},{"$f":"IF(AT272=\"\",\"\",IF(BR272=0,AT272,AT272-BR272))","v":5165.1400000000003},{"$f":"IF(AU272=\"\",\"\",IF(BS272=0,AU272,AU272-BS272))","v":104.7},{"$f":"IF(AV272=\"\",\"\",IF(BT272=0,AV272,AV272-BT272))","v":411.81},{"$f":"IF(AW272=\"\",\"\",IF(BU272=0,AW272,AW272-BU272))","v":516.51},{"$f":"IF(AX272=\"\",\"\",IF(BV272=0,AX272,AX272-BV272))","v":0},{"$f":"IF(AY272=\"\",\"\",IF(BW272=0,AY272,AY272-BW272))","v":0},{"$f":"IF(AZ272=\"\",\"\",IF(BX272=0,AZ272,AZ272-BX272))","v":0},{"$f":"IF(BA272=\"\",\"\",IF(BY272=0,BA272,BA272-BY272))","v":0},{"$f":"IF(BB272=\"\",\"\",IF(BZ272=0,BB272,BB272-BZ272))","v":0},{"$f":"IF(BC272=\"\",\"\",IF(CA272=0,BC272,BC272-CA272))","v":0},{"$f":"IF(BD272=\"\",\"\",IF(CB272=0,BD272,BD272-CB272))","v":0},{"$f":"IF(BE272=\"\",\"\",IF(CC272=0,BE272,BE272-CC272))","v":0},{"$f":"IF(BF272=\"\",\"\",IF(CD272=0,BF272,BF272-CD272))","v":0},{"$f":"IF(BG272=\"\",\"\",IF(CE272=0,BG272,BG272-CE272))","v":942.37},{"$f":"IF(BH272=\"\",\"\",IF(CF272=0,BH272,BH272-CF272))","v":3706.26},{"$f":"IF(BI272=\"\",\"\",IF(CG272=0,BI272,BI272-CG272))","v":4648.63},{"$f":"IF(CM272=\"\",\"\",IF(BJ272=AR272,CM272,TRUNC(CM272*(BJ272*100/AR272)/100,2)))","v":1047.07},{"$f":"IF(BK272=\"\",\"\",IF(CI272=0,BK272,BK272-CI272))","v":115.17},{"$f":"IF(BL272=\"\",\"\",IF(CJ272=0,BL272,BL272-CJ272))","v":230.34},{"$f":"DF272","v":115.17},{"$f":"IF(B272=\"\",\"\",VLOOKUP(B272,expedidas,48))","v":"2022-10-01"},{"$f":"IF(DI272=\"\",\"\",IF(OR(DI272>=$DJ$7),1,1/VLOOKUP(DI272,indice,3)*VLOOKUP($DJ$7,indice,3)))","v":1},{"$f":"IF(DI272=\"\",\"\",IF(I272=\"ms 4.151/df\",VLOOKUP(DI272,indice,5),IF(DI272<$DJ$7,VLOOKUP(F272,indice,6),VLOOKUP(DI272,indice,5))))","v":{"$error":"#REF!"}},{"$f":"IF(DJ272=\"\",\"\",IF(DJ272=\"\",\"\",TRUNC((VLOOKUP(B272,expedidas,51))*DJ272,2)))","v":957.63},{"$f":"IF(DJ272=\"\",\"\",IF(DJ272=\"\",\"\",(TRUNC((VLOOKUP(B272,expedidas,52))*DJ272,2))))","v":3766.3},{"$f":"IF(DK272=\"\",\"\",IF(DK272=\"informar\",\"\",VLOOKUP(B272,expedidas,49)+TRUNC(VLOOKUP(B272,expedidas,51)*DJ272*DK272/100,2)))","v":{"$error":"#REF!"}},{"$f":"IF(DI272=\"\",\"\",IF(I272=\"ms 4.151/df\",TRUNC(VLOOKUP(B272,expedidas,52)*DJ272*DK272/100,2),IF(VLOOKUP(B272,expedidas,50)=0,0,IF(AND(MONTH(DI272)=2,YEAR(DI272)=2022),0,IF(DK272=\"informar\",\"\",VLOOKUP(B272,expedidas,50)+TRUNC((VLOOKUP(B272,expedidas,52))*DJ272*DK272/100,2))))))","v":{"$error":"#REF!"}},{"$f":"IF(DJ272=\"\",\"\",IF(DJ272=\"\",\"\",DL272+DM272+DN272+DO272))","v":{"$error":"#REF!"}},{"$f":"IF(AT272=\"\",\"\",TRUNC(DP272*W272/100,2))","v":{"$error":"#REF!"}},{"$f":"IF($DJ272=\"\",\"\",TRUNC(DP272*Z272/100,2))","v":{"$error":"#REF!"}},{"$f":"IF($DJ272=\"\",\"\",TRUNC(DP272*AC272/100,2))","v":{"$error":"#REF!"}},{"$f":"IF($DJ272=\"\",\"\",TRUNC(DP272*AF272/100,2))","v":{"$error":"#REF!"}},{"$f":"IF(AT272=\"\",\"\",IF(DP272=\"\",\"\",DP272-DQ272-DR272-DS272-DT272))","v":{"$error":"#REF!"}},{"$f":"IF(DJ272=\"\",\"\",IF(BJ272=0,0,IF(I272=\"ms 4.151/df\",TRUNC(BJ272*DJ272,2)+TRUNC(BJ272*DK272/100,2),IF(BJ272<AR272,TRUNC((BJ272)+BJ272*DK272/100,2),DL272+DN272))))","v":{"$error":"#REF!"}},{"$f":"IF(DJ272=\"\",\"\",TRUNC(DV272*0.11,2))","v":{"$error":"#REF!"}},{"$f":"IF(BL272=0,0,((IF(DW272=\"\",\"\",IF(DW272>0,DW272*2,DW272)))))","v":{"$error":"#REF!"}},{"$f":"IF(DN272=\"\",\"\",IF(BM272=0,0,IF(DU272<(DM272+DO272),0,IF(DN272=0,0,(DU272-DM272))-DO272)))","v":{"$error":"#REF!"}},{"$f":"IF(DJ272=\"\",\"\",IF(DY272=0,0,DW272))","v":{"$error":"#REF!"}},null,{"$f":"IF(CO272=\"\",\"\",IF($G272=\"não\",0,EC272+ED272+EE272+EF272+EG272))","v":0},{"$f":"IF(CR272=\"\",\"\",IF($G272=\"não\",0,IF(BU272=AW272,DQ272,TRUNC(BU272*$DJ272,2))))","v":0},{"$f":"IF(CU272=\"\",\"\",IF($G272=\"não\",0,IF(BX272=AZ272,DR272,TRUNC(BX272*$DJ272,2))))","v":0},{"$f":"IF(CX272=\"\",\"\",IF($G272=\"não\",0,IF(CA272=BC272,DS272,TRUNC(CA272*$DJ272,2))))","v":0},{"$f":"IF(DA272=\"\",\"\",IF($G272=\"não\",0,IF(CD272=BF272,DT272,TRUNC(CD272*$DJ272,2))))","v":0},{"$f":"IF(DU272=\"\",\"\",IF($G272=\"não\",0,IF(CG272=BI272,DU272,VLOOKUP(B272,expedidas,76))))","v":{"$error":"#REF!"}},{"$f":"IF(CH272=\"\",\"\",IF($G272=\"não\",0,IF(BJ272=CH272,DV272,0)))","v":0},{"$f":"IF(EH272=\"\",\"\",TRUNC(EH272*0.11,2))","v":0},{"$f":"IF(CJ272=\"\",\"\",IF(CJ272=0,0,EI272*2))","v":0},{"$f":"IF(CK272=0,0,EI272)","v":0},null,{"$f":"IF(EB272=\"\",\"\",IF(G272=\"não\",DP272,EN272+EO272+EP272+EQ272+ER272))","v":{"$error":"#REF!"}},{"$f":"IF(EC272=\"\",\"\",IF(CR272=0,0,DQ272-EC272))","v":{"$error":"#REF!"}},{"$f":"IF(ED272=\"\",\"\",IF(CU272=0,0,DR272-ED272))","v":0},{"$f":"IF(EE272=\"\",\"\",IF(CX272=0,0,DS272-EE272))","v":0},{"$f":"IF(EF272=\"\",\"\",IF(DA272=0,0,DT272-EF272))","v":0},{"$f":"IF(EG272=\"\",\"\",IF(DD272=0,0,DU272-EG272))","v":{"$error":"#REF!"}},{"$f":"IF(DV272=\"\",\"\",IF(DV272=0,0,DV272-EH272))","v":{"$error":"#REF!"}},{"$f":"IF(ES272=\"\",\"\",IF(ES272=0,0,TRUNC(ES272*0.11,2)))","v":{"$error":"#REF!"}},{"$f":"IF(DX272=\"\",\"\",IF(DX272=0,0,ET272*2))","v":{"$error":"#REF!"}},{"$f":"IF(BM272=\"\",\"\",IF(BM272=0,0,ET272))","v":{"$error":"#REF!"}},null,{"$f":"IF(F272=$EX$6,A272,0)","v":0},{"$f":"IF(EX272>0,B272,0)","v":0},{"$f":"IF(AND(EX272>0,EX273=0),EX272,0)","v":0},0,null,null,null,0,0,0,0]
[273,14984,"2022/0348874-4","2022-10-28","Paga em MAR-2023 - 1ª remessa","2023-03-01","NÃO",1,"MS 4.149/DF","1995-07-20","1998-09-23","Mandado de Segurança 4.149/DF","2008/0092108-6","2014-09-26","UNIÃO","Administrativo - Servidor Público Civil - Sistema Remuneratório e Benefícios","Alimentar","Flávia Araújo Lopes","281.769.871-15","Servidor Público Civil Ativo","Diferença de remuneração - 3,17%","INCRA",10,"Josilma Saraiva - Advocacia E Consultoria - Sociedade Individual De Advocacia","09.384.741/0001-98",0," x x x ","x x x",0," x x x "," x x x ",0," x x x "," x x x ","Dedução de Honorários Contratuais","Não","Não","Não","-","-","Não informada","Não Informada","Não",1690.8700000000001,5454.4999999999991,7654.82,169.08,596.4,765.48,0,0,0,0,0,0,0,0,0,1521.79,5367.55,6889.34,1690.87,185.99,371.98,85,185.99,null,0,0,0,0,0,0,0,0,0,0,0,0,0,0,0,0,0,0,0,0,0,0,null,1690.8700000000001,5454.4999999999991,7654.82,169.08,596.4,765.48,0,0,0,0,0,0,0,0,0,1521.79,5367.55,6889.34,1690.8700000000001,185.99,371.98,185.99,"2022-10-01",1,{"$error":"#REF!"},1546.44,5454.5,{"$error":"#REF!"},{"$error":"#REF!"},{"$error":"#REF!"},{"$error":"#REF!"},{"$error":"#REF!"},{"$error":"#REF!"},{"$error":"#REF!"},{"$error":"#REF!"},{"$error":"#REF!"},{"$error":"#REF!"},{"$error":"#REF!"},{"$error":"#REF!"},{"$error":"#REF!"},null,0,0,0,0,0,{"$error":"#REF!"},0,0,0,0,null,{"$error":"#REF!"},{"$error":"#REF!"},0,0,0,{"$error":"#REF!"},{"$error":"#REF!"},{"$error":"#REF!"},{"$error":"#REF!"},{"$error":"#REF!"},null,0,0,0,0,null,null,null,0,0,0,0]
[286,15006,"2022/0370930-2","2022-11-18","Paga em MAR-2023 - 1ª remessa","2023-03-01","NÃO",1,"MS 10.438/DF","2005-02-22","2007-09-13","Mandado de Segurança 10.438/DF","2021/0335761-8","2022-10-14","UNIÃO","Administrativo - Militar - Pensão","Alimentar","Emílio José dos Santos","065.265.548-30","Servidor Público Militar Inativo","Soldo previsto na Lei Estadual 1.063/2002","Ministério da Fazenda",20.5,"Leon e Advogados Associados","17.858.268/0001-61",10.5,"Silveira Cruz Advogados","07.419.539/0001-29",0," x x x "," x x x ",0," x x x "," x x x ","Dedução de Honorários Contratuais","Não","Não","Não","-","-","Não informada","Não Informada","Não",27224.059999999998,6784.010000000002,34710.89,5580.93,1534.8,7115.73,2858.52,786.12,3644.64,0,0,0,0,0,0,18784.61,5165.91,23950.52,0,0,0,26,0,null,0,0,0,0,0,0,0,0,0,0,0,0,0,0,0,0,0,0,0,0,0,0,null,27224.059999999998,6784.010000000002,34710.89,5580.93,1534.8,7115.73,2858.52,786.12,3644.64,0,0,0,0,0,0,18784.61,5165.91,23950.52,0,0,0,0,"2022-11-01",1,{"$error":"#REF!"},24668.42,6784.01,{"$error":"#REF!"},{"$error":"#REF!"},{"$error":"#REF!"},{"$error":"#REF!"},{"$error":"#REF!"},{"$error":"#REF!"},{"$error":"#REF!"},{"$error":"#REF!"},0,0,0,{"$error":"#REF!"},{"$error":"#REF!"},null,0,0,0,0,0,{"$error":"#REF!"},0,0,0,0,null,{"$error":"#REF!"},{"$error":"#REF!"},{"$error":"#REF!"},0,0,{"$error":"#REF!"},0,0,0,0,null,0,0,0,0,null,null,null,0,0,0,0]
[295,15070,"2022/0381798-0","2022-11-29","Paga em MAR-2023 - 1ª remessa","2023-03-01","NÃO",1,"MS 3.099/DF","1993-09-15","2000-06-07","Mandado de Segurança 3.099/DF","2014/0104328-5","2019-11-25","UNIÃO","Administrativo - Servidor Público Civil - Reajustes de Remuneração, Proventos ou Pensão - Índice de 28,86% Lei 8.622/1993 e 8.627/1993","Alimentar","Maria Helena Alves Cardoso","086.063.901-00","Servidor Público Civil Ativo","Índice de 28,86% Lei 8.622/1993 e 8.627/1993","Ministério da Saúde",10,"Machado & Machado Advogados Associados","12.709.672/0001-50",0," x x x ","x x x",0," x x x "," x x x ",0," x x x "," x x x ","Dedução de Honorários Contratuais","Não","Não","Não","-","-","Não informada","Não Informada","Não",1314.74,2339.2699999999995,3896.35,131.47,258.16000000000003,389.63,0,0,0,0,0,0,0,0,0,1183.27,2323.4499999999998,3506.72,1314.74,144.62,289.24,63,144.62,null,0,0,0,0,0,0,0,0,0,0,0,0,0,0,0,0,0,0,0,0,0,0,null,1314.74,2339.2699999999995,3896.35,131.47,258.16000000000003,389.63,0,0,0,0,0,0,0,0,0,1183.27,2323.4499999999998,3506.72,1314.74,144.62,289.24,144.62,"2022-11-01",1,{"$error":"#REF!"},1191.32,2339.27,{"$error":"#REF!"},{"$error":"#REF!"},{"$error":"#REF!"},{"$error":"#REF!"},{"$error":"#REF!"},{"$error":"#REF!"},{"$error":"#REF!"},{"$error":"#REF!"},{"$error":"#REF!"},{"$error":"#REF!"},{"$error":"#REF!"},{"$error":"#REF!"},{"$error":"#REF!"},null,0,0,0,0,0,{"$error":"#REF!"},0,0,0,0,null,{"$error":"#REF!"},{"$error":"#REF!"},0,0,0,{"$error":"#REF!"},{"$error":"#REF!"},{"$error":"#REF!"},{"$error":"#REF!"},{"$error":"#REF!"},null,0,0,0,0,null,null,null,0,0,0,0]
[304,15110,"2022/0391690-3","2022-12-07","Paga em MAR-2023 - 1ª remessa","2023-03-01","NÃO",1,"AR 1.169/CE","1999-10-18","2004-06-07","Ação Rescisória 1.169/CE","2009/0055634-2","2014-09-30","Instituto Nacional do Seguro Social – INSS","Administrativo - Servidor Público Civil - Sistema Remuneratório e Benefícios","Alimentar","João Bosco Barreto Rosa ","168.671.063-15","Servidor Público Civil Ativo","Anuênios","Instituto Nacional do Seguro Social - INSS",10,"Glayddes Sindeaux Advogados","17.291.820/0001-82",0," x x x ","x x x",0," x x x "," x x x ",0," x x x "," x x x ","Dedução de Honorários Contratuais","Não","Não","Não","-","-","Não informada","Não Informada","Não",1810.05,2593.4700000000007,4698.6500000000005,162.51,307.35000000000002,469.86,0,0,0,0,0,0,0,0,0,1629.05,2599.7400000000007,4228.7900000000009,1810.05,199.1,398.2,47,199.1,null,0,0,0,0,0,0,0,0,0,0,0,0,0,0,0,0,0,0,0,0,0,0,null,1810.05,2593.4700000000007,4698.6500000000005,162.51,307.35000000000002,469.86,0,0,0,0,0,0,0,0,0,1629.05,2599.7400000000007,4228.7900000000009,1810.05,199.1,398.2,199.1,"2022-12-01",1,{"$error":"#REF!"},1625.12,2593.4699999999998,{"$error":"#REF!"},{"$error":"#REF!"},{"$error":"#REF!"},{"$error":"#REF!"},{"$error":"#REF!"},{"$error":"#REF!"},{"$error":"#REF!"},{"$error":"#REF!"},{"$error":"#REF!"},{"$error":"#REF!"},{"$error":"#REF!"},{"$error":"#REF!"},{"$error":"#REF!"},null,0,0,0,0,0,{"$error":"#REF!"},0,0,0,0,null,{"$error":"#REF!"},{"$error":"#REF!"},0,0,0,{"$error":"#REF!"},{"$error":"#REF!"},{"$error":"#REF!"},{"$error":"#REF!"},{"$error":"#REF!"},null,0,0,0,0,null,null,null,0,0,0,0]
[321,15129,"2022/0391742-0","2022-12-07","Paga em MAR-2023 - 1ª remessa","2023-03-01","NÃO",1,"AR 1.169/CE","1999-10-18","2004-06-07","Ação Rescisória 1.169/CE","2009/0055634-2","2014-09-30","Instituto Nacional do Seguro Social – INSS","Administrativo - Servidor Público Civil - Sistema Remuneratório e Benefícios","Alimentar","Joaquim Façanha Neto ","142.121.373-72","Servidor Público Civil Ativo","Anuênios","Instituto Nacional do Seguro Social - INSS",10,"Glayddes Sindeaux Advogados","17.291.820/0001-82",0," x x x ","x x x",0," x x x "," x x x ",0," x x x "," x x x ","Dedução de Honorários Contratuais","Não","Não","Não","-","-","Não informada","Não Informada","Não",1369.0900000000001,1976.25,3570.23,122.92,234.09999999999997,357.02,0,0,0,0,0,0,0,0,0,1232.19,1981.02,3213.21,1369.09,150.59,301.18,47,150.59,null,0,0,0,0,0,0,0,0,0,0,0,0,0,0,0,0,0,0,0,0,0,0,null,1369.0900000000001,1976.25,3570.23,122.92,234.09999999999997,357.02,0,0,0,0,0,0,0,0,0,1232.19,1981.02,3213.21,1369.0900000000001,150.59,301.18,150.59,"2022-12-01",1,{"$error":"#REF!"},1229.21,1976.25,{"$error":"#REF!"},{"$error":"#REF!"},{"$error":"#REF!"},{"$error":"#REF!"},{"$error":"#REF!"},{"$error":"#REF!"},{"$error":"#REF!"},{"$error":"#REF!"},{"$error":"#REF!"},{"$error":"#REF!"},{"$error":"#REF!"},{"$error":"#REF!"},{"$error":"#REF!"},null,0,0,0,0,0,{"$error":"#REF!"},0,0,0,0,null,{"$error":"#REF!"},{"$error":"#REF!"},0,0,0,{"$error":"#REF!"},{"$error":"#REF!"},{"$error":"#REF!"},{"$error":"#REF!"},{"$error":"#REF!"},null,0,0,0,0,null,null,null,0,0,0,0]
[325,15073,"2022/0383311-1","2022-11-30","Paga em MAR-2023 - 2ª remessa","2023-03-01","SIM",2,"MS 4.146/DF","1995-07-17","1999-10-15","Mandado de Segurança 4.146/DF","2011/0232476-3","2022-03-21","UNIÃO","Administrativo - Servidor Público Civil - Reajustes de Remuneração, Proventos ou Pensão","Alimentar","Bernadete Souza Silva","152.547.805-25","Servidor Público Civil Inativo","Reajuste  3,17% - Lei 8.880/94","Ministério da Fazenda",15,"Mota & Advogados Associados","03.996.810/0001-38",0," x x x ","x x x",0," x x x "," x x x ",0," x x x "," x x x ","Dedução de Honorários Contratuais","Não","Não","Não","-","-","Não informada","Não Informada","Não",1702.1299999999999,3199.8499999999995,5233.4799999999996,255.31,529.71,785.02,0,0,0,0,0,0,0,0,0,1446.82,3001.64,4448.46,0,0,0,20,0,null,85.69,0,85.69,0,0,0,0,0,0,0,0,0,0,0,0,85.69,0,85.69,0,0,0,0,null,1616.4399999999998,3199.8499999999995,5147.79,255.31,529.71,785.02,0,0,0,0,0,0,0,0,0,1361.1299999999999,3001.64,4362.7700000000004,0,0,0,0,"2022-11-01",1,{"$error":"#REF!"},1542.35,3199.85,{"$error":"#REF!"},{"$error":"#REF!"},{"$error":"#REF!"},{"$error":"#REF!"},{"$error":"#REF!"},{"$error":"#REF!"},{"$error":"#REF!"},{"$error":"#REF!"},0,0,0,{"$error":"#REF!"},{"$error":"#REF!"},null,{"$error":"#REF!"},0,{"$error":"#REF!"},{"$error":"#REF!"},{"$error":"#REF!"},179.26,0,0,0,0,null,{"$error":"#REF!"},{"$error":"#REF!"},{"$error":"#REF!"},{"$error":"#REF!"},{"$error":"#REF!"},{"$error":"#REF!"},0,0,0,0,null,0,0,0,0,null,null,null,0,0,0,0]
[338,15086,"2022/0383373-0","2022-11-30","Paga em MAR-2023 - 2ª remessa","2023-03-01","SIM",2,"MS 4.146/DF","1995-07-17","1999-10-15","Mandado de Segurança 4.146/DF","2011/0232476-3","2022-03-21","UNIÃO","Administrativo - Servidor Público Civil - Reajustes de Remuneração, Proventos ou Pensão","Alimentar","Marlene Santos Cidreira","064.580.415-00","Servidor Público Civil Inativo","Reajuste  3,17% - Lei 8.880/94","Ministério da Fazenda",15,"Mota & Advogados Associados","03.996.810/0001-38",0," x x x ","x x x",0," x x x "," x x x ",0," x x x "," x x x ","Dedução de Honorários Contratuais","Não","Não","Não","-","-","Não informada","Não Informada","Não",480.13,905.39,1479.31,72.010000000000005,149.88,221.89,0,0,0,0,0,0,0,0,0,408.12,849.3,1257.42,0,0,0,8,0,null,25.7,0,25.7,0,0,0,0,0,0,0,0,0,0,0,0,25.7,0,25.7,0,0,0,0,null,454.43,905.39,1453.61,72.010000000000005,149.88,221.89,0,0,0,0,0,0,0,0,0,382.42,849.3,1231.72,0,0,0,0,"2022-11-01",1,{"$error":"#REF!"},435.06,905.39,{"$error":"#REF!"},{"$error":"#REF!"},{"$error":"#REF!"},{"$error":"#REF!"},{"$error":"#REF!"},{"$error":"#REF!"},{"$error":"#REF!"},{"$error":"#REF!"},0,0,0,{"$error":"#REF!"},{"$error":"#REF!"},null,{"$error":"#REF!"},0,{"$error":"#REF!"},{"$error":"#REF!"},{"$error":"#REF!"},53.76,0,0,0,0,null,{"$error":"#REF!"},{"$error":"#REF!"},{"$error":"#REF!"},{"$error":"#REF!"},{"$error":"#REF!"},{"$error":"#REF!"},0,0,0,0,null,0,0,0,0,null,null,null,0,0,0,0]
[359,15012,"2022/0373439-0","2022-11-21","Paga em ABR-2023 - 1ª remessa","2023-04-01","NÃO",1,"MS 10.438/DF","2005-02-22","2007-09-13","Mandado de Segurança 10.438/DF","2021/0335776-8","2022-10-14","UNIÃO","Administrativo - Militar - Pensão","Alimentar","Antônio Batista de Oliveira","022.101.018-16","Servidor Público Militar Inativo","Soldo previsto na Lei Estadual 1.063/2002","Ministério da Fazenda",20.5,"Leon e Advogados Associados","17.858.268/0001-61",10.5,"Silveira Cruz Advogados","07.419.539/0001-29",0," x x x "," x x x ",0," x x x "," x x x ","Dedução de Honorários Contratuais","Não","Não","Não","-","-","Não informada","Não Informada","Não",33988,8481.659999999998,43348.35,6967.54,1918.87,8886.41,3568.74,982.83,4551.57,0,0,0,0,0,0,23451.72,6458.65,29910.37,0,0,0,26,0,null,0,0,0,0,0,0,0,0,0,0,0,0,0,0,0,0,0,0,0,0,0,0,null,33988,8481.659999999998,43348.35,6967.54,1918.87,8886.41,3568.74,982.83,4551.57,0,0,0,0,0,0,23451.72,6458.65,29910.37,0,0,0,0,"2022-11-01",1,{"$error":"#REF!"},30797.39,8481.66,{"$error":"#REF!"},{"$error":"#REF!"},{"$error":"#REF!"},{"$error":"#REF!"},{"$error":"#REF!"},{"$error":"#REF!"},{"$error":"#REF!"},{"$error":"#REF!"},0,0,0,{"$error":"#REF!"},{"$error":"#REF!"},null,0,0,0,0,0,{"$error":"#REF!"},0,0,0,0,null,{"$error":"#REF!"},{"$error":"#REF!"},{"$error":"#REF!"},0,0,{"$error":"#REF!"},0,0,0,0,null,0,0,0,0,null,null,null,0,0,0,0]
[368,15133,"2022/0391903-5","2022-12-07","Paga em ABR-2023 - 1ª remessa","2023-04-01","NÃO",1,"AR 1.169/CE","1999-10-18","2004-06-07","Ação Rescisória 1.169/CE","2009/0055105-0","2014-11-04","Instituto Nacional do Seguro Social – INSS","Administrativo - Servidor Público Civil - Sistema Remuneratório e Benefícios","Alimentar","Maria Ester Furtado Da Silveira ","318.746.903-59","Servidor Público Civil Ativo","Anuênios","Instituto Nacional do Seguro Social - INSS",10,"Glayddes Sindeaux Advogados","17.291.820/0001-82",0," x x x ","x x x",0," x x x "," x x x ",0," x x x "," x x x ","Dedução de Honorários Contratuais","Não","Não","Não","-","-","Não informada","Não Informada","Não",1725.48,2248.9700000000003,4230.38,154.91,268.12,423.03,0,0,0,0,0,0,0,0,0,1552.94,2254.4100000000003,3807.3500000000004,1725.48,189.8,379.6,47,189.8,null,0,0,0,0,0,0,0,0,0,0,0,0,0,0,0,0,0,0,0,0,0,0,null,1725.48,2248.9700000000003,4230.38,154.91,268.12,423.03,0,0,0,0,0,0,0,0,0,1552.94,2254.4100000000003,3807.3500000000004,1725.48,189.8,379.6,189.8,"2022-12-01",1,{"$error":"#REF!"},1549.19,2248.9699999999998,{"$error":"#REF!"},{"$error":"#REF!"},{"$error":"#REF!"},{"$error":"#REF!"},{"$error":"#REF!"},{"$error":"#REF!"},{"$error":"#REF!"},{"$error":"#REF!"},{"$f":"IF(DJ376=\"\",\"\",IF(BJ376=0,0,IF(I376=\"ms 4.151/df\",TRUNC(BJ376*DJ376,2)+TRUNC(BJ376*DK376/100,2),IF(BJ376<AR376,TRUNC((BJ376)+BJ376*DK376/100,2),DL376+DN376))))","v":{"$error":"#REF!"}},{"$error":"#REF!"},{"$error":"#REF!"},{"$error":"#REF!"},{"$error":"#REF!"},null,0,0,0,0,0,{"$error":"#REF!"},0,0,0,0,null,{"$error":"#REF!"},{"$error":"#REF!"},0,0,0,{"$error":"#REF!"},{"$error":"#REF!"},{"$error":"#REF!"},{"$error":"#REF!"},{"$error":"#REF!"},null,0,0,0,0,null,null,null,0,0,0,0]
[381,15148,"2022/0391949-0","2022-12-07","Paga em ABR-2023 - 1ª remessa","2023-04-01","NÃO",1,"AR 1.169/CE","1999-10-18","2004-06-07","Ação Rescisória 1.169/CE","2009/0055105-0","2014-11-04","Instituto Nacional do Seguro Social – INSS","Administrativo - Servidor Público Civil - Sistema Remuneratório e Benefícios","Alimentar","Maria Helena De Paula Frota ","028.886.613-49","Servidor Público Civil Ativo","Anuênios","Instituto Nacional do Seguro Social - INSS",10,"Glayddes Sindeaux Advogados","17.291.820/0001-82",0," x x x ","x x x",0," x x x "," x x x ",0," x x x "," x x x ","Dedução de Honorários Contratuais","Não","Não","Não","-","-","Não informada","Não Informada","Não",8609.2999999999993,11221.109999999999,21107.37,772.96,1337.77,2110.73,0,0,0,0,0,0,0,0,0,7748.369999999999,11248.27,18996.64,8609.2999999999993,947.02,1894.04,47,947.02,null,0,0,0,0,0,0,0,0,0,0,0,0,0,0,0,0,0,0,0,0,0,0,null,8609.2999999999993,11221.109999999999,21107.37,772.96,1337.77,2110.73,0,0,0,0,0,0,0,0,0,7748.369999999999,11248.27,18996.64,8609.2999999999993,947.02,1894.04,947.02,"2022-12-01",1,{"$error":"#REF!"},7729.67,11221.11,{"$error":"#REF!"},{"$error":"#REF!"},{"$error":"#REF!"},{"$error":"#REF!"},{"$error":"#REF!"},{"$error":"#REF!"},{"$error":"#REF!"},{"$error":"#REF!"},{"$f":"IF(DJ389=\"\",\"\",IF(BJ389=0,0,IF(I389=\"ms 4.151/df\",TRUNC(BJ389*DJ389,2)+TRUNC(BJ389*DK389/100,2),IF(BJ389<AR389,TRUNC((BJ389)+BJ389*DK389/100,2),DL389+DN389))))","v":{"$error":"#REF!"}},{"$error":"#REF!"},{"$error":"#REF!"},{"$error":"#REF!"},{"$error":"#REF!"},null,0,0,0,0,0,{"$error":"#REF!"},0,0,0,0,null,{"$error":"#REF!"},{"$error":"#REF!"},0,0,0,{"$error":"#REF!"},{"$error":"#REF!"},{"$error":"#REF!"},{"$error":"#REF!"},{"$error":"#REF!"},null,0,0,0,0,null,null,null,0,0,0,0]
[390,15158,"2022/0395960-4","2022-12-12","Paga em ABR-2023 - 1ª remessa","2023-04-01","NÃO",1,"MS 24.175/DF","2018-03-23","2020-11-23","Mandado de Segurança 24.175/DF","2022/0114276-0","2022-10-27","UNIÃO","Administrativo - Servidor Público Civil - Regime Estatutário - Enquadramento (PRINCIPAL)","Alimentar","Caroline Cavalcanti da Silva Forte","374.010.504-63","Servidor Público Civil Ativo","Enquadramento","Advocacia Geral da União",20,"Forte, Luckwu e Diniz Sociedade de Advogados","31.008.946/0001-28",0," x x x ","x x x",0," x x x "," x x x ",0," x x x "," x x x ","Dedução de Honorários Contratuais","Não","Não","Não","-","-","Não informada","Não Informada","Não",33541.03,1943.6199999999985,35686,6078.47,1058.7299999999996,7137.2,0,0,0,0,0,0,0,0,0,26832.829999999998,1715.9700000000012,28548.799999999999,33541.03,3689.51,7379.02,36,3689.51,null,0,0,0,0,0,0,0,0,0,0,0,0,0,0,0,0,0,0,0,0,0,0,null,33541.03,1943.6199999999985,35686,6078.47,1058.7299999999996,7137.2,0,0,0,0,0,0,0,0,0,26832.829999999998,1715.9700000000012,28548.799999999999,33541.03,3689.51,7379.02,3689.51,"2022-11-01",1,{"$error":"#REF!"},30392.38,1943.62,{"$error":"#REF!"},{"$error":"#REF!"},{"$error":"#REF!"},{"$error":"#REF!"},{"$error":"#REF!"},{"$error":"#REF!"},{"$error":"#REF!"},{"$error":"#REF!"},{"$error":"#REF!"},{"$error":"#REF!"},{"$error":"#REF!"},{"$error":"#REF!"},{"$error":"#REF!"},null,0,0,0,0,0,{"$error":"#REF!"},0,0,0,0,null,{"$error":"#REF!"},{"$error":"#REF!"},0,0,0,{"$error":"#REF!"},{"$error":"#REF!"},{"$error":"#REF!"},{"$error":"#REF!"},{"$error":"#REF!"},null,0,0,0,0,null,null,null,0,0,0,0]
[399,15167,"2022/0395998-1","2022-12-12","Paga em ABR-2023 - 1ª remessa","2023-04-01","NÃO",1,"MS 24.175/DF","2018-03-23","2020-11-23","Mandado de Segurança 24.175/DF","2022/0114276-0","2022-10-27","UNIÃO","Administrativo - Servidor Público Civil - Regime Estatutário - Enquadramento (PRINCIPAL)","Alimentar","Lilian de Oliveira Vital","690.090.154-91","Servidor Público Civil Ativo","Enquadramento","Advocacia Geral da União",20,"Forte, Luckwu e Diniz Sociedade de Advogados","31.008.946/0001-28",0," x x x ","x x x",0," x x x "," x x x ",0," x x x "," x x x ","Dedução de Honorários Contratuais","Não","Não","Não","-","-","Não informada","Não Informada","Não",33541.03,1943.6199999999985,35686,6078.47,1058.7299999999996,7137.2,0,0,0,0,0,0,0,0,0,26832.829999999998,1715.9700000000012,28548.799999999999,33541.03,3689.51,7379.02,36,3689.51,null,0,0,0,0,0,0,0,0,0,0,0,0,0,0,0,0,0,0,0,0,0,0,null,33541.03,1943.6199999999985,35686,6078.47,1058.7299999999996,7137.2,0,0,0,0,0,0,0,0,0,26832.829999999998,1715.9700000000012,28548.799999999999,33541.03,3689.51,7379.02,3689.51,"2022-11-01",1,{"$error":"#REF!"},30392.38,1943.62,{"$error":"#REF!"},{"$error":"#REF!"},{"$error":"#REF!"},{"$error":"#REF!"},{"$error":"#REF!"},{"$error":"#REF!"},{"$error":"#REF!"},{"$error":"#REF!"},{"$error":"#REF!"},{"$error":"#REF!"},{"$error":"#REF!"},{"$error":"#REF!"},{"$error":"#REF!"},null,0,0,0,0,0,{"$error":"#REF!"},0,0,0,0,null,{"$error":"#REF!"},{"$error":"#REF!"},0,0,0,{"$error":"#REF!"},{"$error":"#REF!"},{"$error":"#REF!"},{"$error":"#REF!"},{"$error":"#REF!"},null,0,0,0,0,null,null,null,0,0,0,0]
[411,15179,"2022/0396058-1","2022-12-12","Paga em ABR-2023 - 1ª remessa","2023-04-01","NÃO",1,"MS 24.175/DF","2018-03-23","2020-11-23","Mandado de Segurança 24.175/DF","2022/0114276-0","2022-10-27","UNIÃO","Administrativo - Servidor Público Civil - Regime Estatutário - Enquadramento (PRINCIPAL)","Alimentar","Virgínia Lira Pessoa de Oliveira","488.523.334-87","Servidor Público Civil Ativo","Enquadramento","Advocacia Geral da União",20,"Forte, Luckwu e Diniz Sociedade de Advogados","31.008.946/0001-28",0," x x x ","x x x",0," x x x "," x x x ",0," x x x "," x x x ","Dedução de Honorários Contratuais","Não","Não","Não","-","-","Não informada","Não Informada","Não",33541.03,1943.6199999999985,35686,6078.47,1058.7299999999996,7137.2,0,0,0,0,0,0,0,0,0,26832.829999999998,1715.9700000000012,28548.799999999999,33541.03,3689.51,7379.02,36,3689.51,null,0,0,0,0,0,0,0,0,0,0,0,0,0,0,0,0,0,0,0,0,0,0,null,33541.03,1943.6199999999985,35686,6078.47,1058.7299999999996,7137.2,0,0,0,0,0,0,0,0,0,26832.829999999998,1715.9700000000012,28548.799999999999,33541.03,3689.51,7379.02,3689.51,"2022-11-01",1,{"$error":"#REF!"},30392.38,1943.62,{"$error":"#REF!"},{"$error":"#REF!"},{"$error":"#REF!"},{"$error":"#REF!"},{"$error":"#REF!"},{"$error":"#REF!"},{"$error":"#REF!"},{"$error":"#REF!"},{"$error":"#REF!"},{"$error":"#REF!"},{"$error":"#REF!"},{"$error":"#REF!"},{"$error":"#REF!"},null,0,0,0,0,0,{"$error":"#REF!"},0,0,0,0,null,{"$error":"#REF!"},{"$error":"#REF!"},0,0,0,{"$error":"#REF!"},{"$error":"#REF!"},{"$error":"#REF!"},{"$error":"#REF!"},{"$error":"#REF!"},null,0,0,0,0,null,null,null,0,0,0,0]
[420,15182,"2022/0396267-7","2022-12-12","Paga em ABR-2023 - 2ª remessa","2023-04-01","NÃO",2,"AR 1.169/CE","1999-10-18","2004-06-07","Ação Rescisória 1.169/CE","2009/0056215-7","2013-04-12","Instituto Nacional do Seguro Social – INSS","Administrativo - Servidor Público Civil - Sistema Remuneratório e Benefícios","Alimentar","Maria De Fátima Aguiar Aragão Rego ","377.960.893-68","Servidor Público Civil Ativo","Anuênios","Instituto Nacional do Seguro Social - INSS",10,"Glayddes Sindeaux Advogados","17.291.820/0001-82",0," x x x ","x x x",0," x x x "," x x x ",0," x x x "," x x x ","Dedução de Honorários Contratuais","Não","Não","Não","-","-","Não informada","Não Informada","Não",6848.9,9326.9399999999987,16175.84,614.91,1002.67,1617.58,0,0,0,0,0,0,0,0,0,6164.0099999999993,8394.25,14558.26,6848.9,753.37,1506.74,116,753.37,null,0,0,0,0,0,0,0,0,0,0,0,0,0,0,0,0,0,0,0,0,0,0,null,6848.9,9326.9399999999987,16175.84,614.91,1002.67,1617.58,0,0,0,0,0,0,0,0,0,6164.0099999999993,8394.25,14558.26,6848.9,753.37,1506.74,753.37,"2022-12-01",1,{"$error":"#REF!"},6149.13,9326.94,{"$error":"#REF!"},0,{"$error":"#REF!"},{"$error":"#REF!"},{"$error":"#REF!"},{"$error":"#REF!"},{"$error":"#REF!"},{"$error":"#REF!"},{"$error":"#REF!"},{"$error":"#REF!"},{"$error":"#REF!"},{"$error":"#REF!"},{"$error":"#REF!"},null,0,0,0,0,0,{"$error":"#REF!"},0,0,0,0,null,{"$error":"#REF!"},{"$error":"#REF!"},0,0,0,{"$error":"#REF!"},{"$error":"#REF!"},{"$error":"#REF!"},{"$error":"#REF!"},{"$error":"#REF!"},null,0,0,0,0,null,null,null,0,0,0,0]
[433,15195,"2022/0396325-8","2022-12-12","Paga em ABR-2023 - 2ª remessa","2023-04-01","NÃO",2,"AR 1.169/CE","1999-10-18","2004-06-07","Ação Rescisória 1.169/CE","2009/0056215-7","2013-04-12","Instituto Nacional do Seguro Social – INSS","Administrativo - Servidor Público Civil - Sistema Remuneratório e Benefícios","Alimentar","Maria De Lourdes Rodrigues Ferreira ","143.533.183-49","Servidor Público Civil Ativo","Anuênios","Instituto Nacional do Seguro Social - INSS",10,"Glayddes Sindeaux Advogados","17.291.820/0001-82",0," x x x ","x x x",0," x x x "," x x x ",0," x x x "," x x x ","Dedução de Honorários Contratuais","Não","Não","Não","-","-","Não informada","Não Informada","Não",3586.68,4883.97,8470.65,322.02,525.04,847.06,0,0,0,0,0,0,0,0,0,3228.02,4395.57,7623.59,3586.68,394.53,789.06,111,394.53,null,0,0,0,0,0,0,0,0,0,0,0,0,0,0,0,0,0,0,0,0,0,0,null,3586.68,4883.97,8470.65,322.02,525.04,847.06,0,0,0,0,0,0,0,0,0,3228.02,4395.57,7623.59,3586.68,394.53,789.06,394.53,"2022-12-01",1,{"$error":"#REF!"},3220.22,4883.97,{"$error":"#REF!"},0,{"$error":"#REF!"},{"$error":"#REF!"},{"$error":"#REF!"},{"$error":"#REF!"},{"$error":"#REF!"},{"$error":"#REF!"},{"$f":"IF(DJ441=\"\",\"\",IF(BJ441=0,0,IF(I441=\"ms 4.151/df\",TRUNC(BJ441*DJ441,2)+TRUNC(BJ441*DK441/100,2),IF(BJ441<AR441,TRUNC((BJ441)+BJ441*DK441/100,2),DL441+DN441))))","v":{"$error":"#REF!"}},{"$error":"#REF!"},{"$error":"#REF!"},{"$error":"#REF!"},{"$error":"#REF!"},null,0,0,0,0,0,{"$error":"#REF!"},0,0,0,0,null,{"$error":"#REF!"},{"$error":"#REF!"},0,0,0,{"$error":"#REF!"},{"$error":"#REF!"},{"$error":"#REF!"},{"$error":"#REF!"},{"$error":"#REF!"},null,0,0,0,0,null,null,null,0,0,0,0]
[454,15216,"2022/0396463-6","2022-12-12","Paga em ABR-2023 - 2ª remessa","2023-04-01","NÃO",2,"MS 6.040/DF","1998-11-16","2003-10-01","Mandado de Segurança 6.040/DF","2021/0371394-0","2022-11-24","União","Administrativo - Servidor Público Civil - Sistema Remuneratório e Benefícios (PRINCIPAL)","Alimentar","Hercília Cartaxo Ramos","487.249.987-53","Servidor Público Civil Ativo","Incorporação da diferença de 3,17%","Ministério da Administração Federal e Reforma do Estado",5,"Sonia Ananias Citele Jardim","864.928.967-34",5,"Milene Serafim de Assis Pires","080.056.547-90",0," x x x "," x x x ",0," x x x "," x x x ","Dedução de Honorários Contratuais","Não","Não","Não","-","-","Não informada","Não Informada","Não",773.21,1737.9999999999995,2511.2099999999996,38.659999999999997,86.9,125.56,38.659999999999997,86.9,125.56,0,0,0,0,0,0,695.8900000000001,1564.1999999999996,2260.0899999999997,3870.48,425.75,851.5,42,425.75,null,0,0,0,0,0,0,0,0,0,0,0,0,0,0,0,0,0,0,0,0,0,0,null,773.21,1737.9999999999995,2511.2099999999996,38.659999999999997,86.9,125.56,38.659999999999997,86.9,125.56,0,0,0,0,0,0,695.8900000000001,1564.1999999999996,2260.0899999999997,3870.48,425.75,851.5,425.75,"2022-12-01",1,{"$error":"#REF!"},773.21,1738,{"$error":"#REF!"},{"$error":"#REF!"},{"$error":"#REF!"},{"$error":"#REF!"},{"$error":"#REF!"},{"$error":"#REF!"},{"$error":"#REF!"},{"$error":"#REF!"},{"$error":"#REF!"},{"$error":"#REF!"},{"$error":"#REF!"},{"$error":"#REF!"},{"$error":"#REF!"},null,0,0,0,0,0,{"$error":"#REF!"},0,0,0,0,null,{"$error":"#REF!"},{"$error":"#REF!"},{"$error":"#REF!"},0,0,{"$error":"#REF!"},{"$error":"#REF!"},{"$error":"#REF!"},{"$error":"#REF!"},{"$error":"#REF!"},null,0,0,0,0,null,null,null,0,0,0,0]
[463,15225,"2022/0396484-0","2022-12-12","Paga em ABR-2023 - 2ª remessa","2023-04-01","NÃO",2,"MS 6.040/DF","1998-11-16","2003-10-01","Mandado de Segurança 6.040/DF","2021/0371394-0","2022-11-24","União","Administrativo - Servidor Público Civil - Sistema Remuneratório e Benefícios (PRINCIPAL)","Alimentar","Sandra de Castro Villar","160.171.107-72","Servidor Público Civil Inativo","Incorporação da diferença de 3,17%","Ministério da Administração Federal e Reforma do Estado",5,"Sonia Ananias Citele Jardim","864.928.967-34",5,"Milene Serafim de Assis Pires","080.056.547-90",0," x x x "," x x x ",0," x x x "," x x x ","Dedução de Honorários Contratuais","Não","Não","Não","-","-","Não informada","Não Informada","Não",4358.6899999999996,6774.06,11132.75,217.93,338.7,556.63,217.93,338.7,556.63,0,0,0,0,0,0,3922.8299999999995,6096.6600000000017,10019.490000000002,0,0,0,42,0,null,0,0,0,0,0,0,0,0,0,0,0,0,0,0,0,0,0,0,0,0,0,0,null,4358.6899999999996,6774.06,11132.75,217.93,338.7,556.63,217.93,338.7,556.63,0,0,0,0,0,0,3922.8299999999995,6096.6600000000017,10019.490000000002,0,0,0,0,"2022-12-01",1,{"$error":"#REF!"},4358.6899999999996,6774.06,{"$error":"#REF!"},{"$error":"#REF!"},{"$error":"#REF!"},{"$error":"#REF!"},{"$error":"#REF!"},{"$error":"#REF!"},{"$error":"#REF!"},{"$error":"#REF!"},0,0,0,{"$error":"#REF!"},{"$error":"#REF!"},null,0,0,0,0,0,{"$error":"#REF!"},0,0,0,0,null,{"$error":"#REF!"},{"$error":"#REF!"},{"$error":"#REF!"},0,0,{"$error":"#REF!"},0,0,0,0,null,0,0,0,0,null,null,null,0,0,0,0]
[474,15236,"2022/0397199-2","2022-12-13","Paga em ABR-2023 - 2ª remessa","2023-04-01","NÃO",2,"MS 6.040/DF","1998-11-16","2003-10-01","Mandado de Segurança 6.040/DF","2021/0371330-7","2022-11-24","União","Administrativo - Servidor Público Civil - Sistema Remuneratório e Benefícios (PRINCIPAL)","Alimentar","Márcia Ferreira de Oliveira","572.214.487-87","Servidor Público Civil Ativo","Incorporação da diferença de 3,17%","Ministério da Administração Federal e Reforma do Estado",5,"Sonia Ananias Citele Jardim","864.928.967-34",5,"Milene Serafim de Assis Pires","080.056.547-90",0," x x x "," x x x ",0," x x x "," x x x ","Dedução de Honorários Contratuais","Não","Não","Não","-","-","Não informada","Não Informada","Não",6427.57,9202.0400000000009,15629.61,321.37,460.11,781.48,321.37,460.11,781.48,0,0,0,0,0,0,5784.83,8281.8200000000015,14066.650000000001,13307.63,1463.83,2927.66,42,1463.83,null,0,0,0,0,0,0,0,0,0,0,0,0,0,0,0,0,0,0,0,0,0,0,null,6427.57,9202.0400000000009,15629.61,321.37,460.11,781.48,321.37,460.11,781.48,0,0,0,0,0,0,5784.83,8281.8200000000015,14066.650000000001,13307.63,1463.83,2927.66,1463.83,"2022-12-01",1,{"$error":"#REF!"},6427.57,9202.0400000000009,{"$error":"#REF!"},{"$error":"#REF!"},{"$error":"#REF!"},{"$error":"#REF!"},{"$error":"#REF!"},{"$error":"#REF!"},{"$error":"#REF!"},{"$error":"#REF!"},{"$error":"#REF!"},{"$error":"#REF!"},{"$error":"#REF!"},{"$error":"#REF!"},{"$error":"#REF!"},null,0,0,0,0,0,{"$error":"#REF!"},0,0,0,0,null,{"$error":"#REF!"},{"$error":"#REF!"},{"$error":"#REF!"},0,0,{"$error":"#REF!"},{"$error":"#REF!"},{"$error":"#REF!"},{"$error":"#REF!"},{"$error":"#REF!"},null,0,0,0,0,null,null,null,0,0,0,0]
[484,15246,"2022/0397235-8","2022-12-13","Paga em ABR-2023 - 2ª remessa","2023-04-01","NÃO",2,"MS 6.040/DF","1998-11-16","2003-10-01","Mandado de Segurança 6.040/DF","2021/0371330-7","2022-11-24","União","Administrativo - Servidor Público Civil - Sistema Remuneratório e Benefícios (PRINCIPAL)","Alimentar","Sandra de Castro Botelho Andrade","670.109.977-72","Servidor Público Civil Ativo","Incorporação da diferença de 3,17%","Ministério da Administração Federal e Reforma do Estado",5,"Sonia Ananias Citele Jardim","864.928.967-34",5,"Milene Serafim de Assis Pires","080.056.547-90",0," x x x "," x x x ",0," x x x "," x x x ","Dedução de Honorários Contratuais","Não","Não","Não","-","-","Não informada","Não Informada","Não",8468.76,11865.660000000002,20334.420000000002,423.43,593.29,1016.72,423.43,593.29,1016.72,0,0,0,0,0,0,7621.9,10679.08,18300.98,15617.96,1717.97,3435.94,42,1717.97,null,0,0,0,0,0,0,0,0,0,0,0,0,0,0,0,0,0,0,0,0,0,0,null,8468.76,11865.660000000002,20334.420000000002,423.43,593.29,1016.72,423.43,593.29,1016.72,0,0,0,0,0,0,7621.9,10679.08,18300.98,15617.96,1717.97,3435.94,1717.97,"2022-12-01",1,{"$error":"#REF!"},8468.76,11865.66,{"$error":"#REF!"},{"$error":"#REF!"},{"$error":"#REF!"},{"$error":"#REF!"},{"$error":"#REF!"},{"$error":"#REF!"},{"$error":"#REF!"},{"$error":"#REF!"},{"$error":"#REF!"},{"$error":"#REF!"},{"$error":"#REF!"},{"$error":"#REF!"},{"$error":"#REF!"},null,0,0,0,0,0,{"$error":"#REF!"},0,0,0,0,null,{"$error":"#REF!"},{"$error":"#REF!"},{"$error":"#REF!"},0,0,{"$error":"#REF!"},{"$error":"#REF!"},{"$error":"#REF!"},{"$error":"#REF!"},{"$error":"#REF!"},null,0,0,0,0,null,null,null,0,0,0,0]
[497,15251,"2022/0397445-5","2022-12-13","Paga em MAI-2023 - 1ª remessa","2023-05-01","NÃO",1,"AR 1.169/CE","1999-10-18","2004-06-07","Ação Rescisória 1.169/CE","2009/0055141-7","2013-06-15","Instituto Nacional do Seguro Social – INSS","Administrativo - Servidor Público Civil - Sistema Remuneratório e Benefícios","Alimentar","Abigail Viana","016.511.963-20","Servidor Público Civil Ativo","Anuênios","Instituto Nacional do Seguro Social - INSS",10,"Glayddes Sindeaux Advogados","17.291.820/0001-82",0," x x x ","x x x",0," x x x "," x x x ",0," x x x "," x x x ","Dedução de Honorários Contratuais","Não","Não","Não","-","-","Não informada","Não Informada","Não",9925.380000000001,13196.91,24624.09,891.12,1571.2800000000002,2462.4,0,0,0,0,0,0,0,0,0,8932.85,13228.839999999998,22161.69,1764.73,194.12,388.24,63,194.12,null,0,0,0,0,0,0,0,0,0,0,0,0,0,0,0,0,0,0,0,0,0,0,null,9925.380000000001,13196.91,24624.09,891.12,1571.2800000000002,2462.4,0,0,0,0,0,0,0,0,0,8932.85,13228.839999999998,22161.69,1764.73,194.12,388.24,194.12,"2022-12-01",1,{"$error":"#REF!"},8911.2800000000007,13196.91,{"$error":"#REF!"},{"$error":"#REF!"},{"$error":"#REF!"},{"$error":"#REF!"},{"$error":"#REF!"},{"$error":"#REF!"},{"$error":"#REF!"},{"$error":"#REF!"},{"$error":"#REF!"},{"$error":"#REF!"},{"$error":"#REF!"},{"$error":"#REF!"},{"$error":"#REF!"},null,0,0,0,0,0,{"$error":"#REF!"},0,0,0,0,null,{"$error":"#REF!"},{"$error":"#REF!"},0,0,0,{"$error":"#REF!"},{"$error":"#REF!"},{"$error":"#REF!"},{"$error":"#REF!"},{"$error":"#REF!"},null,0,0,0,0,null,null,null,0,0,0,0]
[506,15260,"2022/0397492-4","2022-12-13","Paga em MAI-2023 - 1ª remessa","2023-05-01","NÃO",1,"AR 1.169/CE","1999-10-18","2004-06-07","Ação Rescisória 1.169/CE","2009/0055141-7","2013-06-15","Instituto Nacional do Seguro Social – INSS","Administrativo - Servidor Público Civil - Sistema Remuneratório e Benefícios","Alimentar","Ana Claudia Ventura Freires ","262.325.703-59","Servidor Público Civil Ativo","Anuênios","Instituto Nacional do Seguro Social - INSS",10,"Glayddes Sindeaux Advogados","17.291.820/0001-82",0," x x x ","x x x",0," x x x "," x x x ",0," x x x "," x x x ","Dedução de Honorários Contratuais","Não","Não","Não","-","-","Não informada","Não Informada","Não",986.18999999999994,1311.2000000000005,2446.6000000000004,88.54,156.12,244.66,0,0,0,0,0,0,0,0,0,887.57999999999993,1314.3600000000006,2201.9400000000005,986.19,108.48,216.96,110,108.48,null,0,0,0,0,0,0,0,0,0,0,0,0,0,0,0,0,0,0,0,0,0,0,null,986.18999999999994,1311.2000000000005,2446.6000000000004,88.54,156.12,244.66,0,0,0,0,0,0,0,0,0,887.57999999999993,1314.3600000000006,2201.9400000000005,986.18999999999994,108.48,216.96,108.48,"2022-12-01",1,{"$error":"#REF!"},885.43,1311.2,{"$error":"#REF!"},{"$error":"#REF!"},{"$error":"#REF!"},{"$error":"#REF!"},{"$error":"#REF!"},{"$error":"#REF!"},{"$error":"#REF!"},{"$error":"#REF!"},{"$error":"#REF!"},{"$error":"#REF!"},{"$error":"#REF!"},{"$error":"#REF!"},{"$error":"#REF!"},null,0,0,0,0,0,{"$error":"#REF!"},0,0,0,0,null,{"$error":"#REF!"},{"$error":"#REF!"},0,0,0,{"$error":"#REF!"},{"$error":"#REF!"},{"$error":"#REF!"},{"$error":"#REF!"},{"$error":"#REF!"},null,0,0,0,0,null,null,null,0,0,0,0]
[515,15269,"2022/0397556-6","2022-12-13","Paga em MAI-2023 - 1ª remessa","2023-05-01","NÃO",1,"AR 1.169/CE","1999-10-18","2004-06-07","Ação Rescisória 1.169/CE","2009/0055141-7","2013-06-15","Instituto Nacional do Seguro Social – INSS","Administrativo - Servidor Público Civil - Sistema Remuneratório e Benefícios","Alimentar","Antonia Quaresma Da Silva ","223.255.143-15","Servidor Público Civil Ativo","Anuênios","Instituto Nacional do Seguro Social - INSS",10,"Glayddes Sindeaux Advogados","17.291.820/0001-82",0," x x x ","x x x",0," x x x "," x x x ",0," x x x "," x x x ","Dedução de Honorários Contratuais","Não","Não","Não","-","-","Não informada","Não Informada","Não",2193.29,2916.37,5441.54,196.92,347.23,544.15,0,0,0,0,0,0,0,0,0,1973.97,2923.42,4897.3900000000003,2193.29,241.26,482.52,116,241.26,null,0,0,0,0,0,0,0,0,0,0,0,0,0,0,0,0,0,0,0,0,0,0,null,2193.29,2916.37,5441.54,196.92,347.23,544.15,0,0,0,0,0,0,0,0,0,1973.97,2923.42,4897.3900000000003,2193.29,241.26,482.52,241.26,"2022-12-01",1,{"$error":"#REF!"},1969.2,2916.37,{"$error":"#REF!"},{"$error":"#REF!"},{"$error":"#REF!"},{"$error":"#REF!"},{"$error":"#REF!"},{"$error":"#REF!"},{"$error":"#REF!"},{"$error":"#REF!"},{"$error":"#REF!"},{"$error":"#REF!"},{"$error":"#REF!"},{"$error":"#REF!"},{"$error":"#REF!"},null,0,0,0,0,0,{"$error":"#REF!"},0,0,0,0,null,{"$error":"#REF!"},{"$error":"#REF!"},0,0,0,{"$error":"#REF!"},{"$error":"#REF!"},{"$error":"#REF!"},{"$error":"#REF!"},{"$error":"#REF!"},null,0,0,0,0,null,null,null,0,0,0,0]
[528,15284,"2022/0397745-0","2022-12-13","Paga em MAI-2023 - 1ª remessa","2023-05-01","NÃO",1,"AR 1.169/CE","1999-10-18","2004-06-07","Ação Rescisória 1.169/CE","2009/0055158-0","2013-04-12","Instituto Nacional do Seguro Social – INSS","Administrativo - Servidor Público Civil - Sistema Remuneratório e Benefícios","Alimentar","Maria Carmen Bomfim Almeida ","002.392.673-20","Servidor Público Civil Ativo","Anuênios","Instituto Nacional do Seguro Social - INSS",10,"Glayddes Sindeaux Advogados","17.291.820/0001-82",0," x x x ","x x x",0," x x x "," x x x ",0," x x x "," x x x ","Dedução de Honorários Contratuais","Não","Não","Não","-","-","Não informada","Não Informada","Não",8575.3599999999988,11831.29,21753.05,769.91,1405.3900000000003,2175.3000000000002,0,0,0,0,0,0,0,0,0,7717.829999999999,11859.920000000002,19577.75,485.58000000000004,53.41,106.82,99,53.41,null,0,0,0,0,0,0,0,0,0,0,0,0,0,0,0,0,0,0,0,0,0,0,null,8575.3599999999988,11831.29,21753.05,769.91,1405.3900000000003,2175.3000000000002,0,0,0,0,0,0,0,0,0,7717.829999999999,11859.920000000002,19577.75,485.58,53.41,106.82,53.41,"2022-12-01",1,{"$error":"#REF!"},7699.19,11831.29,{"$error":"#REF!"},{"$error":"#REF!"},{"$error":"#REF!"},{"$error":"#REF!"},{"$error":"#REF!"},{"$error":"#REF!"},{"$error":"#REF!"},{"$error":"#REF!"},{"$error":"#REF!"},{"$error":"#REF!"},{"$error":"#REF!"},{"$error":"#REF!"},{"$error":"#REF!"},null,0,0,0,0,0,{"$error":"#REF!"},0,0,0,0,null,{"$error":"#REF!"},{"$error":"#REF!"},0,0,0,{"$error":"#REF!"},{"$error":"#REF!"},{"$error":"#REF!"},{"$error":"#REF!"},{"$error":"#REF!"},null,0,0,0,0,null,null,null,0,0,0,0]
[549,15307,"2022/0397912-8","2022-12-13","Paga em MAI-2023 - 1ª remessa","2023-05-01","NÃO",1,"AR 1.169/CE","1999-10-18","2004-06-07","Ação Rescisória 1.169/CE","2009/0055171-0","2014-09-30","Instituto Nacional do Seguro Social – INSS","Administrativo - Servidor Público Civil - Sistema Remuneratório e Benefícios","Alimentar","Francisco Das Chagas Mendes Da Silva ","045.128.713-49","Servidor Público Civil Ativo","Anuênios","Instituto Nacional do Seguro Social - INSS",10,"Glayddes Sindeaux Advogados","17.291.820/0001-82",0," x x x ","x x x",0," x x x "," x x x ",0," x x x "," x x x ","Dedução de Honorários Contratuais","Não","Não","Não","-","-","Não informada","Não Informada","Não",8860.2900000000009,9597.9600000000009,19550.490000000002,795.5,1159.54,1955.04,0,0,0,0,0,0,0,0,0,7974.27,9621.18,17595.45,8860.2900000000009,974.63,1949.26,47,974.63,null,0,0,0,0,0,0,0,0,0,0,0,0,0,0,0,0,0,0,0,0,0,0,null,8860.2900000000009,9597.9600000000009,19550.490000000002,795.5,1159.54,1955.04,0,0,0,0,0,0,0,0,0,7974.27,9621.18,17595.45,8860.2900000000009,974.63,1949.26,974.63,"2022-12-01",1,{"$error":"#REF!"},7955.01,9597.9599999999991,{"$error":"#REF!"},{"$error":"#REF!"},{"$error":"#REF!"},{"$error":"#REF!"},{"$error":"#REF!"},{"$error":"#REF!"},{"$error":"#REF!"},{"$error":"#REF!"},{"$error":"#REF!"},{"$error":"#REF!"},{"$error":"#REF!"},{"$error":"#REF!"},{"$error":"#REF!"},null,0,0,0,0,0,{"$error":"#REF!"},0,0,0,0,null,{"$error":"#REF!"},{"$error":"#REF!"},0,0,0,{"$error":"#REF!"},{"$error":"#REF!"},{"$error":"#REF!"},{"$error":"#REF!"},{"$error":"#REF!"},null,0,0,0,0,null,null,null,0,0,0,0]
[552,15310,"2022/0397920-5","2022-12-13","Paga em MAI-2023 - 1ª remessa","2023-05-01","NÃO",1,"AR 1.169/CE","1999-10-18","2004-06-07","Ação Rescisória 1.169/CE","2009/0055171-0","2014-09-30","Instituto Nacional do Seguro Social – INSS","Administrativo - Servidor Público Civil - Sistema Remuneratório e Benefícios","Alimentar","Espolio De Francisco De Assis Borges ","030.672.383-20","Servidor Público Civil Ativo","Anuênios","Instituto Nacional do Seguro Social - INSS",20,"Glayddes Sindeaux Advogados","17.291.820/0001-82",0," x x x ","x x x",0," x x x "," x x x ",0," x x x "," x x x ","Dedução de Honorários Contratuais","Não","Não","Não","-","-","Não informada","Não Informada","Não",10512.77,11388.02,23196.74,1887.73,2751.61,4639.34,0,0,0,0,0,0,0,0,0,8410.2200000000012,10147.18,18557.400000000001,10512.77,1156.4000000000001,2312.8000000000002,47,1156.4000000000001,null,0,0,0,0,0,0,0,0,0,0,0,0,0,0,0,0,0,0,0,0,0,0,null,10512.77,11388.02,23196.74,1887.73,2751.61,4639.34,0,0,0,0,0,0,0,0,0,8410.2200000000012,10147.18,18557.400000000001,10512.77,1156.4000000000001,2312.8000000000002,1156.4000000000001,"2022-12-01",1,{"$error":"#REF!"},9438.66,11388.02,{"$error":"#REF!"},{"$error":"#REF!"},{"$error":"#REF!"},{"$error":"#REF!"},{"$error":"#REF!"},{"$error":"#REF!"},{"$error":"#REF!"},{"$error":"#REF!"},{"$error":"#REF!"},{"$error":"#REF!"},{"$error":"#REF!"},{"$error":"#REF!"},{"$error":"#REF!"},null,0,0,0,0,0,{"$error":"#REF!"},0,0,0,0,null,{"$error":"#REF!"},{"$error":"#REF!"},0,0,0,{"$error":"#REF!"},{"$error":"#REF!"},{"$error":"#REF!"},{"$error":"#REF!"},{"$error":"#REF!"},null,0,0,0,0,null,null,null,0,0,0,0]
[570,15328,"2022/0398915-0","2022-12-14","Paga em MAI-2023 - 1ª remessa","2023-05-01","NÃO",1,"MS 6.040/DF","1998-11-16","2003-10-01","Mandado de Segurança 6.040/DF","2021/0370092-4","2022-11-24","União","Administrativo - Servidor Público Civil - Sistema Remuneratório e Benefícios (PRINCIPAL)","Alimentar","Denise Gomes Gonçalves","504.051.107-82","Servidor Público Civil Ativo","Incorporação da diferença de 3,17%","Ministério da Administração Federal e Reforma do Estado",5,"Sonia Ananias Citele Jardim","864.928.967-34",5,"Milene Serafim de Assis Pires","080.056.547-90",0," x x x "," x x x ",0," x x x "," x x x ","Dedução de Honorários Contratuais","Não","Não","Não","-","-","Não informada","Não Informada","Não",2551.31,4195.9800000000014,6747.2900000000009,127.56,209.8,337.36,127.56,209.8,337.36,0,0,0,0,0,0,2296.19,3776.3800000000015,6072.5700000000015,7201.13,792.12,1584.24,42,792.12,null,0,0,0,0,0,0,0,0,0,0,0,0,0,0,0,0,0,0,0,0,0,0,null,2551.31,4195.9800000000014,6747.2900000000009,127.56,209.8,337.36,127.56,209.8,337.36,0,0,0,0,0,0,2296.19,3776.3800000000015,6072.5700000000015,7201.13,792.12,1584.24,792.12,"2022-12-01",1,{"$error":"#REF!"},2551.31,4195.9799999999996,{"$error":"#REF!"},{"$error":"#REF!"},{"$error":"#REF!"},{"$error":"#REF!"},{"$error":"#REF!"},{"$error":"#REF!"},{"$error":"#REF!"},{"$error":"#REF!"},{"$error":"#REF!"},{"$error":"#REF!"},{"$error":"#REF!"},{"$error":"#REF!"},{"$error":"#REF!"},null,0,0,0,0,0,{"$error":"#REF!"},0,0,0,0,null,{"$error":"#REF!"},{"$error":"#REF!"},{"$error":"#REF!"},0,0,{"$error":"#REF!"},{"$error":"#REF!"},{"$error":"#REF!"},{"$error":"#REF!"},{"$error":"#REF!"},null,0,0,0,0,null,null,null,0,0,0,0]
[579,15337,"2022/0399022-0","2022-12-14","Paga em MAI-2023 - 1ª remessa","2023-05-01","NÃO",1,"MS 6.040/DF","1998-11-16","2003-10-01","Mandado de Segurança 6.040/DF","2021/0370092-4","2022-11-24","União","Administrativo - Servidor Público Civil - Sistema Remuneratório e Benefícios (PRINCIPAL)","Alimentar","Margarida Maria Damasceno Conde","332.714.107-04","Servidor Público Civil Inativo","Incorporação da diferença de 3,17%","Ministério da Administração Federal e Reforma do Estado",5,"Sonia Ananias Citele Jardim","864.928.967-34",5,"Milene Serafim de Assis Pires","080.056.547-90",0," x x x "," x x x ",0," x x x "," x x x ","Dedução de Honorários Contratuais","Não","Não","Não","-","-","Não informada","Não Informada","Não",6478.61,9419.7099999999991,15898.32,323.93,470.97999999999996,794.91,323.93,470.97999999999996,794.91,0,0,0,0,0,0,5830.7499999999991,8477.75,14308.5,0,0,0,42,0,null,0,0,0,0,0,0,0,0,0,0,0,0,0,0,0,0,0,0,0,0,0,0,null,6478.61,9419.7099999999991,15898.32,323.93,470.97999999999996,794.91,323.93,470.97999999999996,794.91,0,0,0,0,0,0,5830.7499999999991,8477.75,14308.5,0,0,0,0,"2022-12-01",1,{"$error":"#REF!"},6478.61,9419.7099999999991,{"$error":"#REF!"},{"$error":"#REF!"},{"$error":"#REF!"},{"$error":"#REF!"},{"$error":"#REF!"},{"$error":"#REF!"},{"$error":"#REF!"},{"$error":"#REF!"},0,0,0,{"$error":"#REF!"},{"$error":"#REF!"},null,0,0,0,0,0,{"$error":"#REF!"},0,0,0,0,null,{"$error":"#REF!"},{"$error":"#REF!"},{"$error":"#REF!"},0,0,{"$error":"#REF!"},0,0,0,0,null,0,0,0,0,null,null,null,0,0,0,0]
[592,15351,"2022/0400264-6","2022-12-15","Paga em MAI-2023 - 1ª remessa","2023-05-01","NÃO",1,"MS 6.040/DF","1998-11-16","2003-10-01","Mandado de Segurança 6.040/DF","2021/0369646-5","2022-11-24","União","Administrativo - Servidor Público Civil - Sistema Remuneratório e Benefícios (PRINCIPAL)","Alimentar","Geraldo Gonçalves Pereira","433.291.877-00","Servidor Público Civil Ativo","Incorporação da diferença de 3,17%","Ministério da Administração Federal e Reforma do Estado",5,"Sonia Ananias Citele Jardim","864.928.967-34",5,"Milene Serafim de Assis Pires","080.056.547-90",0," x x x "," x x x ",0," x x x "," x x x ","Dedução de Honorários Contratuais","Não","Não","Não","-","-","Não informada","Não Informada","Não",3601.21,5227.0999999999995,8828.31,180.06,261.35000000000002,441.41,180.06,261.35000000000002,441.41,0,0,0,0,0,0,3241.09,4704.3999999999996,7945.49,7187.45,790.61,1581.22,42,790.61,null,0,0,0,0,0,0,0,0,0,0,0,0,0,0,0,0,0,0,0,0,0,0,null,3601.21,5227.0999999999995,8828.31,180.06,261.35000000000002,441.41,180.06,261.35000000000002,441.41,0,0,0,0,0,0,3241.09,4704.3999999999996,7945.49,7187.45,790.61,1581.22,790.61,"2022-12-01",1,{"$error":"#REF!"},3601.21,5227.1000000000004,{"$error":"#REF!"},{"$error":"#REF!"},{"$error":"#REF!"},{"$error":"#REF!"},{"$error":"#REF!"},{"$error":"#REF!"},{"$error":"#REF!"},{"$error":"#REF!"},{"$error":"#REF!"},{"$error":"#REF!"},{"$error":"#REF!"},{"$error":"#REF!"},{"$error":"#REF!"},null,0,0,0,0,0,{"$error":"#REF!"},0,0,0,0,null,{"$error":"#REF!"},{"$error":"#REF!"},{"$error":"#REF!"},0,0,{"$error":"#REF!"},{"$error":"#REF!"},{"$error":"#REF!"},{"$error":"#REF!"},{"$error":"#REF!"},null,0,0,0,0,null,null,null,0,0,0,0]
[601,15360,"2022/0400273-5","2022-12-15","Paga em MAI-2023 - 1ª remessa","2023-05-01","NÃO",1,"MS 6.040/DF","1998-11-16","2003-10-01","Mandado de Segurança 6.040/DF","2021/0369646-5","2022-11-24","União","Administrativo - Servidor Público Civil - Sistema Remuneratório e Benefícios (PRINCIPAL)","Alimentar","Paulina Almerinda dos Santos","331.033.727-87","Servidor Público Civil Ativo","Incorporação da diferença de 3,17%","Ministério da Administração Federal e Reforma do Estado",5,"Sonia Ananias Citele Jardim","864.928.967-34",5,"Milene Serafim de Assis Pires","080.056.547-90",0," x x x "," x x x ",0," x x x "," x x x ","Dedução de Honorários Contratuais","Não","Não","Não","-","-","Não informada","Não Informada","Não",3022.78,4545.0600000000013,7567.8400000000011,151.13,227.26,378.39,151.13,227.26,378.39,0,0,0,0,0,0,2720.52,4090.5400000000004,6811.06,87.99,9.67,19.34,42,9.67,null,0,0,0,0,0,0,0,0,0,0,0,0,0,0,0,0,0,0,0,0,0,0,null,3022.78,4545.0600000000013,7567.8400000000011,151.13,227.26,378.39,151.13,227.26,378.39,0,0,0,0,0,0,2720.52,4090.5400000000004,6811.06,87.99,9.67,19.34,9.67,"2022-12-01",1,{"$error":"#REF!"},3022.78,4545.0600000000004,{"$error":"#REF!"},{"$error":"#REF!"},{"$error":"#REF!"},{"$error":"#REF!"},{"$error":"#REF!"},{"$error":"#REF!"},{"$error":"#REF!"},{"$error":"#REF!"},{"$error":"#REF!"},{"$error":"#REF!"},{"$error":"#REF!"},{"$error":"#REF!"},{"$error":"#REF!"},null,0,0,0,0,0,{"$error":"#REF!"},0,0,0,0,null,{"$error":"#REF!"},{"$error":"#REF!"},{"$error":"#REF!"},0,0,{"$error":"#REF!"},{"$error":"#REF!"},{"$error":"#REF!"},{"$error":"#REF!"},{"$error":"#REF!"},null,0,0,0,0,null,null,null,0,0,0,0]
[610,15369,"2022/0401118-8","2022-12-15","Paga em MAI-2023 - 1ª remessa","2023-05-01","NÃO",1,"MS 21.601/DF","2015-02-20","2017-06-27","Mandado de Segurança 21.601/DF","2021/0100436-3","2022-11-24","UNIÃO","Administrativo - Servidor Público Civil - Sistema Remuneratório e Benefícios (PRINCIPAL)","Alimentar","José Nascimento Quadros","003.982.505-10","Servidor Público Civil Inativo","Incorporação de gratificação de apoio - GCEPLAC - Lei 12.702/12","Ministério do Planejamento, Orçamento e Gestão",10,"Amanda Ale Franzosi Sociedade Individual de Advocacia","39.611.750/0001-35",5,"Miranda, Moraes e Sales Advocacia","30.933.366/0001-84",0," x x x "," x x x ",0," x x x "," x x x ","Dedução de Honorários Contratuais","Não","Não","Não","-","-","Não informada","Não Informada","Não",22959.53,4156.4900000000034,27589.020000000004,2061.37,697.5300000000002,2758.9,1030.68,348.77,1379.45,0,0,0,0,0,0,19515.609999999997,3935.0600000000049,23450.670000000002,22959.53,2525.54,0,75,2525.54,null,0,0,0,0,0,0,0,0,0,0,0,0,0,0,0,0,0,0,0,0,0,0,null,22959.53,4156.4900000000034,27589.020000000004,2061.37,697.5300000000002,2758.9,1030.68,348.77,1379.45,0,0,0,0,0,0,19515.609999999997,3935.0600000000049,23450.670000000002,22959.53,2525.54,0,2525.54,"2022-12-01",1,{"$error":"#REF!"},20613.7,4156.49,{"$error":"#REF!"},{"$error":"#REF!"},{"$error":"#REF!"},{"$error":"#REF!"},{"$error":"#REF!"},{"$error":"#REF!"},{"$error":"#REF!"},{"$error":"#REF!"},{"$error":"#REF!"},{"$error":"#REF!"},0,{"$error":"#REF!"},{"$error":"#REF!"},null,0,0,0,0,0,{"$error":"#REF!"},0,0,0,0,null,{"$error":"#REF!"},{"$error":"#REF!"},{"$error":"#REF!"},0,0,{"$error":"#REF!"},{"$error":"#REF!"},{"$error":"#REF!"},0,{"$error":"#REF!"},null,0,0,0,0,null,null,null,0,0,0,0]
[627,15386,"2022/0401294-6","2022-12-15","Paga em MAI-2023 - 1ª remessa","2023-05-01","NÃO",1,"MS 21.601/DF","2015-02-20","2017-06-27","Mandado de Segurança 21.601/DF","2021/0100436-3","2022-11-24","UNIÃO","Administrativo - Servidor Público Civil - Sistema Remuneratório e Benefícios (PRINCIPAL)","Alimentar","Manoel Sisnando Souza Gomes","008.420.285-87","Servidor Público Civil Inativo","Incorporação de gratificação de apoio - GCEPLAC - Lei 12.702/12","Ministério do Planejamento, Orçamento e Gestão",10,"Amanda Ale Franzosi Sociedade Individual de Advocacia","39.611.750/0001-35",5,"Miranda, Moraes e Sales Advocacia","30.933.366/0001-84",0," x x x "," x x x ",0," x x x "," x x x ","Dedução de Honorários Contratuais","Não","Não","Não","-","-","Não informada","Não Informada","Não",37176.19,6732.9500000000007,44675.340000000004,3337.78,1129.7499999999995,4467.53,1668.89,564.87000000000012,2233.7600000000002,0,0,0,0,0,0,31599.780000000002,6374.27,37974.050000000003,37176.19,4089.38,0,75,4089.38,null,0,0,0,0,0,0,0,0,0,0,0,0,0,0,0,0,0,0,0,0,0,0,null,37176.19,6732.9500000000007,44675.340000000004,3337.78,1129.7499999999995,4467.53,1668.89,564.87000000000012,2233.7600000000002,0,0,0,0,0,0,31599.780000000002,6374.27,37974.050000000003,37176.19,4089.38,0,4089.38,"2022-12-01",1,{"$error":"#REF!"},33377.800000000003,6732.95,{"$error":"#REF!"},{"$error":"#REF!"},{"$error":"#REF!"},{"$error":"#REF!"},{"$error":"#REF!"},{"$error":"#REF!"},{"$error":"#REF!"},{"$error":"#REF!"},{"$error":"#REF!"},{"$error":"#REF!"},0,{"$error":"#REF!"},{"$error":"#REF!"},null,0,0,0,0,0,{"$error":"#REF!"},0,0,0,0,null,{"$error":"#REF!"},{"$error":"#REF!"},{"$error":"#REF!"},0,0,{"$error":"#REF!"},{"$error":"#REF!"},{"$error":"#REF!"},0,{"$error":"#REF!"},null,0,0,0,0,null,null,null,0,0,0,0]
[643,15009,"2022/0370936-3","2022-11-18","Paga em JUN-2023 - 1ª remessa","2023-06-01","NÃO",1,"MS 10.438/DF","2005-02-22","2007-09-13","Mandado de Segurança 10.438/DF","2021/0335761-8","2022-10-14","UNIÃO","Administrativo - Militar - Pensão","Alimentar","Vilemar da Silva Guimarães","239.748.851-53","Servidor Público Militar Inativo","Soldo previsto na Lei Estadual 1.063/2002","Ministério da Fazenda",20.5,"Leon e Advogados Associados","17.858.268/0001-61",10.5,"Silveira Cruz Advogados","07.419.539/0001-29",0," x x x "," x x x ",0," x x x "," x x x ","Dedução de Honorários Contratuais","Não","Não","Não","-","-","Não informada","Não Informada","Não",29958.71,7479.8900000000031,38213.51,6141.53,1692.23,7833.76,3145.66,866.75,4012.41,0,0,0,0,0,0,20671.52,5695.82,26367.34,0,0,0,26,0,null,0,0,0,0,0,0,0,0,0,0,0,0,0,0,0,0,0,0,0,0,0,0,null,29958.71,7479.8900000000031,38213.51,6141.53,1692.23,7833.76,3145.66,866.75,4012.41,0,0,0,0,0,0,20671.52,5695.82,26367.34,0,0,0,0,"2022-11-01",1,{"$error":"#REF!"},27146.35,7479.89,{"$error":"#REF!"},{"$error":"#REF!"},{"$error":"#REF!"},{"$error":"#REF!"},{"$error":"#REF!"},{"$error":"#REF!"},{"$error":"#REF!"},{"$error":"#REF!"},0,0,0,{"$error":"#REF!"},{"$error":"#REF!"},null,0,0,0,0,0,{"$error":"#REF!"},0,0,0,0,null,{"$error":"#REF!"},{"$error":"#REF!"},{"$error":"#REF!"},0,0,{"$error":"#REF!"},0,0,0,0,null,643,15009,0,0,null,null,null,0,643,0,0]
[652,15019,"2022/0373507-1","2022-11-21","Paga em JUN-2023 - 1ª remessa","2023-06-01","NÃO",1,"MS 10.438/DF","2005-02-22","2007-09-13","Mandado de Segurança 10.438/DF","2021/0335776-8","2022-10-14","UNIÃO","Administrativo - Militar - Pensão","Alimentar","Cézar Ricardo Castilho","366.216.501-59","Servidor Público Militar Inativo","Soldo previsto na Lei Estadual 1.063/2002","Ministério da Fazenda",20.5,"Leon e Advogados Associados","17.858.268/0001-61",10.5,"Silveira Cruz Advogados","07.419.539/0001-29",0," x x x "," x x x ",0," x x x "," x x x ","Dedução de Honorários Contratuais","Não","Não","Não","-","-","Não informada","Não Informada","Não",33786.76,8431.1500000000051,43091.37,6926.28,1907.45,8833.73,3547.6,976.99,4524.59,0,0,0,0,0,0,23312.880000000001,6420.17,29733.05,0,0,0,26,0,null,0,0,0,0,0,0,0,0,0,0,0,0,0,0,0,0,0,0,0,0,0,0,null,33786.76,8431.1500000000051,43091.37,6926.28,1907.45,8833.73,3547.6,976.99,4524.59,0,0,0,0,0,0,23312.880000000001,6420.17,29733.05,0,0,0,0,"2022-11-01",1,{"$error":"#REF!"},30615.05,8431.15,{"$error":"#REF!"},{"$error":"#REF!"},{"$error":"#REF!"},{"$error":"#REF!"},{"$error":"#REF!"},{"$error":"#REF!"},{"$error":"#REF!"},{"$error":"#REF!"},0,0,0,{"$error":"#REF!"},{"$error":"#REF!"},null,0,0,0,0,0,{"$error":"#REF!"},0,0,0,0,null,{"$error":"#REF!"},{"$error":"#REF!"},{"$error":"#REF!"},0,0,{"$error":"#REF!"},0,0,0,0,null,652,15019,0,0,null,null,null,0,652,0,0]
[665,15034,"2022/0373688-9","2022-11-21","Paga em JUN-2023 - 1ª remessa","2023-06-01","NÃO",1,"MS 10.438/DF","2005-02-22","2007-09-13","Mandado de Segurança 10.438/DF","2021/0283436-1","2022-10-14","UNIÃO","Administrativo - Militar - Pensão","Alimentar","João Liberato de Sousa","055.201.228-90","Servidor Público Militar Inativo","Soldo previsto na Lei Estadual 1.063/2002","Ministério da Fazenda",20.5,"Leon e Advogados Associados","17.858.268/0001-61",10.5,"Silveira Cruz Advogados","07.419.539/0001-29",0," x x x "," x x x ",0," x x x "," x x x ","Dedução de Honorários Contratuais","Não","Não","Não","-","-","Não informada","Não Informada","Não",14252.61,3611.4599999999991,18238.21,2921.78,817.05,3738.83,1496.52,418.49,1915.01,0,0,0,0,0,0,9834.31,2750.06,12584.37,0,0,0,26,0,null,0,0,0,0,0,0,0,0,0,0,0,0,0,0,0,0,0,0,0,0,0,0,null,14252.61,3611.4599999999991,18238.21,2921.78,817.05,3738.83,1496.52,418.49,1915.01,0,0,0,0,0,0,9834.31,2750.06,12584.37,0,0,0,0,"2022-11-01",1,{"$error":"#REF!"},12914.66,3611.46,{"$error":"#REF!"},{"$error":"#REF!"},{"$error":"#REF!"},{"$error":"#REF!"},{"$error":"#REF!"},{"$error":"#REF!"},{"$error":"#REF!"},{"$error":"#REF!"},0,0,0,{"$error":"#REF!"},{"$error":"#REF!"},null,0,0,0,0,0,{"$error":"#REF!"},0,0,0,0,null,{"$error":"#REF!"},{"$error":"#REF!"},{"$error":"#REF!"},0,0,{"$error":"#REF!"},0,0,0,0,null,665,15034,0,0,null,null,null,0,665,0,0]
[674,15049,"2022/0381277-5","2022-11-28","Paga em JUN-2023 - 1ª remessa","2023-06-01","NÃO",1,"MS 10.438/DF","2005-02-22","2007-09-13","Mandado de Segurança 10.438/DF","2021/0274836-5","2022-10-14","UNIÃO","Administrativo - Militar - Pensão","Alimentar","João Figueiredo Dias","174.735.601-82","Servidor Público Militar Inativo","Soldo previsto na Lei Estadual 1.063/2002","Ministério da Fazenda",20.5,"Leon e Advogados Associados","17.858.268/0001-61",10.5,"Silveira Cruz Advogados","07.419.539/0001-29",0," x x x "," x x x ",0," x x x "," x x x ","Dedução de Honorários Contratuais","Não","Não","Não","-","-","Não informada","Não Informada","Não",29643.55,7461.6899999999969,37878.269999999997,6076.92,1688.12,7765.04,3112.57,864.64,3977.21,0,0,0,0,0,0,20454.060000000001,5681.96,26136.02,0,0,0,25,0,null,0,0,0,0,0,0,0,0,0,0,0,0,0,0,0,0,0,0,0,0,0,0,null,29643.55,7461.6899999999969,37878.269999999997,6076.92,1688.12,7765.04,3112.57,864.64,3977.21,0,0,0,0,0,0,20454.060000000001,5681.96,26136.02,0,0,0,0,"2022-11-01",1,{"$error":"#REF!"},26860.78,7461.69,{"$error":"#REF!"},{"$error":"#REF!"},{"$error":"#REF!"},{"$error":"#REF!"},{"$error":"#REF!"},{"$error":"#REF!"},{"$error":"#REF!"},{"$error":"#REF!"},0,0,0,{"$error":"#REF!"},{"$error":"#REF!"},null,0,0,0,0,0,{"$error":"#REF!"},0,0,0,0,null,{"$error":"#REF!"},{"$error":"#REF!"},{"$error":"#REF!"},0,0,{"$error":"#REF!"},0,0,0,0,null,674,15049,0,0,null,null,null,0,674,0,0]
[687,15096,"2022/0383400-7","2022-11-30","Paga em JUN-2023 - 1ª remessa","2023-06-01","NÃO",1,"MS 27.455/DF","2021-03-30","2021-12-01","Mandado de Segurança 27.455/DF","2022/0114478-0","2022-10-27","UNIÃO","Administrativo - Militar - Regime - Anistia Política","Comum","Airton Gonçalves","109.097.376-49","Anistiado Político Militar","Anistia Política - Reparação Econômica","Ministério da Mulher, da Família e dos Direitos Humanos",0," x x x ","x x x",0," x x x ","x x x",0," x x x "," x x x ",0," x x x "," x x x ","x.x.x","Não","Não","Não","-","-","Não informada","Não Informada","SIM",40233.08,717.37999999999784,41024.78,0,0,0,0,0,0,0,0,0,0,0,0,40233.08,791.7,41024.78,0,0,0,0,0,null,0,0,0,0,0,0,0,0,0,0,0,0,0,0,0,0,0,0,0,0,0,0,null,40233.08,717.37999999999784,41024.78,0,0,0,0,0,0,0,0,0,0,0,0,40233.08,791.7,41024.78,0,0,0,0,"2022-11-01",1,{"$error":"#REF!"},36456.22,717.37,{"$error":"#REF!"},{"$error":"#REF!"},{"$error":"#REF!"},{"$error":"#REF!"},{"$error":"#REF!"},{"$error":"#REF!"},{"$error":"#REF!"},{"$error":"#REF!"},0,0,0,{"$error":"#REF!"},{"$error":"#REF!"},null,0,0,0,0,0,{"$error":"#REF!"},0,0,0,0,null,{"$error":"#REF!"},0,0,0,0,{"$error":"#REF!"},0,0,0,0,null,687,15096,0,0,null,null,null,0,687,0,0]
[696,15393,"2022/0401465-1","2022-12-15","Paga em JUN-2023 - 1ª remessa","2023-06-01","NÃO",1,"MS 8.659/DF","2002-10-03","2004-02-11","Mandado de Segurança 8.659/DF","2008/0089383-5","2022-06-14","União","Administrativo - Servidor Público Civil - Sistema Remuneratório e Benefícios - Gratificações da Lei 8.112/1990","Alimentar","Couto & Nascimento Advogados Associados","04.329.675/0001-30","-","Honorários de sucumbência","-",0," x x x ","x x x",0," x x x ","x x x",0," x x x "," x x x ",0," x x x "," x x x ","x.x.x","Não","Não","Não","-","-","Não informada","Não Informada","Não",4600.1899999999996,0,4600.1899999999996,0,0,0,0,0,0,0,0,0,0,0,0,4600.1899999999996,0,4600.1899999999996,0,0,0,0,0,null,0,0,0,0,0,0,0,0,0,0,0,0,0,0,0,0,0,0,0,0,0,0,null,4600.1899999999996,0,4600.1899999999996,0,0,0,0,0,0,0,0,0,0,0,0,4600.1899999999996,0,4600.1899999999996,0,0,0,0,"2022-12-01",1,{"$error":"#REF!"},4600.1899999999996,0,{"$error":"#REF!"},0,{"$error":"#REF!"},{"$error":"#REF!"},{"$error":"#REF!"},{"$error":"#REF!"},{"$error":"#REF!"},{"$error":"#REF!"},0,0,0,{"$error":"#REF!"},{"$error":"#REF!"},null,0,0,0,0,0,{"$error":"#REF!"},0,0,0,0,null,{"$error":"#REF!"},0,0,0,0,{"$error":"#REF!"},0,0,0,0,null,696,15393,0,0,null,null,null,0,696,0,0]
[{"$f":"IF(B713=\"\",\"\",A712+1)","v":705},15402,{"$f":"IF(B713=\"\",\"\",VLOOKUP(B713,expedidas,4))","v":"2022/0401773-3"},{"$f":"IF(B713=\"\",\"\",VLOOKUP(B713,expedidas,5))","v":"2022-12-15"},{"$f":"IF(B713=\"\",\"\",VLOOKUP(B713,expedidas,7))","v":"Paga em JUN-2023 - 1ª remessa"},{"$f":"IF(B713=\"\",\"\",VLOOKUP(B713,expedidas,8))","v":"2023-06-01"},{"$f":"IF(B713=\"\",\"\",VLOOKUP(B713,expedidas,9))","v":"NÃO"},{"$f":"IF(B713=\"\",\"\",VLOOKUP(B713,expedidas,11))","v":1},{"$f":"IF(B713=\"\",\"\",VLOOKUP(B713,expedidas,12))","v":"MS 10.424/DF"},{"$f":"IF(B713=\"\",\"\",VLOOKUP(B713,expedidas,14))","v":"2005-02-17"},{"$f":"IF(B713=\"\",\"\",VLOOKUP(B713,expedidas,15))","v":"2005-10-27"},{"$f":"IF(B713=\"\",\"\",VLOOKUP(B713,expedidas,19))","v":"Mandado de Segurança 10.424/DF"},{"$f":"IF(B713=\"\",\"\",VLOOKUP(B713,expedidas,20))","v":"2006/0199696-0"},{"$f":"IF(B713=\"\",\"\",VLOOKUP(B713,expedidas,21))","v":"2016-02-12"},{"$f":"IF(B713=\"\",\"\",VLOOKUP(B713,expedidas,18))","v":"UNIÃO"},{"$f":"IF(B713=\"\",\"\",VLOOKUP(B713,expedidas,16))","v":"Administrativo - Servidor Público Civil - Sistema Remuneratório e Benefícios - Gratificações"},{"$f":"IF(B713=\"\",\"\",VLOOKUP(B713,expedidas,26))","v":"Alimentar"},{"$f":"IF(B713=\"\",\"\",VLOOKUP(B713,expedidas,22))","v":"Anailde Da Silva Ferreira "},{"$f":"IF(B713=\"\",\"\",VLOOKUP(B713,expedidas,23))","v":"286.774.632-91"},{"$f":"IF(B713=\"\",\"\",VLOOKUP(B713,expedidas,24))","v":"Servidor Público Civil Inativo"},{"$f":"IF(B713=\"\",\"\",VLOOKUP(B713,expedidas,25))","v":"Gratificação Específica de Atividade Docente - GEAD"},{"$f":"IF(B713=\"\",\"\",VLOOKUP(B713,expedidas,17))","v":"Ministério do Planejamento, Orçamento e Gestão"},{"$f":"IF(B713=\"\",\"\",VLOOKUP(B713,expedidas,27))","v":11},{"$f":"IF(B713=\"\",\"\",IF(W713=0,\" x x x \",VLOOKUP(B713,expedidas,28)))","v":"Fonseca e Assis Advogados Associados"},{"$f":"IF(B713=\"\",\"\",VLOOKUP(B713,expedidas,29))","v":"01.971.231/0001-05"},{"$f":"IF(B713=\"\",\"\",VLOOKUP(B713,expedidas,30))","v":0},{"$f":"IF(B713=\"\",\"\",VLOOKUP(B713,expedidas,31))","v":" x x x "},{"$f":"IF(B713=\"\",\"\",IF(Z713=0,\"x x x\",VLOOKUP(B713,expedidas,32)))","v":"x x x"},{"$f":"IF(B713=\"\",\"\",VLOOKUP(B713,expedidas,33))","v":0},{"$f":"IF(B713=\"\",\"\",IF(AC713=0,\" x x x \",VLOOKUP(B713,expedidas,34)))","v":" x x x "},{"$f":"IF(B713=\"\",\"\",IF(AC713=0,\" x x x \",VLOOKUP(B713,expedidas,35)))","v":" x x x "},{"$f":"IF(B713=\"\",\"\",VLOOKUP(B713,expedidas,36))","v":0},{"$f":"IF(B713=\"\",\"\",IF(AF713=0,\" x x x \",VLOOKUP(B713,expedidas,37)))","v":" x x x "},{"$f":"IF(B713=\"\",\"\",IF(AF713=0,\" x x x \",VLOOKUP(B713,expedidas,38)))","v":" x x x "},{"$f":"IF(B713=\"\",\"\",VLOOKUP(B713,expedidas,39))","v":"Dedução de Honorários Contratuais"},{"$f":"IF(B713=\"\",\"\",VLOOKUP(B713,expedidas,40))","v":"Não"},{"$f":"IF(B713=\"\",\"\",VLOOKUP(B713,expedidas,41))","v":"Não"},{"$f":"IF(B713=\"\",\"\",VLOOKUP(B713,expedidas,42))","v":"Não"},{"$f":"IF(B713=\"\",\"\",VLOOKUP(B713,expedidas,43))","v":"-"},{"$f":"IF(B713=\"\",\"\",VLOOKUP(B713,expedidas,44))","v":"-"},{"$f":"IF(B713=\"\",\"\",VLOOKUP(B713,expedidas,45))","v":"Não informada"},{"$f":"IF(B713=\"\",\"\",VLOOKUP(B713,expedidas,46))","v":"Não Informada"},{"$f":"IF(B713=\"\",\"\",VLOOKUP(B713,expedidas,47))","v":"Não"},{"$f":"IF(B713=\"\",\"\",IF(I713=\"MS 11.371/DF\",0,VLOOKUP(B713,expedidas,49)+VLOOKUP(B713,expedidas,51)))","v":17338.86},{"$f":"IF(B713=\"\",\"\",IF(I713=\"MS 11.371/DF\",AT713,VLOOKUP(B713,expedidas,52)))","v":13548.500000000002},{"$f":"IF(B713=\"\",\"\",VLOOKUP(B713,expedidas,53))","v":32429.17},{"$f":"IF(B713=\"\",\"\",IF(I713=\"MS 11.371/DF\",0,VLOOKUP(B713,expedidas,54)))","v":1712.4},{"$f":"IF(B713=\"\",\"\",IF(I713=\"MS 11.371/DF\",AW713,VLOOKUP(B713,expedidas,55)))","v":1854.7999999999997},{"$f":"IF(B713=\"\",\"\",VLOOKUP(B713,expedidas,56))","v":3567.2},{"$f":"IF(B713=\"\",\"\",VLOOKUP(B713,expedidas,57))","v":0},{"$f":"IF(B713=\"\",\"\",VLOOKUP(B713,expedidas,58))","v":0},{"$f":"IF(B713=\"\",\"\",VLOOKUP(B713,expedidas,59))","v":0},{"$f":"IF(B713=\"\",\"\",VLOOKUP(B713,expedidas,60))","v":0},{"$f":"IF(B713=\"\",\"\",VLOOKUP(B713,expedidas,61))","v":0},{"$f":"IF(B713=\"\",\"\",VLOOKUP(B713,expedidas,62))","v":0},{"$f":"IF(B713=\"\",\"\",VLOOKUP(B713,expedidas,63))","v":0},{"$f":"IF(B713=\"\",\"\",VLOOKUP(B713,expedidas,64))","v":0},{"$f":"IF(B713=\"\",\"\",VLOOKUP(B713,expedidas,65))","v":0},{"$f":"IF(B713=\"\",\"\",IF(I713=\"MS 11.371/DF\",0,VLOOKUP(B713,expedidas,66)))","v":15431.59},{"$f":"IF(B713=\"\",\"\",IF(I713=\"MS 11.371/DF\",BI713,VLOOKUP(B713,expedidas,67)))","v":13430.379999999997},{"$f":"IF(B713=\"\",\"\",VLOOKUP(B713,expedidas,68))","v":28861.969999999998},{"$f":"IF(B713=\"\",\"\",VLOOKUP(B713,expedidas,69))","v":17338.86},{"$f":"IF(B713=\"\",\"\",VLOOKUP(B713,expedidas,70))","v":1907.27},{"$f":"IF(B713=\"\",\"\",VLOOKUP(B713,expedidas,71))","v":0},{"$f":"IF(B713=\"\",\"\",VLOOKUP(B713,expedidas,72))","v":9},{"$f":"IF(B713=\"\",\"\",IF(BM713=\"-\",\"-\",VLOOKUP(B713,expedidas,74)))","v":1907.27},null,{"$f":"IF($G713=\"\",\"\",IF(CA713=\"informar\",0,IF($G713=\"não\",0,BS713+BV713+BY713+CE713)))","v":0},{"$f":"IF($AS713=\"\",\"\",IF(G713=\"não\",0,BR713-BP713))","v":0},{"$f":"IF($G713=\"\",\"\",IF(BP713=0,0,IF($G713=\"não\",0,BU713+BX713+CA713+CG713)))","v":0},{"$f":"IF($G713=\"\",\"\",IF($G713=\"não\",0,IF(VLOOKUP(B713,expedidas,10)=\"sim\",0,\"informar\")))","v":0},{"$f":"IF($G713=\"\",\"\",IF($G713=\"não\",0,IF(VLOOKUP(B713,expedidas,10)=\"sim\",0,\"informar\")))","v":0},{"$f":"IF($G713=\"\",\"\",IF($G713=\"não\",0,IF(VLOOKUP(B713,expedidas,10)=\"sim\",0,\"informar\")))","v":0},{"$f":"IF($G713=\"\",\"\",IF($G713=\"não\",0,IF(VLOOKUP(B713,expedidas,10)=\"sim\",0,\"informar\")))","v":0},{"$f":"IF($G713=\"\",\"\",IF($G713=\"não\",0,IF(VLOOKUP(B713,expedidas,10)=\"sim\",0,\"informar\")))","v":0},{"$f":"IF($G713=\"\",\"\",IF($G713=\"não\",0,IF(VLOOKUP(B713,expedidas,10)=\"sim\",0,\"informar\")))","v":0},{"$f":"IF($G713=\"\",\"\",IF($G713=\"não\",0,IF(VLOOKUP(B713,expedidas,10)=\"sim\",0,\"informar\")))","v":0},{"$f":"IF($G713=\"\",\"\",IF($G713=\"não\",0,IF(VLOOKUP(B713,expedidas,10)=\"sim\",0,\"informar\")))","v":0},{"$f":"IF($G713=\"\",\"\",IF($G713=\"não\",0,IF(VLOOKUP(B713,expedidas,10)=\"sim\",0,\"informar\")))","v":0},{"$f":"IF($G713=\"\",\"\",IF($G713=\"não\",0,IF(VLOOKUP(B713,expedidas,10)=\"sim\",0,\"informar\")))","v":0},{"$f":"IF($G713=\"\",\"\",IF($G713=\"não\",0,IF(VLOOKUP(B713,expedidas,10)=\"sim\",0,\"informar\")))","v":0},{"$f":"IF($G713=\"\",\"\",IF($G713=\"não\",0,IF(VLOOKUP(B713,expedidas,10)=\"sim\",0,\"informar\")))","v":0},{"$f":"IF($G713=\"\",\"\",IF($G713=\"não\",0,IF(VLOOKUP(B713,expedidas,10)=\"NÃO\",\"informar\",VLOOKUP(B713,expedidas,75))))","v":0},{"$f":"IF($G713=\"\",\"\",IF(VLOOKUP(B713,expedidas,10)=\"sim\",0,IF($G713=\"não\",0,\"informar\")))","v":0},{"$f":"IF($G713=\"\",\"\",IF(VLOOKUP(B713,expedidas,10)=\"sim\",CE713,IF($G713=\"não\",0,\"informar\")))","v":0},{"$f":"IF(B713=\"\",\"\",IF(VLOOKUP(B713,expedidas,10)=\"sim\",0,IF(G713=\"não\",0,IF(BJ713=0,0,IF(BJ713=AR713,BP713,TRUNC(BJ713*BP713/AR713,2))))))","v":0},{"$f":"IF($BQ713=\"\",\"\",IF(G713=\"não\",0,IF(CH713=\"informar\",0,TRUNC(CH713*0.11,2))))","v":0},{"$f":"IF($BQ713=\"\",\"\",IF(G713=\"não\",0,IF(BL713=0,0,CI713*2)))","v":0},{"$f":"IF($BQ713=\"\",\"\",IF(G713=\"não\",0,IF(BN713=0,0,CI713)))","v":0},null,{"$f":"IF(AR713=\"\",\"\",IF(BP713=0,AR713,AR713-BP713))","v":17338.86},{"$f":"IF(AS713=\"\",\"\",IF(BQ713=0,AS713,AS713-BQ713))","v":13548.500000000002},{"$f":"IF(AT713=\"\",\"\",IF(BR713=0,AT713,AT713-BR713))","v":32429.17},{"$f":"IF(AU713=\"\",\"\",IF(BS713=0,AU713,AU713-BS713))","v":1712.4},{"$f":"IF(AV713=\"\",\"\",IF(BT713=0,AV713,AV713-BT713))","v":1854.7999999999997},{"$f":"IF(AW713=\"\",\"\",IF(BU713=0,AW713,AW713-BU713))","v":3567.2},{"$f":"IF(AX713=\"\",\"\",IF(BV713=0,AX713,AX713-BV713))","v":0},{"$f":"IF(AY713=\"\",\"\",IF(BW713=0,AY713,AY713-BW713))","v":0},{"$f":"IF(AZ713=\"\",\"\",IF(BX713=0,AZ713,AZ713-BX713))","v":0},{"$f":"IF(BA713=\"\",\"\",IF(BY713=0,BA713,BA713-BY713))","v":0},{"$f":"IF(BB713=\"\",\"\",IF(BZ713=0,BB713,BB713-BZ713))","v":0},{"$f":"IF(BC713=\"\",\"\",IF(CA713=0,BC713,BC713-CA713))","v":0},{"$f":"IF(BD713=\"\",\"\",IF(CB713=0,BD713,BD713-CB713))","v":0},{"$f":"IF(BE713=\"\",\"\",IF(CC713=0,BE713,BE713-CC713))","v":0},{"$f":"IF(BF713=\"\",\"\",IF(CD713=0,BF713,BF713-CD713))","v":0},{"$f":"IF(BG713=\"\",\"\",IF(CE713=0,BG713,BG713-CE713))","v":15431.59},{"$f":"IF(BH713=\"\",\"\",IF(CF713=0,BH713,BH713-CF713))","v":13430.379999999997},{"$f":"IF(BI713=\"\",\"\",IF(CG713=0,BI713,BI713-CG713))","v":28861.969999999998},{"$f":"IF(CM713=\"\",\"\",IF(BJ713=AR713,CM713,TRUNC(CM713*(BJ713*100/AR713)/100,2)))","v":17338.86},{"$f":"IF(BK713=\"\",\"\",IF(CI713=0,BK713,BK713-CI713))","v":1907.27},{"$f":"IF(BL713=\"\",\"\",IF(CJ713=0,BL713,BL713-CJ713))","v":0},{"$f":"DF713","v":1907.27},{"$f":"IF(B713=\"\",\"\",VLOOKUP(B713,expedidas,48))","v":"2022-12-01"},{"$f":"IF(DI713=\"\",\"\",IF(OR(DI713>=$DJ$7),1,1/VLOOKUP(DI713,indice,3)*VLOOKUP($DJ$7,indice,3)))","v":1},{"$f":"IF(DI713=\"\",\"\",IF(I713=\"ms 4.151/df\",VLOOKUP(DI713,indice,5),IF(DI713<$DJ$7,VLOOKUP(F713,indice,6),VLOOKUP(DI713,indice,5))))","v":{"$error":"#REF!"}},{"$f":"IF(DJ713=\"\",\"\",IF(DJ713=\"\",\"\",TRUNC((VLOOKUP(B713,expedidas,51))*DJ713,2)))","v":15567.31},{"$f":"IF(DJ713=\"\",\"\",IF(DJ713=\"\",\"\",(TRUNC((VLOOKUP(B713,expedidas,52))*DJ713,2))))","v":13548.5},{"$f":"IF(DK713=\"\",\"\",IF(DK713=\"informar\",\"\",VLOOKUP(B713,expedidas,49)+TRUNC(VLOOKUP(B713,expedidas,51)*DJ713*DK713/100,2)))","v":{"$error":"#REF!"}},{"$error":"#REF!"},{"$f":"IF(DJ713=\"\",\"\",IF(DJ713=\"\",\"\",DL713+DM713+DN713+DO713))","v":{"$error":"#REF!"}},{"$f":"IF(AT713=\"\",\"\",TRUNC(DP713*W713/100,2))","v":{"$error":"#REF!"}},{"$f":"IF($DJ713=\"\",\"\",TRUNC(DP713*Z713/100,2))","v":{"$error":"#REF!"}},{"$f":"IF($DJ713=\"\",\"\",TRUNC(DP713*AC713/100,2))","v":{"$error":"#REF!"}},{"$f":"IF($DJ713=\"\",\"\",TRUNC(DP713*AF713/100,2))","v":{"$error":"#REF!"}},{"$f":"IF(AT713=\"\",\"\",IF(DP713=\"\",\"\",DP713-DQ713-DR713-DS713-DT713))","v":{"$error":"#REF!"}},{"$error":"#REF!"},{"$f":"IF(DJ713=\"\",\"\",TRUNC(DV713*0.11,2))","v":{"$error":"#REF!"}},{"$f":"IF(BL713=0,0,((IF(DW713=\"\",\"\",IF(DW713>0,DW713*2,DW713)))))","v":0},{"$f":"IF(DN713=\"\",\"\",IF(BM713=0,0,IF(DU713<(DM713+DO713),0,IF(DN713=0,0,(DU713-DM713))-DO713)))","v":{"$error":"#REF!"}},{"$f":"IF(DJ713=\"\",\"\",IF(DY713=0,0,DW713))","v":{"$error":"#REF!"}},null,{"$f":"IF(CO713=\"\",\"\",IF($G713=\"não\",0,EC713+ED713+EE713+EF713+EG713))","v":0},{"$f":"IF(CR713=\"\",\"\",IF($G713=\"não\",0,IF(BU713=AW713,DQ713,TRUNC(BU713*$DJ713,2))))","v":0},{"$f":"IF(CU713=\"\",\"\",IF($G713=\"não\",0,IF(BX713=AZ713,DR713,TRUNC(BX713*$DJ713,2))))","v":0},{"$f":"IF(CX713=\"\",\"\",IF($G713=\"não\",0,IF(CA713=BC713,DS713,TRUNC(CA713*$DJ713,2))))","v":0},{"$f":"IF(DA713=\"\",\"\",IF($G713=\"não\",0,IF(CD713=BF713,DT713,TRUNC(CD713*$DJ713,2))))","v":0},{"$f":"IF(DU713=\"\",\"\",IF($G713=\"não\",0,IF(CG713=BI713,DU713,VLOOKUP(B713,expedidas,76))))","v":{"$error":"#REF!"}},{"$f":"IF(CH713=\"\",\"\",IF($G713=\"não\",0,IF(BJ713=CH713,DV713,0)))","v":0},{"$f":"IF(EH713=\"\",\"\",TRUNC(EH713*0.11,2))","v":0},{"$f":"IF(CJ713=\"\",\"\",IF(CJ713=0,0,EI713*2))","v":0},{"$f":"IF(CK713=0,0,EI713)","v":0},null,{"$f":"IF(EB713=\"\",\"\",IF(G713=\"não\",DP713,EN713+EO713+EP713+EQ713+ER713))","v":{"$error":"#REF!"}},{"$f":"IF(EC713=\"\",\"\",IF(CR713=0,0,DQ713-EC713))","v":{"$error":"#REF!"}},{"$f":"IF(ED713=\"\",\"\",IF(CU713=0,0,DR713-ED713))","v":0},{"$f":"IF(EE713=\"\",\"\",IF(CX713=0,0,DS713-EE713))","v":0},{"$f":"IF(EF713=\"\",\"\",IF(DA713=0,0,DT713-EF713))","v":0},{"$f":"IF(EG713=\"\",\"\",IF(DD713=0,0,DU713-EG713))","v":{"$error":"#REF!"}},{"$f":"IF(DV713=\"\",\"\",IF(DV713=0,0,DV713-EH713))","v":{"$error":"#REF!"}},{"$f":"IF(ES713=\"\",\"\",IF(ES713=0,0,TRUNC(ES713*0.11,2)))","v":{"$error":"#REF!"}},{"$f":"IF(DX713=\"\",\"\",IF(DX713=0,0,ET713*2))","v":0},{"$f":"IF(BM713=\"\",\"\",IF(BM713=0,0,ET713))","v":{"$error":"#REF!"}},null,705,15402,0,{"$f":"IF(AND(EX713>0,EX712=0),EX713,0)","v":0},null,null,null,0,705,0,0]
[717,15415,"2022/0401893-3","2022-12-15","Paga em JUN-2023 - 1ª remessa","2023-06-01","NÃO",1,"MS 10.424/DF","2005-02-17","2005-10-27","Mandado de Segurança 10.424/DF","2006/0199696-0","2016-02-12","UNIÃO","Administrativo - Servidor Público Civil - Sistema Remuneratório e Benefícios - Gratificações","Alimentar","Sebastiana Martins Dos Santos ","724.562.997-87","Servidor Público Civil Ativo","Gratificação Específica de Atividade Docente - GEAD","Ministério do Planejamento, Orçamento e Gestão",11,"Fonseca e Assis Advogados Associados","01.971.231/0001-05",0," x x x ","x x x",0," x x x "," x x x ",0," x x x "," x x x ","Dedução de Honorários Contratuais","Não","Não","Não","-","-","Não informada","Não Informada","Não",17338.86,13548.500000000002,32429.17,1712.4,1854.7999999999997,3567.2,0,0,0,0,0,0,0,0,0,15431.59,13430.379999999997,28861.969999999998,17338.86,1907.27,3814.54,9,1907.27,null,0,0,0,0,0,0,0,0,0,0,0,0,0,0,0,0,0,0,0,0,0,0,null,17338.86,13548.500000000002,32429.17,1712.4,1854.7999999999997,3567.2,0,0,0,0,0,0,0,0,0,15431.59,13430.379999999997,28861.969999999998,17338.86,1907.27,3814.54,1907.27,"2022-12-01",1,{"$error":"#REF!"},15567.31,13548.5,{"$error":"#REF!"},{"$error":"#REF!"},{"$error":"#REF!"},{"$error":"#REF!"},{"$error":"#REF!"},{"$error":"#REF!"},{"$error":"#REF!"},{"$error":"#REF!"},{"$error":"#REF!"},{"$error":"#REF!"},{"$error":"#REF!"},{"$error":"#REF!"},{"$error":"#REF!"},null,0,0,0,0,0,{"$error":"#REF!"},0,0,0,0,null,{"$error":"#REF!"},{"$error":"#REF!"},0,0,0,{"$error":"#REF!"},{"$error":"#REF!"},{"$error":"#REF!"},{"$error":"#REF!"},{"$error":"#REF!"},null,717,15415,0,0,null,null,null,0,717,0,0]
[738,15441,"2023/0042832-0","2023-02-13","Paga em JUN-2023 - 1ª remessa","2023-06-01","NÃO",1,"MS 4.151/DF","1995-07-21","1999-02-12","Mandado de Segurança 4.151/DF","2016/0128459-7","2022-11-18","UNIÃO","Administrativo - Servidor Público Civil - Reajustes de Remuneração, Proventos ou Pensão","Alimentar","Décio Alvarenga","770.069.688-87","Servidor Público Civil Ativo","Diferença de remuneração - 3,17%","Ministério da Fazenda",6,"Mota & Advogados Associados","03.996.810/0001-38",1,"Mauro Menezes e Advogados","32.901.423/0001-79",1,"Caputo, Bastos e Serra Advogados","12.291.813/0001-67",0," x x x "," x x x ","Dedução de Honorários Contratuais","Não","Não","Não","-","-","Não informada","Não Informada","NÃO",25096,45785.229999999996,70881.23,1505.76,2747.1099999999997,4252.87,250.96,457.84999999999991,708.81,250.96,457.84999999999991,708.81,0,0,0,23088.320000000003,42122.42,65210.740000000005,31295.21,3442.47,6884.94,53,3442.47,null,0,0,0,0,0,0,0,0,0,0,0,0,0,0,0,0,0,0,0,0,0,0,null,25096,45785.229999999996,70881.23,1505.76,2747.1099999999997,4252.87,250.96,457.84999999999991,708.81,250.96,457.84999999999991,708.81,0,0,0,23088.320000000003,42122.42,65210.740000000005,31295.21,3442.47,6884.94,3442.47,"2023-02-01",1,{"$error":"#REF!"},25096,45785.23,{"$error":"#REF!"},{"$error":"#REF!"},{"$error":"#REF!"},{"$error":"#REF!"},{"$error":"#REF!"},{"$error":"#REF!"},{"$error":"#REF!"},{"$error":"#REF!"},{"$error":"#REF!"},{"$error":"#REF!"},{"$error":"#REF!"},{"$error":"#REF!"},{"$error":"#REF!"},null,0,0,0,0,0,{"$error":"#REF!"},0,0,0,0,null,{"$error":"#REF!"},{"$error":"#REF!"},{"$error":"#REF!"},{"$error":"#REF!"},0,{"$error":"#REF!"},{"$error":"#REF!"},{"$error":"#REF!"},{"$error":"#REF!"},{"$error":"#REF!"},null,738,15441,0,0,null,null,null,0,738,0,0]
[751,15458,"2023/0048871-6","2023-02-17","Paga em JUN-2023 - 1ª remessa","2023-06-01","NÃO",1,"MS 4.151/DF","1995-07-21","1999-02-12","Mandado de Segurança 4.151/DF","20160247985-4","2023-02-02","UNIÃO","Administrativo - Servidor Público Civil - Reajustes de Remuneração, Proventos ou Pensão","Alimentar","Joaquim Jarbas de Oliveira Viana","445.702.016-87","Servidor Público Civil Ativo","Diferença de remuneração - 3,17%","Ministério da Fazenda",6,"Mota & Advogados Associados","03.996.810/0001-38",1,"Mauro Menezes e Advogados","32.901.423/0001-79",1,"Caputo, Bastos e Serra Advogados","12.291.813/0001-67",0," x x x "," x x x ","Dedução de Honorários Contratuais","Não","Não","Não","-","-","Não informada","Não Informada","NÃO",25204.080000000002,45243.770000000004,70447.850000000006,1512.24,2714.63,4226.87,252.04,452.43000000000006,704.47,252.04,452.43000000000006,704.47,0,0,0,23187.759999999998,41624.280000000013,64812.040000000008,29855.77,3284.13,6568.26,53,3284.13,null,0,0,0,0,0,0,0,0,0,0,0,0,0,0,0,0,0,0,0,0,0,0,null,25204.080000000002,45243.770000000004,70447.850000000006,1512.24,2714.63,4226.87,252.04,452.43000000000006,704.47,252.04,452.43000000000006,704.47,0,0,0,23187.759999999998,41624.280000000013,64812.040000000008,29855.77,3284.13,6568.26,3284.13,"2023-02-01",1,{"$error":"#REF!"},25204.080000000002,45243.77,{"$error":"#REF!"},{"$error":"#REF!"},{"$error":"#REF!"},{"$error":"#REF!"},{"$error":"#REF!"},{"$error":"#REF!"},{"$error":"#REF!"},{"$error":"#REF!"},{"$error":"#REF!"},{"$error":"#REF!"},{"$error":"#REF!"},{"$error":"#REF!"},{"$error":"#REF!"},null,0,0,0,0,0,{"$error":"#REF!"},0,0,0,0,null,{"$error":"#REF!"},{"$error":"#REF!"},{"$error":"#REF!"},{"$error":"#REF!"},0,{"$error":"#REF!"},{"$error":"#REF!"},{"$error":"#REF!"},{"$error":"#REF!"},{"$error":"#REF!"},null,751,15458,0,0,null,null,null,0,751,0,0]
[760,15467,"2023/0048889-1","2023-02-17","Paga em JUN-2023 - 2ª remessa","2023-06-01","NÃO",2,"MS 4.151/DF","1995-07-21","1999-02-12","Mandado de Segurança 4.151/DF","2016/0127277-1","2023-02-02","UNIÃO","Administrativo - Servidor Público Civil - Reajustes de Remuneração, Proventos ou Pensão","Alimentar","Ailton Lauriano Teixeira","058.839.380-00","Servidor Público Civil Inativo","Diferença de remuneração - 3,17%","Ministério da Fazenda",6,"Mota & Advogados Associados","03.996.810/0001-38",1,"Mauro Menezes e Advogados","32.901.423/0001-79",1,"Caputo, Bastos e Serra Advogados","12.291.813/0001-67",0," x x x "," x x x ","Dedução de Honorários Contratuais","Não","Não","Não","-","-","Não informada","Não Informada","NÃO",25759.53,44161.170000000013,69920.700000000012,1545.57,2649.67,4195.24,257.58999999999997,441.61000000000007,699.2,257.58999999999997,441.61000000000007,699.2,0,0,0,23698.78,40628.280000000013,64327.060000000012,0,0,0,53,0,null,0,0,0,0,0,0,0,0,0,0,0,0,0,0,0,0,0,0,0,0,0,0,null,25759.53,44161.170000000013,69920.700000000012,1545.57,2649.67,4195.24,257.58999999999997,441.61000000000007,699.2,257.58999999999997,441.61000000000007,699.2,0,0,0,23698.78,40628.280000000013,64327.060000000012,0,0,0,0,"2023-02-01",1,{"$error":"#REF!"},25759.53,44161.17,{"$error":"#REF!"},{"$error":"#REF!"},{"$error":"#REF!"},{"$error":"#REF!"},{"$error":"#REF!"},{"$error":"#REF!"},{"$error":"#REF!"},{"$error":"#REF!"},0,0,0,{"$error":"#REF!"},{"$error":"#REF!"},null,0,0,0,0,0,{"$error":"#REF!"},0,0,0,0,null,{"$error":"#REF!"},{"$error":"#REF!"},{"$error":"#REF!"},{"$error":"#REF!"},0,{"$error":"#REF!"},0,0,0,0,null,760,15467,0,0,null,null,null,0,0,0,0]
[{"$f":"IF(B777=\"\",\"\",A776+1)","v":769},15476,"2023/0048911-9","2023-02-17","Paga em JUN-2023 - 2ª remessa","2023-06-01","NÃO",2,"MS 4.151/DF","1995-07-21","1999-02-12","Mandado de Segurança 4.151/DF","20160153098-9","2023-02-02","UNIÃO","Administrativo - Servidor Público Civil - Reajustes de Remuneração, Proventos ou Pensão","Alimentar","Luis Antonio Faria de Camargo","645.411.348-53","Servidor Público Civil Ativo","Diferença de remuneração - 3,17%","Ministério da Fazenda",6,"Mota & Advogados Associados","03.996.810/0001-38",1,"Mauro Menezes e Advogados","32.901.423/0001-79",1,"Caputo, Bastos e Serra Advogados","12.291.813/0001-67",0," x x x "," x x x ","Dedução de Honorários Contratuais","Não","Não","Não","-","-","Não informada","Não Informada","NÃO",22216.68,42099.719999999994,64316.399999999994,1333,2525.98,3858.98,222.16,421,643.16,222.16,421,643.16,0,0,0,20439.36,38731.739999999983,59171.099999999984,29966.53,3296.31,6592.62,53,3296.31,null,0,0,0,0,0,0,0,0,0,0,0,0,0,0,0,0,0,0,0,0,0,0,null,22216.68,42099.719999999994,64316.399999999994,1333,2525.98,3858.98,222.16,421,643.16,222.16,421,643.16,0,0,0,20439.36,38731.739999999983,59171.099999999984,29966.53,3296.31,6592.62,3296.31,"2023-02-01",1,{"$error":"#REF!"},22216.68,42099.72,{"$error":"#REF!"},{"$error":"#REF!"},{"$error":"#REF!"},{"$error":"#REF!"},{"$error":"#REF!"},{"$error":"#REF!"},{"$error":"#REF!"},{"$error":"#REF!"},{"$error":"#REF!"},{"$error":"#REF!"},{"$error":"#REF!"},{"$error":"#REF!"},{"$error":"#REF!"},null,0,0,0,0,0,{"$error":"#REF!"},0,0,0,0,null,{"$error":"#REF!"},{"$error":"#REF!"},{"$error":"#REF!"},{"$error":"#REF!"},0,{"$error":"#REF!"},{"$error":"#REF!"},{"$error":"#REF!"},{"$error":"#REF!"},{"$error":"#REF!"},null,769,15476,0,0,null,null,null,0,0,0,0]
[782,15489,"2023/0049681-8","2023-02-17","Paga em JUN-2023 - 2ª remessa","2023-06-01","NÃO",2,"MS 4.151/DF","1995-07-21","1999-02-12","Mandado de Segurança 4.151/DF","2016/01295810","2023-02-08","UNIÃO","Administrativo - Servidor Público Civil - Reajustes de Remuneração, Proventos ou Pensão","Alimentar","Carlos César Menine","163.092.869-00","Servidor Público Civil Ativo","Diferença de remuneração - 3,17%","Ministério da Fazenda",6,"Mota & Advogados Associados","03.996.810/0001-38",1,"Mauro Menezes e Advogados","32.901.423/0001-79",1,"Caputo, Bastos e Serra Advogados","12.291.813/0001-67",0," x x x "," x x x ","Dedução de Honorários Contratuais","Não","Não","Não","-","-","Não informada","Não Informada","NÃO",17113.68,38603.07,55716.75,1026.82,2316.1800000000003,3343,171.13,386.03,557.16,171.13,386.03,557.16,0,0,0,15744.600000000002,35514.829999999987,51259.429999999993,30354.34,3338.97,6677.94,53,3338.97,null,0,0,0,0,0,0,0,0,0,0,0,0,0,0,0,0,0,0,0,0,0,0,null,17113.68,38603.07,55716.75,1026.82,2316.1800000000003,3343,171.13,386.03,557.16,171.13,386.03,557.16,0,0,0,15744.600000000002,35514.829999999987,51259.429999999993,30354.34,3338.97,6677.94,3338.97,"2023-02-01",1,{"$error":"#REF!"},17113.68,38603.07,{"$error":"#REF!"},{"$error":"#REF!"},{"$error":"#REF!"},{"$error":"#REF!"},{"$error":"#REF!"},{"$error":"#REF!"},{"$error":"#REF!"},{"$error":"#REF!"},{"$error":"#REF!"},{"$error":"#REF!"},{"$error":"#REF!"},{"$error":"#REF!"},{"$error":"#REF!"},null,0,0,0,0,0,{"$error":"#REF!"},0,0,0,0,null,{"$error":"#REF!"},{"$error":"#REF!"},{"$error":"#REF!"},{"$error":"#REF!"},0,{"$error":"#REF!"},{"$error":"#REF!"},{"$error":"#REF!"},{"$error":"#REF!"},{"$error":"#REF!"},null,782,15489,0,0,null,null,null,0,0,0,0]
[798,15508,"2023/0049802-9","2023-02-17","Paga em JUN-2023 - 2ª remessa","2023-06-01","NÃO",2,"MS 4.151/DF","1995-07-21","1999-02-12","Mandado de Segurança 4.151/DF","2016/0127261-0","2023-02-02","UNIÃO","Administrativo - Servidor Público Civil - Reajustes de Remuneração, Proventos ou Pensão","Alimentar","Adailsa Pires de Araújo","130.613.958-90","Servidor Público Civil Ativo","Diferença de remuneração - 3,17%","Ministério da Fazenda",6,"Mota & Advogados Associados","03.996.810/0001-38",1,"Mauro Menezes e Advogados","32.901.423/0001-79",1,"Caputo, Bastos e Serra Advogados","12.291.813/0001-67",0," x x x "," x x x ","Dedução de Honorários Contratuais","Não","Não","Não","-","-","Não informada","Não Informada","NÃO",27288.240000000002,47218.92,74507.16,1637.29,2833.13,4470.42,272.88,472.19000000000005,745.07,272.88,472.19000000000005,745.07,0,0,0,25105.19,43441.409999999989,68546.599999999991,29654.080000000002,3261.94,6523.88,53,3261.94,null,0,0,0,0,0,0,0,0,0,0,0,0,0,0,0,0,0,0,0,0,0,0,null,27288.240000000002,47218.92,74507.16,1637.29,2833.13,4470.42,272.88,472.19000000000005,745.07,272.88,472.19000000000005,745.07,0,0,0,25105.19,43441.409999999989,68546.599999999991,29654.080000000002,3261.94,6523.88,3261.94,"2023-02-01",1,{"$error":"#REF!"},27288.240000000002,47218.92,{"$error":"#REF!"},{"$error":"#REF!"},{"$error":"#REF!"},{"$error":"#REF!"},{"$error":"#REF!"},{"$error":"#REF!"},{"$error":"#REF!"},{"$error":"#REF!"},{"$error":"#REF!"},{"$error":"#REF!"},{"$error":"#REF!"},{"$error":"#REF!"},{"$error":"#REF!"},null,0,0,0,0,0,{"$error":"#REF!"},0,0,0,0,null,{"$error":"#REF!"},{"$error":"#REF!"},{"$error":"#REF!"},{"$error":"#REF!"},0,{"$error":"#REF!"},{"$error":"#REF!"},{"$error":"#REF!"},{"$error":"#REF!"},{"$error":"#REF!"},null,798,15508,0,0,null,null,null,0,0,0,0]
[799,15509,"2023/0053233-7","2023-02-23","Paga em JUN-2023 - 2ª remessa","2023-06-01","NÃO",2,"MS 4.151/DF","1995-07-21","1999-02-12","Mandado de Segurança 4.151/DF","2016/01283134","2023-02-02","UNIÃO","Administrativo - Servidor Público Civil - Reajustes de Remuneração, Proventos ou Pensão","Alimentar","Espólio de Anna Moreira Teles","989.454.327-87","Servidor Público Civil Inativo","Diferença de remuneração - 3,17%","Ministério da Fazenda",4,"Mota & Advogados Associados","03.996.810/0001-38",1,"Mauro Menezes e Advogados","32.901.423/0001-79",1,"Caputo, Bastos e Serra Advogados","12.291.813/0001-67",5,"Ibaneis Advocacia e Consultoria Sociedade Simples","05.613.437/0001-14","Dedução de Honorários Contratuais","Não","Não","Não","-","-","Não informada","Não Informada","NÃO",26919.43,51200.57,78120,1076.77,2048.0300000000002,3124.8,269.19,512.01,781.2,269.19,512.01,781.2,1345.97,2560.0299999999997,3906,23958.31,45568.490000000005,69526.8,0,0,0,53,0,null,0,0,0,0,0,0,0,0,0,0,0,0,0,0,0,0,0,0,0,0,0,0,null,26919.43,51200.57,78120,1076.77,2048.0300000000002,3124.8,269.19,512.01,781.2,269.19,512.01,781.2,1345.97,2560.0299999999997,3906,23958.31,45568.490000000005,69526.8,0,0,0,0,"2023-02-01",1,{"$error":"#REF!"},26919.43,51200.57,{"$error":"#REF!"},{"$error":"#REF!"},{"$error":"#REF!"},{"$error":"#REF!"},{"$error":"#REF!"},{"$error":"#REF!"},{"$error":"#REF!"},{"$error":"#REF!"},0,0,0,{"$error":"#REF!"},{"$error":"#REF!"},null,0,0,0,0,0,{"$error":"#REF!"},0,0,0,0,null,{"$error":"#REF!"},{"$error":"#REF!"},{"$error":"#REF!"},{"$error":"#REF!"},{"$error":"#REF!"},{"$error":"#REF!"},0,0,0,0,null,799,15509,0,0,null,null,null,0,0,0,0]
[812,15522,"2023/0055131-0","2023-02-24","Paga em JUN-2023 - 2ª remessa","2023-06-01","NÃO",2,"MS 20.231/DF","2013-06-06","2017-04-29","Mandado de Segurança 20.231/DF","2021/0077047-3","2023-02-09","UNIÃO","Administrativo - Servidor Público Civil - Sistema Remuneratório e Benefícios (PRINCIPAL)","Alimentar","Joyce Yasmine Ribeiro de Cristo","802.280.035-04","Pensionista Civil","Gratificação de Apoio à Execução de Atividades da Comissão Executiva do Plano da Lavoura Cacaueira - GECEPLAC","Ministério do Planejamento, Orçamento e Gestão",10,"Mota & Advogados Associados","03.996.810/0001-38",0," x x x ","x x x",0," x x x "," x x x ",0," x x x "," x x x ","Dedução de Honorários Contratuais","Não","Não","Não","-","-","Não informada","Não Informada","NÃO",9494.0399999999991,2623.24,12474.56,949.4,298.05000000000007,1247.45,0,0,0,0,0,0,0,0,0,8544.64,2682.4699999999993,11227.109999999999,9494.0399999999991,1044.3399999999999,0,53,1044.3399999999999,null,0,0,0,0,0,0,0,0,0,0,0,0,0,0,0,0,0,0,0,0,0,0,null,9494.0399999999991,2623.24,12474.56,949.4,298.05000000000007,1247.45,0,0,0,0,0,0,0,0,0,8544.64,2682.4699999999993,11227.109999999999,9494.0399999999991,1044.3399999999999,0,1044.3399999999999,"2023-02-01",1,{"$error":"#REF!"},8355.9599999999991,2623.24,{"$error":"#REF!"},{"$error":"#REF!"},{"$error":"#REF!"},{"$error":"#REF!"},{"$error":"#REF!"},{"$error":"#REF!"},{"$error":"#REF!"},{"$error":"#REF!"},{"$error":"#REF!"},{"$error":"#REF!"},0,{"$error":"#REF!"},{"$error":"#REF!"},null,0,0,0,0,0,{"$error":"#REF!"},0,0,0,0,null,{"$error":"#REF!"},{"$error":"#REF!"},0,0,0,{"$error":"#REF!"},{"$error":"#REF!"},{"$error":"#REF!"},0,{"$error":"#REF!"},null,812,15522,0,0,null,null,null,0,0,0,0]
[{"$f":"IF(B841=\"\",\"\",A840+1)","v":833},15547,"2023/0057706-0","2023-02-27","Paga em JUN-2023 - 2ª remessa","2023-06-01","NÃO",2,"AR 1.169/CE","1999-10-18","2004-06-07","Ação Rescisória 1.169/CE","2009/0055120-3","2014-09-30","Instituto Nacional do Seguro Social – INSS","Administrativo - Servidor Público Civil - Sistema Remuneratório e Benefícios","Alimentar","Lucio Silva Do Nascimento ","233.762.523-00","Servidor Público Civil Ativo","Anuênios","Instituto Nacional do Seguro Social - INSS",10,"Glayddes Sindeaux Advogados","17.291.820/0001-82",0," x x x ","x x x",0," x x x "," x x x ",0," x x x "," x x x ","Dedução de Honorários Contratuais","Não","Não","Não","-","-","Não informada","Não Informada","NÃO",1180,1452.8700000000001,2830.75,118,165.07,283.07,0,0,0,0,0,0,0,0,0,1062,1485.6799999999998,2547.6799999999998,1180,129.80000000000001,259.60000000000002,47,129.80000000000001,null,0,0,0,0,0,0,0,0,0,0,0,0,0,0,0,0,0,0,0,0,0,0,null,1180,1452.8700000000001,2830.75,118,165.07,283.07,0,0,0,0,0,0,0,0,0,1062,1485.6799999999998,2547.6799999999998,1180,129.80000000000001,259.60000000000002,129.80000000000001,"2023-02-01",1,{"$error":"#REF!"},1038.55,1452.87,{"$error":"#REF!"},{"$error":"#REF!"},{"$error":"#REF!"},{"$error":"#REF!"},{"$error":"#REF!"},{"$error":"#REF!"},{"$error":"#REF!"},{"$error":"#REF!"},{"$error":"#REF!"},{"$error":"#REF!"},{"$error":"#REF!"},{"$error":"#REF!"},{"$error":"#REF!"},null,0,0,0,0,0,{"$error":"#REF!"},0,0,0,0,null,{"$error":"#REF!"},{"$error":"#REF!"},0,0,0,{"$error":"#REF!"},{"$error":"#REF!"},{"$error":"#REF!"},{"$error":"#REF!"},{"$error":"#REF!"},null,833,15547,0,0,null,null,null,0,0,0,0]
[846,15561,"2023/0057862-6","2023-02-27","Paga em JUN-2023 - 2ª remessa","2023-06-01","NÃO",2,"AR 1.169/CE","1999-10-18","2004-06-07","Ação Rescisória 1.169/CE","2009/0055261-7","2014-09-30","Instituto Nacional do Seguro Social – INSS","Administrativo - Servidor Público Civil - Sistema Remuneratório e Benefícios","Alimentar","Margarida Maria Saraiva Mota ","015.542.393-20","Servidor Público Civil Ativo","Anuênios","Instituto Nacional do Seguro Social - INSS",10,"Glayddes Sindeaux Advogados","17.291.820/0001-82",0," x x x ","x x x",0," x x x "," x x x ",0," x x x "," x x x ","Dedução de Honorários Contratuais","Não","Não","Não","-","-","Não informada","Não Informada","NÃO",5680.23,6893.74,13512.89,568.02,783.26,1351.28,0,0,0,0,0,0,0,0,0,5112.2099999999991,7049.4,12161.609999999999,5680.23,624.82000000000005,1249.6400000000001,47,624.82000000000005,null,0,0,0,0,0,0,0,0,0,0,0,0,0,0,0,0,0,0,0,0,0,0,null,5680.23,6893.74,13512.89,568.02,783.26,1351.28,0,0,0,0,0,0,0,0,0,5112.2099999999991,7049.4,12161.609999999999,5680.23,624.82000000000005,1249.6400000000001,624.82000000000005,"2023-02-01",1,{"$error":"#REF!"},4999.33,6893.74,{"$error":"#REF!"},{"$error":"#REF!"},{"$error":"#REF!"},{"$error":"#REF!"},{"$error":"#REF!"},{"$error":"#REF!"},{"$error":"#REF!"},{"$error":"#REF!"},{"$error":"#REF!"},{"$error":"#REF!"},{"$error":"#REF!"},{"$error":"#REF!"},{"$error":"#REF!"},null,0,0,0,0,0,{"$error":"#REF!"},0,0,0,0,null,{"$error":"#REF!"},{"$error":"#REF!"},0,0,0,{"$error":"#REF!"},{"$error":"#REF!"},{"$error":"#REF!"},{"$error":"#REF!"},{"$error":"#REF!"},null,846,15561,0,0,null,null,null,0,0,0,0]
[855,15572,"2023/0057938-2","2023-02-27","Paga em JUN-2023 - 2ª remessa","2023-06-01","NÃO",2,"AR 1.169/CE","1999-10-18","2004-06-07","Ação Rescisória 1.169/CE","2009/0055261-7","2014-09-30","Instituto Nacional do Seguro Social – INSS","Administrativo - Servidor Público Civil - Sistema Remuneratório e Benefícios","Alimentar","Maria Altanita Brito ","052.168.933-34","Servidor Público Civil Ativo","Anuênios","Instituto Nacional do Seguro Social - INSS",10,"Glayddes Sindeaux Advogados","17.291.820/0001-82",0," x x x ","x x x",0," x x x "," x x x ",0," x x x "," x x x ","Dedução de Honorários Contratuais","Não","Não","Não","-","-","Não informada","Não Informada","NÃO",4607.4699999999993,5774.2800000000007,11168.2,460.74,656.07999999999993,1116.82,0,0,0,0,0,0,0,0,0,4146.7299999999996,5904.6500000000015,10051.380000000001,4607.47,506.82,1013.64,47,506.82,null,0,0,0,0,0,0,0,0,0,0,0,0,0,0,0,0,0,0,0,0,0,0,null,4607.4699999999993,5774.2800000000007,11168.2,460.74,656.07999999999993,1116.82,0,0,0,0,0,0,0,0,0,4146.7299999999996,5904.6500000000015,10051.380000000001,4607.4699999999993,506.82,1013.64,506.82,"2023-02-01",1,{"$error":"#REF!"},4055.16,5774.28,{"$error":"#REF!"},{"$error":"#REF!"},{"$error":"#REF!"},{"$error":"#REF!"},{"$error":"#REF!"},{"$error":"#REF!"},{"$error":"#REF!"},{"$error":"#REF!"},{"$error":"#REF!"},{"$error":"#REF!"},{"$error":"#REF!"},{"$error":"#REF!"},{"$error":"#REF!"},null,0,0,0,0,0,{"$error":"#REF!"},0,0,0,0,null,{"$error":"#REF!"},{"$error":"#REF!"},0,0,0,{"$error":"#REF!"},{"$error":"#REF!"},{"$error":"#REF!"},{"$error":"#REF!"},{"$error":"#REF!"},null,855,15572,0,0,null,null,null,0,0,0,0]
[869,15590,"2023/0059634-5","2023-02-28","Paga em JUN-2023 - 2ª remessa","2023-06-01","NÃO",2,"MS 20.231/DF","2013-06-06","2017-04-29","Mandado de Segurança 20.231/DF","2021/0075811-0","2023-02-09","UNIÃO","Administrativo - Servidor Público Civil - Sistema Remuneratório e Benefícios (PRINCIPAL)","Alimentar","Francisco Gilton de Souza","074.160.245-87","Servidor Público Civil Inativo","Gratificação de Apoio à Execução de Atividades da Comissão Executiva do Plano da Lavoura Cacaueira - GECEPLAC","Ministério do Planejamento, Orçamento e Gestão",10,"Mota & Advogados Associados","03.996.810/0001-38",0," x x x ","x x x",0," x x x "," x x x ",0," x x x "," x x x ","Dedução de Honorários Contratuais","Não","Não","Não","-","-","Não informada","Não Informada","NÃO",55869.81,13811.839999999997,71562.819999999992,5586.98,1569.3000000000002,7156.28,0,0,0,0,0,0,0,0,0,50282.83,14123.709999999992,64406.539999999994,55869.81,6145.67,0,60,6145.67,null,0,0,0,0,0,0,0,0,0,0,0,0,0,0,0,0,0,0,0,0,0,0,null,55869.81,13811.839999999997,71562.819999999992,5586.98,1569.3000000000002,7156.28,0,0,0,0,0,0,0,0,0,50282.83,14123.709999999992,64406.539999999994,55869.81,6145.67,0,6145.67,"2023-02-01",1,{"$error":"#REF!"},49172.52,13811.84,{"$error":"#REF!"},{"$error":"#REF!"},{"$error":"#REF!"},{"$error":"#REF!"},{"$error":"#REF!"},{"$error":"#REF!"},{"$error":"#REF!"},{"$error":"#REF!"},{"$error":"#REF!"},{"$error":"#REF!"},0,{"$error":"#REF!"},{"$error":"#REF!"},null,0,0,0,0,0,{"$error":"#REF!"},0,0,0,0,null,{"$error":"#REF!"},{"$error":"#REF!"},0,0,0,{"$error":"#REF!"},{"$error":"#REF!"},{"$error":"#REF!"},0,{"$error":"#REF!"},null,869,15590,0,0,null,null,null,0,0,0,0]
[876,15597,"2023/0059675-0","2023-02-28","Paga em JUN-2023 - 2ª remessa","2023-06-01","NÃO",2,"MS 20.231/DF","2013-06-06","2017-04-29","Mandado de Segurança 20.231/DF","2021/0075811-0","2023-02-09","UNIÃO","Administrativo - Servidor Público Civil - Sistema Remuneratório e Benefícios (PRINCIPAL)","Alimentar","Gileno Luiz Souza Lima","003.982.685-68","Servidor Público Civil Inativo","Gratificação de Apoio à Execução de Atividades da Comissão Executiva do Plano da Lavoura Cacaueira - GECEPLAC","Ministério do Planejamento, Orçamento e Gestão",10,"Mota & Advogados Associados","03.996.810/0001-38",0," x x x ","x x x",0," x x x "," x x x ",0," x x x "," x x x ","Dedução de Honorários Contratuais","Não","Não","Não","-","-","Não informada","Não Informada","NÃO",55869.81,13811.839999999997,71562.819999999992,5586.98,1569.3000000000002,7156.28,0,0,0,0,0,0,0,0,0,50282.83,14123.709999999992,64406.539999999994,55869.81,6145.67,0,60,6145.67,null,0,0,0,0,0,0,0,0,0,0,0,0,0,0,0,0,0,0,0,0,0,0,null,55869.81,13811.839999999997,71562.819999999992,5586.98,1569.3000000000002,7156.28,0,0,0,0,0,0,0,0,0,50282.83,14123.709999999992,64406.539999999994,55869.81,6145.67,0,6145.67,"2023-02-01",1,{"$error":"#REF!"},49172.52,13811.84,{"$error":"#REF!"},{"$error":"#REF!"},{"$error":"#REF!"},{"$error":"#REF!"},{"$error":"#REF!"},{"$error":"#REF!"},{"$error":"#REF!"},{"$error":"#REF!"},{"$error":"#REF!"},{"$error":"#REF!"},0,{"$error":"#REF!"},{"$error":"#REF!"},null,0,0,0,0,0,{"$error":"#REF!"},0,0,0,0,null,{"$error":"#REF!"},{"$error":"#REF!"},0,0,0,{"$error":"#REF!"},{"$error":"#REF!"},{"$error":"#REF!"},0,{"$error":"#REF!"},null,876,15597,0,0,null,null,null,0,0,0,0]
[885,15446,"2023/0043015-6","2023-02-13","Paga em JUN-2023 - 3ª remessa","2023-06-01","SIM",3,"MS 4.151/DF","1995-07-21","1999-02-12","Mandado de Segurança 4.151/DF","20160144559-9","2022-12-12","UNIÃO","Administrativo - Servidor Público Civil - Reajustes de Remuneração, Proventos ou Pensão","Alimentar","Jane Lúcia Sales Leite","238.708.855-72","Servidor Público Civil Ativo","Diferença de remuneração - 3,17%","Ministério da Fazenda",6,"Mota & Advogados Associados","03.996.810/0001-38",1,"Mauro Menezes e Advogados","32.901.423/0001-79",1,"Caputo, Bastos e Serra Advogados","12.291.813/0001-67",0," x x x "," x x x ","Dedução de Honorários Contratuais","Não","Não","Não","-","-","Não informada","Não Informada","NÃO",23151.54,42827.219999999994,65978.759999999995,1389.09,2569.63,3958.72,231.51,428.27,659.78,231.51,428.27,659.78,0,0,0,21299.430000000004,39401.049999999988,60700.479999999996,29535.11,3248.86,6497.72,53,3248.86,null,23151.540000000005,42827.219999999987,65978.759999999995,1389.09,2569.63,3958.72,231.51,428.27,659.78,231.51,428.27,659.78,0,0,0,21299.430000000004,39401.049999999988,60700.479999999996,29535.11,3248.86,6497.72,3248.86,null,-3.637978807091713E-12,7.2759576141834259E-12,0,0,0,0,0,0,0,0,0,0,0,0,0,0,0,0,0,0,0,0,"2023-02-01",1,{"$error":"#REF!"},23151.54,42827.22,{"$error":"#REF!"},{"$error":"#REF!"},{"$error":"#REF!"},{"$error":"#REF!"},{"$error":"#REF!"},{"$error":"#REF!"},{"$error":"#REF!"},{"$error":"#REF!"},{"$error":"#REF!"},{"$error":"#REF!"},{"$error":"#REF!"},{"$error":"#REF!"},{"$error":"#REF!"},null,{"$error":"#REF!"},{"$error":"#REF!"},{"$error":"#REF!"},{"$error":"#REF!"},{"$error":"#REF!"},{"$error":"#REF!"},{"$error":"#REF!"},{"$error":"#REF!"},{"$error":"#REF!"},{"$error":"#REF!"},null,{"$error":"#REF!"},{"$error":"#REF!"},{"$error":"#REF!"},{"$error":"#REF!"},{"$error":"#REF!"},{"$error":"#REF!"},{"$error":"#REF!"},{"$error":"#REF!"},{"$error":"#REF!"},{"$error":"#REF!"},null,885,15446,0,0,null,null,null,0,0,0,0]
["",null,"","","","","","","","","","","","","","","","","","","","","","","","","","","","","","","","","","","","","","","","","","","","","","","","","","","","","","","","","","","","","","","","",null,"","","","","","","","","","","","","","","","","","","","","","",null,"","","","","","","","","","","","","","","","","","","","","","","","","","","","","","","","","","","","","","","","",null,"","","","","","","","","","",null,"","","","","","","","","","",null,{"$f":"IF(F906=$EX$6,A906,0)","v":0},0,0,0,null,null,null,0,0,0,0]
["",null,"","","","","","","","","","","","","","","","","","","","","","","","","","","","","","","","","","","","","","","","","","","","","","","","","","","","","","","","","","","","","","","","",null,"","","","","","","","","","","","","","","","","","","","","","",null,"","","","","","","","","","","","","","","","","","","","","","","","","","","","","","","","","","","","","","","","",null,"","","","","","","","","","",null,"","","","","","","","","","",null,0,0,0,0,null,null,null,0,0,0,0]
["",null,"","","","","","","","","","","","","","","","","","","","","","","","","","","","","","","","","","","","","","","","","","","","","","","","","","","","","","","","","","","","","","","","",null,"","","","","","","","","","","","","","","","","","","","","","",null,"","","","","","","","","","","","","","","","","","","","","","","","","","","","","","","","","","","","","","","","",null,"","","","","","","","","","",null,"","","","","","","","","","",null,0,0,0,0,null,null,null,0,0,0,0]
["",null,"","","","","","","","","","","","","","","","","","","","","","","","","","","","","","","","","","","","","","","","","","","","","","","","","","","","","","","","","","","","","","","","",null,"","","","","","","","","","","","","","","","","","","","","","",null,"","","","","","","","","","","","","","","","","","","","","","","","","","","","","","","","","","","","","","","","",null,"","","","","","","","","","",null,"","","","","","","","","","",null,0,0,0,0,null,null,null,0,0,0,0]
["",null,"","","","","","","","","","","","","","","","","","","","","","","","","","","","","","","","","","","","","","","","","","","","","","","","","","","","","","","","","","","","","","","","",null,"","","","","","","","","","","","","","","","","","","","","","",null,"","","","","","","","","","","","","","","","","","","","","","","","","","","","","","","","","","","","","","","","",null,"","","","","","","","","","",null,"","","","","","","","","","",null,0,0,0,0,null,null,null,0,0,0,0]
["",null,"","","","","","","","","","","","","","","","","","","","","","","","","","","","","","","","","","","","","","","","","","","","","","","","","","","","","","","","","","","","","","","","",null,"","","","","","","","","","","","","","","","","","","","","","",null,"","","","","","","","","","","","","","","","","","","","","","","","","","","","","","","","","","","","","","","","",null,"","","","","","","","","","",null,"","","","","","","","","","",null,0,0,0,0,null,null,null,0,0,0,0]
["",null,"","","","","","","","","","","","","","","","","","","","","","","","","","","","","","","","","","","","","","","","","","","","","","","","","","","","","","","","","","","","","","","","",null,"","","","","","","","","","","","","","","","","","","","","","",null,"","","","","","","","","","","","","","","","","","","","","","","","","","","","","","","","","","","","","","","","",null,"","","","","","","","","","",null,"","","","","","","","","","",null,0,0,0,0,null,null,null,0,0,0,0]
["",null,"","","","","","","","","","","","","","","","","","","","","","","","","","","","","","","","","","","","","","","","","","","","","","","","","","","","","","","","","","","","","","","","",null,"","","","","","","","","","","","","","","","","","","","","","",null,"","","","","","","","","","","","","","","","","","","","","","","","","","","","","","","","","","","","","","","","",null,"","","","","","","","","","",null,"","","","","","","","","","",null,0,0,0,0,null,null,null,0,0,0,0]
["",null,"","","","","","","","","","","","","","","","","","","","","","","","","","","","","","","","","","","","","","","","","","","","","","","","","","","","","","","","","","","","","","","","",null,"","","","","","","","","","","","","","","","","","","","","","",null,"","","","","","","","","","","","","","","","","","","","","","","","","","","","","","","","","","","","","","","","",null,"","","","","","","","","","",null,"","","","","","","","","","",null,0,0,0,0,null,null,null,0,0,0,0]
["",null,"","","","","","","","","","","","","","","","","","","","","","","","","","","","","","","","","","","","","","","","","","","","","","","","","","","","","","","","","","","","","","","","",null,"","","","","","","","","","","","","","","","","","","","","","",null,"","","","","","","","","","","","","","","","","","","","","","","","","","","","","","","","","","","","","","","","",null,"","","","","","","","","","",null,"","","","","","","","","","",null,0,0,0,0,null,null,null,0,0,0,0]
["",null,"","","","","","","","","","","","","","","","","","","","","","","","","","","","","","","","","","","","","","","","","","","","","","","","","","","","","","","","","","","","","","","","",null,"","","","","","","","","","","","","","","","","","","","","","",null,"","","","","","","","","","","","","","","","","","","","","","","","","","","","","","","","","","","","","","","","",null,"","","","","","","","","","",null,"","","","","","","","","","",null,0,0,0,0,null,null,null,0,0,0,0]
["",null,"","","","","","","","","","","","","","","","","","","","","","","","","","","","","","","","","","","","","","","","","","","","","","","","","","","","","","","","","","","","","","","","",null,"","","","","","","","","","","","","","","","","","","","","","",null,"","","","","","","","","","","","","","","","","","","","","","","","","","","","","","","","","","","","","","","","",null,"","","","","","","","","","",null,"","","","","","","","","","",null,0,0,0,0,null,null,null,0,0,0,0]
["",null,"","","","","","","","","","","","","","","","","","","","","","","","","","","","","","","","","","","","","","","","","","","","","","","","","","","","","","","","","","","","","","","","",null,"","","","","","","","","","","","","","","","","","","","","","",null,"","","","","","","","","","","","","","","","","","","","","","","","","","","","","","","","","","","","","","","","",null,"","","","","","","","","","",null,"","","","","","","","","","",null,0,0,0,0,null,null,null,0,0,0,0]
["",null,"","","","","","","","","","","","","","","","","","","","","","","","","","","","","","","","","","","","","","","","","","","","","","","","","","","","","","","","","","","","","","","","",null,"","","","","","","","","","","","","","","","","","","","","","",null,"","","","","","","","","","","","","","","","","","","","","","","","","","","","","","","","","","","","","","","","",null,"","","","","","","","","","",null,"","","","","","","","","","",null,0,0,0,0,null,null,null,0,0,0,0]
["",null,"","","","","","","","","","","","","","","","","","","","","","","","","","","","","","","","","","","","","","","","","","","","","","","","","","","","","","","","","","","","","","","","",null,"","","","","","","","","","","","","","","","","","","","","","",null,"","","","","","","","","","","","","","","","","","","","","","","","","","","","","","","","","","","","","","","","",null,"","","","","","","","","","",null,"","","","","","","","","","",null,0,0,0,0,null,null,null,0,0,0,0]
["",null,"","","","","","","","","","","","","","","","","","","","","","","","","","","","","","","","","","","","","","","","","","","","","","","","","","","","","","","","","","","","","","","","",null,"","","","","","","","","","","","","","","","","","","","","","",null,"","","","","","","","","","","","","","","","","","","","","","","","","","","","","","","","","","","","","","","","",null,"","","","","","","","","","",null,"","","","","","","","","","",null,0,0,0,0,null,null,null,0,0,0,0]
["",null,"","","","","","","","","","","","","","","","","","","","","","","","","","","","","","","","","","","","","","","","","","","","","","","","","","","","","","","","","","","","","","","","",null,"","","","","","","","","","","","","","","","","","","","","","",null,"","","","","","","","","","","","","","","","","","","","","","","","","","","","","","","","","","","","","","","","",null,"","","","","","","","","","",null,"","","","","","","","","","",null,0,0,0,0,null,null,null,0,0,0,0]
["",null,"","","","","","","","","","","","","","","","","","","","","","","","","","","","","","","","","","","","","","","","","","","","","","","","","","","","","","","","","","","","","","","","",null,"","","","","","","","","","","","","","","","","","","","","","",null,"","","","","","","","","","","","","","","","","","","","","","","","","","","","",{"$f":"IF(DI1112=\"\",\"\",IF(OR(I1112=\"ms 4.151/df\",I1112=\"ms 6.040/df\"),TRUNC(VLOOKUP(B1112,expedidas,52)*DJ1112*DK1112/100,2),IF(VLOOKUP(B1112,expedidas,50)=0,0,IF(AND(MONTH(DI1112)=2,YEAR(DI1112)=2022),0,IF(DK1112=\"informar\",\"\",VLOOKUP(B1112,expedidas,50)+TRUNC((VLOOKUP(B1112,expedidas,52))*DJ1112*DK1112/100,2))))))","v":""},"","","","","","","","","","","",null,"","","","","","","","","","",null,"","","","","","","","","","",null,0,0,0,0,null,null,null,0,0,0,0]
["",null,"","","","","","","","","","","","","","","","","","","","","","","","","","","","","","","","","","","","","","","","","","","","","","","","","","","","","","","","","","","","","","","","",null,"","","","","","","","","","","","","","","","","","","","","","",null,"","","","","","","","","","","","","","","","","","","","","","","","","","","","","","","","","","","","","","","","",null,"","","","","","","","","","",null,"","","","","","","","","","",null,0,0,0,0,null,null,null,0,0,0,0]
["",null,"","","","","","","","","","","","","","","","","","","","","","","","","","","","","","","","","","","","","","","","","","","","","","","","","","","","","","","","","","","","","","","","",null,"","","","","","","","","","","","","","","","","","","","","","",null,"","","","","","","","","","","","","","","","","","","","","","","","","","","","","","","","","","","","","","","","",null,"","","","","","","","","","",null,"","","","","","","","","","",null,0,0,0,0,null,null,null,0,0,0,0]
["",null,"","","","","","","","","","","","","","","","","","","","","","","","","","","","","","","","","","","","","","","","","","","","","","","","","","","","","","","","","","","","","","","","",null,"","","","","","","","","","","","","","","","","","","","","","",null,"","","","","","","","","","","","","","","","","","","","","","","","","","","","","","","","","","","","","","","","",null,"","","","","","","","","","",null,"","","","","","","","","","",null,0,0,0,0,null,null,null,0,0,0,0]
["",null,"","","","","","","","","","","","","","","","","","","","","","","","","","","","","","","","","","","","","","","","","","","","","","","","","","","","","","","","","","","","","","","","",null,"","","","","","","","","","","","","","","","","","","","","","",null,"","","","","","","","","","","","","","","","","","","","","","","","","","","","","","","","","","","","","","","","",null,"","","","","","","","","","",null,"","","","","","","","","","",null,0,0,0,0,null,null,null,0,0,0,0]
["",null,"","","","","","","","","","","","","","","","","","","","","","","","","","","","","","","","","","","","","","","","","","","","","","","","","","","","","","","","","","","","","","","","",null,"","","","","","","","","","","","","","","","","","","","","","",null,"","","","","","","","","","","","","","","","","","","","","","","","","","","","","","","","","","","","","","","","",null,"","","","","","","","","","",null,"","","","","","","","","","",null,0,0,0,0,null,null,null,0,0,0,0]
["",null,"","","","","","","","","","","","","","","","","","","","","","","","","","","","","","","","","","","","","","","","","","","","","","","","","","","","","","","","","","","","","","","","",null,"","","","","","","","","","","","","","","","","","","","","","",null,"","","","","","","","","","","","","","","","","","","","","","","","","","","","","","","","","","","","","","","","",null,"","","","","","","","","","",null,"","","","","","","","","","",null,0,0,0,0,null,null,null,0,0,0,0]
["",null,"","","","","","","","","","","","","","","","","","","","","","","","","","","","","","","","","","","","","","","","","","","","","","","","","","","","","","","","","","","","","","","","",null,"","","","","","","","","","","","","","","","","","","","","","",null,"","","","","","","","","","","","","","","","","","","","","","","","","","","","","","","","","","","","","","","","",null,"","","","","","","","","","",null,"","","","","","","","","","",null,0,0,0,0,null,null,null,0,0,0,0]
["",null,"","","","","","","","","","","","","","","","","","","","","","","","","","","","","","","","","","","","","","","","","","","","","","","","","","","","","","","","","","","","","","","","",null,"","","","","","","","","","","","","","","","","","","","","","",null,"","","","","","","","","","","","","","","","","","","","","","","","","","","","","","","","","","","","","","","","",null,"","","","","","","","","","",null,"","","","","","","","","","",null,0,0,0,0,null,null,null,0,0,0,0]
["",null,"","","","","","","","","","","","","","","","","","","","","","","","","","","","","","","","","","","","","","","","","","","","","","","","","","","","","","","","","","","","","","","","",null,"","","","","","","","","","","","","","","","","","","","","","",null,"","","","","","","","","","","","","","","","","","","","","","","","","","","","","","","","","","","","","","","","",null,"","","","","","","","","","",null,"","","","","","","","","","",null,0,0,0,0,null,null,null,0,0,0,0]
["",null,"","","","","","","","","","","","","","","","","","","","","","","","","","","","","","","","","","","","","","","","","","","","","","","","","","","","","","","","","","","","","","","","",null,"","","","","","","","","","","","","","","","","","","","","","",null,"","","","","","","","","","","","","","","","","","","","","","","","","","","","","","","","","","","","","","","","",null,"","","","","","","","","","",null,"","","","","","","","","","",null,0,0,0,0,null,null,null,0,0,0,0]
["",null,"","","","","","","","","","","","","","","","","","","","","","","","","","","","","","","","","","","","","","","","","","","","","","","","","","","","","","","","","","","","","","","","",null,"","","","","","","","","","","","","","","","","","","","","","",null,"","","","","","","","","","","","","","","","","","","","","","","","","","","","","","","","","","","",{"$f":"IF(DJ1242=\"\",\"\",IF(BJ1242=0,0,IF(OR(I1242=\"ms 4.151/df\",I1242=\"ms 6.040/df\"),TRUNC(BJ1242*DJ1242,2)+TRUNC(BJ1242*DK1242/100,2),IF(BJ1242<AR1242,TRUNC((BJ1242)+BJ1242*DK1242/100,2),DL1242+DN1242))))","v":""},"","","","",null,"","","","","","","","","","",null,"","","","","","","","","","",null,0,0,0,0,null,null,null,0,0,0,0]
["",null,"","","","","","","","","","","","","","","","","","","","","","","","","","","","","","","","","","","","","","","","","","","","","","","","","","","","","","","","","","","","","","","","",null,"","","","","","","","","","","","","","","","","","","","","","",null,"","","","","","","","","","","","","","","","","","","","","","","","","","","","","","","","","","","","","","","","",null,"","","","","","","","","","",null,"","","","","","","","","","",null,0,{"$f":"IF(EX1255>0,B1255,0)","v":0},{"$f":"IF(AND(EX1255>0,EX1256=0),EX1255,0)","v":0},0,null,null,null,0,0,0,0]
["",null,"","","","","","","","","","","","","","","","","","","","","","","","","","","","","","","","","","","","","","","","","","","","","","","","","","","","","","","","","","","","","","","","",null,"","","","","","","","","","","","","","","","","","","","","","",null,"","","","","","","","","","","","","","","","","","","","","","","","","","","","","","","","","","","","","","","","",null,"","","","","","","","","","",null,"","","","","","","","","","",null,0,0,0,0,null,null,null,0,0,0,0]
["",null,"","","","","","","","","","","","","","","","","","","","","","","","","","","","","","","","","","","","","","","","","","","","","","","","","","","","","","","","","","","","","","","","",null,"","","","","","","","","","","","","","","","","","","","","","",null,"","","","","","","","","","","","","","","","","","","","","","","","","","","","","","","","","","","","","","","","",null,"","","","","","","","","","",null,"","","","","","","","","","",null,0,0,0,0,null,null,null,0,0,0,0]
["",null,"","","","","","","","","","","","","","","","","","","","","","","","","","","","","","","","","","","","","","","","","","","","","","","","","","","","","","","","","","","","","","","","",null,"","","","","","","","","","","","","","","","","","","","","","",null,"","","","","","","","","","","","","","","","","","","","","","","","","","","","","","","","","","","","","","","","",null,"","","","","","","","","","",null,"","","","","","","","","","",null,0,0,0,0,null,null,null,0,0,0,0]
["",null,"","","","","","","","","","","","","","","","","","","","","","","","","","","","","","","","","","","","","","","","","","","","","","","","","","","","","","","","","","","","","","","","",null,"","","","","","","","","","","","","","","","","","","","","","",null,"","","","","","","","","","","","","","","","","","","","","","","","","","","","","","","","","","","","","","","","",null,"","","","","","","","","","",null,"","","","","","","","","","",null,0,0,0,0,null,null,null,0,0,0,0]
["",null,"","","","","","","","","","","","","","","","","","","","","","","","","","","","","","","","","","","","","","","","","","","","","","","","","","","","","","","","","","","","","","","","",null,"","","","","","","","","","","","","","","","","","","","","","",null,"","","","","","","","","","","","","","","","","","","","","","","","","","","","","","","","","","","","","","","","",null,"","","","","","","","","","",null,"","","","","","","","","","",null,0,0,0,0,null,null,null,0,0,0,0]
["",null,"","","","","","","","","","","","","","","","","","","","","","","","","","","","","","","","","","","","","","","","","","","","","","","","","","","","","","","","","","","","","","","","",null,"","","","","","","","","","","","","","","","","","","","","","",null,"","","","","","","","","","","","","","","","","","","","","","","","","","","","","","","","","","","","","","","","",null,"","","","","","","","","","",null,"","","","","","","","","","",null,0,0,0,0,null,null,null,0,0,0,0]
["",null,"","","","","","","","","","","","","","","","","","","","","","","","","","","","","","","","","","","","","","","","","","","","","","","","","","","","","","","","","","","","","","","","",null,"","","","","","","","","","","","","","","","","","","","","","",null,"","","","","","","","","","","","","","","","","","","","","","","","","","","","","","","","","","","","","","","","",null,"","","","","","","","","","",null,"","","","","","","","","","",null,0,0,0,0,null,null,null,0,0,0,0]
["",null,"","","","","","","","","","","","","","","","","","","","","","","","","","","","","","","","","","","","","","","","","","","","","","","","","","","","","","","","","","","","","","","","",null,"","","","","","","","","","","","","","","","","","","","","","",null,"","","","","","","","","","","","","","","","","","","","","","","","","","","","","","","","","","","","","","","","",null,"","","","","","","","","","",null,"","","","","","","","","","",null,0,0,0,0,null,null,null,0,0,0,0]
["",null,"","","","","","","","","","","","","","","","","","","","","","","","","","","","","","","","","","","","","","","","","","","","","","","","","","","","","","","","","","","","","","","","",null,"","","","","","","","","","","","","","","","","","","","","","",null,"","","","","","","","","","","","","","","","","","","","","","","","","","","","","","","","","","","","","","","","",null,"","","","","","","","","","",null,"","","","","","","","","","",null,0,0,0,0,null,null,null,0,0,0,0]
["",null,"","","","","","","","","","","","","","","","","","","","","","","","","","","","","","","","","","","","","","","","","","","","","","","","","","","","","","","","","","","","","","","","",null,"","","","","","","","","","","","","","","","","","","","","","",null,"","","","","","","","","","","","","","","","","","","","","","","","","","","","","","","","","","","","","","","","",null,"","","","","","","","","","",null,"","","","","","","","","","",null,0,0,0,0,null,null,null,0,0,0,0]
["",null,"","","","","","","","","","","","","","","","","","","","","","","","","","","","","","","","","","","","","","","","","","","","","","","","","","","","","","","","","","","","","","","","",null,"","","","","","","","","","","","","","","","","","","","","","",null,"","","","","","","","","","","","","","","","","","","","","","","","","","","","","","","","","","","","","","","","",null,"","","","","","","","","","",null,"","","","","","","","","","",null,0,0,0,0,null,null,null,0,0,0,0]
["",null,"","","","","","","","","","","","","","","","","","","","","","","","","","","","","","","","","","","","","","","","","","","","","","","","","","","","","","","","","","","","","","","","",null,"","","","","","","","","","","","","","","","","","","","","","",null,"","","","","","","","","","","","","","","","","","","","","","","","","","","","","","","","","","","","","","","","",null,"","","","","","","","","","",null,"","","","","","","","","","",null,0,0,0,0,null,null,null,0,0,0,0]
["",null,"","","","","","","","","","","","","","","","","","","","","","","","","","","","","","","","","","","","","","","","","","","","","","","","","","","","","","","","","","","","","","","","",null,"","","","","","","","","","","","","","","","","","","","","","",null,"","","","","","","","","","","","","","","","","","","","","","","","","","","","","","","","","","","","","","","","",null,"","","","","","","","","","",null,"","","","","","","","","","",null,0,0,0,0,null,null,null,0,0,0,0]
["",null,"","","","","","","","","","","","","","","","","","","","","","","","","","","","","","","","","","","","","","","","","","","","","","","","","","","","","","","","","","","","","","","","",null,"","","","","","","","","","","","","","","","","","","","","","",null,"","","","","","","","","","","","","","","","","","","","","","","","","","","","","","","","","","","","","","","","",null,"","","","","","","","","","",null,"","","","","","","","","","",null,{"$f":"IF(F1418=$EX$6,A1418,0)","v":0},0,0,0,null,null,null,0,0,0,0]
["",null,"","","","","","","","","","","","","","","","","","","","","","","","","","","","","","","","","","","","","","","","","","","","","","","","","","","","","","","","","","","","","","","","",null,"","","","","","","","","","","","","","","","","","","","","","",null,"","","","","","","","","","","","","","","","","","","","","","","","","","","","","","","","","","","","","","","","",null,"","","","","","","","","","",null,"","","","","","","","","","",null,0,0,0,0,null,null,null,0,0,0,0]
["",null,"","","","","","","","","","","","","","","","","","","","","","","","","","","","","","","","","","","","","","","","","","","","","","","","","","","","","","","","","","","","","","","","",null,"","","","","","","","","","","","","","","","","","","","","","",null,"","","","","","","","","","","","","","","","","","","","","","","","","","","","","","","","","","","","","","","","",null,"","","","","","","","","","",null,"","","","","","","","","","",null,0,0,0,0,null,null,null,0,0,0,0]
["",null,"","","","","","","","","","","","","","","","","","","","","","","","","","","","","","","","","","","","","","","","","","","","","","","","","","","","","","","","","","","","","","","","",null,"","","","","","","","","","","","","","","","","","","","","","",null,"","","","","","","","","","","","","","","","","","","","","","","","","","","","","","","","","","","","","","","","",null,"","","","","","","","","","",null,"","","","","","","","","","",null,0,0,0,0,null,null,null,0,0,0,0]
["",null,"","","","","","","","","","","","","","","","","","","","","","","","","","","","","","","","","","","","","","","","","","","","","","","","","","","","","","","","","","","","","","","","",null,"","","","","","","","","","","","","","","","","","","","","","",null,"","","","","","","","","","","","","","","","","","","","","","","","","","","","","","","","","","","","","","","","",null,"","","","","","","","","","",null,"","","","","","","","","","",null,0,0,0,0,null,null,null,0,0,0,0]
["",null,"","","","","","","","","","","","","","","","","","","","","","","","","","","","","","","","","","","","","","","","","","","","","","","","","","","","","","","","","","","","","","","","",null,"","","","","","","","","","","","","","","","","","","","","","",null,"","","","","","","","","","","","","","","","","","","","","","","","","","","","","","","","","","","","","","","","",null,"","","","","","","","","","",null,"","","","","","","","","","",null,0,0,0,0,null,null,null,0,0,0,0]
["",null,"","","","","","","","","","","","","","","","","","","","","","","","","","","","","","","","","","","","","","","","","","","","","","","","","","","","","","","","","","","","","","","","",null,"","","","","","","","","","","","","","","","","","","","","","",null,"","","","","","","","","","","","","","","","","","","","","","","","","","","","","","","","","","","","","","","","",null,"","","","","","","","","","",null,"","","","","","","","","","",null,0,0,0,0,null,null,null,0,0,0,0]
["",null,"","","","","","","","","","","","","","","","","","","","","","","","","","","","","","","","","","","","","","","","","","","","","","","","","","","","","","","","","","","","","","","","",null,"","","","","","","","","","","","","","","","","","","","","","",null,"","","","","","","","","","","","","","","","","","","","","","","","","","","","","","","","","","","","","","","","",null,"","","","","","","","","","",null,"","","","","","","","","","",null,0,0,0,0,null,null,null,0,0,0,0]
["",null,"","","","","","","","","","","","","","","","","","","","","","","","","","","","","","","","","","","","","","","","","","","","","","","","","","","","","","","","","","","","","","","","",null,"","","","","","","","","","","","","","","","","","","","","","",null,"","","","","","","","","","","","","","","","","","","","","","","","","","","","","","","","","","","","","","","","",null,"","","","","","","","","","",null,"","","","","","","","","","",null,0,0,0,0,null,null,null,0,0,0,0]
["",null,"","","","","","","","","","","","","","","","","","","","","","","","","","","","","","","","","","","","","","","","","","","","","","","","","","","","","","","","","","","","","","","","",null,"","","","","","","","","","","","","","","","","","","","","","",null,"","","","","","","","","","","","","","","","","","","","","","","","","","","","","","","","","","","","","","","","",null,"","","","","","","","","","",null,"","","","","","","","","","",null,0,0,0,0,null,null,null,0,0,0,0]
["",null,"","","","","","","","","","","","","","","","","","","","","","","","","","","","","","","","","","","","","","","","","","","","","","","","","","","","","","","","","","","","","","","","",null,"","","","","","","","","","","","","","","","","","","","","","",null,"","","","","","","","","","","","","","","","","","","","","","","","","","","","","","","","","","","","","","","","",null,"","","","","","","","","","",null,"","","","","","","","","","",null,0,0,0,0,null,null,null,0,0,0,0]
["",null,"","","","","","","","","","","","","","","","","","","","","","","","","","","","","","","","","","","","","","","","","","","","","","","","","","","","","","","","","","","","","","","","",null,"","","","","","","","","","","","","","","","","","","","","","",null,"","","","","","","","","","","","","","","","","","","","","","","","","","","","","","","","","","","","","","","","",null,"","","","","","","","","","",null,"","","","","","","","","","",null,0,0,0,0,null,null,null,0,0,0,0]
["",null,"","","","","","","","","","","","","","","","","","","","","","","","","","","","","","","","","","","","","","","","","","","","","","","","","","","","","","","","","","","","","","","","",null,"","","","","","","","","","","","","","","","","","","","","","",null,"","","","","","","","","","","","","","","","","","","","","","","","","","","","","","","","","","","","","","","","",null,"","","","","","","","","","",null,"","","","","","","","","","",null,0,0,0,0,null,null,null,0,0,0,0]
["",null,"","","","","","","","","","","","","","","","","","","","","","","","","","","","","","","","","","","","","","","","","","","","","","","","","","","","","","","","","","","","","","","","",null,"","","","","","","","","","","","","","","","","","","","","","",null,"","","","","","","","","","","","","","","","","","","","","","","","","","","","","","","","","","","","","","","","",null,"","","","","","","","","","",null,"","","","","","","","","","",null,0,0,0,0,null,null,null,0,0,0,0]
["",null,"","","","","","","","","","","","","","","","","","","","","","","","","","","","","","","","","","","","","","","","","","","","","","","","","","","","","","","","","","","","","","","","",null,"","","","","","","","","","","","","","","","","","","","","","",null,"","","","","","","","","","","","","","","","","","","","","","","","","","","","","","","","","","","","","","","","",null,"","","","","","","","","","",null,"","","","","","","","","","",null,0,0,0,0,null,null,null,0,0,0,0]
["",null,"","","","","","","","","","","","","","","","","","","","","","","","","","","","","","","","","","","","","","","","","","","","","","","","","","","","","","","","","","","","","","","","",null,"","","","","","","","","","","","","","","","","","","","","","",null,"","","","","","","","","","","","","","","","","","","","","","","","","","","","","","","","","","","","","","","","",null,"","","","","","","","","","",null,"","","","","","","","","","",null,0,0,0,0,null,null,null,0,0,0,0]
["",null,"","","","","","","","","","","","","","","","","","","","","","","","","","","","","","","","","","","","","","","","","","","","","","","","","","","","","","","","","","","","","","","","",null,"","","","","","","","","","","","","","","","","","","","","","",null,"","","","","","","","","","","","","","","","","","","","","","","","","","","","","","","","","","","","","","","","",null,"","","","","","","","","","",null,"","","","","","","","","","",null,0,0,0,0,null,null,null,0,0,0,0]
["",null,"","","","","","","","","","","","","","","","","","","","","","","","","","","","","","","","","","","","","","","","","","","","","","","","","","","","","","","","","","","","","","","","",null,"","","","","","","","","","","","","","","","","","","","","","",null,"","","","","","","","","","","","","","","","","","","","","","","","","","","","","","","","","","","","","","","","",null,"","","","","","","","","","",null,"","","","","","","","","","",null,0,0,0,0,null,null,null,0,0,0,0]
["",null,"","","","","","","","","","","","","","","","","","","","","","","","","","","","","","","","","","","","","","","","","","","","","","","","","","","","","","","","","","","","","","","","",null,"","","","","","","","","","","","","","","","","","","","","","",null,"","","","","","","","","","","","","","","","","","","","","","","","","","","","","","","","","","","","","","","","",null,"","","","","","","","","","",null,"","","","","","","","","","",null,0,0,0,0,null,null,null,0,0,0,0]
["",null,"","","","","","","","","","","","","","","","","","","","","","","","","","","","","","","","","","","","","","","","","","","","","","","","","","","","","","","","","","","","","","","","",null,"","","","","","","","","","","","","","","","","","","","","","",null,"","","","","","","","","","","","","","","","","","","","","","","","","","","","","","","","","","","","","","","","",null,"","","","","","","","","","",null,"","","","","","","","","","",null,0,0,0,0,null,null,null,0,0,0,0]
["",null,"","","","","","","","","","","","","","","","","","","","","","","","","","","","","","","","","","","","","","","","","","","","","","","","","","","","","","","","","","","","","","","","",null,"","","","","","","","","","","","","","","","","","","","","","",null,"","","","","","","","","","","","","","","","","","","","","","","","","","","","","","","","","","","","","","","","",null,"","","","","","","","","","",null,"","","","","","","","","","",null,0,0,0,0,null,null,null,0,0,0,0]
["",null,"","","","","","","","","","","","","","","","","","","","","","","","","","","","","","","","","","","","","","","","","","","","","","","","","","","","","","","","","","","","","","","","",null,"","","","","","","","","","","","","","","","","","","","","","",null,"","","","","","","","","","","","","","","","","","","","","","","","","","","","","","","","","","","","","","","","",null,"","","","","","","","","","",null,"","","","","","","","","","",null,0,0,0,0,null,null,null,0,0,0,0]
[{"$f":"IF(B1673=\"\",\"\",A1672+1)","v":""},null,{"$f":"IF(B1673=\"\",\"\",VLOOKUP(B1673,expedidas,4))","v":""},{"$f":"IF(B1673=\"\",\"\",VLOOKUP(B1673,expedidas,5))","v":""},{"$f":"IF(B1673=\"\",\"\",VLOOKUP(B1673,expedidas,7))","v":""},{"$f":"IF(B1673=\"\",\"\",VLOOKUP(B1673,expedidas,8))","v":""},{"$f":"IF(B1673=\"\",\"\",VLOOKUP(B1673,expedidas,9))","v":""},{"$f":"IF(B1673=\"\",\"\",VLOOKUP(B1673,expedidas,11))","v":""},{"$f":"IF(B1673=\"\",\"\",VLOOKUP(B1673,expedidas,12))","v":""},{"$f":"IF(B1673=\"\",\"\",VLOOKUP(B1673,expedidas,14))","v":""},{"$f":"IF(B1673=\"\",\"\",VLOOKUP(B1673,expedidas,15))","v":""},{"$f":"IF(B1673=\"\",\"\",VLOOKUP(B1673,expedidas,19))","v":""},{"$f":"IF(B1673=\"\",\"\",VLOOKUP(B1673,expedidas,20))","v":""},{"$f":"IF(B1673=\"\",\"\",VLOOKUP(B1673,expedidas,21))","v":""},{"$f":"IF(B1673=\"\",\"\",VLOOKUP(B1673,expedidas,18))","v":""},{"$f":"IF(B1673=\"\",\"\",VLOOKUP(B1673,expedidas,16))","v":""},{"$f":"IF(B1673=\"\",\"\",VLOOKUP(B1673,expedidas,26))","v":""},{"$f":"IF(B1673=\"\",\"\",VLOOKUP(B1673,expedidas,22))","v":""},{"$f":"IF(B1673=\"\",\"\",VLOOKUP(B1673,expedidas,23))","v":""},{"$f":"IF(B1673=\"\",\"\",VLOOKUP(B1673,expedidas,24))","v":""},{"$f":"IF(B1673=\"\",\"\",VLOOKUP(B1673,expedidas,25))","v":""},{"$f":"IF(B1673=\"\",\"\",VLOOKUP(B1673,expedidas,17))","v":""},{"$f":"IF(B1673=\"\",\"\",VLOOKUP(B1673,expedidas,27))","v":""},{"$f":"IF(B1673=\"\",\"\",IF(W1673=0,\" x x x \",VLOOKUP(B1673,expedidas,28)))","v":""},{"$f":"IF(B1673=\"\",\"\",VLOOKUP(B1673,expedidas,29))","v":""},{"$f":"IF(B1673=\"\",\"\",VLOOKUP(B1673,expedidas,30))","v":""},{"$f":"IF(B1673=\"\",\"\",VLOOKUP(B1673,expedidas,31))","v":""},{"$f":"IF(B1673=\"\",\"\",IF(Z1673=0,\"x x x\",VLOOKUP(B1673,expedidas,32)))","v":""},{"$f":"IF(B1673=\"\",\"\",VLOOKUP(B1673,expedidas,33))","v":""},{"$f":"IF(B1673=\"\",\"\",IF(AC1673=0,\" x x x \",VLOOKUP(B1673,expedidas,34)))","v":""},{"$f":"IF(B1673=\"\",\"\",IF(AC1673=0,\" x x x \",VLOOKUP(B1673,expedidas,35)))","v":""},{"$f":"IF(B1673=\"\",\"\",VLOOKUP(B1673,expedidas,36))","v":""},{"$f":"IF(B1673=\"\",\"\",IF(AF1673=0,\" x x x \",VLOOKUP(B1673,expedidas,37)))","v":""},{"$f":"IF(B1673=\"\",\"\",IF(AF1673=0,\" x x x \",VLOOKUP(B1673,expedidas,38)))","v":""},{"$f":"IF(B1673=\"\",\"\",VLOOKUP(B1673,expedidas,39))","v":""},{"$f":"IF(B1673=\"\",\"\",VLOOKUP(B1673,expedidas,40))","v":""},{"$f":"IF(B1673=\"\",\"\",VLOOKUP(B1673,expedidas,41))","v":""},{"$f":"IF(B1673=\"\",\"\",VLOOKUP(B1673,expedidas,42))","v":""},{"$f":"IF(B1673=\"\",\"\",VLOOKUP(B1673,expedidas,43))","v":""},{"$f":"IF(B1673=\"\",\"\",VLOOKUP(B1673,expedidas,44))","v":""},{"$f":"IF(B1673=\"\",\"\",VLOOKUP(B1673,expedidas,45))","v":""},{"$f":"IF(B1673=\"\",\"\",VLOOKUP(B1673,expedidas,46))","v":""},{"$f":"IF(B1673=\"\",\"\",VLOOKUP(B1673,expedidas,47))","v":""},{"$f":"IF(B1673=\"\",\"\",IF(I1673=\"MS 11.371/DF\",0,VLOOKUP(B1673,expedidas,49)+VLOOKUP(B1673,expedidas,51)))","v":""},{"$f":"IF(B1673=\"\",\"\",IF(I1673=\"MS 11.371/DF\",AT1673,VLOOKUP(B1673,expedidas,52)))","v":""},{"$f":"IF(B1673=\"\",\"\",VLOOKUP(B1673,expedidas,53))","v":""},{"$f":"IF(B1673=\"\",\"\",IF(I1673=\"MS 11.371/DF\",0,VLOOKUP(B1673,expedidas,54)))","v":""},{"$f":"IF(B1673=\"\",\"\",IF(I1673=\"MS 11.371/DF\",AW1673,VLOOKUP(B1673,expedidas,55)))","v":""},{"$f":"IF(B1673=\"\",\"\",VLOOKUP(B1673,expedidas,56))","v":""},{"$f":"IF(B1673=\"\",\"\",VLOOKUP(B1673,expedidas,57))","v":""},{"$f":"IF(B1673=\"\",\"\",VLOOKUP(B1673,expedidas,58))","v":""},{"$f":"IF(B1673=\"\",\"\",VLOOKUP(B1673,expedidas,59))","v":""},{"$f":"IF(B1673=\"\",\"\",VLOOKUP(B1673,expedidas,60))","v":""},{"$f":"IF(B1673=\"\",\"\",VLOOKUP(B1673,expedidas,61))","v":""},{"$f":"IF(B1673=\"\",\"\",VLOOKUP(B1673,expedidas,62))","v":""},{"$f":"IF(B1673=\"\",\"\",VLOOKUP(B1673,expedidas,63))","v":""},{"$f":"IF(B1673=\"\",\"\",VLOOKUP(B1673,expedidas,64))","v":""},{"$f":"IF(B1673=\"\",\"\",VLOOKUP(B1673,expedidas,65))","v":""},{"$f":"IF(B1673=\"\",\"\",IF(I1673=\"MS 11.371/DF\",0,VLOOKUP(B1673,expedidas,66)))","v":""},{"$f":"IF(B1673=\"\",\"\",IF(I1673=\"MS 11.371/DF\",BI1673,VLOOKUP(B1673,expedidas,67)))","v":""},{"$f":"IF(B1673=\"\",\"\",VLOOKUP(B1673,expedidas,68))","v":""},{"$f":"IF(B1673=\"\",\"\",VLOOKUP(B1673,expedidas,69))","v":""},{"$f":"IF(B1673=\"\",\"\",VLOOKUP(B1673,expedidas,70))","v":""},{"$f":"IF(B1673=\"\",\"\",VLOOKUP(B1673,expedidas,71))","v":""},{"$f":"IF(B1673=\"\",\"\",VLOOKUP(B1673,expedidas,72))","v":""},{"$f":"IF(B1673=\"\",\"\",IF(BM1673=\"-\",\"-\",VLOOKUP(B1673,expedidas,74)))","v":""},null,{"$f":"IF($G1673=\"\",\"\",IF(CA1673=\"informar\",0,IF($G1673=\"não\",0,BS1673+BV1673+BY1673+CE1673)))","v":""},{"$f":"IF($AS1673=\"\",\"\",IF(G1673=\"não\",0,BR1673-BP1673))","v":""},{"$f":"IF($G1673=\"\",\"\",IF(BP1673=0,0,IF($G1673=\"não\",0,BU1673+BX1673+CA1673+CG1673)))","v":""},{"$f":"IF($G1673=\"\",\"\",IF($G1673=\"não\",0,IF(VLOOKUP(B1673,expedidas,10)=\"sim\",0,\"informar\")))","v":""},{"$f":"IF($G1673=\"\",\"\",IF($G1673=\"não\",0,IF(VLOOKUP(B1673,expedidas,10)=\"sim\",0,\"informar\")))","v":""},{"$f":"IF($G1673=\"\",\"\",IF($G1673=\"não\",0,IF(VLOOKUP(B1673,expedidas,10)=\"sim\",0,\"informar\")))","v":""},{"$f":"IF($G1673=\"\",\"\",IF($G1673=\"não\",0,IF(VLOOKUP(B1673,expedidas,10)=\"sim\",0,\"informar\")))","v":""},{"$f":"IF($G1673=\"\",\"\",IF($G1673=\"não\",0,IF(VLOOKUP(B1673,expedidas,10)=\"sim\",0,\"informar\")))","v":""},{"$f":"IF($G1673=\"\",\"\",IF($G1673=\"não\",0,IF(VLOOKUP(B1673,expedidas,10)=\"sim\",0,\"informar\")))","v":""},{"$f":"IF($G1673=\"\",\"\",IF($G1673=\"não\",0,IF(VLOOKUP(B1673,expedidas,10)=\"sim\",0,\"informar\")))","v":""},{"$f":"IF($G1673=\"\",\"\",IF($G1673=\"não\",0,IF(VLOOKUP(B1673,expedidas,10)=\"sim\",0,\"informar\")))","v":""},{"$f":"IF($G1673=\"\",\"\",IF($G1673=\"não\",0,IF(VLOOKUP(B1673,expedidas,10)=\"sim\",0,\"informar\")))","v":""},{"$f":"IF($G1673=\"\",\"\",IF($G1673=\"não\",0,IF(VLOOKUP(B1673,expedidas,10)=\"sim\",0,\"informar\")))","v":""},{"$f":"IF($G1673=\"\",\"\",IF($G1673=\"não\",0,IF(VLOOKUP(B1673,expedidas,10)=\"sim\",0,\"informar\")))","v":""},{"$f":"IF($G1673=\"\",\"\",IF($G1673=\"não\",0,IF(VLOOKUP(B1673,expedidas,10)=\"sim\",0,\"informar\")))","v":""},{"$f":"IF($G1673=\"\",\"\",IF($G1673=\"não\",0,IF(VLOOKUP(B1673,expedidas,10)=\"NÃO\",\"informar\",VLOOKUP(B1673,expedidas,75))))","v":""},{"$f":"IF($G1673=\"\",\"\",IF(VLOOKUP(B1673,expedidas,10)=\"sim\",0,IF($G1673=\"não\",0,\"informar\")))","v":""},{"$f":"IF($G1673=\"\",\"\",IF(VLOOKUP(B1673,expedidas,10)=\"sim\",CE1673,IF($G1673=\"não\",0,\"informar\")))","v":""},{"$f":"IF(B1673=\"\",\"\",IF(VLOOKUP(B1673,expedidas,10)=\"sim\",0,IF(G1673=\"não\",0,IF(BJ1673=0,0,IF(BJ1673=AR1673,BP1673,TRUNC(BJ1673*BP1673/AR1673,2))))))","v":""},{"$f":"IF($BQ1673=\"\",\"\",IF(G1673=\"não\",0,IF(CH1673=\"informar\",0,TRUNC(CH1673*0.11,2))))","v":""},{"$f":"IF($BQ1673=\"\",\"\",IF(G1673=\"não\",0,IF(BL1673=0,0,CI1673*2)))","v":""},{"$f":"IF($BQ1673=\"\",\"\",IF(G1673=\"não\",0,IF(BN1673=0,0,CI1673)))","v":""},null,{"$f":"IF(AR1673=\"\",\"\",IF(BP1673=0,AR1673,AR1673-BP1673))","v":""},{"$f":"IF(AS1673=\"\",\"\",IF(BQ1673=0,AS1673,AS1673-BQ1673))","v":""},{"$f":"IF(AT1673=\"\",\"\",IF(BR1673=0,AT1673,AT1673-BR1673))","v":""},{"$f":"IF(AU1673=\"\",\"\",IF(BS1673=0,AU1673,AU1673-BS1673))","v":""},{"$f":"IF(AV1673=\"\",\"\",IF(BT1673=0,AV1673,AV1673-BT1673))","v":""},{"$f":"IF(AW1673=\"\",\"\",IF(BU1673=0,AW1673,AW1673-BU1673))","v":""},{"$f":"IF(AX1673=\"\",\"\",IF(BV1673=0,AX1673,AX1673-BV1673))","v":""},{"$f":"IF(AY1673=\"\",\"\",IF(BW1673=0,AY1673,AY1673-BW1673))","v":""},{"$f":"IF(AZ1673=\"\",\"\",IF(BX1673=0,AZ1673,AZ1673-BX1673))","v":""},{"$f":"IF(BA1673=\"\",\"\",IF(BY1673=0,BA1673,BA1673-BY1673))","v":""},{"$f":"IF(BB1673=\"\",\"\",IF(BZ1673=0,BB1673,BB1673-BZ1673))","v":""},{"$f":"IF(BC1673=\"\",\"\",IF(CA1673=0,BC1673,BC1673-CA1673))","v":""},{"$f":"IF(BD1673=\"\",\"\",IF(CB1673=0,BD1673,BD1673-CB1673))","v":""},{"$f":"IF(BE1673=\"\",\"\",IF(CC1673=0,BE1673,BE1673-CC1673))","v":""},{"$f":"IF(BF1673=\"\",\"\",IF(CD1673=0,BF1673,BF1673-CD1673))","v":""},{"$f":"IF(BG1673=\"\",\"\",IF(CE1673=0,BG1673,BG1673-CE1673))","v":""},{"$f":"IF(BH1673=\"\",\"\",IF(CF1673=0,BH1673,BH1673-CF1673))","v":""},{"$f":"IF(BI1673=\"\",\"\",IF(CG1673=0,BI1673,BI1673-CG1673))","v":""},{"$f":"IF(CM1673=\"\",\"\",IF(BJ1673=AR1673,CM1673,TRUNC(CM1673*(BJ1673*100/AR1673)/100,2)))","v":""},{"$f":"IF(BK1673=\"\",\"\",IF(CI1673=0,BK1673,BK1673-CI1673))","v":""},{"$f":"IF(BL1673=\"\",\"\",IF(CJ1673=0,BL1673,BL1673-CJ1673))","v":""},{"$f":"DF1673","v":""},{"$f":"IF(B1673=\"\",\"\",VLOOKUP(B1673,expedidas,48))","v":""},{"$f":"IF(DI1673=\"\",\"\",IF(OR(DI1673>=$DJ$7),1,1/VLOOKUP(DI1673,indice,3)*VLOOKUP($DJ$7,indice,3)))","v":""},{"$f":"IF(DI1673=\"\",\"\",IF(I1673=\"ms 4.151/df\",VLOOKUP(DI1673,indice,5),IF(DI1673<$DJ$7,VLOOKUP(F1673,indice,6),VLOOKUP(DI1673,indice,5))))","v":""},{"$f":"IF(DJ1673=\"\",\"\",IF(DJ1673=\"\",\"\",TRUNC((VLOOKUP(B1673,expedidas,51))*DJ1673,2)))","v":""},{"$f":"IF(DJ1673=\"\",\"\",IF(DJ1673=\"\",\"\",(TRUNC((VLOOKUP(B1673,expedidas,52))*DJ1673,2))))","v":""},{"$f":"IF(DK1673=\"\",\"\",IF(DK1673=\"informar\",\"\",VLOOKUP(B1673,expedidas,49)+TRUNC(VLOOKUP(B1673,expedidas,51)*DJ1673*DK1673/100,2)))","v":""},"",{"$f":"IF(DJ1673=\"\",\"\",IF(DJ1673=\"\",\"\",DL1673+DM1673+DN1673+DO1673))","v":""},{"$f":"IF(AT1673=\"\",\"\",TRUNC(DP1673*W1673/100,2))","v":""},{"$f":"IF($DJ1673=\"\",\"\",TRUNC(DP1673*Z1673/100,2))","v":""},{"$f":"IF($DJ1673=\"\",\"\",TRUNC(DP1673*AC1673/100,2))","v":""},{"$f":"IF($DJ1673=\"\",\"\",TRUNC(DP1673*AF1673/100,2))","v":""},{"$f":"IF(AT1673=\"\",\"\",IF(DP1673=\"\",\"\",DP1673-DQ1673-DR1673-DS1673-DT1673))","v":""},"",{"$f":"IF(DJ1673=\"\",\"\",TRUNC(DV1673*0.11,2))","v":""},{"$f":"IF(BL1673=0,0,((IF(DW1673=\"\",\"\",IF(DW1673>0,DW1673*2,DW1673)))))","v":""},{"$f":"IF(DN1673=\"\",\"\",IF(BM1673=0,0,IF(DU1673<(DM1673+DO1673),0,IF(DN1673=0,0,(DU1673-DM1673))-DO1673)))","v":""},{"$f":"IF(DJ1673=\"\",\"\",IF(DY1673=0,0,DW1673))","v":""},null,{"$f":"IF(CO1673=\"\",\"\",IF($G1673=\"não\",0,EC1673+ED1673+EE1673+EF1673+EG1673))","v":""},{"$f":"IF(CR1673=\"\",\"\",IF($G1673=\"não\",0,IF(BU1673=AW1673,DQ1673,TRUNC(BU1673*$DJ1673,2))))","v":""},{"$f":"IF(CU1673=\"\",\"\",IF($G1673=\"não\",0,IF(BX1673=AZ1673,DR1673,TRUNC(BX1673*$DJ1673,2))))","v":""},{"$f":"IF(CX1673=\"\",\"\",IF($G1673=\"não\",0,IF(CA1673=BC1673,DS1673,TRUNC(CA1673*$DJ1673,2))))","v":""},{"$f":"IF(DA1673=\"\",\"\",IF($G1673=\"não\",0,IF(CD1673=BF1673,DT1673,TRUNC(CD1673*$DJ1673,2))))","v":""},{"$f":"IF(DU1673=\"\",\"\",IF($G1673=\"não\",0,IF(CG1673=BI1673,DU1673,VLOOKUP(B1673,expedidas,76))))","v":""},{"$f":"IF(CH1673=\"\",\"\",IF($G1673=\"não\",0,IF(BJ1673=CH1673,DV1673,0)))","v":""},{"$f":"IF(EH1673=\"\",\"\",TRUNC(EH1673*0.11,2))","v":""},{"$f":"IF(CJ1673=\"\",\"\",IF(CJ1673=0,0,EI1673*2))","v":""},{"$f":"IF(CK1673=0,0,EI1673)","v":""},null,{"$f":"IF(EB1673=\"\",\"\",IF(G1673=\"não\",DP1673,EN1673+EO1673+EP1673+EQ1673+ER1673))","v":""},{"$f":"IF(EC1673=\"\",\"\",IF(CR1673=0,0,DQ1673-EC1673))","v":""},{"$f":"IF(ED1673=\"\",\"\",IF(CU1673=0,0,DR1673-ED1673))","v":""},{"$f":"IF(EE1673=\"\",\"\",IF(CX1673=0,0,DS1673-EE1673))","v":""},{"$f":"IF(EF1673=\"\",\"\",IF(DA1673=0,0,DT1673-EF1673))","v":""},{"$f":"IF(EG1673=\"\",\"\",IF(DD1673=0,0,DU1673-EG1673))","v":""},{"$f":"IF(DV1673=\"\",\"\",IF(DV1673=0,0,DV1673-EH1673))","v":""},{"$f":"IF(ES1673=\"\",\"\",IF(ES1673=0,0,TRUNC(ES1673*0.11,2)))","v":""},{"$f":"IF(DX1673=\"\",\"\",IF(DX1673=0,0,ET1673*2))","v":""},{"$f":"IF(BM1673=\"\",\"\",IF(BM1673=0,0,ET1673))","v":""},null,0,0,0,{"$f":"IF(AND(EX1673>0,EX1672=0),EX1673,0)","v":0},null,null,null,0,0,0,0]
["",null,"","","","","","","","","","","","","","","","","","","","","","","","","","","","","","","","","","","","","","","","","","","","","","","","","","","","","","","","","","","","","","","","",null,"","","","","","","","","","","","","","","","","","","","","","",null,"","","","","","","","","","","","","","","","","","","","","","","","","","","","","","","","","","","","","","","","",null,"","","","","","","","","","",null,"","","","","","","","","","",null,0,0,0,0,null,null,null,0,0,0,0]
["",null,"","","","","","","","","","","","","","","","","","","","","","","","","","","","","","","","","","","","","","","","","","","","","","","","","","","","","","","","","","","","","","","","",null,"","","","","","","","","","","","","","","","","","","","","","",null,"","","","","","","","","","","","","","","","","","","","","","","","","","","","","","","","","","","","","","","","",null,"","","","","","","","","","",null,"","","","","","","","","","",null,0,0,0,0,null,null,null,0,0,0,0]
["",null,"","","","","","","","","","","","","","","","","","","","","","","","","","","","","","","","","","","","","","","","","","","","","","","","","","","","","","","","","","","","","","","","",null,"","","","","","","","","","","","","","","","","","","","","","",null,"","","","","","","","","","","","","","","","","","","","","","","","","","","","","","","","","","","","","","","","",null,"","","","","","","","","","",null,"","","","","","","","","","",null,0,0,0,0,null,null,null,0,0,0,0]
["",null,"","","","","","","","","","","","","","","","","","","","","","","","","","","","","","","","","","","","","","","","","","","","","","","","","","","","","","","","","","","","","","","","",null,"","","","","","","","","","","","","","","","","","","","","","",null,"","","","","","","","","","","","","","","","","","","","","","","","","","","","","","","","","","","","","","","","",null,"","","","","","","","","","",null,"","","","","","","","","","",null,0,0,0,0,null,null,null,0,0,0,0]
["",null,"","","","","","","","","","","","","","","","","","","","","","","","","","","","","","","","","","","","","","","","","","","","","","","","","","","","","","","","","","","","","","","","",null,"","","","","","","","","","","","","","","","","","","","","","",null,"","","","","","","","","","","","","","","","","","","","","","","","","","","","","","","","","","","","","","","","",null,"","","","","","","","","","",null,"","","","","","","","","","",null,0,0,0,0,null,null,null,0,0,0,0]
["",null,"","","","","","","","","","","","","","","","","","","","","","","","","","","","","","","","","","","","","","","","","","","","","","","","","","","","","","","","","","","","","","","","",null,"","","","","","","","","","","","","","","","","","","","","","",null,"","","","","","","","","","","","","","","","","","","","","","","","","","","","","","","","","","","","","","","","",null,"","","","","","","","","","",null,"","","","","","","","","","",null,0,0,0,0,null,null,null,0,0,0,0]
["",null,"","","","","","","","","","","","","","","","","","","","","","","","","","","","","","","","","","","","","","","","","","","","","","","","","","","","","","","","","","","","","","","","",null,"","","","","","","","","","","","","","","","","","","","","","",null,"","","","","","","","","","","","","","","","","","","","","","","","","","","","","","","","","","","","","","","","",null,"","","","","","","","","","",null,"","","","","","","","","","",null,0,0,0,0,null,null,null,0,0,0,0]
["",null,"","","","","","","","","","","","","","","","","","","","","","","","","","","","","","","","","","","","","","","","","","","","","","","","","","","","","","","","","","","","","","","","",null,"","","","","","","","","","","","","","","","","","","","","","",null,"","","","","","","","","","","","","","","","","","","","","","","","","","","","","","","","","","","","","","","","",null,"","","","","","","","","","",null,"","","","","","","","","","",null,0,0,0,0,null,null,null,0,0,0,0]
["",null,"","","","","","","","","","","","","","","","","","","","","","","","","","","","","","","","","","","","","","","","","","","","","","","","","","","","","","","","","","","","","","","","",null,"","","","","","","","","","","","","","","","","","","","","","",null,"","","","","","","","","","","","","","","","","","","","","","","","","","","","","","","","","","","","","","","","",null,"","","","","","","","","","",null,"","","","","","","","","","",null,0,0,0,0,null,null,null,0,0,0,0]
["",null,"","","","","","","","","","","","","","","","","","","","","","","","","","","","","","","","","","","","","","","","","","","","","","","","","","","","","","","","","","","","","","","","",null,"","","","","","","","","","","","","","","","","","","","","","",null,"","","","","","","","","","","","","","","","","","","","","","","","","","","","","","","","","","","","","","","","",null,"","","","","","","","","","",null,"","","","","","","","","","",null,{"$f":"IF(F1802=$EX$6,A1802,0)","v":0},0,0,0,null,null,null,0,0,0,0]
["",null,"","","","","","","","","","","","","","","","","","","","","","","","","","","","","","","","","","","","","","","","","","","","","","","","","","","","","","","","","","","","","","","","",null,"","","","","","","","","","","","","","","","","","","","","","",null,"","","","","","","","","","","","","","","","","","","","","","","","","","","","","","","","","","","","","","","","",null,"","","","","","","","","","",null,"","","","","","","","","","",null,0,0,0,0,null,null,null,0,0,0,0]
["",null,"","","","","","","","","","","","","","","","","","","","","","","","","","","","","","","","","","","","","","","","","","","","","","","","","","","","","","","","","","","","","","","","",null,"","","","","","","","","","","","","","","","","","","","","","",null,"","","","","","","","","","","","","","","","","","","","","","","","","","","","","","","","","","","","","","","","",null,"","","","","","","","","","",null,"","","","","","","","","","",null,0,0,0,0,null,null,null,0,0,0,0]
["",null,"","","","","","","","","","","","","","","","","","","","","","","","","","","","","","","","","","","","","","","","","","","","","","","","","","","","","","","","","","","","","","","","",null,"","","","","","","","","","","","","","","","","","","","","","",null,"","","","","","","","","","","","","","","","","","","","","","","","","","","","","","","","","","","","","","","","",null,"","","","","","","","","","",null,"","","","","","","","","","",null,0,0,0,0,null,null,null,0,0,0,0]
["",null,"","","","","","","","","","","","","","","","","","","","","","","","","","","","","","","","","","","","","","","","","","","","","","","","","","","","","","","","","","","","","","","","",null,"","","","","","","","","","","","","","","","","","","","","","",null,"","","","","","","","","","","","","","","","","","","","","","","","","","","","","","","","","","","","","","","","",null,"","","","","","","","","","",null,"","","","","","","","","","",null,0,0,0,0,null,null,null,0,0,0,0]
["",null,"","","","","","","","","","","","","","","","","","","","","","","","","","","","","","","","","","","","","","","","","","","","","","","","","","","","","","","","","","","","","","","","",null,"","","","","","","","","","","","","","","","","","","","","","",null,"","","","","","","","","","","","","","","","","","","","","","","","","","","","","","","","","","","","","","","","",null,"","","","","","","","","","",null,"","","","","","","","","","",null,0,0,0,0,null,null,null,0,0,0,0]
["",null,"","","","","","","","","","","","","","","","","","","","","","","","","","","","","","","","","","","","","","","","","","","","","","","","","","","","","","","","","","","","","","","","",null,"","","","","","","","","","","","","","","","","","","","","","",null,"","","","","","","","","","","","","","","","","","","","","","","","","","","","","","","","","","","","","","","","",null,"","","","","","","","","","",null,"","","","","","","","","","",null,0,0,0,0,null,null,null,0,0,0,0]
["",null,"","","","","","","","","","","","","","","","","","","","","","","","","","","","","","","","","","","","","","","","","","","","","","","","","","","","","","","","","","","","","","","","",null,"","","","","","","","","","","","","","","","","","","","","","",null,"","","","","","","","","","","","","","","","","","","","","","","","","","","","","","","","","","","","","","","","",null,"","","","","","","","","","",null,"","","","","","","","","","",null,0,0,0,0,null,null,null,0,0,0,0]
["",null,"","","","","","","","","","","","","","","","","","","","","","","","","","","","","","","","","","","","","","","","","","","","","","","","","","","","","","","","","","","","","","","","",null,"","","","","","","","","","","","","","","","","","","","","","",null,"","","","","","","","","","","","","","","","","","","","","","","","","","","","","","","","","","","","","","","","",null,"","","","","","","","","","",null,"","","","","","","","","","",null,0,{"$f":"IF(EX1895>0,B1895,0)","v":0},{"$f":"IF(AND(EX1895>0,EX1896=0),EX1895,0)","v":0},0,null,null,null,0,0,0,0]
["",null,"","","","","","","","","","","","","","","","","","","","","","","","","","","","","","","","","","","","","","","","","","","","","","","","","","","","","","","","","","","","","","","","",null,"","","","","","","","","","","","","","","","","","","","","","",null,"","","","","","","","","","","","","","","","","","","","","","","","","","","","","","","","","","","","","","","","",null,"","","","","","","","","","",null,"","","","","","","","","","",null,0,0,0,0,null,null,null,0,0,0,0]
["",null,"","","","","","","","","","","","","","","","","","","","","","","","","","","","","","","","","","","","","","","","","","","","","","","","","","","","","","","","","","","","","","","","",null,"","","","","","","","","","","","","","","","","","","","","","",null,"","","","","","","","","","","","","","","","","","","","","","","","","","","","","","","","","","","","","","","","",null,"","","","","","","","","","",null,"","","","","","","","","","",null,0,0,0,0,null,null,null,0,0,0,0]
["",null,"","","","","","","","","","","","","","","","","","","","","","","","","","","","","","","","","","","","","","","","","","","","","","","","","","","","","","","","","","","","","","","","",null,"","","","","","","","","","","","","","","","","","","","","","",null,"","","","","","","","","","","","","","","","","","","","","","","","","","","","","","","","","","","","","","","","",null,"","","","","","","","","","",null,"","","","","","","","","","",null,0,0,0,0,null,null,null,0,0,0,0]
["",null,"","","","","","","","","","","","","","","","","","","","","","","","","","","","","","","","","","","","","","","","","","","","","","","","","","","","","","","","","","","","","","","","",null,"","","","","","","","","","","","","","","","","","","","","","",null,"","","","","","","","","","","","","","","","","","","","","","","","","","","","","","","","","","","","","","","","",null,"","","","","","","","","","",null,"","","","","","","","","","",null,0,0,0,0,null,null,null,0,0,0,0]
["",null,"","","","","","","","","","","","","","","","","","","","","","","","","","","","","","","","","","","","","","","","","","","","","","","","","","","","","","","","","","","","","","","","",null,"","","","","","","","","","","","","","","","","","","","","","",null,"","","","","","","","","","","","","","","","","","","","","","","","","","","","","","","","","","","","","","","","",null,"","","","","","","","","","",null,"","","","","","","","","","",null,0,0,0,0,null,null,null,0,0,0,0]
["",null,"","","","","","","","","","","","","","","","","","","","","","","","","","","","","","","","","","","","","","","","","","","","","","","","","","","","","","","","","","","","","","","","",null,"","","","","","","","","","","","","","","","","","","","","","",null,"","","","","","","","","","","","","","","","","","","","","","","","","","","","","","","","","","","","","","","","",null,"","","","","","","","","","",null,"","","","","","","","","","",null,0,{"$f":"IF(EX1959>0,B1959,0)","v":0},{"$f":"IF(AND(EX1959>0,EX1960=0),EX1959,0)","v":0},0,null,null,null,0,0,0,0]
["",null,"","","","","","","","","","","","","","","","","","","","","","","","","","","","","","","","","","","","","","","","","","","","","","","","","","","","","","","","","","","","","","","","",null,"","","","","","","","","","","","","","","","","","","","","","",null,"","","","","","","","","","","","","","","","","","","","","","","","","","","","","","","","","","","","","","","","",null,"","","","","","","","","","",null,"","","","","","","","","","",null,0,0,0,0,null,null,null,0,0,0,0]
["",null,"","","","","","","","","","","","","","","","","","","","","","","","","","","","","","","","","","","","","","","","","","","","","","","","","","","","","","","","","","","","","","","","",null,"","","","","","","","","","","","","","","","","","","","","","",null,"","","","","","","","","","","","","","","","","","","","","","","","","","","","","","","","","","","","","","","","",null,"","","","","","","","","","",null,"","","","","","","","","","",null,0,0,0,0,null,null,null,0,0,0,0]
["",null,"","","","","","","","","","","","","","","","","","","","","","","","","","","","","","","","","","","","","","","","","","","","","","","","","","","","","","","","","","","","","","","","",null,"","","","","","","","","","","","","","","","","","","","","","",null,"","","","","","","","","","","","","","","","","","","","","","","","","","","","","","","","","","","","","","","","",null,"","","","","","","","","","",null,"","","","","","","","","","",null,0,0,0,0,null,null,null,0,0,0,0]
["",null,"","","","","","","","","","","","","","","","","","","","","","","","","","","","","","","","","","","","","","","","","","","","","","","","","","","","","","","","","","","","","","","","",null,"","","","","","","","","","","","","","","","","","","","","","",null,"","","","","","","","","","","","","","","","","","","","","","","","","","","","","","","","","","","","","","","","",null,"","","","","","","","","","",null,"","","","","","","","","","",null,0,0,0,0,null,null,null,0,0,0,0]
["",null,"","","","","","","","","","","","","","","","","","","","","","","","","","","","","","","","","","","","","","","","","","","","","","","","","","","","","","","","","","","","","","","","",null,"","","","","","","","","","","","","","","","","","","","","","",null,"","","","","","","","","","","","","","","","","","","","","","","","","","","","","","","","","","","","","","","","",null,"","","","","","","","","","",null,"","","","","","","","","","",null,0,0,0,0,null,null,null,0,0,0,0]
["",null,"","","","","","","","","","","","","","","","","","","","","","","","","","","","","","","","","","","","","","","","","","","","","","","","","","","","","","","","","","","","","","","","",null,"","","","","","","","","","","","","","","","","","","","","","",null,"","","","","","","","","","","","","","","","","","","","","","","","","","","","","","","","","","","","","","","","",null,"","","","","","","","","","",null,"","","","","","","","","","",null,0,0,0,0,null,null,null,0,0,0,0]
["",null,"","","","","","","","","","","","","","","","","","","","","","","","","","","","","","","","","","","","","","","","","","","","","","","","","","","","","","","","","","","","","","","","",null,"","","","","","","","","","","","","","","","","","","","","","",null,"","","","","","","","","","","","","","","","","","","","","","","","","","","","","","","","","","","","","","","","",null,"","","","","","","","","","",null,"","","","","","","","","","",null,0,0,0,0,null,null,null,0,0,0,0]
["",null,"","","","","","","","","","","","","","","","","","","","","","","","","","","","","","","","","","","","","","","","","","","","","","","","","","","","","","","","","","","","","","","","",null,"","","","","","","","","","","","","","","","","","","","","","",null,"","","","","","","","","","","","","","","","","","","","","","","","","","","","","","","","","","","","","","","","",null,"","","","","","","","","","",null,"","","","","","","","","","",null,0,0,0,0,null,null,null,0,0,0,0]
["",null,"","","","","","","","","","","","","","","","","","","","","","","","","","","","","","","","","","","","","","","","","","","","","","","","","","","","","","","","","","","","","","","","",null,"","","","","","","","","","","","","","","","","","","","","","",null,"","","","","","","","","","","","","","","","","","","","","","","","","","","","","","","","","","","","","","","","",null,"","","","","","","","","","",null,"","","","","","","","","","",null,0,0,0,0,null,null,null,0,0,0,0]
["",null,"","","","","","","","","","","","","","","","","","","","","","","","","","","","","","","","","","","","","","","","","","","","","","","","","","","","","","","","","","","","","","","","",null,"","","","","","","","","","","","","","","","","","","","","","",null,"","","","","","","","","","","","","","","","","","","","","","","","","","","","","","","","","","","","","","","","",null,"","","","","","","","","","",null,"","","","","","","","","","",null,0,0,0,0,null,null,null,0,0,0,0]
["",null,"","","","","","","","","","","","","","","","","","","","","","","","","","","","","","","","","","","","","","","","","","","","","","","","","","","","","","","","","","","","","","","","",null,"","","","","","","","","","","","","","","","","","","","","","",null,"","","","","","","","","","","","","","","","","","","","","","","","","","","","","","","","","","","","","","","","",null,"","","","","","","","","","",null,"","","","","","","","","","",null,0,{"$f":"IF(EX2087>0,B2087,0)","v":0},{"$f":"IF(AND(EX2087>0,EX2088=0),EX2087,0)","v":0},0,null,null,null,0,0,0,0]
["",null,"","","","","","","","","","","","","","","","","","","","","","","","","","","","","","","","","","","","","","","","","","","","","","","","","","","","","","","","","","","","","","","","",null,"","","","","","","","","","","","","","","","","","","","","","",null,"","","","","","","","","","","","","","","","","","","","","","","","","","","","","","","","","","","","","","","","",null,"","","","","","","","","","",null,"","","","","","","","","","",null,0,0,0,0,null,null,null,0,0,0,0]
["",null,"","","","","","","","","","","","","","","","","","","","","","","","","","","","","","","","","","","","","","","","","","","","","","","","","","","","","","","","","","","","","","","","",null,"","","","","","","","","","","","","","","","","","","","","","",null,"","","","","","","","","","","","","","","","","","","","","","","","","","","","","","","","","","","","","","","","",null,"","","","","","","","","","",null,"","","","","","","","","","",null,0,0,0,0,null,null,null,0,0,0,0]
["",null,"","","","","","","","","","","","","","","","","","","","","","","","","","","","","","","","","","","","","","","","","","","","","","","","","","","","","","","","","","","","","","","","",null,"","","","","","","","","","","","","","","","","","","","","","",null,"","","","","","","","","","","","","","","","","","","","","","","","","","","","","","","","","","","","","","","","",null,"","","","","","","","","","",null,"","","","","","","","","","",null,0,0,0,0,null,null,null,0,0,0,0]
["",null,"","","","","","","","","","","","","","","","","","","","","","","","","","","","","","","","","","","","","","","","","","","","","","","","","","","","","","","","","","","","","","","","",null,"","","","","","","","","","","","","","","","","","","","","","",null,"","","","","","","","","","","","","","","","","","","","","","","","","","","","","","","","","","","",{"$f":"IF(DJ2138=\"\",\"\",IF(BJ2138=0,0,IF(OR(I2138=\"ms 4.151/df\",I2138=\"ms 6.040/df\"),TRUNC(BJ2138*DJ2138,2)+TRUNC(BJ2138*DK2138/100,2),IF(BJ2138<AR2138,TRUNC((BJ2138)+BJ2138*DK2138/100,2),DL2138+DN2138))))","v":""},"","","","",null,"","","","","","","","","","",null,"","","","","","","","","","",null,0,0,0,0,null,null,null,0,0,0,0]
["",null,"","","","","","","","","","","","","","","","","","","","","","","","","","","","","","","","","","","","","","","","","","","","","","","","","","","","","","","","","","","","","","","","",null,"","","","","","","","","","","","","","","","","","","","","","",null,"","","","","","","","","","","","","","","","","","","","","","","","","","","","","","","","","","","","","","","","",null,"","","","","","","","","","",null,"","","","","","","","","","",null,0,{"$f":"IF(EX2151>0,B2151,0)","v":0},{"$f":"IF(AND(EX2151>0,EX2152=0),EX2151,0)","v":0},0,null,null,null,0,0,0,0]
["",null,"","","","","","","","","","","","","","","","","","","","","","","","","","","","","","","","","","","","","","","","","","","","","","","","","","","","","","","","","","","","","","","","",null,"","","","","","","","","","","","","","","","","","","","","","",null,"","","","","","","","","","","","","","","","","","","","","","","","","","","","","","","","","","","","","","","","",null,"","","","","","","","","","",null,"","","","","","","","","","",null,0,0,0,0,null,null,null,0,0,0,0]
["",null,"","","","","","","","","","","","","","","","","","","","","","","","","","","","","","","","","","","","","","","","","","","","","","","","","","","","","","","","","","","","","","","","",null,"","","","","","","","","","","","","","","","","","","","","","",null,"","","","","","","","","","","","","","","","","","","","","","","","","","","","","","","","","","","","","","","","",null,"","","","","","","","","","",null,"","","","","","","","","","",null,0,0,0,0,null,null,null,0,0,0,0]
["",null,"","","","","","","","","","","","","","","","","","","","","","","","","","","","","","","","","","","","","","","","","","","","","","","","","","","","","","","","","","","","","","","","",null,"","","","","","","","","","","","","","","","","","","","","","",null,"","","","","","","","","","","","","","","","","","","","","","","","","","","","","","","","","","","","","","","","",null,"","","","","","","","","","",null,"","","","","","","","","","",null,0,0,0,0,null,null,null,0,0,0,0]
["",null,"","","","","","","","","","","","","","","","","","","","","","","","","","","","","","","","","","","","","","","","","","","","","","","","","","","","","","","","","","","","","","","","",null,"","","","","","","","","","","","","","","","","","","","","","",null,"","","","","","","","","","","","","","","","","","","","","","","","","","","","","","","","","","","","","","","","",null,"","","","","","","","","","",null,"","","","","","","","","","",null,0,0,0,0,null,null,null,0,0,0,0]
["",null,"","","","","","","","","","","","","","","","","","","","","","","","","","","","","","","","","","","","","","","","","","","","","","","","","","","","","","","","","","","","","","","","",null,"","","","","","","","","","","","","","","","","","","","","","",null,"","","","","","","","","","","","","","","","","","","","","","","","","","","","","","","","","","","","","","","","",null,"","","","","","","","","","",null,"","","","","","","","","","",null,0,{"$f":"IF(EX2215>0,B2215,0)","v":0},{"$f":"IF(AND(EX2215>0,EX2216=0),EX2215,0)","v":0},0,null,null,null,0,0,0,0]
["",null,"","","","","","","","","","","","","","","","","","","","","","","","","","","","","","","","","","","","","","","","","","","","","","","","","","","","","","","","","","","","","","","","",null,"","","","","","","","","","","","","","","","","","","","","","",null,"","","","","","","","","","","","","","","","","","","","","","","","","","","","","","","","","","","","","","","","",null,"","","","","","","","","","",null,"","","","","","","","","","",null,0,0,0,0,null,null,null,0,0,0,0]
["",null,"","","","","","","","","","","","","","","","","","","","","","","","","","","","","","","","","","","","","","","","","","","","","","","","","","","","","","","","","","","","","","","","",null,"","","","","","","","","","","","","","","","","","","","","","",null,"","","","","","","","","","","","","","","","","","","","","","","","","","","","","","","","","","","","","","","","",null,"","","","","","","","","","",null,"","","","","","","","","","",null,0,0,0,0,null,null,null,0,0,0,0]
["",null,"","","","","","","","","","","","","","","","","","","","","","","","","","","","","","","","","","","","","","","","","","","","","","","","","","","","","","","","","","","","","","","","",null,"","","","","","","","","","","","","","","","","","","","","","",null,"","","","","","","","","","","","","","","","","","","","","","","","","","","","","","","","","","","","","","","","",null,"","","","","","","","","","",null,"","","","","","","","","","",null,0,0,0,0,null,null,null,0,0,0,0]
["",null,"","","","","","","","","","","","","","","","","","","","","","","","","","","","","","","","","","","","","","","","","","","","","","","","","","","","","","","","","","","","","","","","",null,"","","","","","","","","","","","","","","","","","","","","","",null,"","","","","","","","","","","","","","","","","","","","","","","","","","","","","","","","","","","","","","","","",null,"","","","","","","","","","",null,"","","","","","","","","","",null,0,0,0,0,null,null,null,0,0,0,0]
["",null,"","","","","","","","","","","","","","","","","","","","","","","","","","","","","","","","","","","","","","","","","","","","","","","","","","","","","","","","","","","","","","","","",null,"","","","","","","","","","","","","","","","","","","","","","",null,"","","","","","","","","","","","","","","","","","","","","","","","","","","","","","","","","","","","","","","","",null,"","","","","","","","","","",null,"","","","","","","","","","",null,0,0,0,0,null,null,null,0,0,0,0]
["",null,"","","","","","","","","","","","","","","","","","","","","","","","","","","","","","","","","","","","","","","","","","","","","","","","","","","","","","","","","","","","","","","","",null,"","","","","","","","","","","","","","","","","","","","","","",null,"","","","","","","","","","","","","","","","","","","","","","","","","","","","","","","","","","","","","","","","",null,"","","","","","","","","","",null,"","","","","","","","","","",null,0,0,0,0,null,null,null,0,0,0,0]
["",null,"","","","","","","","","","","","","","","","","","","","","","","","","","","","","","","","","","","","","","","","","","","","","","","","","","","","","","","","","","","","","","","","",null,"","","","","","","","","","","","","","","","","","","","","","",null,"","","","","","","","","","","","","","","","","","","","","","","","","","","","","","","","","","","","","","","","",null,"","","","","","","","","","",null,"","","","","","","","","","",null,0,0,0,0,null,null,null,0,0,0,0]
["",null,"","","","","","","","","","","","","","","","","","","","","","","","","","","","","","","","","","","","","","","","","","","","","","","","","","","","","","","","","","","","","","","","",null,"","","","","","","","","","","","","","","","","","","","","","",null,"","","","","","","","","","","","","","","","","","","","","","","","","","","","","","","","","","","","","","","","",null,"","","","","","","","","","",null,"","","","","","","","","","",null,0,0,0,0,null,null,null,0,0,0,0]
["",null,"","","","","","","","","","","","","","","","","","","","","","","","","","","","","","","","","","","","","","","","","","","","","","","","","","","","","","","","","","","","","","","","",null,"","","","","","","","","","","","","","","",{"$f":"IF($G2319=\"\",\"\",IF($G2319=\"não\",0,IF(VLOOKUP(B2319,expedidas,10)=\"NÃO\",\"informar\",VLOOKUP(B2319,expedidas,75))))","v":""},"","","","","","",null,"","","","","","","","","","","","","","","","","","","","","","","","","","","","","","","","","","","","","","","","",null,"","","","","","","","","","",null,"","","","","","","","","","",null,0,0,0,0,null,null,null,0,0,0,0]
["",null,"","","","","","","","","","","","","","","","","","","","","","","","","","","","","","","","","","","","","","","","","","","","","","","","","","","","","","","","","","","","","","","","",null,"","","","","","","","","","","","","","","","","","","","","","",null,"","","","","","","","","","","","","","","","","","","","","","","","","","","","",{"$f":"IF(DI2328=\"\",\"\",IF(OR(I2328=\"ms 4.151/df\",I2328=\"ms 6.040/df\"),TRUNC(VLOOKUP(B2328,expedidas,52)*DJ2328*DK2328/100,2),IF(VLOOKUP(B2328,expedidas,50)=0,0,IF(AND(MONTH(DI2328)=2,YEAR(DI2328)=2022),0,IF(DK2328=\"informar\",\"\",VLOOKUP(B2328,expedidas,50)+TRUNC((VLOOKUP(B2328,expedidas,52))*DJ2328*DK2328/100,2))))))","v":""},"","","","","","","","","","","",null,"","","","","","","","","","",null,"","","","","","","","","","",null,0,0,0,0,null,null,null,0,0,0,0]
["",null,"","","","","","","","","","","","","","","","","","","","","","","","","","","","","","","","","","","","","","","","","","","","","","","","","","","","","","","","","","","","","","","","",null,"","","","","","","","","","","","","","","","","","","","","","",null,"","","","","","","","","","","","","","","","","","","","","","","","","","","","","","","","","","","","","","","","",null,"","","","","","","","","","",null,"","","","","","","","","","",null,0,0,0,0,null,null,null,0,0,0,0]
["",null,"","","","","","","","","","","","","","","","","","","","","","","","","","","","","","","","","","","","","","","","","","","","","","","","","","","","","","","","","","","","","","","","",null,"","","","","","","","","","","","","","","","","","","","","","",null,"","","","","","","","","","","","","","","","","","","","","","","","","","","","","","","","","","","","","","","","",null,"","","","","","","","","","",null,"","","","","","","","","","",null,0,0,0,0,null,null,null,0,0,0,0]
["",null,"","","","","","","","","","","","","","","","","","","","","","","","","","","","","","","","","","","","","","","","","","","","","","","","","","","","","","","","","","","","","","","","",null,"","","","","","","","","","","","","","","","","","","","","","",null,"","","","","","","","","","","","","","","","","","","","","","","","","","","",{"$f":"IF(DK2370=\"\",\"\",IF(DK2370=\"informar\",\"\",VLOOKUP(B2370,expedidas,49)+TRUNC(VLOOKUP(B2370,expedidas,51)*DJ2370*DK2370/100,2)))","v":""},"","","","","","","","","","","","",null,"","","","","","","","","","",null,"","","","","","","","","","",null,0,0,0,0,null,null,null,0,0,0,0]
["",null,"","","","","","","","","","","","","","","","","","","","","","","","","","","","","","","","","","","","","","","","","","","","","","","","","","","","","","","","","","","","","","","","",null,"","","","","","","","","","","","","","","","","","","","","","",null,"","","","","","","","","","","","","","","","","","","","","","","","","","","","","","","","","","","","","","","","",null,"","","","","","","","","","",null,"","","","","","","","","","",null,0,0,0,0,null,null,null,0,0,0,0]
["",null,"","","","","","","","","","","","","","","","","","","","","","","","","","","","","","","","","","","","","","","","","","","","","","","","","","","","","","","","","","","","","","","","",null,"","","","","","","","","","","","","","","","","","","","","","",null,"","","","","","","","","","","","","","","","","","","","","","","","","","","","",{"$f":"IF(DI2392=\"\",\"\",IF(OR(I2392=\"ms 4.151/df\",I2392=\"ms 6.040/df\"),TRUNC(VLOOKUP(B2392,expedidas,52)*DJ2392*DK2392/100,2),IF(VLOOKUP(B2392,expedidas,50)=0,0,IF(AND(MONTH(DI2392)=2,YEAR(DI2392)=2022),0,IF(DK2392=\"informar\",\"\",VLOOKUP(B2392,expedidas,50)+TRUNC((VLOOKUP(B2392,expedidas,52))*DJ2392*DK2392/100,2))))))","v":""},"","","","","","","","","","","",null,"","","","","","","","","","",null,"","","","","","","","","","",null,0,0,0,0,null,null,null,0,0,0,0]
["",null,"","","","","","","","","","","","","","","","","","","","","","","","","","","","","","","","","","","","","","","","","","","","","","","","","","","","","","","","","","","","","","","","",null,"","","","","","","","","","","","","","","","","","","","","","",null,"","","","","","","","","","","","","","","","","","","","","","","","","","","","","","","","","","","","","","","","",null,"","","","","","","","","","",null,"","","","","","","","","","",null,0,0,0,0,null,null,null,0,0,0,0]
["",null,"","","","","","","","","","","","","","","","","","","","","","","","","","","","","","","","","","","","","","","","","","","","","","","","","","","","","","","","","","","","","","","","",null,"","","","","","","","","","","","","","","","","","","","","","",null,"","","","","","","","","","","","","","","","","","","","","","","","","","","","","","","","","","","","","","","","",null,"","","","","","","","","","",null,"","","","","","","","","","",null,0,0,0,0,null,null,null,0,0,0,0]
["",null,{"$f":"IF(B2423=\"\",\"\",VLOOKUP(B2423,expedidas,4))","v":""},{"$f":"IF(B2423=\"\",\"\",VLOOKUP(B2423,expedidas,5))","v":""},"","","","","","","","","","","","","","","","","","","","","","","","","","","","","","","","","","","","","","","","","","","","","","","","","","","","","","","","","","","","","","",null,"","","","","","","","","","","","","","","","","","","","","","",null,"","","","","","","","","","","","","","","","","","","","","",{"$f":"DF2423","v":""},"","","","","","","","","","","","","","","","","","",null,"","","","","","","","","","",null,"","","","","","","","","","",null,0,0,0,0,null,null,null,0,0,0,0]
["",null,"","","","","","","","","","","","","","","","","","","","","","","","","","","","","","","","","","","","","","","","","","","","","","","","","","","","","","","","","","","","","","","","",null,"","","","","","","","","","","","","","","","","","","","","","",null,"","","","","","","","","","","","","","","","","","","","","","","","","","","","","","","","","","","","","","","","",null,"","","","","","","","","","",null,"","","","","","","","","","",null,0,0,0,0,null,null,null,0,0,0,0]
["",null,"","","","","","","","","","","","","","","","","","","","","","","","","","","","","","","","","","","","","","","","","","","","","","","","","","","","","","","","","","","","","","","","",null,"","","","","","","","","","","","","","","","","","","","","","",null,"","","","","","","","","","","","","","","","","","","","","","","","","","","","","","","","","","","","","","","","",null,"","","","","","","","","","",null,"","","","","","","","","","",null,0,0,0,0,null,null,null,0,0,0,0]
["",null,"","","","","","","","","","","","","","","","","","","","","","","","","","","","","","","","","","","","","","","","","","","","","","","","","","","","","","","","","","","","","","","","",null,"","","","","","","","","","","","","","","","","","","","","","",null,"","","","","","","","","","","","","","","","","","","","","","","","","","","","","","","","","","","","","","","","",null,"","","","","","","","","","",null,"","","","","","","","","","",null,0,0,0,0,null,null,null,0,0,0,0]
["",null,"","","","","","","","","","","","","","","","","","","","","","","","","","","","","","","","","","","","","","","","","","","","","","","","","","","","","","","","","","","","","","","","",null,"","","","","","","","","","","","","","","","","","","","","","",null,"","","","","","","","","","","","","","","","","","","","","","","","","","","","","","","","","","","","","","","","",null,"","","","","","","","","","",null,"","","","","","","","","","",null,0,0,0,0,null,null,null,0,0,0,0]
["",null,{"$f":"IF(B2487=\"\",\"\",VLOOKUP(B2487,expedidas,4))","v":""},{"$f":"IF(B2487=\"\",\"\",VLOOKUP(B2487,expedidas,5))","v":""},"","","","","","","","","","","","","","","","","","","","","","","","","","","","","","","","","","","","","","","","","","","","","","","","","","","","","","","","","","","","","","",null,"","","","","","","","","","","","","","","","","","","","","","",null,"","","","","","","","","","","","","","","","","","","","","",{"$f":"DF2487","v":""},"","","","","","","","","","","","","","","","","","",null,"","","","","","","","","","",null,"","","","","","","","","","",null,0,0,0,0,null,null,null,0,0,0,0]
["",null,"","","","","","","","","","","","","","","","","","","","","","","","","","","","","","","","","","","","","","","","","","","","","","","","","","","","","","","","","","","","","","","","",null,"","","","","","","","","","","","","","","","","","","","","","",null,"","","","","","","","","","","","","","","","","","","","","","","","","","","","","","","","","","","","","","","","",null,"","","","","","","","","","",null,"","","","","","","","","","",null,0,0,0,0,null,null,null,0,0,0,0]
["",null,"","","","","","","","","","","","","","","","","","","","","","","","","","","","","","","","","","","","","","","","","","","","","","","","","","","","","","","","","","","","","","","","",null,"","","","","","","","","","","","","","","","","","","","","","",null,"","","","","","","","","","","","","","","","","","","","","","","","","","","","","","","","","","","","","","","","",null,"","","","","","","","","","",null,"","","","","","","","","","",null,0,0,0,0,null,null,null,{"$f":"IF(AND(B2507>0,B2508=\"\"),B2507,0)","v":0},{"$f":"IF(E2507=\"\",0,IF(E2507=$FE$5,A2507,0))","v":0},{"$f":"IF(AND(FF2507>0,FF2506=0),FF2507,0)","v":0},{"$f":"IF(FF2507=\"\",\"\",IF(AND(FF2507>0,FF2508=0),FF2507,0))","v":0}]
["",null,"","","","","","","","","","","","","","","","","","","","","","","","","","","","","","","","","","","","","","","","","","","","","","","","","","","","","","","","","","","","","","","","",null,"","","","","","","","","","","","","","","","","","","","","","",null,"","","","","","","","","","","","","","","","","","","","","","","","","","","","","","","","","","","","","","","","",null,"","","","","",{"$f":"IF(DU2517=\"\",\"\",IF($G2517=\"não\",0,IF(CG2517=BI2517,DU2517,VLOOKUP(B2517,expedidas,76))))","v":""},"","","","",null,"","","","","","","","","","",null,0,0,0,0,null,null,null,0,0,0,0]
["",null,"","","","","","","","","","","","","","","","","","","","","","","","","","","","","","","","","","","","","","","","","","","","","","","","","","","","","","","","","","","","","","","","",null,"","","","","","","","","","","","","","","","","","","","","","",null,"","","","","","","","","","","","","","","","","","","","","","","","","","","","","","","","","","","","","","","","",null,"","","","","","","","","","",null,"","","","","","","","","","",null,0,0,0,0,null,null,null,0,0,0,0]
["",null,"","","","","","","","","","","","","","","","","","","","","","","","","","","","","","","","","","","","","","","","","","","","","","","","","","","","","","","","","","","","","","","","",null,"","","","","","","","","","","","","","","","","","","","","","",null,"","","","","","","","","","","","","","","","","","","","","","","","","","","","","","","","","","","","","","","","",null,"","","","","","","","","","",null,"","","","","","","","","","",null,0,0,0,0,null,null,null,0,0,0,0]
["",null,"","","","","","","",{"$f":"IF(B2552=\"\",\"\",VLOOKUP(B2552,expedidas,14))","v":""},"","","","","","","","","","","","","","","","","","","","","","","","","","","","","","","","","","","","","","","","","","","","","","","","","","","","","","","","",null,"","","","","","","","","","","","","","","","","","","","","","",null,"","","","","","","","","","","","","","","","","","","","","","","","","","","","","","","","","","","","","","","","",null,"","","","","","","","","","",null,"","","","","","","","","","",null,0,0,0,0,null,null,null,0,0,0,0]
["",null,"","","","","","","","","","","","","","","","","","","","","","","","","","","","","","","","","","","","","","","","","","","","","","","","","","","","","","","","","","","","","","","","",null,"","","","","","","","","","","","","","","","","","","","","","",null,"","","","","","","","","","","","","","","","","","","","","","","","","","","","","","","","","","","","","","","","",null,"","","","","","","","","","",null,"","","","","","","","","","",null,0,0,0,0,null,null,null,0,0,0,0]
["",null,"","","","","","","","","","","","","","","","","","","","","","","","","","","","","","","","","","","","","","","","","","","","","","","","","","","","","","","","","","","","","","","","",null,"","","","","","","","","","","","","","","","","","","","","","",null,"","","","","","","","","","","","","","","","","","","","","","","","","","","","","","","","","","","","","","","","",null,"","","","","","","","","","",null,"","","","","","","","","","",null,0,0,0,0,null,null,null,0,0,0,0]
["",null,"","","","","","","","","","","","","","","","","","","","","","","","","","","","","","","","","","","","","","","","","","","","","","","","","","","","","","","","","","","","","","","","",null,"","","","","","","","","","","","","","","","","","","","","","",null,"","","","","","","","","","","","","","","","","","","","","","","","","","","","","","","","","","","","","","","","",null,"","","","","","","","","","",null,"","","","","","","","","","",null,0,0,0,0,null,null,null,0,0,0,0]
["",null,"","","","","","","","","","","","","","","","","","","","","","","","","","","","","","","","","","","","","","","","","","","","","","","","","","","","","","","","","","","","","","","","",null,"","","","","","","","","","","","","","","","","","","","","","",null,"","","","","","","","","","","","","","","","","","","","","","","","","","","","","","","","","","","","","","","","",null,"","","","","","","","","","",null,"","","","","","","","","","",null,0,0,0,0,null,null,null,0,0,0,0]
["",null,"","","","","","","",{"$f":"IF(B2616=\"\",\"\",VLOOKUP(B2616,expedidas,14))","v":""},"","","","","","","","","","","","","","","","","","","","","","","","","","","","","","","","","","","","","","","","","","","","","","","","","","","","","","","","",null,"","","","","","","","","","","","","","","","","","","","","","",null,"","","","","","","","","","","","","","","","","","","","","","","","","","","","","","","","","","","","","","","","",null,"","","","","","","","","","",null,"","","","","","","","","","",null,0,0,0,0,null,null,null,0,0,0,0]
["",null,"","","","","","","","","","","","","","","","","","","","","","","","","","","","","","","","","","","","","","","","","","","","","","","","","","","","","","","","","","","","","","","","",null,"","","","","","","","","","","","","","","","","","","","","","",null,"","","","","","","","","","","","","","","","","","","","","","","","","","","","","","","","","","","","","","","","",null,"","","","","","","","","","",null,"","","","","","","","","","",null,0,0,0,0,null,null,null,0,0,0,0]
["",null,"","","","","","","","","","","","","","","","","","","","","","","","","","","","","","","","","","","","","","","","","","","","","","","","","","","","","","","","","","","","","","","","",null,"","","","","","","","","","","","","","","","","","","","","","",null,"","","","","","","","","","","","","","","","","","","","","","","","","","","","","","","","","","","","","","","","",null,"","","","","","","","","","",null,"","","","","","","","","","",null,{"$f":"IF(F2634=$EX$6,A2634,0)","v":0},0,0,0,null,null,null,0,0,0,0]
["",null,"","","","","","","","","","","","","","","","","","","","","","","","","","","","","","","","","","","","","","","","","","","","","","","","","","","","","","","","","","","","","","","","",null,"","","","","","","","","","","","","","","","","","","","","","",null,"","","","","","","","","","","","","","","","","","","","","","","","","","","","","","","","","","","","","","","","",null,"","","","","","","","","","",null,"","","","","","","","","","",null,0,0,0,0,null,null,null,0,0,0,0]
["",null,"","","","","","","","","","","","","","","","","","","","","","","","","","","","","","","","","","","","","","","","","","","","","","","","","","","","","","","","","","","","","","","","",null,"","","","","","","","","","","","","","","","","","","","","","",null,"","","","","","","","","","","","","","","","","","","","","","","","","","","","","","","","","","","","","","","","",null,"","","","","","","","","","",null,"","","","","","","","","","",null,0,0,0,0,null,null,null,0,0,0,0]
["",null,"","","","","","","","","","","","","","","","","","","","","","","","","","","","","","","","","","","","","","","","","","","","","","","","","","","","","","","","","","","","","","","","",null,"","","","","","","","","","","","","","","","","","","","","","",null,"","","","","","","","","","","","","","","","","","","","","","","","","","","","","","","","","","","","","","","","",null,"","","","","","","","","","",null,"","","","","","","","","","",null,0,0,0,0,null,null,null,0,0,0,0]
["",null,"","","","","","","","","","","","","","","","","","","","","","","","","","","","","","","","","","","","","","","","","","","","","","","","","","","","","","","","","","","","","","","","",null,"","","","","","","","","","","","","","","","","","","","","","",null,"","","","","","","","","","","","","","","","","","","","","","","","","","","","","","","","","","","","","","","","",null,"","","","","","","","","","",null,"","","","","","","","","","",null,0,0,0,0,null,null,null,0,0,0,0]
["",null,"","","","","","","","","","","","","","","","","","","","","","","","","","","","","","","","","","","","","","","","","","","","","","","","","","","","","","","","","","","","","","","","",null,"","","","","","","","","","","","","","","","","","","","","","",null,"","","","","","","","","","","","","","","","","","","","","","","","","","","","","","","","","","","","","","","","",null,"","","","","","","","","","",null,"","","","","","","","","","",null,{"$f":"IF(F2698=$EX$6,A2698,0)","v":0},0,0,0,null,null,null,0,0,0,0]
["",null,"","","","","","","","","","","","","","","","","","","","","","","","","","","","","","","","","","","","","","","","","","","","","","","","","","","","","","","","","","","","","","","","",null,"","","","","","","","","","","","","","","","","","","","","","",null,"","","","","","","","","","","","","","","","","","","","","","","","","","","","","","","","","","","","","","","","",null,"","","","","","","","","","",null,"","","","","","","","","","",null,0,0,0,0,null,null,null,0,0,0,0]
["",null,"","","","","","","","","","","","","","","","","","","","","","","","","","","","","","","","","","","","","","","","","","","","","","","","","","","","","","","","","","","","","","","","",null,"","","","","","","","","","","","","","","","","","","","","","",null,"","","","","","","","","","","","","","","","","","","","","","","","","","","","","","","","","","","","","","","","",null,"","","","","","","","","","",null,"","","","","","","","","","",null,0,0,0,0,null,null,null,0,0,0,0]
["",null,"","","","","","","","","","","","","","","","","","","","","","","","","","","","","","","","","","","","","","","","","","","","","","","","","","","","","","","","","","","","","","","","",null,"","","","","","","","","","","","","","","","","","","","","","",null,"","","","","","","","","","","","","","","","","","","","","","","","","","","","","","","","","","","","","","","","",null,"","","","","","","","","","",null,"","","","","","","","","","",null,0,0,0,0,null,null,null,0,0,0,0]
["",null,"","",{"$f":"IF(B2742=\"\",\"\",VLOOKUP(B2742,expedidas,7))","v":""},{"$f":"IF(B2742=\"\",\"\",VLOOKUP(B2742,expedidas,8))","v":""},{"$f":"IF(B2742=\"\",\"\",VLOOKUP(B2742,expedidas,9))","v":""},{"$f":"IF(B2742=\"\",\"\",VLOOKUP(B2742,expedidas,11))","v":""},{"$f":"IF(B2742=\"\",\"\",VLOOKUP(B2742,expedidas,12))","v":""},"",{"$f":"IF(B2742=\"\",\"\",VLOOKUP(B2742,expedidas,15))","v":""},{"$f":"IF(B2742=\"\",\"\",VLOOKUP(B2742,expedidas,19))","v":""},{"$f":"IF(B2742=\"\",\"\",VLOOKUP(B2742,expedidas,20))","v":""},{"$f":"IF(B2742=\"\",\"\",VLOOKUP(B2742,expedidas,21))","v":""},{"$f":"IF(B2742=\"\",\"\",VLOOKUP(B2742,expedidas,18))","v":""},{"$f":"IF(B2742=\"\",\"\",VLOOKUP(B2742,expedidas,16))","v":""},{"$f":"IF(B2742=\"\",\"\",VLOOKUP(B2742,expedidas,26))","v":""},{"$f":"IF(B2742=\"\",\"\",VLOOKUP(B2742,expedidas,22))","v":""},{"$f":"IF(B2742=\"\",\"\",VLOOKUP(B2742,expedidas,23))","v":""},{"$f":"IF(B2742=\"\",\"\",VLOOKUP(B2742,expedidas,24))","v":""},{"$f":"IF(B2742=\"\",\"\",VLOOKUP(B2742,expedidas,25))","v":""},{"$f":"IF(B2742=\"\",\"\",VLOOKUP(B2742,expedidas,17))","v":""},{"$f":"IF(B2742=\"\",\"\",VLOOKUP(B2742,expedidas,27))","v":""},{"$f":"IF(B2742=\"\",\"\",IF(W2742=0,\" x x x \",VLOOKUP(B2742,expedidas,28)))","v":""},{"$f":"IF(B2742=\"\",\"\",VLOOKUP(B2742,expedidas,29))","v":""},{"$f":"IF(B2742=\"\",\"\",VLOOKUP(B2742,expedidas,30))","v":""},{"$f":"IF(B2742=\"\",\"\",VLOOKUP(B2742,expedidas,31))","v":""},{"$f":"IF(B2742=\"\",\"\",IF(Z2742=0,\"x x x\",VLOOKUP(B2742,expedidas,32)))","v":""},{"$f":"IF(B2742=\"\",\"\",VLOOKUP(B2742,expedidas,33))","v":""},{"$f":"IF(B2742=\"\",\"\",IF(AC2742=0,\" x x x \",VLOOKUP(B2742,expedidas,34)))","v":""},{"$f":"IF(B2742=\"\",\"\",IF(AC2742=0,\" x x x \",VLOOKUP(B2742,expedidas,35)))","v":""},"","","","","","","","","","","","","","","","","","","","","","","","","","","","","","","","","","","",null,"","","","","","","","","","","","","","","","","","","","","","",null,"","","","","","","","","","","","","","","","","","","","","","","","","","","","","","","","","","","","","","","","",null,"","","","","","","","","","",null,"","","","","","","","","","",null,0,0,0,0,null,null,null,0,0,0,0]
["",null,"","","","","","","","","","","","","","","","","","","","","","","","","","","","","","","","","","","","","","","","","","","","","","","","","","","","","","","","","","","","","","","","",null,"","","","","","","","","","","","","","","","","","","","","","",null,"","","","","","","","","","","","","","","","","","","","","","","","","","","","","","","","","","","","","","","","",null,"","","","","","","","","","",null,"","","","","","","","","","",null,0,0,0,0,null,null,null,0,0,0,0]
["",null,"","","","","","","","","","","","","","","","","","","","","","","","","","","","","","","","","","","","","","","","","","","","","","","","","","","","","","","","","","","","","","","","",null,"","","","","","","","","","","","","","","","","","","","","","",null,"","","","","","","","","","","","","","","","","","","","","","","","","","","","","","","","","","","","","","","","",null,"","","","","","","","","","",null,"","","","","","","","","","",null,0,0,0,0,null,null,null,0,0,0,0]
["",null,"","","","","","","","","","","","","","","","","","","","","","","","","","","","","","","","","","","","","","","","","","","","","","","","","","","","","","","","","","","","","","","","",null,"","","","","","","","","","","","","","","","","","","","","","",null,"","","","","","","","","","","","","","","","","","","","","","","","","","","","","","","","","","","","","","","","",null,"","","","","","","","","","",null,"","","","","","","","","","",null,0,0,0,0,null,null,null,0,0,0,0]
["",null,"","","","","","","","","","","","","","","","","","","","","","","","","","","","","","","","","","","","","","","","","","","","","","","","","","","","","","","","","","","","","","","","",null,"","","","","","","","","","","","","","","","","","","","","","",null,"","","","","","","","","","","","","","","","","","","","","","","","","","","","","","","","","","","","","","","","",null,"","","","","","","","","","",null,"","","","","","","","","","",null,0,0,0,0,null,null,null,0,0,0,0]
["",null,"","",{"$f":"IF(B2806=\"\",\"\",VLOOKUP(B2806,expedidas,7))","v":""},{"$f":"IF(B2806=\"\",\"\",VLOOKUP(B2806,expedidas,8))","v":""},{"$f":"IF(B2806=\"\",\"\",VLOOKUP(B2806,expedidas,9))","v":""},{"$f":"IF(B2806=\"\",\"\",VLOOKUP(B2806,expedidas,11))","v":""},{"$f":"IF(B2806=\"\",\"\",VLOOKUP(B2806,expedidas,12))","v":""},"",{"$f":"IF(B2806=\"\",\"\",VLOOKUP(B2806,expedidas,15))","v":""},{"$f":"IF(B2806=\"\",\"\",VLOOKUP(B2806,expedidas,19))","v":""},{"$f":"IF(B2806=\"\",\"\",VLOOKUP(B2806,expedidas,20))","v":""},{"$f":"IF(B2806=\"\",\"\",VLOOKUP(B2806,expedidas,21))","v":""},{"$f":"IF(B2806=\"\",\"\",VLOOKUP(B2806,expedidas,18))","v":""},{"$f":"IF(B2806=\"\",\"\",VLOOKUP(B2806,expedidas,16))","v":""},{"$f":"IF(B2806=\"\",\"\",VLOOKUP(B2806,expedidas,26))","v":""},{"$f":"IF(B2806=\"\",\"\",VLOOKUP(B2806,expedidas,22))","v":""},{"$f":"IF(B2806=\"\",\"\",VLOOKUP(B2806,expedidas,23))","v":""},{"$f":"IF(B2806=\"\",\"\",VLOOKUP(B2806,expedidas,24))","v":""},{"$f":"IF(B2806=\"\",\"\",VLOOKUP(B2806,expedidas,25))","v":""},{"$f":"IF(B2806=\"\",\"\",VLOOKUP(B2806,expedidas,17))","v":""},{"$f":"IF(B2806=\"\",\"\",VLOOKUP(B2806,expedidas,27))","v":""},{"$f":"IF(B2806=\"\",\"\",IF(W2806=0,\" x x x \",VLOOKUP(B2806,expedidas,28)))","v":""},{"$f":"IF(B2806=\"\",\"\",VLOOKUP(B2806,expedidas,29))","v":""},{"$f":"IF(B2806=\"\",\"\",VLOOKUP(B2806,expedidas,30))","v":""},{"$f":"IF(B2806=\"\",\"\",VLOOKUP(B2806,expedidas,31))","v":""},{"$f":"IF(B2806=\"\",\"\",IF(Z2806=0,\"x x x\",VLOOKUP(B2806,expedidas,32)))","v":""},{"$f":"IF(B2806=\"\",\"\",VLOOKUP(B2806,expedidas,33))","v":""},{"$f":"IF(B2806=\"\",\"\",IF(AC2806=0,\" x x x \",VLOOKUP(B2806,expedidas,34)))","v":""},{"$f":"IF(B2806=\"\",\"\",IF(AC2806=0,\" x x x \",VLOOKUP(B2806,expedidas,35)))","v":""},"","","","","","","","","","","","","","","","","","","","","","","","","","","","","","","","","","","",null,"","","","","","","","","","","","","","","","","","","","","","",null,"","","","","","","","","","","","","","","","","","","","","","","","","","","","","","","","","","","","","","","","",null,"","","","","","","","","","",null,"","","","","","","","","","",null,0,0,0,0,null,null,null,0,0,0,0]
[{"$f":"IF(B2815=\"\",\"\",A2814+1)","v":""},null,"","","","","","","","","","","","","","","","","","","","","","","","","","","","","","","","","","","","","","","","","","","","","","","","","","","","","","","","","","","","","","","","",null,"",{"$f":"IF($AS2815=\"\",\"\",IF(G2815=\"não\",0,BR2815-BP2815))","v":""},"","","","","","","","","","","","","","","","","",{"$f":"IF($BQ2815=\"\",\"\",IF(G2815=\"não\",0,IF(CH2815=\"informar\",0,TRUNC(CH2815*0.11,2))))","v":""},{"$f":"IF($BQ2815=\"\",\"\",IF(G2815=\"não\",0,IF(BL2815=0,0,CI2815*2)))","v":""},{"$f":"IF($BQ2815=\"\",\"\",IF(G2815=\"não\",0,IF(BN2815=0,0,CI2815)))","v":""},null,{"$f":"IF(AR2815=\"\",\"\",IF(BP2815=0,AR2815,AR2815-BP2815))","v":""},{"$f":"IF(AS2815=\"\",\"\",IF(BQ2815=0,AS2815,AS2815-BQ2815))","v":""},{"$f":"IF(AT2815=\"\",\"\",IF(BR2815=0,AT2815,AT2815-BR2815))","v":""},{"$f":"IF(AU2815=\"\",\"\",IF(BS2815=0,AU2815,AU2815-BS2815))","v":""},{"$f":"IF(AV2815=\"\",\"\",IF(BT2815=0,AV2815,AV2815-BT2815))","v":""},{"$f":"IF(AW2815=\"\",\"\",IF(BU2815=0,AW2815,AW2815-BU2815))","v":""},{"$f":"IF(AX2815=\"\",\"\",IF(BV2815=0,AX2815,AX2815-BV2815))","v":""},{"$f":"IF(AY2815=\"\",\"\",IF(BW2815=0,AY2815,AY2815-BW2815))","v":""},{"$f":"IF(AZ2815=\"\",\"\",IF(BX2815=0,AZ2815,AZ2815-BX2815))","v":""},{"$f":"IF(BA2815=\"\",\"\",IF(BY2815=0,BA2815,BA2815-BY2815))","v":""},{"$f":"IF(BB2815=\"\",\"\",IF(BZ2815=0,BB2815,BB2815-BZ2815))","v":""},{"$f":"IF(BC2815=\"\",\"\",IF(CA2815=0,BC2815,BC2815-CA2815))","v":""},{"$f":"IF(BD2815=\"\",\"\",IF(CB2815=0,BD2815,BD2815-CB2815))","v":""},{"$f":"IF(BE2815=\"\",\"\",IF(CC2815=0,BE2815,BE2815-CC2815))","v":""},{"$f":"IF(BF2815=\"\",\"\",IF(CD2815=0,BF2815,BF2815-CD2815))","v":""},{"$f":"IF(BG2815=\"\",\"\",IF(CE2815=0,BG2815,BG2815-CE2815))","v":""},{"$f":"IF(BH2815=\"\",\"\",IF(CF2815=0,BH2815,BH2815-CF2815))","v":""},{"$f":"IF(BI2815=\"\",\"\",IF(CG2815=0,BI2815,BI2815-CG2815))","v":""},{"$f":"IF(CM2815=\"\",\"\",IF(BJ2815=AR2815,CM2815,TRUNC(CM2815*(BJ2815*100/AR2815)/100,2)))","v":""},{"$f":"IF(BK2815=\"\",\"\",IF(CI2815=0,BK2815,BK2815-CI2815))","v":""},{"$f":"IF(BL2815=\"\",\"\",IF(CJ2815=0,BL2815,BL2815-CJ2815))","v":""},"",{"$f":"IF(B2815=\"\",\"\",VLOOKUP(B2815,expedidas,48))","v":""},"","","","","","","","","","","","","","","","","",null,"","","","","","","","","","",null,"","","","","","","","","","",null,0,0,0,0,null,null,null,0,0,0,0]
["",null,"","","","","","","","","","","","","","","","","","","","","","","","","","","","","","","","","","","","","","","","","","","","","","","","","","","","","","","","","","","","","","","","",null,"","","","","","","","","","","","","","","",{"$f":"IF($G2831=\"\",\"\",IF($G2831=\"não\",0,IF(VLOOKUP(B2831,expedidas,10)=\"NÃO\",\"informar\",VLOOKUP(B2831,expedidas,75))))","v":""},"","","","","","",null,"","","","","","","","","","","","","","","","","","","","","","","","","","","","","","","","","","","","","","","","",null,"","","","","","","","","","",null,"","","","","","","","","","",null,0,0,0,0,null,null,null,0,0,0,0]
["",null,"","","","","","","","","","","","","","","","","","","","","","","","","","","","","","","","","","","","","","","","","","","","","","","","","","","","","","","","","","","","","","","","",null,"","","","","","","","","","","","","","","","","","","","","","",null,"","","","","","","","","","","","","","","","","","","","","","","","","","","","","","","","","","","","","","","","",null,"","","","","","","","","","",null,"","","","","","","","","","",null,0,0,0,0,null,null,null,0,0,0,0]
["",null,"","","","","","","","","","","","","","","","","","","","","","","","","","","","","","","","","","","","","","","","","","","","","","","","","","","","","","","","","","","","","","","","",null,"","","","","","","","","","","","","","","","","","","","","","",null,"","","","","","","","","","","","","","","","","","","","","","","","","","","","","","","","","","","","","","","","",null,"","","","","","","","","","",null,"","","","","","","","","","",null,0,0,0,0,null,null,null,0,0,0,0]
["",null,"","","","","","","","","","","","","","","","","","","","","","","","","","","","","","","","","","","","","","","","","","","","","","","","","","","","","","","","","","","","","","","","",null,"","","","","","","","","","","","","","","","","","","","","","",null,"","","","","","","","","","","","","","","","","","","","","","","","","","","","","","","","","","","","","","","","",null,"","","","","","","","","","",null,"","","","","","","","","","",null,0,0,0,0,null,null,null,0,0,0,0]
[{"$f":"IF(B2879=\"\",\"\",A2878+1)","v":""},null,"","","","","","","","","","","","","","","","","","","","","","","","","","","","","","","","","","","","","","","","","","","","","","","","","","","","","","","","","","","","","","","","",null,"",{"$f":"IF($AS2879=\"\",\"\",IF(G2879=\"não\",0,BR2879-BP2879))","v":""},"","","","","","","","","","","","","","","","","",{"$f":"IF($BQ2879=\"\",\"\",IF(G2879=\"não\",0,IF(CH2879=\"informar\",0,TRUNC(CH2879*0.11,2))))","v":""},{"$f":"IF($BQ2879=\"\",\"\",IF(G2879=\"não\",0,IF(BL2879=0,0,CI2879*2)))","v":""},{"$f":"IF($BQ2879=\"\",\"\",IF(G2879=\"não\",0,IF(BN2879=0,0,CI2879)))","v":""},null,{"$f":"IF(AR2879=\"\",\"\",IF(BP2879=0,AR2879,AR2879-BP2879))","v":""},{"$f":"IF(AS2879=\"\",\"\",IF(BQ2879=0,AS2879,AS2879-BQ2879))","v":""},{"$f":"IF(AT2879=\"\",\"\",IF(BR2879=0,AT2879,AT2879-BR2879))","v":""},{"$f":"IF(AU2879=\"\",\"\",IF(BS2879=0,AU2879,AU2879-BS2879))","v":""},{"$f":"IF(AV2879=\"\",\"\",IF(BT2879=0,AV2879,AV2879-BT2879))","v":""},{"$f":"IF(AW2879=\"\",\"\",IF(BU2879=0,AW2879,AW2879-BU2879))","v":""},{"$f":"IF(AX2879=\"\",\"\",IF(BV2879=0,AX2879,AX2879-BV2879))","v":""},{"$f":"IF(AY2879=\"\",\"\",IF(BW2879=0,AY2879,AY2879-BW2879))","v":""},{"$f":"IF(AZ2879=\"\",\"\",IF(BX2879=0,AZ2879,AZ2879-BX2879))","v":""},{"$f":"IF(BA2879=\"\",\"\",IF(BY2879=0,BA2879,BA2879-BY2879))","v":""},{"$f":"IF(BB2879=\"\",\"\",IF(BZ2879=0,BB2879,BB2879-BZ2879))","v":""},{"$f":"IF(BC2879=\"\",\"\",IF(CA2879=0,BC2879,BC2879-CA2879))","v":""},{"$f":"IF(BD2879=\"\",\"\",IF(CB2879=0,BD2879,BD2879-CB2879))","v":""},{"$f":"IF(BE2879=\"\",\"\",IF(CC2879=0,BE2879,BE2879-CC2879))","v":""},{"$f":"IF(BF2879=\"\",\"\",IF(CD2879=0,BF2879,BF2879-CD2879))","v":""},{"$f":"IF(BG2879=\"\",\"\",IF(CE2879=0,BG2879,BG2879-CE2879))","v":""},{"$f":"IF(BH2879=\"\",\"\",IF(CF2879=0,BH2879,BH2879-CF2879))","v":""},{"$f":"IF(BI2879=\"\",\"\",IF(CG2879=0,BI2879,BI2879-CG2879))","v":""},{"$f":"IF(CM2879=\"\",\"\",IF(BJ2879=AR2879,CM2879,TRUNC(CM2879*(BJ2879*100/AR2879)/100,2)))","v":""},{"$f":"IF(BK2879=\"\",\"\",IF(CI2879=0,BK2879,BK2879-CI2879))","v":""},{"$f":"IF(BL2879=\"\",\"\",IF(CJ2879=0,BL2879,BL2879-CJ2879))","v":""},"",{"$f":"IF(B2879=\"\",\"\",VLOOKUP(B2879,expedidas,48))","v":""},"","","","","","","","","","","","","","","","","",null,"","","","","","","","","","",null,"","","","","","","","","","",null,0,0,0,0,null,null,null,0,0,0,0]
["",null,"","","","","","","","","","","","","","","","","","","","","","","","","","","","","","","","","","","","","","","","","","","","","","","","","","","","","","","","","","","","","","","","",null,"","","","","","","","","","","","","","","","","","","","","","",null,"","","","","","","","","","","","","","","","","","","","","","","","","","","","","","","","","","","","","","","","",null,"","","","","","","","","","",null,"","","","","","","","","","",null,0,0,0,0,null,null,null,0,0,0,0]
["",null,"","","","","","","","","","","","","","","","","","","","","","","","","","","","","","","","","","","","","","","","","","","","","","","","","","","","","","","","","","","","","","","","",null,"","","","","","","","","","","","","","","",{"$f":"IF($G2895=\"\",\"\",IF($G2895=\"não\",0,IF(VLOOKUP(B2895,expedidas,10)=\"NÃO\",\"informar\",VLOOKUP(B2895,expedidas,75))))","v":""},"","","","","","",null,"","","","","","","","","","","","","","","","","","","","","","","","","","","","","","","","","","","","","","","","",null,"","","","","","","","","","",null,"","","","","","","","","","",null,0,0,0,0,null,null,null,0,0,0,0]
["",null,"","","","","","","","","","","","","","","","","","","","","","","","","","","","","","","","","","","","","","","","","","","","","","","","","","","","","","","","","","","","","","","","",null,"","","","","","","","","","","","","","","","","","","","","","",null,"","","","","","","","","","","","","","","","","","","","","","","","","","","","","","","","","","","","","","","","",null,"","","","","","","","","","",null,"","","","","","","","","","",null,0,0,0,0,null,null,null,0,0,0,0]
["",null,"","","","","","","","","","","","","","","","","","","","","","","","","","","","","","","","","","","","","","","","","","","","","","","","","","","","","","","","","","","","","","","","",null,"","","","","","","","","","","","","","","","","","","","","","",null,"","","","","","","","","","","","","","","","","","","","","","","","","","",{"$f":"IF(DJ2918=\"\",\"\",IF(DJ2918=\"\",\"\",(TRUNC((VLOOKUP(B2918,expedidas,52))*DJ2918,2))))","v":""},"","","","","","","","","","","","","",null,"","","","","","","","","","",null,"","","","","","","","","","",null,0,0,0,0,null,null,null,0,0,0,0]
["",null,"","","","","","","","","","","","","","","","","","","","","","","","","","","","","","","","","","","","","","","","","","","","","","","","","","","","","","","","","","","","","","","","",null,"","","","","","","","","","","","","","","","","","","","","","",null,"","","","","","","","","","","","","","","","","","","","","","","","","","","","","","","","","","","","","","","","",null,"","","","","","","","","","",null,"","","","","","","","","","",null,0,0,0,0,null,null,null,0,0,0,0]
["",null,"","","","","","","","","","","","","","","","","","","","","","","","","","","","","","","","","","","","","","","","","","","","","","","","","","","","","","","","","","","","","","","","",null,"","","","","","","","","","","","","","","","","","","","","","",null,"","","","","","","","","","","","","","","","","","","","","","","","","","","","","","","","","","","","","","","","",null,"","","","","","","","","","",null,"","","","","","","","","","",null,0,0,0,0,null,null,null,0,0,0,0]
["",null,"","","","","","","","","","","","","","","","","","","","","","","","","","","","","","","","","","","","","","","","","","","","","","","","","","","","","","","","","","","","","","","","",null,"","","","","","","","","","","","","","","","","","","","","","",null,"","","","","","","","","","","","","","","","","","","","","","","","","","","","","","","","","","","","","","","","",null,"","","","","","","","","","",null,"","","","","","","","","","",null,0,0,0,{"$f":"IF(AND(EX2953>0,EX2952=0),EX2953,0)","v":0},null,null,null,0,0,0,0]
["",null,"","","","","","","","","","","","","","","","","","","","","","","","","","","","","","","","","","","","","","","","","","","","","","","","","","","","","","","","","","","","","","","","",null,"","","","","","","","","","","","","","","","","","","","","","",null,"","","","","","","","","","","","","","","","","","","","","","","","","","","","","","","","","","","","","","","","",null,"","","","","","","","","","",null,"","","","","","","","","","",null,0,0,0,0,null,null,null,0,0,0,0]
["",null,"","","","","","","","","","","","","","","","","","","","","","","","","","","","","","","","","","","","","","","","","","","","","","","","","","","","","","","","","","","","","","","","",null,"","","","","","","","","","","","","","","","","","","","","","",null,"","","","","","","","","","","","","","","","","","","","","","","",{"$f":"IF(DI2984=\"\",\"\",IF(OR(DI2984>=$DJ$7),1,1/VLOOKUP(DI2984,indice,3)*VLOOKUP($DJ$7,indice,3)))","v":""},{"$f":"IF(DI2984=\"\",\"\",IF(I2984=\"ms 4.151/df\",VLOOKUP(DI2984,indice,5),IF(DI2984<$DJ$7,VLOOKUP(F2984,indice,6),VLOOKUP(DI2984,indice,5))))","v":""},"","","","","","","","","","","","","","","",null,"","","","","","","","","","",null,"","","","","","","","","","",null,0,0,0,0,null,null,null,0,0,0,0]
["",null,"","","","","","","","","","","","","","","","","","","","","","","","","","","","","","","","","","","","","","","","","","","","","","","","","","","","","","","","","","","","","","","","",null,"","","","","","","","","","","","","","","","","","","","","","",null,"","","","","","","","","","","","","","","","","","","","","","","","","","","","","","","","","","","","","","","","",null,"","","","","","","","","","",null,"","","","","","","","","","",null,0,0,0,0,null,null,null,0,0,0,0]
["",null,"","","","","","","","","","","","","","","","","","","","","","","","","","","","","","","","","","","","","","","","","","","","","","","","","","","","","","","","","","","","","","","","",null,"","","","","","","","","","","","","","","","","","","","","","",null,"","","","","","","","","","","","","","","","","","","","","","","","","","","","","","","","","","","","","","","","",null,"","","","","","","","","","",null,"","","","","","","","","","",null,0,0,0,0,null,null,null,0,0,0,0]
["",null,"","","","","","","","","","","","","","","","","","","","","","","","","","","","","","","","","","","","","","","","","","","","","","","","","","","","","","","","","","","","","","","","",null,"","","","","","","","","","","","","","","","","","","","","","",null,"","","","","","","","","","","","","","","","","","","","","","","","","","","","","","","","","","","","","","","","",null,"","","","","","","","","","",null,"","","","","","","","","","",null,0,0,0,0,null,null,null,0,0,0,0]
["",null,"","","","","","","","","","","","","","","","","","","","","","","","","","","","","",{"$f":"IF(B3026=\"\",\"\",VLOOKUP(B3026,expedidas,36))","v":""},{"$f":"IF(B3026=\"\",\"\",IF(AF3026=0,\" x x x \",VLOOKUP(B3026,expedidas,37)))","v":""},{"$f":"IF(B3026=\"\",\"\",IF(AF3026=0,\" x x x \",VLOOKUP(B3026,expedidas,38)))","v":""},{"$f":"IF(B3026=\"\",\"\",VLOOKUP(B3026,expedidas,39))","v":""},{"$f":"IF(B3026=\"\",\"\",VLOOKUP(B3026,expedidas,40))","v":""},{"$f":"IF(B3026=\"\",\"\",VLOOKUP(B3026,expedidas,41))","v":""},{"$f":"IF(B3026=\"\",\"\",VLOOKUP(B3026,expedidas,42))","v":""},{"$f":"IF(B3026=\"\",\"\",VLOOKUP(B3026,expedidas,43))","v":""},{"$f":"IF(B3026=\"\",\"\",VLOOKUP(B3026,expedidas,44))","v":""},{"$f":"IF(B3026=\"\",\"\",VLOOKUP(B3026,expedidas,45))","v":""},{"$f":"IF(B3026=\"\",\"\",VLOOKUP(B3026,expedidas,46))","v":""},{"$f":"IF(B3026=\"\",\"\",VLOOKUP(B3026,expedidas,47))","v":""},"",{"$f":"IF(B3026=\"\",\"\",IF(I3026=\"MS 11.371/DF\",AT3026,VLOOKUP(B3026,expedidas,52)))","v":""},{"$f":"IF(B3026=\"\",\"\",VLOOKUP(B3026,expedidas,53))","v":""},{"$f":"IF(B3026=\"\",\"\",IF(I3026=\"MS 11.371/DF\",0,VLOOKUP(B3026,expedidas,54)))","v":""},{"$f":"IF(B3026=\"\",\"\",IF(I3026=\"MS 11.371/DF\",AW3026,VLOOKUP(B3026,expedidas,55)))","v":""},{"$f":"IF(B3026=\"\",\"\",VLOOKUP(B3026,expedidas,56))","v":""},{"$f":"IF(B3026=\"\",\"\",VLOOKUP(B3026,expedidas,57))","v":""},{"$f":"IF(B3026=\"\",\"\",VLOOKUP(B3026,expedidas,58))","v":""},{"$f":"IF(B3026=\"\",\"\",VLOOKUP(B3026,expedidas,59))","v":""},{"$f":"IF(B3026=\"\",\"\",VLOOKUP(B3026,expedidas,60))","v":""},{"$f":"IF(B3026=\"\",\"\",VLOOKUP(B3026,expedidas,61))","v":""},{"$f":"IF(B3026=\"\",\"\",VLOOKUP(B3026,expedidas,62))","v":""},{"$f":"IF(B3026=\"\",\"\",VLOOKUP(B3026,expedidas,63))","v":""},{"$f":"IF(B3026=\"\",\"\",VLOOKUP(B3026,expedidas,64))","v":""},{"$f":"IF(B3026=\"\",\"\",VLOOKUP(B3026,expedidas,65))","v":""},{"$f":"IF(B3026=\"\",\"\",IF(I3026=\"MS 11.371/DF\",0,VLOOKUP(B3026,expedidas,66)))","v":""},{"$f":"IF(B3026=\"\",\"\",IF(I3026=\"MS 11.371/DF\",BI3026,VLOOKUP(B3026,expedidas,67)))","v":""},{"$f":"IF(B3026=\"\",\"\",VLOOKUP(B3026,expedidas,68))","v":""},{"$f":"IF(B3026=\"\",\"\",VLOOKUP(B3026,expedidas,69))","v":""},{"$f":"IF(B3026=\"\",\"\",VLOOKUP(B3026,expedidas,70))","v":""},{"$f":"IF(B3026=\"\",\"\",VLOOKUP(B3026,expedidas,71))","v":""},{"$f":"IF(B3026=\"\",\"\",VLOOKUP(B3026,expedidas,72))","v":""},{"$f":"IF(B3026=\"\",\"\",IF(BM3026=\"-\",\"-\",VLOOKUP(B3026,expedidas,74)))","v":""},null,"","","","","","","","","","","","","","","","","","","","","","",null,"","","","","","","","","","","","","","","","","","","","","","","","","","","","","","","","","","","","","","","","",null,"","","","","","","","","","",null,"","","","","","","","","","",null,0,0,0,0,null,null,null,0,0,0,0]
["",null,"","","","","","","","","","","","","","","","","","","","","","","","","","","","","","","","","","","","","","","","","","","","","","","","","","","","","","","","","","","","","","","","",null,"","","","","","","","","","","","","","","","","","","","","","",null,"","","","","","","","","","","","","","","","","","","","","","","","","","","","","","","","","","","","","","","","",null,"","","","","","","","","","",null,"","","","","","","","","","",null,0,0,0,0,null,null,null,0,0,0,0]
["",null,"","","","","","","","","","","","","","","","","","","","","","","","","","","","","","","","","","","","","","","","","","","","","","","","","","","","","","","","","","","","","","","","",null,"","","","","","","","","","","","","","","","","","","","","","",null,"","","","","","","","","","","","","","","","","","","","","","","",{"$f":"IF(DI3048=\"\",\"\",IF(OR(DI3048>=$DJ$7),1,1/VLOOKUP(DI3048,indice,3)*VLOOKUP($DJ$7,indice,3)))","v":""},{"$f":"IF(DI3048=\"\",\"\",IF(I3048=\"ms 4.151/df\",VLOOKUP(DI3048,indice,5),IF(DI3048<$DJ$7,VLOOKUP(F3048,indice,6),VLOOKUP(DI3048,indice,5))))","v":""},"","","","","","","","","","","","","","","",null,"","","","","","","","","","",null,"","","","","","","","","","",null,0,0,0,0,null,null,null,0,0,0,0]
["",null,"","","","","","","","","","","","","","","","","","","","","","","","","","","","","","","","","","","","","","","","","","","","","","","","","","","","","","","","","","","","","","","","",null,"","","","","","","","","","","","","","","","","","","","","","",null,"","","","","","","","","","","","","","","","","","","","","","","","","","","","","","","","","","","","","","","","",null,"","","","","","","","","","",null,"","","","","","","","","","",null,0,0,0,0,null,null,null,0,0,0,0]
["",null,"","","","","","","","","","","","","","","","","","","","","","","","","","","","","","","","","","","","","","","","","","","","","","","","","","","","","","","","","","","","","","","","",null,"","","","","","","","","","","","","","","","","","","","","","",null,"","","","","","","","","","","","","","","","","","","","","","","","","","","","","","","","","","","","","","","","",null,"","","","","","","","","","",null,"","","","","","","","","","",null,0,0,0,0,null,null,null,0,0,0,0]
["",null,"","","","","","","","","","","","","","","","","","","","","","","","","","","","","",{"$f":"IF(B3090=\"\",\"\",VLOOKUP(B3090,expedidas,36))","v":""},{"$f":"IF(B3090=\"\",\"\",IF(AF3090=0,\" x x x \",VLOOKUP(B3090,expedidas,37)))","v":""},{"$f":"IF(B3090=\"\",\"\",IF(AF3090=0,\" x x x \",VLOOKUP(B3090,expedidas,38)))","v":""},{"$f":"IF(B3090=\"\",\"\",VLOOKUP(B3090,expedidas,39))","v":""},{"$f":"IF(B3090=\"\",\"\",VLOOKUP(B3090,expedidas,40))","v":""},{"$f":"IF(B3090=\"\",\"\",VLOOKUP(B3090,expedidas,41))","v":""},{"$f":"IF(B3090=\"\",\"\",VLOOKUP(B3090,expedidas,42))","v":""},{"$f":"IF(B3090=\"\",\"\",VLOOKUP(B3090,expedidas,43))","v":""},{"$f":"IF(B3090=\"\",\"\",VLOOKUP(B3090,expedidas,44))","v":""},{"$f":"IF(B3090=\"\",\"\",VLOOKUP(B3090,expedidas,45))","v":""},{"$f":"IF(B3090=\"\",\"\",VLOOKUP(B3090,expedidas,46))","v":""},{"$f":"IF(B3090=\"\",\"\",VLOOKUP(B3090,expedidas,47))","v":""},"",{"$f":"IF(B3090=\"\",\"\",IF(I3090=\"MS 11.371/DF\",AT3090,VLOOKUP(B3090,expedidas,52)))","v":""},{"$f":"IF(B3090=\"\",\"\",VLOOKUP(B3090,expedidas,53))","v":""},{"$f":"IF(B3090=\"\",\"\",IF(I3090=\"MS 11.371/DF\",0,VLOOKUP(B3090,expedidas,54)))","v":""},{"$f":"IF(B3090=\"\",\"\",IF(I3090=\"MS 11.371/DF\",AW3090,VLOOKUP(B3090,expedidas,55)))","v":""},{"$f":"IF(B3090=\"\",\"\",VLOOKUP(B3090,expedidas,56))","v":""},{"$f":"IF(B3090=\"\",\"\",VLOOKUP(B3090,expedidas,57))","v":""},{"$f":"IF(B3090=\"\",\"\",VLOOKUP(B3090,expedidas,58))","v":""},{"$f":"IF(B3090=\"\",\"\",VLOOKUP(B3090,expedidas,59))","v":""},{"$f":"IF(B3090=\"\",\"\",VLOOKUP(B3090,expedidas,60))","v":""},{"$f":"IF(B3090=\"\",\"\",VLOOKUP(B3090,expedidas,61))","v":""},{"$f":"IF(B3090=\"\",\"\",VLOOKUP(B3090,expedidas,62))","v":""},{"$f":"IF(B3090=\"\",\"\",VLOOKUP(B3090,expedidas,63))","v":""},{"$f":"IF(B3090=\"\",\"\",VLOOKUP(B3090,expedidas,64))","v":""},{"$f":"IF(B3090=\"\",\"\",VLOOKUP(B3090,expedidas,65))","v":""},{"$f":"IF(B3090=\"\",\"\",IF(I3090=\"MS 11.371/DF\",0,VLOOKUP(B3090,expedidas,66)))","v":""},{"$f":"IF(B3090=\"\",\"\",IF(I3090=\"MS 11.371/DF\",BI3090,VLOOKUP(B3090,expedidas,67)))","v":""},{"$f":"IF(B3090=\"\",\"\",VLOOKUP(B3090,expedidas,68))","v":""},{"$f":"IF(B3090=\"\",\"\",VLOOKUP(B3090,expedidas,69))","v":""},{"$f":"IF(B3090=\"\",\"\",VLOOKUP(B3090,expedidas,70))","v":""},{"$f":"IF(B3090=\"\",\"\",VLOOKUP(B3090,expedidas,71))","v":""},{"$f":"IF(B3090=\"\",\"\",VLOOKUP(B3090,expedidas,72))","v":""},{"$f":"IF(B3090=\"\",\"\",IF(BM3090=\"-\",\"-\",VLOOKUP(B3090,expedidas,74)))","v":""},null,"","","","","","","","","","","","","","","","","","","","","","",null,"","","","","","","","","","","","","","","","","","","","","","","","","","","","","","","","","","","","","","","","",null,"","","","","","","","","","",null,"","","","","","","","","","",null,0,0,0,0,null,null,null,0,0,0,0]
["",null,"","","","","","","","","","","","","","","","","","","","","","","","","","","","","","","","","","","","","","","","","","","","","","","","","","","","","","","","","","","","","","","","",null,"","","","","","","","","","","","","","","","","","","","","","",null,"","","","","","","","","","","","","","","","","","","","","","","","","","","","","","","","","","","","","","","","",null,"","","","","","","","","","",null,"","","","","","","","","","",null,0,0,0,0,null,null,null,0,0,0,0]
["",null,"","","","","","","","","","","","","","","","","","","","","","","","","","","","","","","","","","","","","","","","","","","","","","","","","","","","","","","","","","","","","","","","",null,"","","","","","","","","","","","","","","","","","","","","","",null,"","","","","","","","","","","","","","","","","","","","","","","",{"$f":"IF(DI3112=\"\",\"\",IF(OR(DI3112>=$DJ$7),1,1/VLOOKUP(DI3112,indice,3)*VLOOKUP($DJ$7,indice,3)))","v":""},{"$f":"IF(DI3112=\"\",\"\",IF(I3112=\"ms 4.151/df\",VLOOKUP(DI3112,indice,5),IF(DI3112<$DJ$7,VLOOKUP(F3112,indice,6),VLOOKUP(DI3112,indice,5))))","v":""},"","","","","","","","","","","","","","","",null,"","","","","","","","","","",null,"","","","","","","","","","",null,0,0,0,0,null,null,null,0,0,0,0]
["",null,"","","","","","","","","","","","","","","","","","","","","","","","","","","","","","","","","","","","","","","","","","","","","","","","","","","","","","","","","","","","","","","","",null,"","","","","","","","","","","","","","","","","","","","","","",null,"","","","","","","","","","","","","","","","","","","","","","","","","","","","","","","","","","","","","","","","",null,"","","","","","","","","","",null,{"$f":"IF(EB3121=\"\",\"\",IF(G3121=\"não\",DP3121,EN3121+EO3121+EP3121+EQ3121+ER3121))","v":""},{"$f":"IF(EC3121=\"\",\"\",IF(CR3121=0,0,DQ3121-EC3121))","v":""},{"$f":"IF(ED3121=\"\",\"\",IF(CU3121=0,0,DR3121-ED3121))","v":""},{"$f":"IF(EE3121=\"\",\"\",IF(CX3121=0,0,DS3121-EE3121))","v":""},{"$f":"IF(EF3121=\"\",\"\",IF(DA3121=0,0,DT3121-EF3121))","v":""},{"$f":"IF(EG3121=\"\",\"\",IF(DD3121=0,0,DU3121-EG3121))","v":""},"","","","",null,0,0,0,0,null,null,null,0,0,0,0]
["",null,"","","","","","","","","","","","","","","","","","","","","","","","","","","","","","","","","","","","","","","","","","","","","","","","","","","","","","","","","","","","","","","","",null,"","","","","","","","","","","","","","","","","","","","","","",null,"","","","","","","","","","","","","","","","","","","","","","","","","","","","","","","","","","","","","","","","",null,"","","","","","","","","","",null,"","","","","","","","","","",null,0,0,0,0,null,null,null,0,0,0,0]
["",null,"","","","","","","","","","","","","","","","","","","","","","","","","","","","","","","","","","","","","","","","","","","","","","","","","","","","","","","","","","","","","","","","",null,"","","","","","","","","","","","","","","","","","","","","","",null,"","","","","","","","","","","","","","","","","","","","","","","","","","","","","","","","","","","","","","","","",null,"","","","","","","","","","",null,"","","","","","","","","","",null,0,0,0,0,null,null,null,0,0,0,0]
["",null,"","","",null,"",null,"","","","","","","","","","","","","","",null,"","",null,"","",null,null,null,null,null,null,"",null,null,null,null,null,null,null,null,null,null,"",null,null,"",null,null,"",null,null,null,null,null,null,null,null,"","","","","","",null,null,null,"",null,null,null,null,null,"",null,null,null,null,null,null,null,null,"","","","","",null,null,null,"",null,null,"",null,null,"",null,null,null,null,null,null,null,null,"","","","","","","","",null,null,"",null,"","","",null,null,"","","","",null,"",null,"","","",null,null,"",null,null,null,null,null,"","","",null,null,"","","","","",null,null,null,null,null,null,null,null,null,""]
["",null,"","","",null,"",null,"","","","","","","","","","","","","","",null,"","",null,"","",null,null,null,null,null,null,"",null,null,null,null,null,null,null,null,null,null,"",null,null,"",null,null,"",null,null,null,null,null,null,null,null,"","","","","","",null,null,null,"",null,null,null,null,null,"",null,null,null,null,null,null,null,null,"","","","","",null,null,null,"",null,null,"",null,null,"",null,null,null,null,null,null,null,null,"","","","","","","","",null,null,"",null,"","","",null,null,"","","","",null,"",null,"","","",null,null,"",null,null,null,null,null,"","","",null,null,"","","","","",null,null,null,null,null,null,null,null,null,""]
["",null,"","","",null,"",null,"","","","","","","","","","","","","","",null,"","",null,"","",null,null,null,null,null,null,"",null,null,null,null,null,null,null,null,null,null,"",null,null,"",null,null,"",null,null,null,null,null,null,null,null,"","","","","","",null,null,null,"",null,null,null,null,null,"",null,null,null,null,null,null,null,null,"","","","","",null,null,null,"",null,null,"",null,null,"",null,null,null,null,null,null,null,null,"","","","","","","","",null,null,"",null,"","","",null,null,"","","","",null,"",null,"","","",null,null,"",null,null,null,null,null,"","","",null,null,"","","","","",null,null,null,null,null,null,null,null,null,""]
["",null,"","","",null,"",null,"","","","","","","","","","","","","","",null,"","",null,"","",null,null,null,null,null,null,"",null,null,null,null,null,null,null,null,null,null,"",null,null,"",null,null,"",null,null,null,null,null,null,null,null,"","","","","","",null,null,null,"",null,null,null,null,null,"",null,null,null,null,null,null,null,null,"","","","","",null,null,null,"",null,null,"",null,null,"",null,null,null,null,null,null,null,null,"","","","","","","","",null,null,"",null,"","","",null,null,"","","","",null,"",null,"","","",null,null,"",null,null,null,null,null,"","","",null,null,"","","","","",null,null,null,null,null,null,null,null,null,""]
["",null,"","","",null,"",null,"","","","","","","","","","","","","","",null,"","",null,"","",null,null,null,null,null,null,"",null,null,null,null,null,null,null,null,null,null,"",null,null,"",null,null,"",null,null,null,null,null,null,null,null,"","","","","","",null,null,null,"",null,null,null,null,null,"",null,null,null,null,null,null,null,null,"","","","","",null,null,null,"",null,null,"",null,null,"",null,null,null,null,null,null,null,null,"","","","","","","","",null,null,"",null,"","","",null,null,"","","","",null,"",null,"","","",null,null,"",null,null,null,null,null,"","","",null,null,"","","","","",null,null,null,null,null,null,null,null,null,""]
["",null,"","","",null,"",null,"","","","","","","","","","","","","","",null,"","",null,"","",null,null,null,null,null,null,"",null,null,null,null,null,null,null,null,null,null,"",null,null,"",null,null,"",null,null,null,null,null,null,null,null,"","","","","","",null,null,null,"",null,null,null,null,null,"",null,null,null,null,null,null,null,null,"","","","","",null,null,null,"",null,null,"",null,null,"",null,null,null,null,null,null,null,null,"","","","","","","","",null,null,"",null,"","","",null,null,"","","","",null,"",null,"","","",null,null,"",null,null,null,null,null,"","","",null,null,"","","","","",null,null,null,null,null,null,null,null,null,""]
["",null,"","","",null,"",null,"","","","","","","","","","","","","","",null,"","",null,"","",null,null,null,null,null,null,"",null,null,null,null,null,null,null,null,null,null,"",null,null,"",null,null,"",null,null,null,null,null,null,null,null,"","","","","","",null,null,null,"",null,null,null,null,null,"",null,null,null,null,null,null,null,null,"","","","","",null,null,null,"",null,null,"",null,null,"",null,null,null,null,null,null,null,null,"","","","","","","","",null,null,"",null,"","","",null,null,"","","","",null,"",null,"","","",null,null,"",null,null,null,null,null,"","","",null,null,"","","","","",null,null,null,null,null,null,null,null,null,""]
["",null,"","","",null,"",null,"","","","","","","","","","","","","","",null,"","",null,"","",null,null,null,null,null,null,"",null,null,null,null,null,null,null,null,null,null,"",null,null,"",null,null,"",null,null,null,null,null,null,null,null,"","","","","","",null,null,null,"",null,null,null,null,null,"",null,null,null,null,null,null,null,null,"","","","","",null,null,null,"",null,null,"",null,null,"",null,null,null,null,null,null,null,null,"","","","","","","","",null,null,"",null,"","","",null,null,"","","","",null,"",null,"","","",null,null,"",null,null,null,null,null,"","","",null,null,"","","","","",null,null,null,null,null,null,null,null,null,""]
["",null,"","","",null,"",null,"","","","","","","","","","","","","","",null,"","",null,"","",null,null,null,null,null,null,"",null,null,null,null,null,null,null,null,null,null,"",null,null,"",null,null,"",null,null,null,null,null,null,null,null,"","","","","","",null,null,null,"",null,null,null,null,null,"",null,null,null,null,null,null,null,null,"","","","","",null,null,null,"",null,null,"",null,null,"",null,null,null,null,null,null,null,null,"","","","","","","","",null,null,"",null,"","","",null,null,"","","","",null,"",null,"","","",null,null,"",null,null,null,null,null,"","","",null,null,"","","","","",null,null,null,null,null,null,null,null,null,""]
["",null,"","","",null,"",null,"","","","","","","","","","","","","","",null,"","",null,"","",null,null,null,null,null,null,"",null,null,null,null,null,null,null,null,null,null,"",null,null,"",null,null,"",null,null,null,null,null,null,null,null,"","","","","","",null,null,null,"",null,null,null,null,null,"",null,null,null,null,null,null,null,null,"","","","","",null,null,null,"",null,null,"",null,null,"",null,null,null,null,null,null,null,null,"","","","","","","","",null,null,"",null,"","","",null,null,"","","","",null,"",null,"","","",null,null,"",null,null,null,null,null,"","","",null,null,"","","","","",null,null,null,null,null,null,null,null,null,""]
["",null,"","","",null,"",null,"","","","","","","","","","","","","","",null,"","",null,"","",null,null,null,null,null,null,"",null,null,null,null,null,null,null,null,null,null,"",null,null,"",null,null,"",null,null,null,null,null,null,null,null,"","","","","","",null,null,null,"",null,null,null,null,null,"",null,null,null,null,null,null,null,null,"","","","","",null,null,null,"",null,null,"",null,null,"",null,null,null,null,null,null,null,null,"","","","","","","","",null,null,"",null,"","","",null,null,"","","","",null,"",null,"","","",null,null,"",null,null,null,null,null,"","","",null,null,"","","","","",null,null,null,null,null,null,null,null,null,""]
["",null,"","","",null,"",null,"","","","","","","","","","","","","","",null,"","",null,"","",null,null,null,null,null,null,"",null,null,null,null,null,null,null,null,null,null,"",null,null,"",null,null,"",null,null,null,null,null,null,null,null,"","","","","","",null,null,null,"",null,null,null,null,null,"",null,null,null,null,null,null,null,null,"","","","","",null,null,null,"",null,null,"",null,null,"",null,null,null,null,null,null,null,null,"","","","","","","","",null,null,"",null,"","","",null,null,"","","","",null,"",null,"","","",null,null,"",null,null,null,null,null,"","","",null,null,"","","","","",null,null,null,null,null,null,null,null,null,""]
["",null,"","","",null,"",null,"","","","","","","","","","","","","","",null,"","",null,"","",null,null,null,null,null,null,"",null,null,null,null,null,null,null,null,null,null,"",null,null,"",null,null,"",null,null,null,null,null,null,null,null,"","","","","","",null,null,null,"",null,null,null,null,null,"",null,null,null,null,null,null,null,null,"","","","","",null,null,null,"",null,null,"",null,null,"",null,null,null,null,null,null,null,null,"","","","","","","","",null,null,"",null,"","","",null,null,"","","","",null,"",null,"","","",null,null,"",null,null,null,null,null,"","","",null,null,"","","","","",null,null,null,null,null,null,null,null,null,""]
["",null,"","","",null,"",null,"","","","","","","","","","","","","","",null,"","",null,"","",null,null,null,null,null,null,"",null,null,null,null,null,null,null,null,null,null,"",null,null,"",null,null,"",null,null,null,null,null,null,null,null,"","","","","","",null,null,null,"",null,null,null,null,null,"",null,null,null,null,null,null,null,null,"","","","","",null,null,null,"",null,null,"",null,null,"",null,null,null,null,null,null,null,null,"","","","","","","","",null,null,"",null,"","","",null,null,"","","","",null,"",null,"","","",null,null,"",null,null,null,null,null,"","","",null,null,"","","","","",null,null,null,null,null,null,null,null,null,""]
["",null,"","","",null,"",null,"","","","","","","","","","","","","","",null,"","",null,"","",null,null,null,null,null,null,"",null,null,null,null,null,null,null,null,null,null,"",null,null,"",null,null,"",null,null,null,null,null,null,null,null,"","","","","","",null,null,null,"",null,null,null,null,null,"",null,null,null,null,null,null,null,null,"","","","","",null,null,null,"",null,null,"",null,null,"",null,null,null,null,null,null,null,null,"","","","","","","","",null,null,"",null,"","","",null,null,"","","","",null,"",null,"","","",null,null,"",null,null,null,null,null,"","","",null,null,"","","","","",null,null,null,null,null,null,null,null,null,{"$f":"IF(AND(A3222>0,A3223=\"\"),A3222,0)","v":""}]
["",null,"","","",null,"",null,"","","","","","","","","","","","","","",null,"","",null,"","",null,null,null,null,null,null,"",null,null,null,null,null,null,null,null,null,null,"",null,null,"",null,null,"",null,null,null,null,null,null,null,null,"","","","","","",null,null,null,"",null,null,null,null,null,"",null,null,null,null,null,null,null,null,"","","","","",null,null,null,"",null,null,"",null,null,"",null,null,null,null,null,null,null,null,"","","","","","","","",null,null,"",null,"","","",null,null,"","","","",null,"",null,"","","",null,null,"",null,null,null,null,null,"","","",null,null,"","","","","",null,null,null,null,null,null,null,null,null,""]
["",null,"","","",null,"",null,"","","","","","","","","","","","","","",null,"","",null,"","",null,null,null,null,null,null,"",null,null,null,null,null,null,null,null,null,null,"",null,null,"",null,null,"",null,null,null,null,null,null,null,null,"","","","","","",null,null,null,"",null,null,null,null,null,"",null,null,null,null,null,null,null,null,"","","","","",null,null,null,"",null,null,"",null,null,"",null,null,null,null,null,null,null,null,"","","","","","","","",null,null,"",null,"","","",null,null,"","","","",null,"",null,"","","",null,null,"",null,null,null,null,null,"","","",null,null,"","","","","",null,null,null,null,null,null,null,null,null,""]
["",null,"","","",null,"",null,"","","","","","","","","","","","","","",null,"","",null,"","",null,null,null,null,null,null,"",null,null,null,null,null,null,null,null,null,null,"",null,null,"",null,null,"",null,null,null,null,null,null,null,null,"","","","","","",null,null,null,"",null,null,null,null,null,"",null,null,null,null,null,null,null,null,"","","","","",null,null,null,"",null,null,"",null,null,"",null,null,null,null,null,null,null,null,"","","","","","","","",null,null,"",null,"","","",null,null,"","","","",null,"",null,"","","",null,null,"",null,null,null,null,null,"","","",null,null,"","","","","",null,null,null,null,null,null,null,null,null,""]
["",null,"","","",null,"",null,"","","","","","","","","","","","","","",null,"","",null,"","",null,null,null,null,null,null,"",null,null,null,null,null,null,null,null,null,null,"",null,null,"",null,null,"",null,null,null,null,null,null,null,null,"","","","","","",null,null,null,"",null,null,null,null,null,"",null,null,null,null,null,null,null,null,"","","","","",null,null,null,"",null,null,"",null,null,"",null,null,null,null,null,null,null,null,"","","","","","","","",null,null,"",null,"","","",null,null,"","","","",null,"",null,"","","",null,null,"",null,null,null,null,null,"","","",null,null,"","","","","",null,null,null,null,null,null,null,null,null,""]
["",null,"","","",null,"",null,"","","","","","","","","","","","","","",null,"","",null,"","",null,null,null,null,null,null,"",null,null,null,null,null,null,null,null,null,null,"",null,null,"",null,null,"",null,null,null,null,null,null,null,null,"","","","","","",null,null,null,"",null,null,null,null,null,"",null,null,null,null,null,null,null,null,"","","","","",null,null,null,"",null,null,"",null,null,"",null,null,null,null,null,null,null,null,"","","","","","","","",null,null,"",null,"","","",null,null,"","","","",null,"",null,"","","",null,null,"",null,null,null,null,null,"","","",null,null,"","","","","",null,null,null,null,null,null,null,null,null,""]
["",null,"","","",null,"",null,"","","","","","","","","","","","","","",null,"","",null,"","",null,null,null,null,null,null,"",null,null,null,null,null,null,null,null,null,null,"",null,null,"",null,null,"",null,null,null,null,null,null,null,null,"","","","","","",null,null,null,"",null,null,null,null,null,"",null,null,null,null,null,null,null,null,"","","","","",null,null,null,"",null,null,"",null,null,"",null,null,null,null,null,null,null,null,"","","","","","","","",null,null,"",null,"","","",null,null,"","","","",null,"",null,"","","",null,null,"",null,null,null,null,null,"","","",null,null,"","","","","",null,null,null,null,null,null,null,null,null,""]
["",null,"","","",null,"",null,"","","","","","","","","","","","","","",null,"","",null,"","",null,null,null,null,null,null,"",null,null,null,null,null,null,null,null,null,null,"",null,null,"",null,null,"",null,null,null,null,null,null,null,null,"","","","","","",null,null,null,"",null,null,null,null,null,"",null,null,null,null,null,null,null,null,"","","","","",null,null,null,"",null,null,"",null,null,"",null,null,null,null,null,null,null,null,"","","","","","","","",null,null,"",null,"","","",null,null,"","","","",null,"",null,"","","",null,null,"",null,null,null,null,null,"","","",null,null,"","","","","",null,null,null,null,null,null,null,null,null,""]
["",null,"","","",null,"",null,"","","","","","","","","","","","","","",null,"","",null,"","",null,null,null,null,null,null,"",null,null,null,null,null,null,null,null,null,null,"",null,null,"",null,null,"",null,null,null,null,null,null,null,null,"","","","","","",null,null,null,"",null,null,null,null,null,"",null,null,null,null,null,null,null,null,"","","","","",null,null,null,"",null,null,"",null,null,"",null,null,null,null,null,null,null,null,"","","","","","","","",null,null,"",null,"","","",null,null,"","","","",null,"",null,"","","",null,null,"",null,null,null,null,null,"","","",null,null,"","","","","",null,null,null,null,null,null,null,null,null,""]
["",null,"","","",null,"",null,"","","","","","","","","","","","","","",null,"","",null,"","",null,null,null,null,null,null,"",null,null,null,null,null,null,null,null,null,null,"",null,null,"",null,null,"",null,null,null,null,null,null,null,null,"","","","","","",null,null,null,"",null,null,null,null,null,"",null,null,null,null,null,null,null,null,"","","","","",null,null,null,"",null,null,"",null,null,"",null,null,null,null,null,null,null,null,"","","","","","","","",null,null,"",null,"","","",null,null,"","","","",null,"",null,"","","",null,null,"",null,null,null,null,null,"","","",null,null,"","","","","",null,null,null,null,null,null,null,null,null,""]
["",null,"","","",null,"",null,"","","","","","","","","","","","","","",null,"","",null,"","",null,null,null,null,null,null,"",null,null,null,null,null,null,null,null,null,null,"",null,null,"",null,null,"",null,null,null,null,null,null,null,null,"","","","","","",null,null,null,"",null,null,null,null,null,"",null,null,null,null,null,null,null,null,"","","","","",null,null,null,"",null,null,"",null,null,"",null,null,null,null,null,null,null,null,"","","","","","","","",null,null,"",null,"","","",null,null,"","","","",null,"",null,"","","",null,null,"",null,null,null,null,null,"","","",null,null,"","","","","",null,null,null,null,null,null,null,null,null,""]
["",null,"","","",null,"",null,"","","","","","","","","","","","","","",null,"","",null,"","",null,null,null,null,null,null,"",null,null,null,null,null,null,null,null,null,null,"",null,null,"",null,null,"",null,null,null,null,null,null,null,null,"","","","","","",null,null,null,"",null,null,null,null,null,"",null,null,null,null,null,null,null,null,"","","","","",null,null,null,"",null,null,"",null,null,"",null,null,null,null,null,null,null,null,"","","","","","","","",null,null,"",null,"","","",null,null,"","","","",null,"",null,"","","",null,null,"",null,null,null,null,null,"","","",null,null,"","","","","",null,null,null,null,null,null,null,null,null,""]
["",null,"","","",null,"",null,"","","","","","","","","","","","","","",null,"","",null,"","",null,null,null,null,null,null,"",null,null,null,null,null,null,null,null,null,null,"",null,null,"",null,null,"",null,null,null,null,null,null,null,null,"","","","","","",null,null,null,"",null,null,null,null,null,"",null,null,null,null,null,null,null,null,"","","","","",null,null,null,"",null,null,"",null,null,"",null,null,null,null,null,null,null,null,"","","","","","","","",null,null,"",null,"","","",null,null,"","","","",null,"",null,"","","",null,null,"",null,null,null,null,null,"","","",null,null,"","","","","",null,null,null,null,null,null,null,null,null,""]
["",null,"","","",null,"",null,"","","","","","","","","","","","","","",null,"","",null,"","",null,null,null,null,null,null,"",null,null,null,null,null,null,null,null,null,null,"",null,null,"",null,null,"",null,null,null,null,null,null,null,null,"","","","","","",null,null,null,"",null,null,null,null,null,"",null,null,null,null,null,null,null,null,"","","","","",null,null,null,"",null,null,"",null,null,"",null,null,null,null,null,null,null,null,"","","","","","","","",null,null,"",null,"","","",null,null,"","","","",null,"",null,"","","",null,null,"",null,null,null,null,null,"","","",null,null,"","","","","",null,null,null,null,null,null,null,null,null,""]
["",null,"","","",null,"",null,"","","","","","","","","","","","","","",null,"","",null,"","",null,null,null,null,null,null,"",null,null,null,null,null,null,null,null,null,null,"",null,null,"",null,null,"",null,null,null,null,null,null,null,null,"","","","","","",null,null,null,"",null,null,null,null,null,"",null,null,null,null,null,null,null,null,"","","","","",null,null,null,"",null,null,"",null,null,"",null,null,null,null,null,null,null,null,"","","","","","","","",null,null,"",null,"","","",null,null,"","","","",null,"",null,"","","",null,null,"",null,null,null,null,null,"","","",null,null,"","","","","",null,null,null,null,null,null,null,null,null,""]
["",null,"","","",null,"",null,"","","","","","","","","","","","","","",null,"","",null,"","",null,null,null,null,null,null,"",null,null,null,null,null,null,null,null,null,null,"",null,null,"",null,null,"",null,null,null,null,null,null,null,null,"","","","","","",null,null,null,"",null,null,null,null,null,"",null,null,null,null,null,null,null,null,"","","","","",null,null,null,"",null,null,"",null,null,"",null,null,null,null,null,null,null,null,"","","","","","","","",null,null,"",null,"","","",null,null,"","","","",null,"",null,"","","",null,null,"",null,null,null,null,null,"","","",null,null,"","","","","",null,null,null,null,null,null,null,null,null,""]
["",null,"","","",null,"",null,"","","","","","","","","","","","","","",null,"","",null,"","",null,null,null,null,null,null,"",null,null,null,null,null,null,null,null,null,null,"",null,null,"",null,null,"",null,null,null,null,null,null,null,null,"","","","","","",null,null,null,"",null,null,null,null,null,"",null,null,null,null,null,null,null,null,"","","","","",null,null,null,"",null,null,"",null,null,"",null,null,null,null,null,null,null,null,"","","","","","","","",null,null,"",null,"","","",null,null,"","","","",null,"",null,"","","",null,null,"",null,null,null,null,null,"","","",null,null,"","","","","",null,null,null,null,null,null,null,null,null,""]
["",null,"","","",null,"",null,"","","","","","","","","","","","","","",null,"","",null,"","",null,null,null,null,null,null,"",null,null,null,null,null,null,null,null,null,null,"",null,null,"",null,null,"",null,null,null,null,null,null,null,null,"","","","","","",null,null,null,"",null,null,null,null,null,"",null,null,null,null,null,null,null,null,"","","","","",null,null,null,"",null,null,"",null,null,"",null,null,null,null,null,null,null,null,"","","","","","","","",null,null,"",null,"","","",null,null,"","","","",null,"",null,"","","",null,null,"",null,null,null,null,null,"","","",null,null,"","","","","",null,null,null,null,null,null,null,null,null,""]
["",null,"","","",null,"",null,"","","","","","","","","","","","","","",null,"","",null,"","",null,null,null,null,null,null,"",null,null,null,null,null,null,null,null,null,null,"",null,null,"",null,null,"",null,null,null,null,null,null,null,null,"","","","","","",null,null,null,"",null,null,null,null,null,"",null,null,null,null,null,null,null,null,"","","","","",null,null,null,"",null,null,"",null,null,"",null,null,null,null,null,null,null,null,"","","","","","","","",null,null,"",null,"","","",null,null,"","","","",null,"",null,"","","",null,null,"",null,null,null,null,null,"","","",null,null,"","","","","",null,null,null,null,null,null,null,null,null,""]
["",null,"","","",null,"",null,"","","","","","","","","","","","","","",null,"","",null,"","",null,null,null,null,null,null,"",null,null,null,null,null,null,null,null,null,null,"",null,null,"",null,null,"",null,null,null,null,null,null,null,null,"","","","","","",null,null,null,"",null,null,null,null,null,"",null,null,null,null,null,null,null,null,"","","","","",null,null,null,"",null,null,"",null,null,"",null,null,null,null,null,null,null,null,"","","","","","","","",null,null,"",null,"","","",null,null,"","","","",null,"",null,"","","",null,null,"",null,null,null,null,null,"","","",null,null,"","","","","",null,null,null,null,null,null,null,null,null,""]
["",null,"","","",null,"",null,"","","","","","","","","","","","","","",null,"","",null,"","",null,null,null,null,null,null,"",null,null,null,null,null,null,null,null,null,null,"",null,null,"",null,null,"",null,null,null,null,null,null,null,null,"","","","","","",null,null,null,"",null,null,null,null,null,"",null,null,null,null,null,null,null,null,"","","","","",null,null,null,"",null,null,"",null,null,"",null,null,null,null,null,null,null,null,"","","","","","","","",null,null,"",null,"","","",null,null,"","","","",null,"",null,"","","",null,null,"",null,null,null,null,null,"","","",null,null,"","","","","",null,null,null,null,null,null,null,null,null,""]
["",null,"","","",null,"",null,"","","","","","","","","","","","","","",null,"","",null,"","",null,null,null,null,null,null,"",null,null,null,null,null,null,null,null,null,null,"",null,null,"",null,null,"",null,null,null,null,null,null,null,null,"","","","","","",null,null,null,"",null,null,null,null,null,"",null,null,null,null,null,null,null,null,"","","","","",null,null,null,"",null,null,"",null,null,"",null,null,null,null,null,null,null,null,"","","","","","","","",null,null,"",null,"","","",null,null,"","","","",null,"",null,"","","",null,null,"",null,null,null,null,null,"","","",null,null,"","","","","",null,null,null,null,null,null,null,null,null,""]
["",null,"","","",null,"",null,"","","","","","","","","","","","","","",null,"","",null,"","",null,null,null,null,null,null,"",null,null,null,null,null,null,null,null,null,null,"",null,null,"",null,null,"",null,null,null,null,null,null,null,null,"","","","","","",null,null,null,"",null,null,null,null,null,"",null,null,null,null,null,null,null,null,"","","","","",null,null,null,"",null,null,"",null,null,"",null,null,null,null,null,null,null,null,"","","","","","","","",null,null,"",null,"","","",null,null,"","","","",null,"",null,"","","",null,null,"",null,null,null,null,null,"","","",null,null,"","","","","",null,null,null,null,null,null,null,null,null,""]
["",null,"","","",null,"",null,"","","","","","","","","","","","","","",null,"","",null,"","",null,null,null,null,null,null,"",null,null,null,null,null,null,null,null,null,null,"",null,null,"",null,null,"",null,null,null,null,null,null,null,null,"","","","","","",null,null,null,"",null,null,null,null,null,"",null,null,null,null,null,null,null,null,"","","","","",null,null,null,"",null,null,"",null,null,"",null,null,null,null,null,null,null,null,"","","","","","","","",null,null,"",null,"","","",null,null,"","","","",null,"",null,"","","",null,null,"",null,null,null,null,null,"","","",null,null,"","","","","",null,null,null,null,null,null,null,null,null,""]
["",null,"","","",null,"",null,"","","","","","","","","","","","","","",null,"","",null,"","",null,null,null,null,null,null,"",null,null,null,null,null,null,null,null,null,null,"",null,null,"",null,null,"",null,null,null,null,null,null,null,null,"","","","","","",null,null,null,"",null,null,null,null,null,"",null,null,null,null,null,null,null,null,"","","","","",null,null,null,"",null,null,"",null,null,"",null,null,null,null,null,null,null,null,"","","","","","","","",null,null,"",null,"","","",null,null,"","","","",null,"",null,"","","",null,null,"",null,null,null,null,null,"","","",null,null,"","","","","",null,null,null,null,null,null,null,null,null,""]
["",null,"","","",null,"",null,"","","","","","","","","","","","","","",null,"","",null,"","",null,null,null,null,null,null,"",null,null,null,null,null,null,null,null,null,null,"",null,null,"",null,null,"",null,null,null,null,null,null,null,null,"","","","","","",null,null,null,"",null,null,null,null,null,"",null,null,null,null,null,null,null,null,"","","","","",null,null,null,"",null,null,"",null,null,"",null,null,null,null,null,null,null,null,"","","","","","","","",null,null,"",null,"","","",null,null,"","","","",null,"",null,"","","",null,null,"",null,null,null,null,null,"","","",null,null,"","","","","",null,null,null,null,null,null,null,null,null,""]
["",null,"","","",null,"",null,"","","","","","","","","","","","","","",null,"","",null,"","",null,null,null,null,null,null,"",null,null,null,null,null,null,null,null,null,null,"",null,null,"",null,null,"",null,null,null,null,null,null,null,null,"","","","","","",null,null,null,"",null,null,null,null,null,"",null,null,null,null,null,null,null,null,"","","","","",null,null,null,"",null,null,"",null,null,"",null,null,null,null,null,null,null,null,"","","","","","","","",null,null,"",null,"","","",null,null,"","","","",null,"",null,"","","",null,null,"",null,null,null,null,null,"","","",null,null,"","","","","",null,null,null,null,null,null,null,null,null,""]
["",null,"","","",null,"",null,"","","","","","","","","","","","","","",null,"","",null,"","",null,null,null,null,null,null,"",null,null,null,null,null,null,null,null,null,null,"",null,null,"",null,null,"",null,null,null,null,null,null,null,null,"","","","","","",null,null,null,"",null,null,null,null,null,"",null,null,null,null,null,null,null,null,"","","","","",null,null,null,"",null,null,"",null,null,"",null,null,null,null,null,null,null,null,"","","","","","","","",null,null,"",null,"","","",null,null,"","","","",null,"",null,"","","",null,null,"",null,null,null,null,null,"","","",null,null,"","","","","",null,null,null,null,null,null,null,null,null,""]
["",null,"","","",null,"",null,"","","","","","","","","","","","","","",null,"","",null,"","",null,null,null,null,null,null,"",null,null,null,null,null,null,null,null,null,null,"",null,null,"",null,null,"",null,null,null,null,null,null,null,null,"","","","","","",null,null,null,"",null,null,null,null,null,"",null,null,null,null,null,null,null,null,"","","","","",null,null,null,"",null,null,"",null,null,"",null,null,null,null,null,null,null,null,"","","","","","","","",null,null,"",null,"","","",null,null,"","","","",null,"",null,"","","",null,null,"",null,null,null,null,null,"","","",null,null,"","","","","",null,null,null,null,null,null,null,null,null,""]
["",null,"","","",null,"",null,"","","","","","","","","","","","","","",null,"","",null,"","",null,null,null,null,null,null,"",null,null,null,null,null,null,null,null,null,null,"",null,null,"",null,null,"",null,null,null,null,null,null,null,null,"","","","","","",null,null,null,"",null,null,null,null,null,"",null,null,null,null,null,null,null,null,"","","","","",null,null,null,"",null,null,"",null,null,"",null,null,null,null,null,null,null,null,"","","","","","","","",null,null,"",null,"","","",null,null,"","","","",null,"",null,"","","",null,null,"",null,null,null,null,null,"","","",null,null,"","","","","",null,null,null,null,null,null,null,null,null,""]
["",null,"","","",null,"",null,"","","","","","","","","","","","","","",null,"","",null,"","",null,null,null,null,null,null,"",null,null,null,null,null,null,null,null,null,null,"",null,null,"",null,null,"",null,null,null,null,null,null,null,null,"","","","","","",null,null,null,"",null,null,null,null,null,"",null,null,null,null,null,null,null,null,"","","","","",null,null,null,"",null,null,"",null,null,"",null,null,null,null,null,null,null,null,"","","","","","","","",null,null,"",null,"","","",null,null,"","","","",null,"",null,"","","",null,null,"",null,null,null,null,null,"","","",null,null,"","","","","",null,null,null,null,null,null,null,null,null,""]
["",null,"","","",null,"",null,"","","","","","","","","","","","","","",null,"","",null,"","",null,null,null,null,null,null,"",null,null,null,null,null,null,null,null,null,null,"",null,null,"",null,null,"",null,null,null,null,null,null,null,null,"","","","","","",null,null,null,"",null,null,null,null,null,"",null,null,null,null,null,null,null,null,"","","","","",null,null,null,"",null,null,"",null,null,"",null,null,null,null,null,null,null,null,"","","","","","","","",null,null,"",null,"","","",null,null,"","","","",null,"",null,"","","",null,null,"",null,null,null,null,null,"","","",null,null,"","","","","",null,null,null,null,null,null,null,null,null,""]
["",null,"","","",null,"",null,"","","","","","","","","","","","","","",null,"","",null,"","",null,null,null,null,null,null,"",null,null,null,null,null,null,null,null,null,null,"",null,null,"",null,null,"",null,null,null,null,null,null,null,null,"","","","","","",null,null,null,"",null,null,null,null,null,"",null,null,null,null,null,null,null,null,"","","","","",null,null,null,"",null,null,"",null,null,"",null,null,null,null,null,null,null,null,"","","","","","","","",null,null,"",null,"","","",null,null,"","","","",null,"",null,"","","",null,null,"",null,null,null,null,null,"","","",null,null,"","","","","",null,null,null,null,null,null,null,null,null,{"$f":"IF(AND(A3254>0,A3255=\"\"),A3254,0)","v":""}]
["",null,"","","",null,"",null,"","","","","","","","","","","","","","",null,"","",null,"","",null,null,null,null,null,null,"",null,null,null,null,null,null,null,null,null,null,"",null,null,"",null,null,"",null,null,null,null,null,null,null,null,"","","","","","",null,null,null,"",null,null,null,null,null,"",null,null,null,null,null,null,null,null,"","","","","",null,null,null,"",null,null,"",null,null,"",null,null,null,null,null,null,null,null,"","","","","","","","",null,null,"",null,"","","",null,null,"","","","",null,"",null,"","","",null,null,"",null,null,null,null,null,"","","",null,null,"","","","","",null,null,null,null,null,null,null,null,null,""]
["",null,"","","",null,"",null,"","","","","","","","","","","","","","",null,"","",null,"","",null,null,null,null,null,null,"",null,null,null,null,null,null,null,null,null,null,"",null,null,"",null,null,"",null,null,null,null,null,null,null,null,"","","","","","",null,null,null,"",null,null,null,null,null,"",null,null,null,null,null,null,null,null,"","","","","",null,null,null,"",null,null,"",null,null,"",null,null,null,null,null,null,null,null,"","","","","","","","",null,null,"",null,"","","",null,null,"","","","",null,"",null,"","","",null,null,"",null,null,null,null,null,"","","",null,null,"","","","","",null,null,null,null,null,null,null,null,null,""]
["",null,"","","",null,"",null,"","","","","","","","","","","","","","",null,"","",null,"","",null,null,null,null,null,null,"",null,null,null,null,null,null,null,null,null,null,"",null,null,"",null,null,"",null,null,null,null,null,null,null,null,"","","","","","",null,null,null,"",null,null,null,null,null,"",null,null,null,null,null,null,null,null,"","","","","",null,null,null,"",null,null,"",null,null,"",null,null,null,null,null,null,null,null,"","","","","","","","",null,null,"",null,"","","",null,null,"","","","",null,"",null,"","","",null,null,"",null,null,null,null,null,"","","",null,null,"","","","","",null,null,null,null,null,null,null,null,null,""]
["",null,"","","",null,"",null,"","","","","","","","","","","","","","",null,"","",null,"","",null,null,null,null,null,null,"",null,null,null,null,null,null,null,null,null,null,"",null,null,"",null,null,"",null,null,null,null,null,null,null,null,"","","","","","",null,null,null,"",null,null,null,null,null,"",null,null,null,null,null,null,null,null,"","","","","",null,null,null,"",null,null,"",null,null,"",null,null,null,null,null,null,null,null,"","","","","","","","",null,null,"",null,"","","",null,null,"","","","",null,"",null,"","","",null,null,"",null,null,null,null,null,"","","",null,null,"","","","","",null,null,null,null,null,null,null,null,null,""]
["",null,"","","",null,"",null,"","","","","","","","","","","","","","",null,"","",null,"","",null,null,null,null,null,null,"",null,null,null,null,null,null,null,null,null,null,"",null,null,"",null,null,"",null,null,null,null,null,null,null,null,"","","","","","",null,null,null,"",null,null,null,null,null,"",null,null,null,null,null,null,null,null,"","","","","",null,null,null,"",null,null,"",null,null,"",null,null,null,null,null,null,null,null,"","","","","","","","",null,null,"",null,"","","",null,null,"","","","",null,"",null,"","","",null,null,"",null,null,null,null,null,"","","",null,null,"","","","","",null,null,null,null,null,null,null,null,null,""]
["",null,"","","",null,"",null,"","","","","","","","","","","","","","",null,"","",null,"","",null,null,null,null,null,null,"",null,null,null,null,null,null,null,null,null,null,"",null,null,"",null,null,"",null,null,null,null,null,null,null,null,"","","","","","",null,null,null,"",null,null,null,null,null,"",null,null,null,null,null,null,null,null,"","","","","",null,null,null,"",null,null,"",null,null,"",null,null,null,null,null,null,null,null,"","","","","","","","",null,null,"",null,"","","",null,null,"","","","",null,"",null,"","","",null,null,"",null,null,null,null,null,"","","",null,null,"","","","","",null,null,null,null,null,null,null,null,null,""]
["",null,"","","",null,"",null,"","","","","","","","","","","","","","",null,"","",null,"","",null,null,null,null,null,null,"",null,null,null,null,null,null,null,null,null,null,"",null,null,"",null,null,"",null,null,null,null,null,null,null,null,"","","","","","",null,null,null,"",null,null,null,null,null,"",null,null,null,null,null,null,null,null,"","","","","",null,null,null,"",null,null,"",null,null,"",null,null,null,null,null,null,null,null,"","","","","","","","",null,null,"",null,"","","",null,null,"","","","",null,"",null,"","","",null,null,"",null,null,null,null,null,"","","",null,null,"","","","","",null,null,null,null,null,null,null,null,null,""]
["",null,"","","",null,"",null,"","","","","","","","","","","","","","",null,"","",null,"","",null,null,null,null,null,null,"",null,null,null,null,null,null,null,null,null,null,"",null,null,"",null,null,"",null,null,null,null,null,null,null,null,"","","","","","",null,null,null,"",null,null,null,null,null,"",null,null,null,null,null,null,null,null,"","","","","",null,null,null,"",null,null,"",null,null,"",null,null,null,null,null,null,null,null,"","","","","","","","",null,null,"",null,"","","",null,null,"","","","",null,"",null,"","","",null,null,"",null,null,null,null,null,"","","",null,null,"","","","","",null,null,null,null,null,null,null,null,null,""]
["",null,"","","",null,"",null,"","","","","","","","","","","","","","",null,"","",null,"","",null,null,null,null,null,null,"",null,null,null,null,null,null,null,null,null,null,"",null,null,"",null,null,"",null,null,null,null,null,null,null,null,"","","","","","",null,null,null,"",null,null,null,null,null,"",null,null,null,null,null,null,null,null,"","","","","",null,null,null,"",null,null,"",null,null,"",null,null,null,null,null,null,null,null,"","","","","","","","",null,null,"",null,"","","",null,null,"","","","",null,"",null,"","","",null,null,"",null,null,null,null,null,"","","",null,null,"","","","","",null,null,null,null,null,null,null,null,null,""]
["",null,"","","",null,"",null,"","","","","","","","","","","","","","",null,"","",null,"","",null,null,null,null,null,null,"",null,null,null,null,null,null,null,null,null,null,"",null,null,"",null,null,"",null,null,null,null,null,null,null,null,"","","","","","",null,null,null,"",null,null,null,null,null,"",null,null,null,null,null,null,null,null,"","","","","",null,null,null,"",null,null,"",null,null,"",null,null,null,null,null,null,null,null,"","","","","","","","",null,null,"",null,"","","",null,null,"","","","",null,"",null,"","","",null,null,"",null,null,null,null,null,"","","",null,null,"","","","","",null,null,null,null,null,null,null,null,null,""]
["",null,"","","",null,"",null,"","","","","","","","","","","","","","",null,"","",null,"","",null,null,null,null,null,null,"",null,null,null,null,null,null,null,null,null,null,"",null,null,"",null,null,"",null,null,null,null,null,null,null,null,"","","","","","",null,null,null,"",null,null,null,null,null,"",null,null,null,null,null,null,null,null,"","","","","",null,null,null,"",null,null,"",null,null,"",null,null,null,null,null,null,null,null,"","","","","","","","",null,null,"",null,"","","",null,null,"","","","",null,"",null,"","","",null,null,"",null,null,null,null,null,"","","",null,null,"","","","","",null,null,null,null,null,null,null,null,null,""]
["",null,"","","",null,"",null,"","","","","","","","","","","","","","",null,"","",null,"","",null,null,null,null,null,null,"",null,null,null,null,null,null,null,null,null,null,"",null,null,"",null,null,"",null,null,null,null,null,null,null,null,"","","","","","",null,null,null,"",null,null,null,null,null,"",null,null,null,null,null,null,null,null,"","","","","",null,null,null,"",null,null,"",null,null,"",null,null,null,null,null,null,null,null,"","","","","","","","",null,null,"",null,"","","",null,null,"","","","",null,"",null,"","","",null,null,"",null,null,null,null,null,"","","",null,null,"","","","","",null,null,null,null,null,null,null,null,null,""]
["",null,"","","",null,"",null,"","","","","","","","","","","","","","",null,"","",null,"","",null,null,null,null,null,null,"",null,null,null,null,null,null,null,null,null,null,"",null,null,"",null,null,"",null,null,null,null,null,null,null,null,"","","","","","",null,null,null,"",null,null,null,null,null,"",null,null,null,null,null,null,null,null,"","","","","",null,null,null,"",null,null,"",null,null,"",null,null,null,null,null,null,null,null,"","","","","","","","",null,null,"",null,"","","",null,null,"","","","",null,"",null,"","","",null,null,"",null,null,null,null,null,"","","",null,null,"","","","","",null,null,null,null,null,null,null,null,null,""]
["",null,"","","",null,"",null,"","","","","","","","","","","","","","",null,"","",null,"","",null,null,null,null,null,null,"",null,null,null,null,null,null,null,null,null,null,"",null,null,"",null,null,"",null,null,null,null,null,null,null,null,"","","","","","",null,null,null,"",null,null,null,null,null,"",null,null,null,null,null,null,null,null,"","","","","",null,null,null,"",null,null,"",null,null,"",null,null,null,null,null,null,null,null,"","","","","","","","",null,null,"",null,"","","",null,null,"","","","",null,"",null,"","","",null,null,"",null,null,null,null,null,"","","",null,null,"","","","","",null,null,null,null,null,null,null,null,null,""]
["",null,"","","",null,"",null,"","","","","","","","","","","","","","",null,"","",null,"","",null,null,null,null,null,null,"",null,null,null,null,null,null,null,null,null,null,"",null,null,"",null,null,"",null,null,null,null,null,null,null,null,"","","","","","",null,null,null,"",null,null,null,null,null,"",null,null,null,null,null,null,null,null,"","","","","",null,null,null,"",null,null,"",null,null,"",null,null,null,null,null,null,null,null,"","","","","","","","",null,null,"",null,"","","",null,null,"","","","",null,"",null,"","","",null,null,"",null,null,null,null,null,"","","",null,null,"","","","","",null,null,null,null,null,null,null,null,null,""]
["",null,"","","",null,"",null,"","","","","","","","","","","","","","",null,"","",null,"","",null,null,null,null,null,null,"",null,null,null,null,null,null,null,null,null,null,"",null,null,"",null,null,"",null,null,null,null,null,null,null,null,"","","","","","",null,null,null,"",null,null,null,null,null,"",null,null,null,null,null,null,null,null,"","","","","",null,null,null,"",null,null,"",null,null,"",null,null,null,null,null,null,null,null,"","","","","","","","",null,null,"",null,"","","",null,null,"","","","",null,"",null,"","","",null,null,"",null,null,null,null,null,"","","",null,null,"","","","","",null,null,null,null,null,null,null,null,null,""]
["",null,"","","",null,"",null,"","","","","","","","","","","","","","",null,"","",null,"","",null,null,null,null,null,null,"",null,null,null,null,null,null,null,null,null,null,"",null,null,"",null,null,"",null,null,null,null,null,null,null,null,"","","","","","",null,null,null,"",null,null,null,null,null,"",null,null,null,null,null,null,null,null,"","","","","",null,null,null,"",null,null,"",null,null,"",null,null,null,null,null,null,null,null,"","","","","","","","",null,null,"",null,"","","",null,null,"","","","",null,"",null,"","","",null,null,"",null,null,null,null,null,"","","",null,null,"","","","","",null,null,null,null,null,null,null,null,null,""]
["",null,"","","",null,"",null,"","","","","","","","","","","","","","",null,"","",null,"","",null,null,null,null,null,null,"",null,null,null,null,null,null,null,null,null,null,"",null,null,"",null,null,"",null,null,null,null,null,null,null,null,"","","","","","",null,null,null,"",null,null,null,null,null,"",null,null,null,null,null,null,null,null,"","","","","",null,null,null,"",null,null,"",null,null,"",null,null,null,null,null,null,null,null,"","","","","","","","",null,null,"",null,"","","",null,null,"","","","",null,"",null,"","","",null,null,"",null,null,null,null,null,"","","",null,null,"","","","","",null,null,null,null,null,null,null,null,null,""]
["",null,"","","",null,"",null,"","","","","","","","","","","","","","",null,"","",null,"","",null,null,null,null,null,null,"",null,null,null,null,null,null,null,null,null,null,"",null,null,"",null,null,"",null,null,null,null,null,null,null,null,"","","","","","",null,null,null,"",null,null,null,null,null,"",null,null,null,null,null,null,null,null,"","","","","",null,null,null,"",null,null,"",null,null,"",null,null,null,null,null,null,null,null,"","","","","","","","",null,null,"",null,"","","",null,null,"","","","",null,"",null,"","","",null,null,"",null,null,null,null,null,"","","",null,null,"","","","","",null,null,null,null,null,null,null,null,null,""]
["",null,"","","",null,"",null,"","","","","","","","","","","","","","",null,"","",null,"","",null,null,null,null,null,null,"",null,null,null,null,null,null,null,null,null,null,"",null,null,"",null,null,"",null,null,null,null,null,null,null,null,"","","","","","",null,null,null,"",null,null,null,null,null,"",null,null,null,null,null,null,null,null,"","","","","",null,null,null,"",null,null,"",null,null,"",null,null,null,null,null,null,null,null,"","","","","","","","",null,null,"",null,"","","",null,null,"","","","",null,"",null,"","","",null,null,"",null,null,null,null,null,"","","",null,null,"","","","","",null,null,null,null,null,null,null,null,null,""]

{"sheet":"Pagas_PORTAL","index":3,"n_rows":265,"n_cols":47,"rows_kept":265,"cut":false,"hidden":false,"merged":[[4,3,4,9],[5,0,5,1],[5,5,5,8],[6,3,6,6],[6,7,6,10],[6,24,6,35],[6,36,6,46],[7,3,8,3],[7,4,8,4],[7,5,8,5],[7,6,8,6],[7,7,8,7],[6,11,6,12],[7,21,8,21],[7,8,8,8],[7,9,8,9],[7,10,8,10],[7,11,8,11],[7,12,8,12],[7,42,7,44],[7,45,7,46],[7,13,8,13],[7,14,8,14],[6,15,8,15],[7,22,8,22],[7,23,8,23],[6,16,6,23],[7,24,7,29],[7,30,7,32],[7,33,7,35],[7,36,7,41],[7,16,8,16],[7,17,8,17],[7,18,8,18],[7,19,8,19],[7,20,8,20]]}
[]
[null,null,null,"Superior Tribunal de Justiça"]
[null,null,null,"Secretaria de Processamento de Feitos"]
[null,null,null,"Coordenadoria de Processamento de Feitos em Execução Judicial"]
[null,null,null,{"$f":"\"Relação das Requisições de Pequeno Valor - RPV pagas pelo STJ em \"&UPPER(TEXT(G11,\"mmmm/aaaa\"))","v":"Relação das Requisições de Pequeno Valor - RPV pagas pelo STJ em JUNHO/2023"}]
["I N F O R M A R"]
["SEQ. INICIAL",{"$f":"#REF!","v":{"$error":"#REF!"}},null,"RPV",null,null,null,"P R O C E S S O     D E     O R I G E M",null,null,null,"E N T I D A D E S",null,"R E Q U E R E N T E","A D V O G A D O","Natureza do crédito","I N D I C A D O R E S",null,null,null,null,null,null,null,"VALORES REQUISITADOS",null,null,null,null,null,null,null,null,null,null,null,"VALORES ATUALIZADOS PARA PAGAMENTO"]
["SEQU. FINAL",{"$f":"#REF!","v":{"$error":"#REF!"}},null,"Nº","Registro","Autuada em","data do pgto","Ação","Autuada em","Tipo de causa","Trânsito","Entidade devedora","Órgão de origem","Origem do crédito","Origem do crédito",null,"Tributário","EC 94 2016","Lei 13.463 2017","PRC/RPV de origem","Nº DA GRU","DOENÇA GRAVE","Deficiência física","Isento de IR","Beneficiários",null,null,null,null,null,"PSSS",null,null,"R R A",null,null,"Beneficiários",null,null,null,null,null,"P S S S",null,null,"R R A"]
[null,null,null,null,null,null,null,null,null,null,null,null,null,null,null,null,null,null,null,null,null,null,null,null,"Total","Adv I","Adv II","Adv III","Adv IV","Requerente","Base","Desc","Patronal","NMA","Exercícios anteriores","Desconto","Total","Adv I","Adv II","Adv III","Adv IV","Reqte","BASE desc","Desc","Patronal","Exercícios anteriores","Dedução"]
[]
[null,634,1,14808,"2022/0309658-5","2022-09-27","2023-06-01","MS 10.424/DF","2005-02-17","Administrativo - Servidor Público Civil - Sistema Remuneratório e Benefícios - Gratificações","2005-10-27","UNIÃO","Ministério do Planejamento, Orçamento e Gestão","Gratificação Específica de Atividade Docente - GEAD","Dedução de Honorários Contratuais","Alimentar","Não","Não","Não","-","-","Não informada","Não Informada","Não",31523.63,3467.59,0,0,0,28056.04,16854.71,1854.01,0,9,13387.119999999999,1854.01,34283.799999999996,3771.21,0,0,0,30512.589999999997,18330.489999999998,2016.35,0,14559.279999999995,2016.35]
[null,635,2,14843,"2022/0337005-0","2022-10-19","2023-06-01","MS 4.151/DF","1995-07-21","Administrativo - Servidor Público Civil - Reajustes de Remuneração, Proventos ou Pensão","1999-02-12","UNIÃO","Ministério da Fazenda","Diferença de remuneração - 3,17%","Dedução de Honorários Contratuais","Alimentar","Não","Não","Não","-","-","Não informada","Não Informada","Não",65807.039999999994,3948.42,658.07,658.07,0,60542.48,30631.17,3369.42,6738.84,53,17685.11,3369.42,71341.400000000009,4280.4799999999996,713.41,713.41,0,65634.100000000006,33207.25,3652.79,7305.58,19172.430000000004,3652.79]
[null,636,3,14888,"2022/0340938-8","2022-10-21","2023-06-01","AR 1.169/CE","1999-10-18","Administrativo - Servidor Público Civil - Sistema Remuneratório e Benefícios","2004-06-07","Instituto Nacional do Seguro Social – INSS","Instituto Nacional do Seguro Social - INSS","Anuênios","Dedução de Honorários Contratuais","Alimentar","Não","Não","Não","-","-","Não informada","Não Informada","Não",5708.89,570.88,0,0,0,5138.01,2582.1,284.02999999999997,568.05999999999995,47,2011.22,284.02999999999997,6151.1,615.11,0,0,0,5535.9900000000007,2782.11,306.02999999999997,612.05999999999995,2167.0000000000009,306.02999999999997]
[null,637,4,14920,"2022/0344704-0","2022-10-25","2023-06-01","MS 4.151/DF","1995-07-21","Administrativo - Servidor Público Civil - Reajustes de Remuneração, Proventos ou Pensão","1999-02-12","UNIÃO","Ministério da Fazenda","Diferença de remuneração - 3,17%","Dedução de Honorários Contratuais","Alimentar","Não","Não","Não","-","-","Não informada","Não Informada","Não",63140.37,3788.42,631.4,631.4,0,58089.15,30064.959999999999,3307.14,6614.28,53,16708.5,3307.14,68450.47,4107.0200000000004,684.5,684.5,0,62974.45,32593.42,3585.27,7170.54,18113.689999999995,3585.27]
[null,638,5,14998,"2022/0369037-0","2022-11-17","2023-06-01","MS 10.438/DF","2005-02-22","Administrativo - Militar - Pensão","2007-09-13","UNIÃO","Ministério da Fazenda","Soldo previsto na Lei Estadual 1.063/2002","Dedução de Honorários Contratuais","Alimentar","Não","Não","Não","-","-","Não informada","Não Informada","Não",28458.880000000001,5834.07,2988.18,0,0,19636.63,0,0,0,6,13743.48,0,30364.560000000001,6224.73,3188.27,0,0,20951.560000000001,0,0,0,14663.790000000003,0]
[null,639,6,15004,"2022/0370912-4","2022-11-18","2023-06-01","MS 10.438/DF","2005-02-22","Administrativo - Militar - Pensão","2007-09-13","UNIÃO","Ministério da Fazenda","Soldo previsto na Lei Estadual 1.063/2002","Dedução de Honorários Contratuais","Alimentar","Não","Não","Não","-","-","Não informada","Não Informada","Não",38213.51,7833.76,4012.41,0,0,26367.34,0,0,0,26,18112.54,0,40772.379999999997,8358.33,4281.09,0,0,28132.959999999995,0,0,0,19325.399999999994,0]
[null,640,7,15005,"2022/0370927-4","2022-11-18","2023-06-01","MS 10.438/DF","2005-02-22","Administrativo - Militar - Pensão","2007-09-13","UNIÃO","Ministério da Fazenda","Soldo previsto na Lei Estadual 1.063/2002","Dedução de Honorários Contratuais","Alimentar","Não","Não","Não","-","-","Não informada","Não Informada","Não",38440.21,7880.24,4036.22,0,0,26523.75,0,0,0,26,18219.79,0,41014.260000000009,8407.92,4306.49,0,0,28299.850000000013,0,0,0,19439.840000000011,0]
[null,641,8,15007,"2022/0370933-8","2022-11-18","2023-06-01","MS 10.438/DF","2005-02-22","Administrativo - Militar - Pensão","2007-09-13","UNIÃO","Ministério da Fazenda","Soldo previsto na Lei Estadual 1.063/2002","Dedução de Honorários Contratuais","Alimentar","Não","Não","Não","-","-","Não informada","Não Informada","Não",38440.21,7880.24,4036.22,0,0,26523.75,0,0,0,26,18219.79,0,41014.260000000009,8407.92,4306.49,0,0,28299.850000000013,0,0,0,19439.840000000011,0]
[null,642,9,15008,"2022/0370934-0","2022-11-18","2023-06-01","MS 10.438/DF","2005-02-22","Administrativo - Militar - Pensão","2007-09-13","UNIÃO","Ministério da Fazenda","Soldo previsto na Lei Estadual 1.063/2002","Dedução de Honorários Contratuais","Alimentar","Não","Não","Não","-","-","Não informada","Não Informada","Não",38440.21,7880.24,4036.22,0,0,26523.75,0,0,0,26,18219.79,0,41014.260000000009,8407.92,4306.49,0,0,28299.850000000013,0,0,0,19439.840000000011,0]
[null,643,10,15009,"2022/0370936-3","2022-11-18","2023-06-01","MS 10.438/DF","2005-02-22","Administrativo - Militar - Pensão","2007-09-13","UNIÃO","Ministério da Fazenda","Soldo previsto na Lei Estadual 1.063/2002","Dedução de Honorários Contratuais","Alimentar","Não","Não","Não","-","-","Não informada","Não Informada","Não",38213.51,7833.76,4012.41,0,0,26367.34,0,0,0,26,18112.54,0,40772.379999999997,8358.33,4281.09,0,0,28132.959999999995,0,0,0,19325.399999999994,0]
[null,644,11,15010,"2022/0370939-9","2022-11-18","2023-06-01","MS 10.438/DF","2005-02-22","Administrativo - Militar - Pensão","2007-09-13","UNIÃO","Ministério da Fazenda","Soldo previsto na Lei Estadual 1.063/2002","Dedução de Honorários Contratuais","Alimentar","Não","Não","Não","-","-","Não informada","Não Informada","Não",35618.879999999997,7301.87,3739.98,0,0,24577.03,0,0,0,26,16893.11,0,38004,7790.82,3990.42,0,0,26222.760000000002,0,0,0,18024.310000000005,0]
[null,645,12,15011,"2022/0373430-3","2022-11-21","2023-06-01","MS 10.438/DF","2005-02-22","Administrativo - Militar - Pensão","2007-09-13","UNIÃO","Ministério da Fazenda","Soldo previsto na Lei Estadual 1.063/2002","Dedução de Honorários Contratuais","Alimentar","Não","Não","Não","-","-","Não informada","Não Informada","Não",43861.91,8991.69,4605.5,0,0,30264.720000000001,0,0,0,26,20793.009999999998,0,46799.01,9593.7900000000009,4913.8900000000003,0,0,32291.33,0,0,0,22185.370000000003,0]
[null,646,13,15013,"2022/0373463-1","2022-11-21","2023-06-01","MS 10.438/DF","2005-02-22","Administrativo - Militar - Pensão","2007-09-13","UNIÃO","Ministério da Fazenda","Soldo previsto na Lei Estadual 1.063/2002","Dedução de Honorários Contratuais","Alimentar","Não","Não","Não","-","-","Não informada","Não Informada","Não",42430.6,8698.27,4455.21,0,0,29277.119999999999,0,0,0,26,20119.509999999998,0,45271.85,9280.7199999999993,4753.54,0,0,31237.589999999997,0,0,0,21466.769999999997,0]
[null,647,14,15014,"2022/0373467-9","2022-11-21","2023-06-01","MS 10.438/DF","2005-02-22","Administrativo - Militar - Pensão","2007-09-13","UNIÃO","Ministério da Fazenda","Soldo previsto na Lei Estadual 1.063/2002","Dedução de Honorários Contratuais","Alimentar","Não","Não","Não","-","-","Não informada","Não Informada","Não",44118.76,9044.34,4632.46,0,0,30441.96,0,0,0,26,20914.580000000002,0,47073.06,9649.9699999999993,4942.67,0,0,32480.42,0,0,0,22315.069999999996,0]
[null,648,15,15015,"2022/0373468-0","2022-11-21","2023-06-01","MS 10.438/DF","2005-02-22","Administrativo - Militar - Pensão","2007-09-13","UNIÃO","Ministério da Fazenda","Soldo previsto na Lei Estadual 1.063/2002","Dedução de Honorários Contratuais","Alimentar","Não","Não","Não","-","-","Não informada","Não Informada","Não",42833.94,8780.9500000000007,4497.5600000000004,0,0,29555.43,0,0,0,26,20306.63,0,45702.21,9368.9500000000007,4798.7299999999996,0,0,31534.529999999995,0,0,0,21666.409999999996,0]
[null,649,16,15016,"2022/0373471-9","2022-11-21","2023-06-01","MS 10.438/DF","2005-02-22","Administrativo - Militar - Pensão","2007-09-13","UNIÃO","Ministério da Fazenda","Soldo previsto na Lei Estadual 1.063/2002","Dedução de Honorários Contratuais","Alimentar","Não","Não","Não","-","-","Não informada","Não Informada","Não",42430.6,8698.27,4455.21,0,0,29277.119999999999,0,0,0,26,20119.509999999998,0,45271.85,9280.7199999999993,4753.54,0,0,31237.589999999997,0,0,0,21466.769999999997,0]
[null,650,17,15017,"2022/0373475-6","2022-11-21","2023-06-01","MS 10.438/DF","2005-02-22","Administrativo - Militar - Pensão","2007-09-13","UNIÃO","Ministério da Fazenda","Soldo previsto na Lei Estadual 1.063/2002","Dedução de Honorários Contratuais","Alimentar","Não","Não","Não","-","-","Não informada","Não Informada","Não",41659.58,8540.2099999999991,4374.25,0,0,28745.119999999999,0,0,0,26,19754.7,0,44449.21,9112.08,4667.16,0,0,30669.969999999998,0,0,0,21077.529999999995,0]
[null,651,18,15018,"2022/0373477-0","2022-11-21","2023-06-01","MS 10.438/DF","2005-02-22","Administrativo - Militar - Pensão","2007-09-13","UNIÃO","Ministério da Fazenda","Soldo previsto na Lei Estadual 1.063/2002","Dedução de Honorários Contratuais","Alimentar","Não","Não","Não","-","-","Não informada","Não Informada","Não",42173.99,8645.66,4428.26,0,0,29100.07,0,0,0,26,19998.099999999999,0,44998.07,9224.6,4724.79,0,0,31048.68,0,0,0,21337.22,0]
[null,652,19,15019,"2022/0373507-1","2022-11-21","2023-06-01","MS 10.438/DF","2005-02-22","Administrativo - Militar - Pensão","2007-09-13","UNIÃO","Ministério da Fazenda","Soldo previsto na Lei Estadual 1.063/2002","Dedução de Honorários Contratuais","Alimentar","Não","Não","Não","-","-","Não informada","Não Informada","Não",43091.37,8833.73,4524.59,0,0,29733.05,0,0,0,26,20428.439999999999,0,45976.88,9425.26,4827.57,0,0,31724.049999999996,0,0,0,21796.379999999994,0]
[null,653,20,15020,"2022/0373508-3","2022-11-21","2023-06-01","MS 10.438/DF","2005-02-22","Administrativo - Militar - Pensão","2007-09-13","UNIÃO","Ministério da Fazenda","Soldo previsto na Lei Estadual 1.063/2002","Dedução de Honorários Contratuais","Alimentar","Não","Não","Não","-","-","Não informada","Não Informada","Não",41402.959999999999,8487.6,4347.3100000000004,0,0,28568.05,0,0,0,26,19633.28,0,44175.4,9055.9500000000007,4638.41,0,0,30481.039999999997,0,0,0,20947.98,0]
[null,654,21,15021,"2022/0373554-0","2022-11-21","2023-06-01","MS 10.438/DF","2005-02-22","Administrativo - Militar - Pensão","2007-09-13","UNIÃO","Ministério da Fazenda","Soldo previsto na Lei Estadual 1.063/2002","Dedução de Honorários Contratuais","Alimentar","Não","Não","Não","-","-","Não informada","Não Informada","Não",41403.68,8487.75,4347.38,0,0,28568.55,0,0,0,26,19633.37,0,44176.17,9056.11,4638.49,0,0,30481.57,0,0,0,20948.07,0]
[null,655,22,15022,"2022/0373564-1","2022-11-21","2023-06-01","MS 10.438/DF","2005-02-22","Administrativo - Militar - Pensão","2007-09-13","UNIÃO","Ministério da Fazenda","Soldo previsto na Lei Estadual 1.063/2002","Dedução de Honorários Contratuais","Alimentar","Não","Não","Não","-","-","Não informada","Não Informada","Não",43605.88,8939.2000000000007,4578.6099999999997,0,0,30088.07,0,0,0,26,20671.650000000001,0,46525.829999999994,9537.7900000000009,4885.21,0,0,32102.829999999994,0,0,0,22055.869999999995,0]
[null,656,23,15023,"2022/0373572-9","2022-11-21","2023-06-01","MS 10.438/DF","2005-02-22","Administrativo - Militar - Pensão","2007-09-13","UNIÃO","Ministério da Fazenda","Soldo previsto na Lei Estadual 1.063/2002","Dedução de Honorários Contratuais","Alimentar","Não","Não","Não","-","-","Não informada","Não Informada","Não",43862.66,8991.84,4605.57,0,0,30265.25,0,0,0,26,20793.16,0,46799.81,9593.9599999999991,4913.9799999999996,0,0,32291.87,0,0,0,22185.51,0]
[null,657,24,15024,"2022/0373578-0","2022-11-21","2023-06-01","MS 10.438/DF","2005-02-22","Administrativo - Militar - Pensão","2007-09-13","UNIÃO","Ministério da Fazenda","Soldo previsto na Lei Estadual 1.063/2002","Dedução de Honorários Contratuais","Alimentar","Não","Não","Não","-","-","Não informada","Não Informada","Não",43605.88,8939.2000000000007,4578.6099999999997,0,0,30088.07,0,0,0,26,20671.650000000001,0,46525.829999999994,9537.7900000000009,4885.21,0,0,32102.829999999994,0,0,0,22055.869999999995,0]
[null,658,25,15025,"2022/0373590-7","2022-11-21","2023-06-01","MS 10.438/DF","2005-02-22","Administrativo - Militar - Pensão","2007-09-13","UNIÃO","Ministério da Fazenda","Soldo previsto na Lei Estadual 1.063/2002","Dedução de Honorários Contratuais","Alimentar","Não","Não","Não","-","-","Não informada","Não Informada","Não",41403.68,8487.75,4347.38,0,0,28568.55,0,0,0,26,19633.37,0,44176.17,9056.11,4638.49,0,0,30481.57,0,0,0,20948.07,0]
[null,659,26,15026,"2022/0373595-6","2022-11-21","2023-06-01","MS 10.438/DF","2005-02-22","Administrativo - Militar - Pensão","2007-09-13","UNIÃO","Ministério da Fazenda","Soldo previsto na Lei Estadual 1.063/2002","Dedução de Honorários Contratuais","Alimentar","Não","Não","Não","-","-","Não informada","Não Informada","Não",44119.46,9044.48,4632.54,0,0,30442.44,0,0,0,26,20914.669999999998,0,47073.81,9650.1299999999992,4942.75,0,0,32480.93,0,0,0,22315.16,0]
[null,660,27,15027,"2022/0373621-0","2022-11-21","2023-06-01","MS 10.438/DF","2005-02-22","Administrativo - Militar - Pensão","2007-09-13","UNIÃO","Ministério da Fazenda","Soldo previsto na Lei Estadual 1.063/2002","Dedução de Honorários Contratuais","Alimentar","Não","Não","Não","-","-","Não informada","Não Informada","Não",43349.09,8886.56,4551.6499999999996,0,0,29910.880000000001,0,0,0,26,20550.13,0,46251.86,9481.6299999999992,4856.4399999999996,0,0,31913.790000000005,0,0,0,21926.220000000005,0]
[null,661,28,15028,"2022/0373628-3","2022-11-21","2023-06-01","MS 10.438/DF","2005-02-22","Administrativo - Militar - Pensão","2007-09-13","UNIÃO","Ministério da Fazenda","Soldo previsto na Lei Estadual 1.063/2002","Dedução de Honorários Contratuais","Alimentar","Não","Não","Não","-","-","Não informada","Não Informada","Não",40411.019999999997,8284.25,4243.1499999999996,0,0,27883.62,0,0,0,26,19189.34,0,43117.04,8838.99,4527.28,0,0,29750.770000000004,0,0,0,20474.300000000003,0]
[null,662,29,15029,"2022/0373630-0","2022-11-21","2023-06-01","MS 10.438/DF","2005-02-22","Administrativo - Militar - Pensão","2007-09-13","UNIÃO","Ministério da Fazenda","Soldo previsto na Lei Estadual 1.063/2002","Dedução de Honorários Contratuais","Alimentar","Não","Não","Não","-","-","Não informada","Não Informada","Não",43092.19,8833.89,4524.67,0,0,29733.63,0,0,0,26,20428.59,0,45977.75,9425.43,4827.66,0,0,31724.66,0,0,0,21796.53,0]
[null,663,30,15030,"2022/0373635-9","2022-11-21","2023-06-01","MS 10.438/DF","2005-02-22","Administrativo - Militar - Pensão","2007-09-13","UNIÃO","Ministério da Fazenda","Soldo previsto na Lei Estadual 1.063/2002","Dedução de Honorários Contratuais","Alimentar","Não","Não","Não","-","-","Não informada","Não Informada","Não",43349.09,8886.56,4551.6499999999996,0,0,29910.880000000001,0,0,0,26,20550.13,0,46251.86,9481.6299999999992,4856.4399999999996,0,0,31913.790000000005,0,0,0,21926.220000000005,0]
[null,664,31,15031,"2022/0373649-7","2022-11-21","2023-06-01","MS 10.438/DF","2005-02-22","Administrativo - Militar - Pensão","2007-09-13","UNIÃO","Ministério da Fazenda","Soldo previsto na Lei Estadual 1.063/2002","Dedução de Honorários Contratuais","Alimentar","Não","Não","Não","-","-","Não informada","Não Informada","Não",17231.25,3532.4,1809.28,0,0,11889.57,0,0,0,26,8125.52,0,18385.099999999999,3768.94,1930.43,0,0,12685.729999999998,0,0,0,8669.6299999999974,0]
[null,665,32,15034,"2022/0373688-9","2022-11-21","2023-06-01","MS 10.438/DF","2005-02-22","Administrativo - Militar - Pensão","2007-09-13","UNIÃO","Ministério da Fazenda","Soldo previsto na Lei Estadual 1.063/2002","Dedução de Honorários Contratuais","Alimentar","Não","Não","Não","-","-","Não informada","Não Informada","Não",18238.21,3738.83,1915.01,0,0,12584.37,0,0,0,26,8598.77,0,19459.48,3989.19,2043.24,0,0,13427.05,0,0,0,9174.57,0]
[null,666,33,15038,"2022/0381197-9","2022-11-28","2023-06-01","MS 10.438/DF","2005-02-22","Administrativo - Militar - Pensão","2007-09-13","UNIÃO","Ministério da Fazenda","Soldo previsto na Lei Estadual 1.063/2002","Dedução de Honorários Contratuais","Alimentar","Não","Não","Não","-","-","Não informada","Não Informada","Não",36851.75,7554.6,3869.43,0,0,25427.72,0,0,0,26,17468.47,0,39319.429999999993,8060.48,4128.54,0,0,27130.409999999993,0,0,0,18638.189999999995,0]
[null,667,34,15039,"2022/0381221-0","2022-11-28","2023-06-01","MS 10.438/DF","2005-02-22","Administrativo - Militar - Pensão","2007-09-13","UNIÃO","Ministério da Fazenda","Soldo previsto na Lei Estadual 1.063/2002","Dedução de Honorários Contratuais","Alimentar","Não","Não","Não","-","-","Não informada","Não Informada","Não",35490.29,7275.5,3726.48,0,0,24488.31,0,0,0,26,16824.54,0,37866.800000000003,7762.69,3976.01,0,0,26128.100000000006,0,0,0,17951.150000000005,0]
[null,668,35,15040,"2022/0381228-2","2022-11-28","2023-06-01","MS 10.438/DF","2005-02-22","Administrativo - Militar - Pensão","2007-09-13","UNIÃO","Ministério da Fazenda","Soldo previsto na Lei Estadual 1.063/2002","Dedução de Honorários Contratuais","Alimentar","Não","Não","Não","-","-","Não informada","Não Informada","Não",35944.720000000001,7368.66,3774.19,0,0,24801.87,0,0,0,26,17039.46,0,38351.670000000006,7862.09,4026.92,0,0,26462.660000000003,0,0,0,18180.460000000003,0]
[null,669,36,15041,"2022/0381231-0","2022-11-28","2023-06-01","MS 10.438/DF","2005-02-22","Administrativo - Militar - Pensão","2007-09-13","UNIÃO","Ministério da Fazenda","Soldo previsto na Lei Estadual 1.063/2002","Dedução de Honorários Contratuais","Alimentar","Não","Não","Não","-","-","Não informada","Não Informada","Não",35717.54,7322.09,3750.34,0,0,24645.11,0,0,0,26,16932.03,0,38109.270000000004,7812.4,4001.47,0,0,26295.4,0,0,0,18065.84,0]
[null,670,37,15045,"2022/0381271-4","2022-11-28","2023-06-01","MS 10.438/DF","2005-02-22","Administrativo - Militar - Pensão","2007-09-13","UNIÃO","Ministério da Fazenda","Soldo previsto na Lei Estadual 1.063/2002","Dedução de Honorários Contratuais","Alimentar","Não","Não","Não","-","-","Não informada","Não Informada","Não",37429.839999999997,7673.11,3930.13,0,0,25826.6,0,0,0,25,17713.59,0,39936.229999999996,8186.92,4193.3,0,0,27556.01,0,0,0,18899.739999999998,0]
[null,671,38,15046,"2022/0381272-6","2022-11-28","2023-06-01","MS 10.438/DF","2005-02-22","Administrativo - Militar - Pensão","2007-09-13","UNIÃO","Ministério da Fazenda","Soldo previsto na Lei Estadual 1.063/2002","Dedução de Honorários Contratuais","Alimentar","Não","Não","Não","-","-","Não informada","Não Informada","Não",37306.29,7647.78,3917.16,0,0,25741.35,0,0,0,26,17683.240000000002,0,39804.410000000003,8159.9,4179.46,0,0,27465.050000000003,0,0,0,18867.350000000002,0]
[null,672,39,15047,"2022/0381274-0","2022-11-28","2023-06-01","MS 10.438/DF","2005-02-22","Administrativo - Militar - Pensão","2007-09-13","UNIÃO","Ministério da Fazenda","Soldo previsto na Lei Estadual 1.063/2002","Dedução de Honorários Contratuais","Alimentar","Não","Não","Não","-","-","Não informada","Não Informada","Não",37533.129999999997,7694.29,3940.97,0,0,25897.87,0,0,0,26,17790.53,0,40046.429999999993,8209.51,4204.87,0,0,27632.049999999992,0,0,0,18981.829999999991,0]
[null,673,40,15048,"2022/0381276-3","2022-11-28","2023-06-01","MS 10.438/DF","2005-02-22","Administrativo - Militar - Pensão","2007-09-13","UNIÃO","Ministério da Fazenda","Soldo previsto na Lei Estadual 1.063/2002","Dedução de Honorários Contratuais","Alimentar","Não","Não","Não","-","-","Não informada","Não Informada","Não",37760.5,7740.9,3964.85,0,0,26054.75,0,0,0,26,17898.07,0,40289.039999999994,8259.25,4230.34,0,0,27799.449999999993,0,0,0,19096.579999999994,0]
[null,674,41,15049,"2022/0381277-5","2022-11-28","2023-06-01","MS 10.438/DF","2005-02-22","Administrativo - Militar - Pensão","2007-09-13","UNIÃO","Ministério da Fazenda","Soldo previsto na Lei Estadual 1.063/2002","Dedução de Honorários Contratuais","Alimentar","Não","Não","Não","-","-","Não informada","Não Informada","Não",37878.269999999997,7765.04,3977.21,0,0,26136.02,0,0,0,25,17901.3,0,40414.69,8285.01,4243.54,0,0,27886.14,0,0,0,19100.010000000002,0]
[null,675,42,15050,"2022/0381279-9","2022-11-28","2023-06-01","MS 10.438/DF","2005-02-22","Administrativo - Militar - Pensão","2007-09-13","UNIÃO","Ministério da Fazenda","Soldo previsto na Lei Estadual 1.063/2002","Dedução de Honorários Contratuais","Alimentar","Não","Não","Não","-","-","Não informada","Não Informada","Não",37760.5,7740.9,3964.85,0,0,26054.75,0,0,0,26,17898.07,0,40289.039999999994,8259.25,4230.34,0,0,27799.449999999993,0,0,0,19096.579999999994,0]
[null,676,43,15052,"2022/0381305-3","2022-11-28","2023-06-01","MS 10.438/DF","2005-02-22","Administrativo - Militar - Pensão","2007-09-13","UNIÃO","Ministério da Fazenda","Soldo previsto na Lei Estadual 1.063/2002","Dedução de Honorários Contratuais","Alimentar","Não","Não","Não","-","-","Não informada","Não Informada","Não",37533.129999999997,7694.29,3940.97,0,0,25897.87,0,0,0,26,17790.53,0,40046.429999999993,8209.51,4204.87,0,0,27632.049999999992,0,0,0,18981.829999999991,0]
[null,677,44,15053,"2022/0381308-9","2022-11-28","2023-06-01","MS 10.438/DF","2005-02-22","Administrativo - Militar - Pensão","2007-09-13","UNIÃO","Ministério da Fazenda","Soldo previsto na Lei Estadual 1.063/2002","Dedução de Honorários Contratuais","Alimentar","Não","Não","Não","-","-","Não informada","Não Informada","Não",37533.129999999997,7694.29,3940.97,0,0,25897.87,0,0,0,26,17790.53,0,40046.429999999993,8209.51,4204.87,0,0,27632.049999999992,0,0,0,18981.829999999991,0]
[null,678,45,15054,"2022/0381312-9","2022-11-28","2023-06-01","MS 10.438/DF","2005-02-22","Administrativo - Militar - Pensão","2007-09-13","UNIÃO","Ministério da Fazenda","Soldo previsto na Lei Estadual 1.063/2002","Dedução de Honorários Contratuais","Alimentar","Não","Não","Não","-","-","Não informada","Não Informada","Não",37306.29,7647.78,3917.16,0,0,25741.35,0,0,0,26,17683.240000000002,0,39804.410000000003,8159.9,4179.46,0,0,27465.050000000003,0,0,0,18867.350000000002,0]
[null,679,46,15055,"2022/0381556-6","2022-11-29","2023-06-01","MS 10.438/DF","2005-02-22","Administrativo - Militar - Pensão","2007-09-13","UNIÃO","Ministério da Fazenda","Soldo previsto na Lei Estadual 1.063/2002","Dedução de Honorários Contratuais","Alimentar","Não","Não","Não","-","-","Não informada","Não Informada","Não",43091.37,8833.73,4524.59,0,0,29733.05,0,0,0,26,20428.439999999999,0,45976.88,9425.26,4827.57,0,0,31724.049999999996,0,0,0,21796.379999999994,0]
[null,680,47,15056,"2022/0381559-1","2022-11-29","2023-06-01","MS 10.438/DF","2005-02-22","Administrativo - Militar - Pensão","2007-09-13","UNIÃO","Ministério da Fazenda","Soldo previsto na Lei Estadual 1.063/2002","Dedução de Honorários Contratuais","Alimentar","Não","Não","Não","-","-","Não informada","Não Informada","Não",42833.94,8780.9500000000007,4497.5600000000004,0,0,29555.43,0,0,0,26,20306.63,0,45702.21,9368.9500000000007,4798.7299999999996,0,0,31534.529999999995,0,0,0,21666.409999999996,0]
[null,681,48,15057,"2022/0381561-8","2022-11-29","2023-06-01","MS 10.438/DF","2005-02-22","Administrativo - Militar - Pensão","2007-09-13","UNIÃO","Ministério da Fazenda","Soldo previsto na Lei Estadual 1.063/2002","Dedução de Honorários Contratuais","Alimentar","Não","Não","Não","-","-","Não informada","Não Informada","Não",42833.94,8780.9500000000007,4497.5600000000004,0,0,29555.43,0,0,0,26,20306.63,0,45702.21,9368.9500000000007,4798.7299999999996,0,0,31534.529999999995,0,0,0,21666.409999999996,0]
[null,682,49,15058,"2022/0381562-0","2022-11-29","2023-06-01","MS 10.438/DF","2005-02-22","Administrativo - Militar - Pensão","2007-09-13","UNIÃO","Ministério da Fazenda","Soldo previsto na Lei Estadual 1.063/2002","Dedução de Honorários Contratuais","Alimentar","Não","Não","Não","-","-","Não informada","Não Informada","Não",43091.37,8833.73,4524.59,0,0,29733.05,0,0,0,26,20428.439999999999,0,45976.88,9425.26,4827.57,0,0,31724.049999999996,0,0,0,21796.379999999994,0]
[null,683,50,15060,"2022/0381564-3","2022-11-29","2023-06-01","MS 10.438/DF","2005-02-22","Administrativo - Militar - Pensão","2007-09-13","UNIÃO","Ministério da Fazenda","Soldo previsto na Lei Estadual 1.063/2002","Dedução de Honorários Contratuais","Alimentar","Não","Não","Não","-","-","Não informada","Não Informada","Não",42577.34,8728.35,4470.62,0,0,29378.37,0,0,0,26,20185.2,0,45428.42,9312.82,4769.9799999999996,0,0,31345.62,0,0,0,21536.859999999997,0]
[null,684,51,15061,"2022/0381569-2","2022-11-29","2023-06-01","MS 10.438/DF","2005-02-22","Administrativo - Militar - Pensão","2007-09-13","UNIÃO","Ministério da Fazenda","Soldo previsto na Lei Estadual 1.063/2002","Dedução de Honorários Contratuais","Alimentar","Não","Não","Não","-","-","Não informada","Não Informada","Não",42577.34,8728.35,4470.62,0,0,29378.37,0,0,0,26,20185.2,0,45428.42,9312.82,4769.9799999999996,0,0,31345.62,0,0,0,21536.859999999997,0]
[null,685,52,15063,"2022/0381573-2","2022-11-29","2023-06-01","MS 10.438/DF","2005-02-22","Administrativo - Militar - Pensão","2007-09-13","UNIÃO","Ministério da Fazenda","Soldo previsto na Lei Estadual 1.063/2002","Dedução de Honorários Contratuais","Alimentar","Não","Não","Não","-","-","Não informada","Não Informada","Não",42833.94,8780.9500000000007,4497.5600000000004,0,0,29555.43,0,0,0,26,20306.63,0,45702.21,9368.9500000000007,4798.7299999999996,0,0,31534.529999999995,0,0,0,21666.409999999996,0]
[null,686,53,15064,"2022/0381575-6","2022-11-29","2023-06-01","MS 10.438/DF","2005-02-22","Administrativo - Militar - Pensão","2007-09-13","UNIÃO","Ministério da Fazenda","Soldo previsto na Lei Estadual 1.063/2002","Dedução de Honorários Contratuais","Alimentar","Não","Não","Não","-","-","Não informada","Não Informada","Não",42833.94,8780.9500000000007,4497.5600000000004,0,0,29555.43,0,0,0,26,20306.63,0,45702.21,9368.9500000000007,4798.7299999999996,0,0,31534.529999999995,0,0,0,21666.409999999996,0]
[null,687,54,15096,"2022/0383400-7","2022-11-30","2023-06-01","MS 27.455/DF","2021-03-30","Administrativo - Militar - Regime - Anistia Política","2021-12-01","UNIÃO","Ministério da Mulher, da Família e dos Direitos Humanos","Anistia Política - Reparação Econômica","x.x.x","Comum","Não","Não","Não","-","-","Não informada","Não Informada","SIM",41024.78,0,0,0,0,41024.78,0,0,0,0,0,0,43771.890000000007,0,0,0,0,43771.890000000007,0,0,0,0,0]
[null,688,55,15099,"2022/0384105-9","2022-11-30","2023-06-01","MS 26.380/DF","2020-06-17","Administrativo - Militar - Regime - Anistia Política","2022-03-11","UNIÃO","Ministério da Mulher, da Família e dos Direitos Humanos","Anistia Política - Reparação Econômica","Dedução de Honorários Contratuais","Comum","Não","Não","Não","-","-","Não informada","Não Informada","Sim",8241.2000000000007,2060.3000000000002,0,0,0,6180.9,0,0,0,0,0,0,8793.0400000000009,2198.2600000000002,0,0,0,6594.7800000000007,0,0,0,0,0]
[null,689,56,15113,"2022/0391704-0","2022-12-07","2023-06-01","AR 1.169/CE","1999-10-18","Administrativo - Servidor Público Civil - Sistema Remuneratório e Benefícios","2004-06-07","Instituto Nacional do Seguro Social – INSS","Instituto Nacional do Seguro Social - INSS","Anuênios","Dedução de Honorários Contratuais","Alimentar","Não","Não","Não","-","-","Não informada","Não Informada","Não",2726.55,272.64999999999998,0,0,0,2453.9,1045.57,115.01,230.02,47,772.92,115.01,2882.4700000000003,288.24,0,0,0,2594.2300000000005,1105.3599999999999,121.58,243.16,817.12000000000046,121.58]
[null,690,57,15128,"2022/0391741-9","2022-12-07","2023-06-01","AR 1.169/CE","1999-10-18","Administrativo - Servidor Público Civil - Sistema Remuneratório e Benefícios","2004-06-07","Instituto Nacional do Seguro Social – INSS","Instituto Nacional do Seguro Social - INSS","Anuênios","Dedução de Honorários Contratuais","Alimentar","Não","Não","Não","-","-","Não informada","Não Informada","Não",10832.24,1083.22,0,0,0,9749.02,4153.91,456.93,913.86,47,3070.6899999999996,456.93,11451.74,1145.17,0,0,0,10306.57,4391.47,483.06,966.12,3246.3,483.06]
[null,691,58,15141,"2022/0391926-2","2022-12-07","2023-06-01","AR 1.169/CE","1999-10-18","Administrativo - Servidor Público Civil - Sistema Remuneratório e Benefícios","2004-06-07","Instituto Nacional do Seguro Social – INSS","Instituto Nacional do Seguro Social - INSS","Anuênios","Dedução de Honorários Contratuais","Alimentar","Não","Não","Não","-","-","Não informada","Não Informada","Não",20650.030000000002,2065,0,0,0,18585.030000000002,8405.61,924.61,1849.22,47,6340.6100000000006,924.61,21831.03,2183.1,0,0,0,19647.93,8886.34,977.49,1954.98,6703.2400000000016,977.49]
[null,692,59,15286,"2022/0397763-8","2022-12-13","2023-06-01","AR 1.169/CE","1999-10-18","Administrativo - Servidor Público Civil - Sistema Remuneratório e Benefícios","2004-06-07","Instituto Nacional do Seguro Social – INSS","Instituto Nacional do Seguro Social - INSS","Anuênios","Dedução de Honorários Contratuais","Alimentar","Não","Não","Não","-","-","Não informada","Não Informada","Não",17070.400000000001,1707.04,0,0,0,15363.36,2661.3199999999997,292.74,585.48,111,5022.2300000000005,292.74,18046.670000000002,1804.66,0,0,0,16242.010000000002,2813.53,309.48,618.96,5309.4600000000028,309.48]
[null,693,60,15298,"2022/0397864-8","2022-12-13","2023-06-01","AR 1.169/CE","1999-10-18","Administrativo - Servidor Público Civil - Sistema Remuneratório e Benefícios","2004-06-07","Instituto Nacional do Seguro Social – INSS","Instituto Nacional do Seguro Social - INSS","Anuênios","Dedução de Honorários Contratuais","Alimentar","Não","Não","Não","-","-","Não informada","Não Informada","Não",8771.6099999999988,877.16,0,0,0,7894.4499999999989,3457.98,380.37,760.74,106,2580.8200000000002,380.37,9273.2599999999984,927.32,0,0,0,8345.9399999999987,3655.74,402.13,804.26,2728.4199999999992,402.13]
[null,694,61,15344,"2022/0399084-9","2022-12-14","2023-06-01","MS 6.040/DF","1998-11-16","Administrativo - Servidor Público Civil - Sistema Remuneratório e Benefícios (PRINCIPAL)","2003-10-01","União","Ministério da Administração Federal e Reforma do Estado","Incorporação da diferença de 3,17%","Dedução de Honorários Contratuais","Alimentar","Não","Não","Não","-","-","Não informada","Não Informada","Não",9198.619999999999,459.93,459.93,0,0,8278.7599999999984,7596.25,835.58,1671.16,42,2827.9300000000003,835.58,9784.5599999999977,489.22,489.22,0,0,8806.119999999999,8080.13,888.81,1777.62,3008.079999999999,888.81]
[null,695,62,15392,"2022/0401439-6","2022-12-15","2023-06-01","MS 8.659/DF","2002-10-03","Administrativo - Servidor Público Civil - Sistema Remuneratório e Benefícios - Gratificações da Lei 8.112/1990","2004-02-11","União","-","Honorários de sucumbência","x.x.x","Alimentar","Não","Não","Não","-","-","Não informada","Não Informada","Não",2477.02,0,0,0,0,2477.02,0,0,0,0,0,0,2634.8,0,0,0,0,2634.8,0,0,0,0,0]
[null,696,63,15393,"2022/0401465-1","2022-12-15","2023-06-01","MS 8.659/DF","2002-10-03","Administrativo - Servidor Público Civil - Sistema Remuneratório e Benefícios - Gratificações da Lei 8.112/1990","2004-02-11","União","-","Honorários de sucumbência","x.x.x","Alimentar","Não","Não","Não","-","-","Não informada","Não Informada","Não",4600.1899999999996,0,0,0,0,4600.1899999999996,0,0,0,0,0,0,4893.2199999999993,0,0,0,0,4893.2199999999993,0,0,0,0,0]
[null,697,64,15394,"2022/0401475-2","2022-12-15","2023-06-01","MS 4.151/DF","1995-07-21","Administrativo - Servidor Público Civil - Reajustes de Remuneração, Proventos ou Pensão","1999-02-12","UNIÃO","Ministério da Fazenda","Diferença de remuneração - 3,17%","Dedução de Honorários Contratuais","Alimentar","Não","Não","Não","-","-","Não informada","Não Informada","Não",70392.209999999992,4223.53,703.92,703.92,0,64760.84,28052,3085.72,6171.44,53,19642.660000000003,3085.72,74876.179999999993,4492.57,748.76,748.76,0,68886.09,29838.91,3282.28,6564.56,20893.889999999996,3282.28]
[null,698,65,15395,"2022/0401503-0","2022-12-15","2023-06-01","MS 4.151/DF","1995-07-21","Administrativo - Servidor Público Civil - Reajustes de Remuneração, Proventos ou Pensão","1999-02-12","UNIÃO","Ministério da Fazenda","Diferença de remuneração - 3,17%","Dedução de Honorários Contratuais","Alimentar","Não","Não","Não","-","-","Não informada","Não Informada","Não",47198.35,2831.9,471.98,471.98,0,43422.489999999991,30417.49,3345.92,6691.84,53,8372.130000000001,3345.92,50204.869999999995,3012.29,502.04,502.04,0,46188.499999999993,32355.08,3559.05,7118.1,8905.4399999999914,3559.05]
[null,699,66,15396,"2022/0401549-5","2022-12-15","2023-06-01","MS 4.151/DF","1995-07-21","Administrativo - Servidor Público Civil - Reajustes de Remuneração, Proventos ou Pensão","1999-02-12","UNIÃO","Ministério da Fazenda","Diferença de remuneração - 3,17%","Dedução de Honorários Contratuais","Alimentar","Não","Não","Não","-","-","Não informada","Não Informada","Não",71101.97,4266.1099999999997,711.01,711.01,0,65413.840000000004,30772.62,3384.98,6769.96,53,19703.820000000003,3384.98,75631.150000000009,4537.8599999999997,756.31,756.31,0,69580.670000000013,32732.829999999998,3600.61,7201.22,20958.930000000015,3600.61]
[null,700,67,15397,"2022/0401554-7","2022-12-15","2023-06-01","MS 4.151/DF","1995-07-21","Administrativo - Servidor Público Civil - Reajustes de Remuneração, Proventos ou Pensão","1999-02-12","UNIÃO","Ministério da Fazenda","Diferença de remuneração - 3,17%","Dedução de Honorários Contratuais","Alimentar","Não","Não","Não","-","-","Não informada","Não Informada","Não",57292.58,3437.55,572.91999999999996,572.91999999999996,0,52709.19,30239.919999999998,3326.39,6652.78,53,13693.529999999999,3326.39,60942.100000000006,3656.52,609.41999999999996,609.41999999999996,0,56066.740000000013,32166.199999999997,3538.28,7076.56,14565.790000000008,3538.28]
[null,701,68,15398,"2022/0401571-3","2022-12-15","2023-06-01","MS 4.151/DF","1995-07-21","Administrativo - Servidor Público Civil - Reajustes de Remuneração, Proventos ou Pensão","1999-02-12","UNIÃO","Ministério da Fazenda","Diferença de remuneração - 3,17%","Dedução de Honorários Contratuais","Alimentar","Não","Não","Não","-","-","Não informada","Não Informada","Não",65279.109999999993,3916.74,652.79,652.79,0,60056.789999999994,30417.18,3345.88,6691.76,53,17431.019999999997,3345.88,69437.37999999999,4166.24,694.37,694.37,0,63882.399999999987,32354.75,3559.02,7118.04,18541.369999999988,3559.02]
[null,702,69,15399,"2022/0401729-0","2022-12-15","2023-06-01","MS 10.424/DF","2005-02-17","Administrativo - Servidor Público Civil - Sistema Remuneratório e Benefícios - Gratificações","2005-10-27","UNIÃO","Ministério do Planejamento, Orçamento e Gestão","Gratificação Específica de Atividade Docente - GEAD","Dedução de Honorários Contratuais","Alimentar","Não","Não","Não","-","-","Não informada","Não Informada","Não",32429.129999999997,3567.2,0,0,0,28861.929999999997,17338.849999999999,1907.27,3814.54,9,13771.649999999998,1907.27,34283.789999999994,3771.21,0,0,0,30512.579999999994,18330.48,2016.35,4032.7,14559.269999999993,2016.35]
[null,703,70,15400,"2022/0401737-7","2022-12-15","2023-06-01","MS 10.424/DF","2005-02-17","Administrativo - Servidor Público Civil - Sistema Remuneratório e Benefícios - Gratificações","2005-10-27","UNIÃO","Ministério do Planejamento, Orçamento e Gestão","Gratificação Específica de Atividade Docente - GEAD","Dedução de Honorários Contratuais","Alimentar","Não","Não","Não","-","-","Não informada","Não Informada","Não",32429.129999999997,3567.2,0,0,0,28861.929999999997,17338.849999999999,1907.27,3814.54,9,13771.649999999998,1907.27,34283.789999999994,3771.21,0,0,0,30512.579999999994,18330.48,2016.35,4032.7,14559.269999999993,2016.35]
[null,704,71,15401,"2022/0401763-2","2022-12-15","2023-06-01","MS 10.424/DF","2005-02-17","Administrativo - Servidor Público Civil - Sistema Remuneratório e Benefícios - Gratificações","2005-10-27","UNIÃO","Ministério do Planejamento, Orçamento e Gestão","Gratificação Específica de Atividade Docente - GEAD","Dedução de Honorários Contratuais","Alimentar","Não","Não","Não","-","-","Não informada","Não Informada","Não",32429.17,3567.2,0,0,0,28861.969999999998,17338.86,1907.27,0,9,13771.66,1907.27,34283.83,3771.22,0,0,0,30512.61,18330.489999999998,2016.35,0,14559.27,2016.35]
[null,705,72,15402,"2022/0401773-3","2022-12-15","2023-06-01","MS 10.424/DF","2005-02-17","Administrativo - Servidor Público Civil - Sistema Remuneratório e Benefícios - Gratificações","2005-10-27","UNIÃO","Ministério do Planejamento, Orçamento e Gestão","Gratificação Específica de Atividade Docente - GEAD","Dedução de Honorários Contratuais","Alimentar","Não","Não","Não","-","-","Não informada","Não Informada","Não",32429.17,3567.2,0,0,0,28861.969999999998,17338.86,1907.27,0,9,13771.66,1907.27,34283.83,3771.22,0,0,0,30512.61,18330.489999999998,2016.35,0,14559.27,2016.35]
[null,706,73,15403,"2022/0401779-4","2022-12-15","2023-06-01","MS 10.424/DF","2005-02-17","Administrativo - Servidor Público Civil - Sistema Remuneratório e Benefícios - Gratificações","2005-10-27","UNIÃO","Ministério do Planejamento, Orçamento e Gestão","Gratificação Específica de Atividade Docente - GEAD","Dedução de Honorários Contratuais","Alimentar","Não","Não","Não","-","-","Não informada","Não Informada","Não",32429.17,3567.2,0,0,0,28861.969999999998,17338.86,1907.27,0,9,13771.66,1907.27,34283.83,3771.22,0,0,0,30512.61,18330.489999999998,2016.35,0,14559.27,2016.35]
[null,707,74,15404,"2022/0401787-1","2022-12-15","2023-06-01","MS 10.424/DF","2005-02-17","Administrativo - Servidor Público Civil - Sistema Remuneratório e Benefícios - Gratificações","2005-10-27","UNIÃO","Ministério do Planejamento, Orçamento e Gestão","Gratificação Específica de Atividade Docente - GEAD","Dedução de Honorários Contratuais","Alimentar","Não","Não","Não","-","-","Não informada","Não Informada","Não",32429.17,3567.2,0,0,0,28861.969999999998,17338.86,1907.27,0,9,13771.66,1907.27,34283.83,3771.22,0,0,0,30512.61,18330.489999999998,2016.35,0,14559.27,2016.35]
[null,708,75,15405,"2022/0401792-3","2022-12-15","2023-06-01","MS 10.424/DF","2005-02-17","Administrativo - Servidor Público Civil - Sistema Remuneratório e Benefícios - Gratificações","2005-10-27","UNIÃO","Ministério do Planejamento, Orçamento e Gestão","Gratificação Específica de Atividade Docente - GEAD","Dedução de Honorários Contratuais","Alimentar","Não","Não","Não","-","-","Não informada","Não Informada","Não",32429.17,3567.2,0,0,0,28861.969999999998,17338.86,1907.27,0,9,13771.66,1907.27,34283.83,3771.22,0,0,0,30512.61,18330.489999999998,2016.35,0,14559.27,2016.35]
[null,709,76,15406,"2022/0401796-0","2022-12-15","2023-06-01","MS 10.424/DF","2005-02-17","Administrativo - Servidor Público Civil - Sistema Remuneratório e Benefícios - Gratificações","2005-10-27","UNIÃO","Ministério do Planejamento, Orçamento e Gestão","Gratificação Específica de Atividade Docente - GEAD","Dedução de Honorários Contratuais","Alimentar","Não","Não","Não","-","-","Não informada","Não Informada","Não",32429.17,3567.2,0,0,0,28861.969999999998,17338.86,1907.27,0,9,13771.66,1907.27,34283.83,3771.22,0,0,0,30512.61,18330.489999999998,2016.35,0,14559.27,2016.35]
[null,710,77,15407,"2022/0401799-6","2022-12-15","2023-06-01","MS 10.424/DF","2005-02-17","Administrativo - Servidor Público Civil - Sistema Remuneratório e Benefícios - Gratificações","2005-10-27","UNIÃO","Ministério do Planejamento, Orçamento e Gestão","Gratificação Específica de Atividade Docente - GEAD","Dedução de Honorários Contratuais","Alimentar","Não","Não","Não","-","-","Não informada","Não Informada","Não",32429.17,3567.2,0,0,0,28861.969999999998,17338.86,1907.27,0,9,13771.66,1907.27,34283.83,3771.22,0,0,0,30512.61,18330.489999999998,2016.35,0,14559.27,2016.35]
[null,711,78,15409,"2022/0401836-3","2022-12-15","2023-06-01","MS 10.424/DF","2005-02-17","Administrativo - Servidor Público Civil - Sistema Remuneratório e Benefícios - Gratificações","2005-10-27","UNIÃO","Ministério do Planejamento, Orçamento e Gestão","Gratificação Específica de Atividade Docente - GEAD","Dedução de Honorários Contratuais","Alimentar","Não","Não","Não","-","-","Não informada","Não Informada","Não",32429.17,3567.2,0,0,0,28861.969999999998,17338.86,1907.27,0,9,13771.66,1907.27,34283.83,3771.22,0,0,0,30512.61,18330.489999999998,2016.35,0,14559.27,2016.35]
[null,712,79,15410,"2022/0401839-9","2022-12-15","2023-06-01","MS 10.424/DF","2005-02-17","Administrativo - Servidor Público Civil - Sistema Remuneratório e Benefícios - Gratificações","2005-10-27","UNIÃO","Ministério do Planejamento, Orçamento e Gestão","Gratificação Específica de Atividade Docente - GEAD","Dedução de Honorários Contratuais","Alimentar","Não","Não","Não","-","-","Não informada","Não Informada","Não",32429.17,3567.2,0,0,0,28861.969999999998,17338.86,1907.27,0,9,13771.66,1907.27,34283.83,3771.22,0,0,0,30512.61,18330.489999999998,2016.35,0,14559.27,2016.35]
[null,713,80,15411,"2022/0401847-6","2022-12-15","2023-06-01","MS 10.424/DF","2005-02-17","Administrativo - Servidor Público Civil - Sistema Remuneratório e Benefícios - Gratificações","2005-10-27","UNIÃO","Ministério do Planejamento, Orçamento e Gestão","Gratificação Específica de Atividade Docente - GEAD","Dedução de Honorários Contratuais","Alimentar","Não","Não","Não","-","-","Não informada","Não Informada","Não",32429.17,3567.2,0,0,0,28861.969999999998,17338.86,1907.27,0,9,13771.66,1907.27,34283.83,3771.22,0,0,0,30512.61,18330.489999999998,2016.35,0,14559.27,2016.35]
[null,714,81,15412,"2022/0401856-5","2022-12-15","2023-06-01","MS 10.424/DF","2005-02-17","Administrativo - Servidor Público Civil - Sistema Remuneratório e Benefícios - Gratificações","2005-10-27","UNIÃO","Ministério do Planejamento, Orçamento e Gestão","Gratificação Específica de Atividade Docente - GEAD","Dedução de Honorários Contratuais","Alimentar","Não","Não","Não","-","-","Não informada","Não Informada","Não",32429.17,3567.2,0,0,0,28861.969999999998,17338.86,1907.27,0,9,13771.66,1907.27,34283.83,3771.22,0,0,0,30512.61,18330.489999999998,2016.35,0,14559.27,2016.35]
[null,715,82,15413,"2022/0401886-8","2022-12-15","2023-06-01","MS 10.424/DF","2005-02-17","Administrativo - Servidor Público Civil - Sistema Remuneratório e Benefícios - Gratificações","2005-10-27","UNIÃO","Ministério do Planejamento, Orçamento e Gestão","Gratificação Específica de Atividade Docente - GEAD","Dedução de Honorários Contratuais","Alimentar","Não","Não","Não","-","-","Não informada","Não Informada","Não",32429.17,3567.2,0,0,0,28861.969999999998,17338.86,1907.27,0,9,13771.66,1907.27,34283.83,3771.22,0,0,0,30512.61,18330.489999999998,2016.35,0,14559.27,2016.35]
[null,716,83,15414,"2022/0401890-8","2022-12-15","2023-06-01","MS 10.424/DF","2005-02-17","Administrativo - Servidor Público Civil - Sistema Remuneratório e Benefícios - Gratificações","2005-10-27","UNIÃO","Ministério do Planejamento, Orçamento e Gestão","Gratificação Específica de Atividade Docente - GEAD","Dedução de Honorários Contratuais","Alimentar","Não","Não","Não","-","-","Não informada","Não Informada","Não",32429.17,3567.2,0,0,0,28861.969999999998,17338.86,1907.27,0,9,13771.66,1907.27,34283.83,3771.22,0,0,0,30512.61,18330.489999999998,2016.35,0,14559.27,2016.35]
[null,717,84,15415,"2022/0401893-3","2022-12-15","2023-06-01","MS 10.424/DF","2005-02-17","Administrativo - Servidor Público Civil - Sistema Remuneratório e Benefícios - Gratificações","2005-10-27","UNIÃO","Ministério do Planejamento, Orçamento e Gestão","Gratificação Específica de Atividade Docente - GEAD","Dedução de Honorários Contratuais","Alimentar","Não","Não","Não","-","-","Não informada","Não Informada","Não",32429.17,3567.2,0,0,0,28861.969999999998,17338.86,1907.27,3814.54,9,13771.66,1907.27,34283.83,3771.22,0,0,0,30512.61,18330.489999999998,2016.35,4032.7,14559.27,2016.35]
[null,718,85,15416,"2022/0337219-5","2023-02-08","2023-06-01","AR 1.213/CE","1999-12-02","Administrativo - Servidor Público Civil - Sistema Remuneratório e Benefícios (PRINCIPAL)","2002-08-12","Departamento Nacional de Obras contra a Seca – DNOCS","Departamento Nacional de Obras contra as Secas - DNOCS","Anuênios","x.x.x","Alimentar","Não","Não","Não","-","-","Não informada","Não Informada","NÃO",72218.37,0,0,0,0,72218.37,30180.18,3319.81,6639.62,116,30180.17,3319.81,77773.11,0,0,0,0,77773.11,32501.5,3575.16,7150.32,32501.5,3575.16]
[null,719,86,15417,"2023/0042411-4","2023-02-13","2023-06-01","MS 4.151/DF","1995-07-21","Administrativo - Servidor Público Civil - Reajustes de Remuneração, Proventos ou Pensão","1999-02-12","UNIÃO","Ministério da Fazenda","Diferença de remuneração - 3,17%","Dedução de Honorários Contratuais","Alimentar","Não","Não","Não","-","-","Não informada","Não Informada","NÃO",69035.399999999994,5522.83,690.35,690.35,0,62131.869999999995,30683.38,3375.17,6750.34,53,17371.68,3375.17,71886.549999999988,5750.92,718.86,718.86,0,64697.909999999989,31950.600000000002,3514.56,7029.12,18089.129999999986,3514.56]
[null,720,87,15418,"2023/0042447-8","2023-02-13","2023-06-01","AR 1.169/CE","1999-10-18","Administrativo - Servidor Público Civil - Sistema Remuneratório e Benefícios","2004-06-07","Instituto Nacional do Seguro Social – INSS","Instituto Nacional do Seguro Social - INSS","Anuênios","Dedução de Honorários Contratuais","Alimentar","Não","Não","Não","-","-","Não informada","Não Informada","NÃO",11323.37,1132.33,0,0,0,10191.040000000001,2385.59,262.41000000000003,524.82000000000005,47,3475.49,262.41000000000003,11737.77,1173.77,0,0,0,10564,2472.89,272.01,544.02,3602.6800000000003,272.01]
[null,721,88,15422,"2023/0042468-1","2023-02-13","2023-06-01","MS 27.591/DF","2021-04-13","Administrativo - Militar - Regime - Anistia Política","2021-11-24","UNIÃO","Ministério da Mulher, da Família e dos Direitos Humanos","Anistia Política - Reparação Econômica","x.x.x","Comum","Não","Não","Não","-","-","Não informada","Não Informada","SIM",27455.83,0,0,0,0,27455.83,0,0,0,0,0,0,28490.43,0,0,0,0,28490.43,0,0,0,0,0]
[null,722,89,15423,"2023/0042604-5","2023-02-13","2023-06-01","MS 4.151/DF","1995-07-21","Administrativo - Servidor Público Civil - Reajustes de Remuneração, Proventos ou Pensão","1999-02-12","UNIÃO","Ministério da Fazenda","Diferença de remuneração - 3,17%","Dedução de Honorários Contratuais","Alimentar","Não","Não","Não","-","-","Não informada","Não Informada","NÃO",62593.329999999994,3755.59,625.92999999999995,625.92999999999995,0,57585.87999999999,29684,3265.24,6530.48,53,16275.68,3265.24,65178.43,3910.7,651.78,651.78,0,59964.170000000006,30909.94,3400.09,6800.18,16947.860000000008,3400.09]
[null,723,90,15424,"2023/0042610-9","2023-02-13","2023-06-01","MS 4.151/DF","1995-07-21","Administrativo - Servidor Público Civil - Reajustes de Remuneração, Proventos ou Pensão","1999-02-12","UNIÃO","Ministério da Fazenda","Diferença de remuneração - 3,17%","Dedução de Honorários Contratuais","Alimentar","Não","Não","Não","-","-","Não informada","Não Informada","NÃO",33220.6,1993.23,332.2,332.2,0,30562.969999999998,0,0,0,30,9286.119999999999,0,34592.6,2075.5500000000002,345.92,345.92,0,31825.210000000003,0,0,0,9669.6300000000047,0]
[null,724,91,15425,"2023/0042615-8","2023-02-13","2023-06-01","MS 4.151/DF","1995-07-21","Administrativo - Servidor Público Civil - Reajustes de Remuneração, Proventos ou Pensão","1999-02-12","UNIÃO","Ministério da Fazenda","Diferença de remuneração - 3,17%","Dedução de Honorários Contratuais","Alimentar","Não","Não","Não","-","-","Não informada","Não Informada","NÃO",24915.460000000003,1494.92,249.15,249.15,0,22922.239999999998,0,0,0,30,6964.6,0,25944.46,1556.66,259.44,259.44,0,23868.920000000002,0,0,0,7252.2300000000023,0]
[null,725,92,15426,"2023/0042641-3","2023-02-13","2023-06-01","MS 4.151/DF","1995-07-21","Administrativo - Servidor Público Civil - Reajustes de Remuneração, Proventos ou Pensão","1999-02-12","UNIÃO","Ministério da Fazenda","Diferença de remuneração - 3,17%","Dedução de Honorários Contratuais","Alimentar","Não","Não","Não","-","-","Não informada","Não Informada","NÃO",68017.17,4081.03,680.17,680.17,0,62575.8,31833.21,3501.65,7003.3,53,17958.470000000005,3501.65,70826.27,4249.57,708.26,708.26,0,65160.180000000015,33147.919999999998,3646.27,7292.54,18700.160000000014,3646.27]
[null,726,93,15427,"2023/0042646-2","2023-02-13","2023-06-01","MS 4.151/DF","1995-07-21","Administrativo - Servidor Público Civil - Reajustes de Remuneração, Proventos ou Pensão","1999-02-12","UNIÃO","Ministério da Fazenda","Diferença de remuneração - 3,17%","Dedução de Honorários Contratuais","Alimentar","Não","Não","Não","-","-","Não informada","Não Informada","NÃO",62081.34,3724.88,620.80999999999995,620.80999999999995,0,57114.840000000004,0,0,0,53,16374.369999999997,0,64645.29,3878.71,646.45000000000005,646.45000000000005,0,59473.680000000008,0,0,0,17050.630000000005,0]
[null,727,94,15428,"2023/0042656-3","2023-02-13","2023-06-01","MS 4.151/DF","1995-07-21","Administrativo - Servidor Público Civil - Reajustes de Remuneração, Proventos ou Pensão","1999-02-12","UNIÃO","Ministério da Fazenda","Diferença de remuneração - 3,17%","Dedução de Honorários Contratuais","Alimentar","Não","Não","Não","-","-","Não informada","Não Informada","NÃO",71460.899999999994,4287.6499999999996,714.6,714.6,0,65744.049999999988,30338.66,3337.25,6674.5,53,19848.310000000005,3337.25,74412.23,4464.7299999999996,744.12,744.12,0,68459.260000000009,31591.64,3475.08,6950.16,20668.03000000001,3475.08]
[null,728,95,15429,"2023/0042682-9","2023-02-13","2023-06-01","MS 4.151/DF","1995-07-21","Administrativo - Servidor Público Civil - Reajustes de Remuneração, Proventos ou Pensão","1999-02-12","UNIÃO","Ministério da Fazenda","Diferença de remuneração - 3,17%","Dedução de Honorários Contratuais","Alimentar","Não","Não","Não","-","-","Não informada","Não Informada","NÃO",69915.44,4194.92,699.15,699.15,0,64322.22,29692.1,3266.13,6532.26,53,19402.849999999999,3266.13,72802.930000000008,4368.17,728.02,728.02,0,66978.720000000001,30918.379999999997,3401.02,6802.04,20204.189999999999,3401.02]
[null,729,96,15430,"2023/0042689-1","2023-02-13","2023-06-01","MS 4.151/DF","1995-07-21","Administrativo - Servidor Público Civil - Reajustes de Remuneração, Proventos ou Pensão","1999-02-12","UNIÃO","Ministério da Fazenda","Diferença de remuneração - 3,17%","Dedução de Honorários Contratuais","Alimentar","Não","Não","Não","-","-","Não informada","Não Informada","NÃO",70356.11,4221.3599999999997,703.56,703.56,0,64727.630000000005,29841.45,3282.55,6565.1,53,19546.969999999998,3282.55,73261.810000000012,4395.7,732.61,732.61,0,67400.890000000014,31073.9,3418.12,6836.24,20354.270000000011,3418.12]
[null,730,97,15431,"2023/0042691-8","2023-02-13","2023-06-01","MS 4.151/DF","1995-07-21","Administrativo - Servidor Público Civil - Reajustes de Remuneração, Proventos ou Pensão","1999-02-12","UNIÃO","Ministério da Fazenda","Diferença de remuneração - 3,17%","Dedução de Honorários Contratuais","Alimentar","Não","Não","Não","-","-","Não informada","Não Informada","NÃO",72094.010000000009,4325.6400000000003,720.94,720.94,0,66326.490000000005,0,0,0,53,19902.560000000005,0,75071.48000000001,4504.28,750.71,750.71,0,69065.78,0,0,0,20724.55,0]
[null,731,98,15433,"2023/0042721-0","2023-02-13","2023-06-01","MS 4.151/DF","1995-07-21","Administrativo - Servidor Público Civil - Reajustes de Remuneração, Proventos ou Pensão","1999-02-12","UNIÃO","Ministério da Fazenda","Diferença de remuneração - 3,17%","Dedução de Honorários Contratuais","Alimentar","Não","Não","Não","-","-","Não informada","Não Informada","NÃO",69590.38,4175.42,695.9,695.9,0,64023.16,29228.45,3215.12,6430.24,53,19391.129999999997,3215.12,72464.450000000012,4347.8599999999997,724.64,724.64,0,66667.310000000012,30435.58,3347.91,6695.82,20191.980000000014,3347.91]
[null,732,99,15435,"2023/0042727-0","2023-02-13","2023-06-01","MS 4.151/DF","1995-07-21","Administrativo - Servidor Público Civil - Reajustes de Remuneração, Proventos ou Pensão","1999-02-12","UNIÃO","Ministério da Fazenda","Diferença de remuneração - 3,17%","Dedução de Honorários Contratuais","Alimentar","Não","Não","Não","-","-","Não informada","Não Informada","NÃO",60300.43,3618.02,603,603,0,55476.41,1591.21,175.03,350.06,53,16084.86,175.03,62790.830000000009,3767.44,627.9,627.9,0,57767.590000000004,1656.92,182.26,364.52,16749.170000000002,182.26]
[null,733,100,15436,"2023/0042735-8","2023-02-13","2023-06-01","MS 4.151/DF","1995-07-21","Administrativo - Servidor Público Civil - Reajustes de Remuneração, Proventos ou Pensão","1999-02-12","UNIÃO","Ministério da Fazenda","Diferença de remuneração - 3,17%","Dedução de Honorários Contratuais","Alimentar","Não","Não","Não","-","-","Não informada","Não Informada","NÃO",74398.81,4463.92,743.98,743.98,0,68446.930000000008,33606.449999999997,3696.7,7393.4,53,20023.03,3696.7,77471.469999999987,4648.28,774.71,774.71,0,71273.769999999975,34994.39,3849.38,7698.76,20849.969999999972,3849.38]
[null,734,101,15437,"2023/0042760-1","2023-02-13","2023-06-01","MS 4.151/DF","1995-07-21","Administrativo - Servidor Público Civil - Reajustes de Remuneração, Proventos ou Pensão","1999-02-12","UNIÃO","Ministério da Fazenda","Diferença de remuneração - 3,17%","Dedução de Honorários Contratuais","Alimentar","Não","Não","Não","-","-","Não informada","Não Informada","NÃO",78120,5468.4,5077.8,5077.8,0,62496,0,0,0,53,12464.340000000004,0,81346.34,5694.24,5287.51,5287.51,0,65077.079999999994,0,0,0,12979.119999999992,0]
[null,735,102,15438,"2023/0042794-1","2023-02-13","2023-06-01","MS 4.151/DF","1995-07-21","Administrativo - Servidor Público Civil - Reajustes de Remuneração, Proventos ou Pensão","1999-02-12","UNIÃO","Ministério da Fazenda","Diferença de remuneração - 3,17%","Dedução de Honorários Contratuais","Alimentar","Não","Não","Não","-","-","Não informada","Não Informada","NÃO",78120,3124.8,781.2,781.2,3906,69526.8,0,0,0,53,17839.04,0,81346.349999999991,3253.85,813.46,813.46,4067.31,72398.269999999975,0,0,0,18575.809999999972,0]
[null,736,103,15439,"2023/0042824-3","2023-02-13","2023-06-01","MS 4.151/DF","1995-07-21","Administrativo - Servidor Público Civil - Reajustes de Remuneração, Proventos ou Pensão","1999-02-12","UNIÃO","Ministério da Fazenda","Diferença de remuneração - 3,17%","Dedução de Honorários Contratuais","Alimentar","Não","Não","Não","-","-","Não informada","Não Informada","NÃO",64188.44,3851.3,641.88,641.88,0,59053.380000000005,1534.08,168.74,337.48,53,17204.87,168.74,66839.41,4010.36,668.39,668.39,0,61492.270000000004,1597.4299999999998,175.71,351.42,17915.420000000002,175.71]
[null,737,104,15440,"2023/0042826-7","2023-02-13","2023-06-01","MS 4.151/DF","1995-07-21","Administrativo - Servidor Público Civil - Reajustes de Remuneração, Proventos ou Pensão","1999-02-12","UNIÃO","Ministério da Fazenda","Diferença de remuneração - 3,17%","Dedução de Honorários Contratuais","Alimentar","Não","Não","Não","-","-","Não informada","Não Informada","NÃO",64578.9,3874.73,645.78,645.78,0,59412.61,29822.720000000001,3280.49,6560.98,53,17276.13,3280.49,67246,4034.76,672.46,672.46,0,61866.32,31054.39,3415.98,6831.96,17989.609999999997,3415.98]
[null,738,105,15441,"2023/0042832-0","2023-02-13","2023-06-01","MS 4.151/DF","1995-07-21","Administrativo - Servidor Público Civil - Reajustes de Remuneração, Proventos ou Pensão","1999-02-12","UNIÃO","Ministério da Fazenda","Diferença de remuneração - 3,17%","Dedução de Honorários Contratuais","Alimentar","Não","Não","Não","-","-","Não informada","Não Informada","NÃO",70881.23,4252.87,708.81,708.81,0,65210.740000000005,31295.21,3442.47,6884.94,53,19425.509999999998,3442.47,73808.610000000015,4428.51,738.08,738.08,0,67903.940000000017,32587.7,3584.64,7169.28,20227.790000000015,3584.64]
[null,739,106,15442,"2023/0043008-0","2023-02-13","2023-06-01","MS 4.151/DF","1995-07-21","Administrativo - Servidor Público Civil - Reajustes de Remuneração, Proventos ou Pensão","1999-02-12","UNIÃO","Ministério da Fazenda","Diferença de remuneração - 3,17%","Dedução de Honorários Contratuais","Alimentar","Não","Não","Não","-","-","Não informada","Não Informada","NÃO",76185.86,4571.1499999999996,761.85,761.85,0,70091.009999999995,32160.12,3537.61,7075.22,53,21214.97,3537.61,79332.33,4759.93,793.32,793.32,0,72985.75999999998,33488.33,3683.71,7367.42,22091.139999999978,3683.71]
[null,740,107,15443,"2023/0043009-2","2023-02-13","2023-06-01","MS 4.151/DF","1995-07-21","Administrativo - Servidor Público Civil - Reajustes de Remuneração, Proventos ou Pensão","1999-02-12","UNIÃO","Ministério da Fazenda","Diferença de remuneração - 3,17%","Dedução de Honorários Contratuais","Alimentar","Não","Não","Não","-","-","Não informada","Não Informada","NÃO",65739.55,5916.55,1314.79,657.39,0,57850.82,19616.89,2157.85,4315.7,53,15136.100000000002,2157.85,68454.58,6160.91,1369.09,684.54,0,60240.04,20427.059999999998,2246.9699999999998,4493.9399999999996,15761.21,2246.9699999999998]
[null,741,108,15445,"2023/0043013-2","2023-02-13","2023-06-01","MS 4.151/DF","1995-07-21","Administrativo - Servidor Público Civil - Reajustes de Remuneração, Proventos ou Pensão","1999-02-12","UNIÃO","Ministério da Fazenda","Diferença de remuneração - 3,17%","Dedução de Honorários Contratuais","Alimentar","Não","Não","Não","-","-","Não informada","Não Informada","NÃO",69139.81,4148.38,691.39,691.39,0,63608.65,34464.620000000003,3791.1,7582.2,53,17513.68,3791.1,71995.28,4319.71,719.95,719.95,0,66235.67,35888,3947.68,7895.36,18236.979999999996,3947.68]
[null,742,109,15447,"2023/0043018-1","2023-02-13","2023-06-01","MS 4.151/DF","1995-07-21","Administrativo - Servidor Público Civil - Reajustes de Remuneração, Proventos ou Pensão","1999-02-12","UNIÃO","Ministério da Fazenda","Diferença de remuneração - 3,17%","Dedução de Honorários Contratuais","Alimentar","Não","Não","Não","-","-","Não informada","Não Informada","NÃO",66925.78,4015.54,669.25,669.25,0,61571.74,22204.49,2442.4899999999998,4884.9799999999996,53,18386.509999999998,2442.4899999999998,69689.799999999988,4181.38,696.89,696.89,0,64114.639999999992,23121.530000000002,2543.36,5086.72,19145.869999999988,2543.36]
[null,743,110,15448,"2023/0042514-8","2023-02-13","2023-06-01","MS 4.151/DF","1995-07-21","Administrativo - Servidor Público Civil - Reajustes de Remuneração, Proventos ou Pensão","1999-02-12","UNIÃO","Ministério da Fazenda","Diferença de remuneração - 3,17%","Dedução de Honorários Contratuais","Alimentar","Não","Não","Não","-","-","Não informada","Não Informada","NÃO",70301.7,4218.1000000000004,703.01,703.01,0,64677.579999999987,30577.71,3363.54,6727.08,53,19324.43,3363.54,73205.149999999994,4392.3,732.05,732.05,0,67348.749999999985,31840.559999999998,3502.46,7004.92,20122.519999999982,3502.46]
[null,744,111,15449,"2023/0042553-0","2023-02-13","2023-06-01","MS 4.151/DF","1995-07-21","Administrativo - Servidor Público Civil - Reajustes de Remuneração, Proventos ou Pensão","1999-02-12","UNIÃO","Ministério da Fazenda","Diferença de remuneração - 3,17%","Dedução de Honorários Contratuais","Alimentar","Não","Não","Não","-","-","Não informada","Não Informada","NÃO",67425.83,5394.06,674.25,674.25,0,60683.270000000004,31619.4,3478.13,6956.26,53,16400,3478.13,70210.5,5616.84,702.1,702.1,0,63189.460000000006,32925.279999999999,3621.78,7243.56,17077.30000000001,3621.78]
[null,745,112,15451,"2023/0048338-4","2023-02-16","2023-06-01","MS 8.376/DF","2002-05-24","Administrativo - Servidor Público Civil - Sistema Remuneratório e Benefícios - Gratificações da Lei 8.112/1990 (PRINCIPAL)","2004-08-23","UNIÃO","-","Honorários de sucumbência","x.x.x","Alimentar","Não","Não","Não","-","-","Não informada","Não Informada","NÃO",67.820000000000007,0,0,0,0,67.820000000000007,0,0,0,0,0,0,70.61999999999999,0,0,0,0,70.61999999999999,0,0,0,0,0]
[null,746,113,15452,"2023/0048373-9","2023-02-16","2023-06-01","MS 8.376/DF","2002-05-24","Administrativo - Servidor Público Civil - Sistema Remuneratório e Benefícios - Gratificações da Lei 8.112/1990 (PRINCIPAL)","2004-08-23","UNIÃO","-","Honorários de sucumbência","x.x.x","Alimentar","Não","Não","Não","-","-","Não informada","Não Informada","NÃO",125.93,0,0,0,0,125.93,0,0,0,0,0,0,131.13,0,0,0,0,131.13,0,0,0,0,0]
[null,747,114,15453,"2023/0048380-4","2023-02-16","2023-06-01","MS 27.511/DF","2021-04-04","Administrativo - Militar - Regime - Anistia Política","2021-12-01","UNIÃO","Ministério da Mulher, da Família e dos Direitos Humanos","Anistia Política - Reparação Econômica","x.x.x","Comum","Não","Não","Não","-","-","Não informada","Não Informada","SIM",30263.89,0,0,0,0,30263.89,0,0,0,0,0,0,31347.83,0,0,0,0,31347.83,0,0,0,0,0]
[null,748,115,15455,"2023/0048867-6","2023-02-17","2023-06-01","MS 7.386/DF","2001-01-31","Administrativo - Servidor Público Civil - Sistema Remuneratório e Benefícios - Gratificações da Lei 8.112/1990","2003-12-04","UNIÃO","Ministério do Planejamento, Orçamento e Gestão","Gratificação de Operações Especiais - GOE","Dedução de Honorários Contratuais","Alimentar","Não","Não","Não","-","-","Não informada","Não Informada","NÃO",33225.770000000004,4983.8599999999997,4983.8599999999997,0,0,23258.050000000003,0,0,0,50,10547.79,0,34433.49,5165.0200000000004,5165.0200000000004,0,0,24103.449999999997,0,0,0,10931.189999999999,0]
[null,749,116,15456,"2023/0048869-0","2023-02-17","2023-06-01","MS 4.151/DF","1995-07-21","Administrativo - Servidor Público Civil - Reajustes de Remuneração, Proventos ou Pensão","1999-02-12","UNIÃO","Ministério da Fazenda","Diferença de remuneração - 3,17%","Dedução de Honorários Contratuais","Alimentar","Não","Não","Não","-","-","Não informada","Não Informada","NÃO",59255.47,3555.32,592.54999999999995,592.54999999999995,0,54515.049999999996,6007.69,660.84,1321.68,53,15777.060000000001,660.84,61702.710000000006,3702.16,617.02,617.02,0,56766.510000000009,6255.7999999999993,688.13,1376.26,16428.650000000012,688.13]
[null,750,117,15457,"2023/0048870-4","2023-02-17","2023-06-01","MS 4.151/DF","1995-07-21","Administrativo - Servidor Público Civil - Reajustes de Remuneração, Proventos ou Pensão","1999-02-12","UNIÃO","Ministério da Fazenda","Diferença de remuneração - 3,17%","Dedução de Honorários Contratuais","Alimentar","Não","Não","Não","-","-","Não informada","Não Informada","NÃO",66218.600000000006,3973.11,662.18,662.18,0,60921.130000000005,31170.44,3428.74,6857.48,53,17280.11,3428.74,68953.42,4137.2,689.53,689.53,0,63437.16,32457.769999999997,3570.35,7140.7,17993.770000000008,3570.35]
[null,751,118,15458,"2023/0048871-6","2023-02-17","2023-06-01","MS 4.151/DF","1995-07-21","Administrativo - Servidor Público Civil - Reajustes de Remuneração, Proventos ou Pensão","1999-02-12","UNIÃO","Ministério da Fazenda","Diferença de remuneração - 3,17%","Dedução de Honorários Contratuais","Alimentar","Não","Não","Não","-","-","Não informada","Não Informada","NÃO",70447.850000000006,4226.87,704.47,704.47,0,64812.040000000008,29855.77,3284.13,6568.26,53,19568.27,3284.13,73357.33,4401.43,733.57,733.57,0,67488.75999999998,31088.81,3419.76,6839.52,20376.429999999982,3419.76]
[null,752,119,15459,"2023/0048875-3","2023-02-17","2023-06-01","MS 4.151/DF","1995-07-21","Administrativo - Servidor Público Civil - Reajustes de Remuneração, Proventos ou Pensão","1999-02-12","UNIÃO","Ministério da Fazenda","Diferença de remuneração - 3,17%","Dedução de Honorários Contratuais","Alimentar","Não","Não","Não","-","-","Não informada","Não Informada","NÃO",70498.38,4229.8999999999996,704.98,704.98,0,64858.520000000011,29865.919999999998,3285.25,6570.5,53,19595.46,3285.25,73409.950000000012,4404.59,734.09,734.09,0,67537.180000000022,31099.379999999997,3420.93,6841.86,20404.760000000024,3420.93]
[null,753,120,15460,"2023/0048877-7","2023-02-17","2023-06-01","MS 4.151/DF","1995-07-21","Administrativo - Servidor Público Civil - Reajustes de Remuneração, Proventos ou Pensão","1999-02-12","UNIÃO","Ministério da Fazenda","Diferença de remuneração - 3,17%","Dedução de Honorários Contratuais","Alimentar","Não","Não","Não","-","-","Não informada","Não Informada","NÃO",70826.37000000001,4249.58,708.26,708.26,0,65160.270000000011,29948.12,3294.29,6588.58,53,19677.32,3294.29,73751.489999999991,4425.08,737.51,737.51,0,67851.39,31184.969999999998,3430.34,6860.68,20490.000000000004,3430.34]
[null,754,121,14999,"2022/0369124-2","2022-11-17","2023-06-01","MS 10.438/DF","2005-02-22","Administrativo - Militar - Pensão","2007-09-13","UNIÃO","Ministério da Fazenda","Soldo previsto na Lei Estadual 1.063/2002","Dedução de Honorários Contratuais","Alimentar","Não","Não","Não","-","-","Não informada","Não Informada","Não",55941.2,11467.94,5873.82,0,0,38599.440000000002,0,0,0,18,26533.91,0,59687.17,12235.86,6267.15,0,0,41184.159999999996,0,0,0,28310.689999999995,0]
[null,755,122,15461,"2023/0048878-9","2023-02-17","2023-06-01","MS 4.151/DF","1995-07-21","Administrativo - Servidor Público Civil - Reajustes de Remuneração, Proventos ou Pensão","1999-02-12","UNIÃO","Ministério da Fazenda","Diferença de remuneração - 3,17%","Dedução de Honorários Contratuais","Alimentar","Não","Não","Não","-","-","Não informada","Não Informada","NÃO",74347.460000000006,4460.84,743.47,743.47,0,68399.680000000008,31386.41,3452.5,6905,53,20671.05,3452.5,77418,4645.08,774.18,774.18,0,71224.560000000012,32682.66,3595.09,7190.18,21524.740000000016,3595.09]
[null,756,123,15462,"2023/0048879-0","2023-02-17","2023-06-01","MS 4.151/DF","1995-07-21","Administrativo - Servidor Público Civil - Reajustes de Remuneração, Proventos ou Pensão","1999-02-12","UNIÃO","Ministério da Fazenda","Diferença de remuneração - 3,17%","Dedução de Honorários Contratuais","Alimentar","Não","Não","Não","-","-","Não informada","Não Informada","NÃO",71145.09,4268.7,711.45,711.45,0,65453.490000000005,30095.5,3310.5,6621,53,19772.099999999999,3310.5,74083.37999999999,4445,740.83,740.83,0,68156.719999999987,31338.44,3447.22,6894.44,20588.689999999988,3447.22]
[null,757,124,15463,"2023/0048881-7","2023-02-17","2023-06-01","MS 4.151/DF","1995-07-21","Administrativo - Servidor Público Civil - Reajustes de Remuneração, Proventos ou Pensão","1999-02-12","UNIÃO","Ministério da Fazenda","Diferença de remuneração - 3,17%","Dedução de Honorários Contratuais","Alimentar","Não","Não","Não","-","-","Não informada","Não Informada","NÃO",70095.359999999986,4205.72,700.95,700.95,0,64487.739999999991,29739.89,3271.38,6542.76,53,19447.999999999996,3271.38,72990.289999999994,4379.41,729.9,729.9,0,67151.08,30968.14,3406.49,6812.98,20251.200000000004,3406.49]
[null,758,125,15464,"2023/0048884-2","2023-02-17","2023-06-01","MS 4.151/DF","1995-07-21","Administrativo - Servidor Público Civil - Reajustes de Remuneração, Proventos ou Pensão","1999-02-12","UNIÃO","Ministério da Fazenda","Diferença de remuneração - 3,17%","Dedução de Honorários Contratuais","Alimentar","Não","Não","Não","-","-","Não informada","Não Informada","NÃO",70926.38,4255.58,709.26,709.26,0,65252.280000000006,30058.52,3306.43,6612.86,53,19683.340000000004,3306.43,73855.63,4431.33,738.55,738.55,0,67947.199999999997,31299.93,3442.99,6885.98,20496.269999999993,3442.99]
[null,759,126,15465,"2023/0048885-4","2023-02-17","2023-06-01","MS 4.151/DF","1995-07-21","Administrativo - Servidor Público Civil - Reajustes de Remuneração, Proventos ou Pensão","1999-02-12","UNIÃO","Ministério da Fazenda","Diferença de remuneração - 3,17%","Dedução de Honorários Contratuais","Alimentar","Não","Não","Não","-","-","Não informada","Não Informada","NÃO",66041.539999999994,3962.49,660.41,660.41,0,60758.229999999989,29563.61,3251.99,6503.98,53,17873.61,3251.99,68769.050000000017,4126.1400000000003,687.69,687.69,0,63267.530000000013,30784.58,3386.3,6772.6,18611.78000000001,3386.3]
[null,760,127,15467,"2023/0048889-1","2023-02-17","2023-06-01","MS 4.151/DF","1995-07-21","Administrativo - Servidor Público Civil - Reajustes de Remuneração, Proventos ou Pensão","1999-02-12","UNIÃO","Ministério da Fazenda","Diferença de remuneração - 3,17%","Dedução de Honorários Contratuais","Alimentar","Não","Não","Não","-","-","Não informada","Não Informada","NÃO",69920.700000000012,4195.24,699.2,699.2,0,64327.060000000012,0,0,0,53,20165.89,0,72808.41,4368.5,728.08,728.08,0,66983.75,0,0,0,20998.730000000003,0]
[null,761,128,15468,"2023/0048891-8","2023-02-17","2023-06-01","MS 4.151/DF","1995-07-21","Administrativo - Servidor Público Civil - Reajustes de Remuneração, Proventos ou Pensão","1999-02-12","UNIÃO","Ministério da Fazenda","Diferença de remuneração - 3,17%","Dedução de Honorários Contratuais","Alimentar","Não","Não","Não","-","-","Não informada","Não Informada","NÃO",71406.59,4284.3900000000003,714.06,714.06,0,65694.080000000002,25484.61,2803.3,5606.6,53,19762.499999999996,2803.3,74355.67,4461.34,743.55,743.55,0,68407.23,26537.119999999999,2919.08,5838.16,20578.679999999993,2919.08]
[null,762,129,15469,"2023/0048892-0","2023-02-17","2023-06-01","MS 4.151/DF","1995-07-21","Administrativo - Servidor Público Civil - Reajustes de Remuneração, Proventos ou Pensão","1999-02-12","UNIÃO","Ministério da Fazenda","Diferença de remuneração - 3,17%","Dedução de Honorários Contratuais","Alimentar","Não","Não","Não","-","-","Não informada","Não Informada","NÃO",78120,4687.2,781.2,781.2,0,71870.400000000009,29502.89,3245.31,6490.62,53,22901.46,3245.31,81346.34,4880.78,813.46,813.46,0,74838.639999999985,30721.35,3379.34,6758.68,23847.289999999983,3379.34]
[null,763,130,15470,"2023/0048894-3","2023-02-17","2023-06-01","MS 4.151/DF","1995-07-21","Administrativo - Servidor Público Civil - Reajustes de Remuneração, Proventos ou Pensão","1999-02-12","UNIÃO","Ministério da Fazenda","Diferença de remuneração - 3,17%","Dedução de Honorários Contratuais","Alimentar","Não","Não","Não","-","-","Não informada","Não Informada","NÃO",69004.430000000008,4140.26,690.04,690.04,0,63484.090000000004,29230.66,3215.37,6430.74,53,19173.549999999996,3215.37,71854.3,4311.25,718.54,718.54,0,66105.970000000016,30437.88,3348.16,6696.32,19965.410000000014,3348.16]
[null,764,131,15471,"2023/0048895-5","2023-02-17","2023-06-01","MS 4.151/DF","1995-07-21","Administrativo - Servidor Público Civil - Reajustes de Remuneração, Proventos ou Pensão","1999-02-12","UNIÃO","Ministério da Fazenda","Diferença de remuneração - 3,17%","Dedução de Honorários Contratuais","Alimentar","Não","Não","Não","-","-","Não informada","Não Informada","NÃO",64500.960000000006,3870.05,645,645,0,59340.91,29678.6,3264.64,6529.28,53,17156.97,3264.64,67164.840000000011,4029.89,671.64,671.64,0,61791.670000000013,30904.32,3399.47,6798.94,17865.540000000012,3399.47]
[null,765,132,15472,"2023/0048896-7","2023-02-17","2023-06-01","MS 4.151/DF","1995-07-21","Administrativo - Servidor Público Civil - Reajustes de Remuneração, Proventos ou Pensão","1999-02-12","UNIÃO","Ministério da Fazenda","Diferença de remuneração - 3,17%","Dedução de Honorários Contratuais","Alimentar","Não","Não","Não","-","-","Não informada","Não Informada","NÃO",70617.919999999998,4237.07,706.17,706.17,0,64968.510000000009,29907.13,3289.78,6579.56,53,19626.320000000003,3289.78,73534.430000000008,4412.0600000000004,735.34,735.34,0,67651.690000000017,31142.29,3425.65,6851.3,20436.870000000014,3425.65]
[null,766,133,15473,"2023/0048907-9","2023-02-17","2023-06-01","MS 4.151/DF","1995-07-21","Administrativo - Servidor Público Civil - Reajustes de Remuneração, Proventos ou Pensão","1999-02-12","UNIÃO","Ministério da Fazenda","Diferença de remuneração - 3,17%","Dedução de Honorários Contratuais","Alimentar","Não","Não","Não","-","-","Não informada","Não Informada","NÃO",59793.04,3587.58,597.92999999999995,597.92999999999995,0,55009.599999999999,29874.81,3286.22,6572.44,53,14994.839999999998,3286.22,62262.479999999996,3735.74,622.62,622.62,0,57281.499999999993,31108.63,3421.94,6843.88,15614.13999999999,3421.94]
[null,767,134,15474,"2023/0048909-2","2023-02-17","2023-06-01","MS 4.151/DF","1995-07-21","Administrativo - Servidor Público Civil - Reajustes de Remuneração, Proventos ou Pensão","1999-02-12","UNIÃO","Ministério da Fazenda","Diferença de remuneração - 3,17%","Dedução de Honorários Contratuais","Alimentar","Não","Não","Não","-","-","Não informada","Não Informada","NÃO",59935.68,3596.14,599.35,599.35,0,55140.840000000004,29936.31,3292.99,6585.98,53,14774.060000000001,3292.99,62411.01,3744.66,624.11,624.11,0,57418.130000000005,31172.670000000002,3428.99,6857.98,15384.210000000006,3428.99]
[null,768,135,15475,"2023/0048910-7","2023-02-17","2023-06-01","MS 4.151/DF","1995-07-21","Administrativo - Servidor Público Civil - Reajustes de Remuneração, Proventos ou Pensão","1999-02-12","UNIÃO","Ministério da Fazenda","Diferença de remuneração - 3,17%","Dedução de Honorários Contratuais","Alimentar","Não","Não","Não","-","-","Não informada","Não Informada","NÃO",69750.33,4185.01,697.5,697.5,0,64170.320000000007,30066.2,3307.28,6614.56,53,19209.03,3307.28,72631.009999999995,4357.8599999999997,726.31,726.31,0,66820.53,31307.93,3443.87,6887.74,20002.339999999997,3443.87]
[null,769,136,15476,"2023/0048911-9","2023-02-17","2023-06-01","MS 4.151/DF","1995-07-21","Administrativo - Servidor Público Civil - Reajustes de Remuneração, Proventos ou Pensão","1999-02-12","UNIÃO","Ministério da Fazenda","Diferença de remuneração - 3,17%","Dedução de Honorários Contratuais","Alimentar","Não","Não","Não","-","-","Não informada","Não Informada","NÃO",64316.399999999994,3858.98,643.16,643.16,0,59171.099999999984,29966.53,3296.31,6592.62,53,17071.38,3296.31,66972.650000000009,4018.35,669.72,669.72,0,61614.860000000008,31204.14,3432.45,6864.9,17776.430000000008,3432.45]
[null,770,137,15477,"2023/0048912-0","2023-02-17","2023-06-01","MS 4.151/DF","1995-07-21","Administrativo - Servidor Público Civil - Reajustes de Remuneração, Proventos ou Pensão","1999-02-12","UNIÃO","Ministério da Fazenda","Diferença de remuneração - 3,17%","Dedução de Honorários Contratuais","Alimentar","Não","Não","Não","-","-","Não informada","Não Informada","NÃO",68724.7,4123.4799999999996,687.24,687.24,0,63226.740000000005,31201.5,3432.16,6864.32,53,18504.179999999997,3432.16,71563.01999999999,4293.78,715.63,715.63,0,65837.979999999981,32490.12,3573.91,7147.82,19268.379999999983,3573.91]
[null,771,138,15478,"2023/0048913-2","2023-02-17","2023-06-01","MS 4.151/DF","1995-07-21","Administrativo - Servidor Público Civil - Reajustes de Remuneração, Proventos ou Pensão","1999-02-12","UNIÃO","Ministério da Fazenda","Diferença de remuneração - 3,17%","Dedução de Honorários Contratuais","Alimentar","Não","Não","Não","-","-","Não informada","Não Informada","NÃO",66307.820000000007,3978.46,663.07,663.07,0,61003.220000000008,30872.99,3396.02,6792.04,53,17576.810000000001,3396.02,69046.33,4142.7700000000004,690.46,690.46,0,63522.64,32148.04,3536.28,7072.56,18302.719999999998,3536.28]
[null,772,139,15479,"2023/0048914-4","2023-02-17","2023-06-01","MS 4.151/DF","1995-07-21","Administrativo - Servidor Público Civil - Reajustes de Remuneração, Proventos ou Pensão","1999-02-12","UNIÃO","Ministério da Fazenda","Diferença de remuneração - 3,17%","Dedução de Honorários Contratuais","Alimentar","Não","Não","Não","-","-","Não informada","Não Informada","NÃO",56426.14,3385.56,564.26,564.26,0,51912.06,30167.34,3318.4,6636.8,53,13275.94,3318.4,58756.53,3525.39,587.55999999999995,587.55999999999995,0,54056.020000000004,31413.25,3455.45,6910.9,13824.230000000001,3455.45]
[null,773,140,15480,"2023/0048915-6","2023-02-17","2023-06-01","MS 4.151/DF","1995-07-21","Administrativo - Servidor Público Civil - Reajustes de Remuneração, Proventos ou Pensão","1999-02-12","UNIÃO","Ministério da Fazenda","Diferença de remuneração - 3,17%","Dedução de Honorários Contratuais","Alimentar","Não","Não","Não","-","-","Não informada","Não Informada","NÃO",54191.95,3251.51,541.91,541.91,0,49856.619999999988,2206.08,242.66,485.32,53,14340.019999999999,242.66,56430.07,3385.8,564.29999999999995,564.29999999999995,0,51915.669999999991,2297.19,252.69,505.38,14932.239999999993,252.69]
[null,774,141,15481,"2023/0048918-1","2023-02-17","2023-06-01","MS 4.151/DF","1995-07-21","Administrativo - Servidor Público Civil - Reajustes de Remuneração, Proventos ou Pensão","1999-02-12","UNIÃO","Ministério da Fazenda","Diferença de remuneração - 3,17%","Dedução de Honorários Contratuais","Alimentar","Não","Não","Não","-","-","Não informada","Não Informada","NÃO",65807.19,3948.43,658.07,658.07,0,60542.62,29493.71,3244.3,6488.6,53,17796.7,3244.3,68525.01999999999,4111.5,685.25,685.25,0,63043.01999999999,30711.8,3378.29,6756.58,18531.69999999999,3378.29]
[null,775,142,15482,"2023/0049348-2","2023-02-17","2023-06-01","MS 4.151/DF","1995-07-21","Administrativo - Servidor Público Civil - Reajustes de Remuneração, Proventos ou Pensão","1999-02-12","UNIÃO","Ministério da Fazenda","Diferença de remuneração - 3,17%","Dedução de Honorários Contratuais","Alimentar","Não","Não","Não","-","-","Não informada","Não Informada","NÃO",68532.819999999992,4111.96,685.32,685.32,0,63050.219999999994,30758.560000000001,3383.44,6766.88,53,18545.100000000002,3383.44,71363.22,4281.79,713.63,713.63,0,65654.17,32028.880000000001,3523.17,7046.34,19310.989999999994,3523.17]
[null,776,143,15483,"2023/0049353-4","2023-02-17","2023-06-01","MS 4.151/DF","1995-07-21","Administrativo - Servidor Público Civil - Reajustes de Remuneração, Proventos ou Pensão","1999-02-12","UNIÃO","Ministério da Fazenda","Diferença de remuneração - 3,17%","Dedução de Honorários Contratuais","Alimentar","Não","Não","Não","-","-","Não informada","Não Informada","NÃO",73829.2,4429.75,738.29,738.29,0,67922.87000000001,30932.82,3402.61,6805.22,53,20721.53,3402.61,76878.34,4612.7,768.78,768.78,0,70728.08,32210.34,3543.13,7086.26,21577.330000000005,3543.13]
[null,777,144,15484,"2023/0049361-1","2023-02-17","2023-06-01","MS 4.151/DF","1995-07-21","Administrativo - Servidor Público Civil - Reajustes de Remuneração, Proventos ou Pensão","1999-02-12","UNIÃO","Ministério da Fazenda","Diferença de remuneração - 3,17%","Dedução de Honorários Contratuais","Alimentar","Não","Não","Não","-","-","Não informada","Não Informada","NÃO",73593.099999999991,4415.58,735.93,735.93,0,67705.66,30646.66,3371.13,6742.26,53,20676.400000000001,3371.13,76632.48000000001,4597.9399999999996,766.32,766.32,0,70501.899999999994,31912.36,3510.35,7020.7,21530.339999999993,3510.35]
[null,778,145,15485,"2023/0049641-4","2023-02-17","2023-06-01","MS 11.909/DF","2006-06-07","Administrativo - Garantias Constitucionais - Anistia Política","2019-10-15","UNIÃO","-","Multa Cominatória","x.x.x","Comum","Não","Não","Não","-","-","Não informada","Não Informada","NÃO",42000,0,0,0,0,42000,0,0,0,0,0,0,43734.6,0,0,0,0,43734.6,0,0,0,0,0]
[null,779,146,15486,"2023/0049651-5","2023-02-17","2023-06-01","MS 4.151/DF","1995-07-21","Administrativo - Servidor Público Civil - Reajustes de Remuneração, Proventos ou Pensão","1999-02-12","UNIÃO","Ministério da Fazenda","Diferença de remuneração - 3,17%","Dedução de Honorários Contratuais","Alimentar","Não","Não","Não","-","-","Não informada","Não Informada","NÃO",69107.3,4146.43,691.07,691.07,0,63578.73,29167.9,3208.46,6416.92,53,19135.32,3208.46,71961.42,4317.68,719.61,719.61,0,66204.51999999999,30372.530000000002,3340.97,6681.94,19925.599999999988,3340.97]
[null,780,147,15487,"2023/0049657-6","2023-02-17","2023-06-01","MS 4.151/DF","1995-07-21","Administrativo - Servidor Público Civil - Reajustes de Remuneração, Proventos ou Pensão","1999-02-12","UNIÃO","Ministério da Fazenda","Diferença de remuneração - 3,17%","Dedução de Honorários Contratuais","Alimentar","Não","Não","Não","-","-","Não informada","Não Informada","NÃO",62509.369999999995,5000.74,625.09,625.09,0,56258.450000000004,0,0,0,53,15694.04,0,65091,5207.28,650.91,650.91,0,58581.899999999994,0,0,0,16342.179999999991,0]
[null,781,148,15488,"2023/0049659-0","2023-02-17","2023-06-01","MS 4.151/DF","1995-07-21","Administrativo - Servidor Público Civil - Reajustes de Remuneração, Proventos ou Pensão","1999-02-12","UNIÃO","Ministério da Fazenda","Diferença de remuneração - 3,17%","Dedução de Honorários Contratuais","Alimentar","Não","Não","Não","-","-","Não informada","Não Informada","NÃO",73982.12999999999,4438.92,739.82,739.82,0,68063.569999999978,31823.68,3500.6,7001.2,53,20368.150000000001,3500.6,77037.590000000011,4622.25,770.37,770.37,0,70874.60000000002,33137.99,3645.17,7290.34,21209.360000000022,3645.17]
[null,782,149,15489,"2023/0049681-8","2023-02-17","2023-06-01","MS 4.151/DF","1995-07-21","Administrativo - Servidor Público Civil - Reajustes de Remuneração, Proventos ou Pensão","1999-02-12","UNIÃO","Ministério da Fazenda","Diferença de remuneração - 3,17%","Dedução de Honorários Contratuais","Alimentar","Não","Não","Não","-","-","Não informada","Não Informada","NÃO",55716.75,3343,557.16,557.16,0,51259.429999999993,30354.34,3338.97,6677.94,53,12656.36,3338.97,58017.840000000004,3481.07,580.16999999999996,580.16999999999996,0,53376.430000000008,31607.97,3476.87,6953.74,13179.060000000009,3476.87]
[null,783,150,15491,"2023/0049693-2","2023-02-17","2023-06-01","MS 4.151/DF","1995-07-21","Administrativo - Servidor Público Civil - Reajustes de Remuneração, Proventos ou Pensão","1999-02-12","UNIÃO","Ministério da Fazenda","Diferença de remuneração - 3,17%","Dedução de Honorários Contratuais","Alimentar","Não","Não","Não","-","-","Não informada","Não Informada","NÃO",75600.19,4536.01,756,756,0,69552.180000000008,31412.78,3455.4,6910.8,53,21228.489999999998,3455.4,78722.459999999992,4723.34,787.22,787.22,0,72424.679999999993,32710.12,3598.11,7196.22,22105.229999999992,3598.11]
[null,784,151,15492,"2023/0049696-8","2023-02-17","2023-06-01","MS 4.151/DF","1995-07-21","Administrativo - Servidor Público Civil - Reajustes de Remuneração, Proventos ou Pensão","1999-02-12","UNIÃO","Ministério da Fazenda","Diferença de remuneração - 3,17%","Dedução de Honorários Contratuais","Alimentar","Não","Não","Não","-","-","Não informada","Não Informada","NÃO",66268.899999999994,3976.13,662.68,662.68,0,60967.409999999996,29687.919999999998,3265.67,6531.34,53,17919.829999999998,3265.67,69005.799999999988,4140.34,690.05,690.05,0,63485.359999999986,30914.03,3400.54,6801.08,18659.919999999984,3400.54]
[null,785,152,15493,"2023/0049705-6","2023-02-17","2023-06-01","MS 4.151/DF","1995-07-21","Administrativo - Servidor Público Civil - Reajustes de Remuneração, Proventos ou Pensão","1999-02-12","UNIÃO","Ministério da Fazenda","Diferença de remuneração - 3,17%","Dedução de Honorários Contratuais","Alimentar","Não","Não","Não","-","-","Não informada","Não Informada","NÃO",68232.17,2729.28,682.32,682.32,3411.6,60726.65,31537.29,3469.1,6938.2,53,16020.15,3469.1,71050.149999999994,2842,710.5,710.5,3552.5,63234.649999999994,32839.78,3612.37,7224.74,16681.779999999995,3612.37]
[null,786,153,15494,"2023/0049711-0","2023-02-17","2023-06-01","MS 4.151/DF","1995-07-21","Administrativo - Servidor Público Civil - Reajustes de Remuneração, Proventos ou Pensão","1999-02-12","UNIÃO","Ministério da Fazenda","Diferença de remuneração - 3,17%","Dedução de Honorários Contratuais","Alimentar","Não","Não","Não","-","-","Não informada","Não Informada","NÃO",71716.039999999994,4302.96,717.16,717.16,0,65978.75999999998,30455.31,3350.08,6700.16,53,19912.560000000001,3350.08,74677.899999999994,4480.67,746.77,746.77,0,68703.689999999988,31713.11,3488.44,6976.88,20734.959999999992,3488.44]
[null,787,154,15495,"2023/0049712-1","2023-02-17","2023-06-01","MS 4.151/DF","1995-07-21","Administrativo - Servidor Público Civil - Reajustes de Remuneração, Proventos ou Pensão","1999-02-12","UNIÃO","Ministério da Fazenda","Diferença de remuneração - 3,17%","Dedução de Honorários Contratuais","Alimentar","Não","Não","Não","-","-","Não informada","Não Informada","NÃO",70094.239999999991,4205.6499999999996,700.94,700.94,0,64486.709999999992,29832.07,3281.52,6563.04,53,19449.520000000004,3281.52,72989.12000000001,4379.34,729.89,729.89,0,67150.000000000015,31064.13,3417.05,6834.1,20252.780000000013,3417.05]
[null,788,155,15498,"2023/0049725-8","2023-02-17","2023-06-01","MS 4.151/DF","1995-07-21","Administrativo - Servidor Público Civil - Reajustes de Remuneração, Proventos ou Pensão","1999-02-12","UNIÃO","Ministério da Fazenda","Diferença de remuneração - 3,17%","Dedução de Honorários Contratuais","Alimentar","Não","Não","Não","-","-","Não informada","Não Informada","NÃO",64488.38,3869.3,644.88,644.88,0,59329.32,30205.1,3322.56,6645.12,53,16970.919999999998,3322.56,67151.740000000005,4029.1,671.51,671.51,0,61779.62,31452.57,3459.78,6919.56,17671.82,3459.78]
[null,789,156,15499,"2023/0049728-3","2023-02-17","2023-06-01","MS 4.151/DF","1995-07-21","Administrativo - Servidor Público Civil - Reajustes de Remuneração, Proventos ou Pensão","1999-02-12","UNIÃO","Ministério da Fazenda","Diferença de remuneração - 3,17%","Dedução de Honorários Contratuais","Alimentar","Não","Não","Não","-","-","Não informada","Não Informada","NÃO",73187.19,4391.2299999999996,731.87,731.87,0,67332.220000000016,32185.88,3540.44,7080.88,53,20013.580000000002,3540.44,76209.81,4572.58,762.09,762.09,0,70113.05,33515.15,3686.66,7373.32,20840.160000000003,3686.66]
[null,790,157,15500,"2023/0049735-9","2023-02-17","2023-06-01","MS 4.151/DF","1995-07-21","Administrativo - Servidor Público Civil - Reajustes de Remuneração, Proventos ou Pensão","1999-02-12","UNIÃO","Ministério da Fazenda","Diferença de remuneração - 3,17%","Dedução de Honorários Contratuais","Alimentar","Não","Não","Não","-","-","Não informada","Não Informada","NÃO",71729.84,4303.79,717.29,717.29,0,65991.470000000016,30356.02,3339.16,6678.32,53,19953.819999999996,3339.16,74692.27,4481.53,746.92,746.92,0,68716.900000000009,31609.72,3477.06,6954.12,20777.900000000009,3477.06]
[null,791,158,15501,"2023/0049739-6","2023-02-17","2023-06-01","MS 4.151/DF","1995-07-21","Administrativo - Servidor Público Civil - Reajustes de Remuneração, Proventos ou Pensão","1999-02-12","UNIÃO","Ministério da Fazenda","Diferença de remuneração - 3,17%","Dedução de Honorários Contratuais","Alimentar","Não","Não","Não","-","-","Não informada","Não Informada","NÃO",62455.759999999995,3747.34,624.54999999999995,624.54999999999995,0,57459.319999999992,0,0,0,53,17358.640000000003,0,65035.170000000006,3902.11,650.35,650.35,0,59832.360000000008,0,0,0,18075.530000000006,0]
[null,792,159,15502,"2023/0049769-9","2023-02-17","2023-06-01","MS 4.151/DF","1995-07-21","Administrativo - Servidor Público Civil - Reajustes de Remuneração, Proventos ou Pensão","1999-02-12","UNIÃO","Ministério da Fazenda","Diferença de remuneração - 3,17%","Dedução de Honorários Contratuais","Alimentar","Não","Não","Não","-","-","Não informada","Não Informada","NÃO",59167.79,3550.06,591.66999999999996,591.66999999999996,0,54434.390000000007,30056.29,3306.19,6612.38,53,14466.99,3306.19,61611.41,3696.68,616.11,616.11,0,56682.51,31297.61,3442.73,6885.46,15064.460000000001,3442.73]
[null,793,160,15503,"2023/0049776-4","2023-02-17","2023-06-01","MS 4.151/DF","1995-07-21","Administrativo - Servidor Público Civil - Reajustes de Remuneração, Proventos ou Pensão","1999-02-12","UNIÃO","Ministério da Fazenda","Diferença de remuneração - 3,17%","Dedução de Honorários Contratuais","Alimentar","Não","Não","Não","-","-","Não informada","Não Informada","NÃO",66667.8,6000.1,1333.35,666.67,0,58667.680000000008,29492.55,3244.18,6488.36,53,15424.289999999997,3244.18,69421.17,6247.9,1388.42,694.21,0,61090.64,30710.59,3378.16,6756.32,16061.3,3378.16]
[null,794,161,15504,"2023/0049780-4","2023-02-17","2023-06-01","MS 4.151/DF","1995-07-21","Administrativo - Servidor Público Civil - Reajustes de Remuneração, Proventos ou Pensão","1999-02-12","UNIÃO","Ministério da Fazenda","Diferença de remuneração - 3,17%","Dedução de Honorários Contratuais","Alimentar","Não","Não","Não","-","-","Não informada","Não Informada","NÃO",58853.890000000007,3531.23,588.53,588.53,0,54145.600000000006,0,0,0,53,15585.59,0,61284.539999999994,3677.07,612.84,612.84,0,56381.79,0,0,0,16229.259999999998,0]
[null,795,162,15505,"2023/0049785-3","2023-02-17","2023-06-01","MS 4.151/DF","1995-07-21","Administrativo - Servidor Público Civil - Reajustes de Remuneração, Proventos ou Pensão","1999-02-12","UNIÃO","Ministério da Fazenda","Diferença de remuneração - 3,17%","Dedução de Honorários Contratuais","Alimentar","Não","Não","Não","-","-","Não informada","Não Informada","NÃO",60069.539999999994,3604.17,600.69000000000005,600.69000000000005,0,55263.989999999991,9533.26,1048.6500000000001,2097.3000000000002,53,14366.889999999998,1048.6500000000001,62550.409999999996,3753.02,625.5,625.5,0,57546.39,9926.98,1091.96,2183.92,14960.240000000002,1091.96]
[null,796,163,15506,"2023/0049796-6","2023-02-17","2023-06-01","MS 4.151/DF","1995-07-21","Administrativo - Servidor Público Civil - Reajustes de Remuneração, Proventos ou Pensão","1999-02-12","UNIÃO","Ministério da Fazenda","Diferença de remuneração - 3,17%","Dedução de Honorários Contratuais","Alimentar","Não","Não","Não","-","-","Não informada","Não Informada","NÃO",70618.97,4237.13,706.18,706.18,0,64969.48,20927.03,2301.9699999999998,4603.9399999999996,53,19532.509999999998,2301.9699999999998,73535.51999999999,4412.13,735.35,735.35,0,67652.689999999973,21791.309999999998,2397.04,4794.08,20339.179999999971,2397.04]
[null,797,164,15507,"2023/0049797-8","2023-02-17","2023-06-01","MS 4.151/DF","1995-07-21","Administrativo - Servidor Público Civil - Reajustes de Remuneração, Proventos ou Pensão","1999-02-12","UNIÃO","Ministério da Fazenda","Diferença de remuneração - 3,17%","Dedução de Honorários Contratuais","Alimentar","Não","Não","Não","-","-","Não informada","Não Informada","NÃO",71102.7,4266.16,711.02,711.02,0,65414.499999999993,30078.99,3308.68,6617.36,53,19759.11,3308.68,74039.23,4442.3500000000004,740.39,740.39,0,68116.099999999991,31321.25,3445.33,6890.66,20575.149999999991,3445.33]
[null,798,165,15508,"2023/0049802-9","2023-02-17","2023-06-01","MS 4.151/DF","1995-07-21","Administrativo - Servidor Público Civil - Reajustes de Remuneração, Proventos ou Pensão","1999-02-12","UNIÃO","Ministério da Fazenda","Diferença de remuneração - 3,17%","Dedução de Honorários Contratuais","Alimentar","Não","Não","Não","-","-","Não informada","Não Informada","NÃO",74507.16,4470.42,745.07,745.07,0,68546.599999999991,29654.080000000002,3261.94,6523.88,53,21327.68,3261.94,77584.3,4655.05,775.84,775.84,0,71377.570000000007,30878.79,3396.66,6793.32,22208.510000000009,3396.66]
[null,799,166,15509,"2023/0053233-7","2023-02-23","2023-06-01","MS 4.151/DF","1995-07-21","Administrativo - Servidor Público Civil - Reajustes de Remuneração, Proventos ou Pensão","1999-02-12","UNIÃO","Ministério da Fazenda","Diferença de remuneração - 3,17%","Dedução de Honorários Contratuais","Alimentar","Não","Não","Não","-","-","Não informada","Não Informada","NÃO",78120,3124.8,781.2,781.2,3906,69526.8,0,0,0,53,18326.23,0,81346.350000000006,3253.85,813.46,813.46,4067.31,72398.26999999999,0,0,0,19083.119999999988,0]
[null,800,167,15510,"2023/0053246-3","2023-02-23","2023-06-01","MS 4.151/DF","1995-07-21","Administrativo - Servidor Público Civil - Reajustes de Remuneração, Proventos ou Pensão","1999-02-12","UNIÃO","Ministério da Fazenda","Diferença de remuneração - 3,17%","Dedução de Honorários Contratuais","Alimentar","Não","Não","Não","-","-","Não informada","Não Informada","NÃO",78120,6249.6,781.2,781.2,0,70308,0,0,0,53,19604.229999999996,0,81346.349999999991,6507.7,813.46,813.46,0,73211.729999999981,0,0,0,20413.899999999983,0]
[null,801,168,15511,"2023/0053259-0","2023-02-23","2023-06-01","MS 4.151/DF","1995-07-21","Administrativo - Servidor Público Civil - Reajustes de Remuneração, Proventos ou Pensão","1999-02-12","UNIÃO","Ministério da Fazenda","Diferença de remuneração - 3,17%","Dedução de Honorários Contratuais","Alimentar","Não","Não","Não","-","-","Não informada","Não Informada","NÃO",70885.98000000001,4253.1499999999996,708.85,708.85,0,65215.130000000012,30149.52,3316.44,6632.88,53,19661.68,3316.44,73813.56,4428.8100000000004,738.13,738.13,0,67908.489999999991,31394.690000000002,3453.41,6906.82,20473.689999999995,3453.41]
[null,802,169,15512,"2023/0053261-6","2023-02-23","2023-06-01","MS 4.151/DF","1995-07-21","Administrativo - Servidor Público Civil - Reajustes de Remuneração, Proventos ou Pensão","1999-02-12","UNIÃO","Ministério da Fazenda","Diferença de remuneração - 3,17%","Dedução de Honorários Contratuais","Alimentar","Não","Não","Não","-","-","Não informada","Não Informada","NÃO",78120,6249.6,781.2,781.2,0,70308,0,0,0,53,18931.75,0,81346.34,6507.7,813.46,813.46,0,73211.719999999987,0,0,0,19713.639999999985,0]
[null,803,170,15513,"2023/0053285-5","2023-02-23","2023-06-01","MS 10.438/DF","2005-02-22","Administrativo - Militar - Pensão","2007-09-13","UNIÃO","Ministério da Fazenda","Soldo previsto na Lei Estadual 1.063/2002","Dedução de Honorários Contratuais","Alimentar","Não","Não","Não","-","-","Não informada","Não Informada","NÃO",64040,13128.2,6724.2,0,0,44187.600000000006,0,0,0,19,30332.05,0,66383.680000000008,13608.65,6970.28,0,0,45804.750000000007,0,0,0,31442.130000000008,0]
[null,804,171,15514,"2023/0053287-9","2023-02-23","2023-06-01","MS 10.438/DF","2005-02-22","Administrativo - Militar - Pensão","2007-09-13","UNIÃO","Ministério da Fazenda","Soldo previsto na Lei Estadual 1.063/2002","Dedução de Honorários Contratuais","Alimentar","Não","Não","Não","-","-","Não informada","Não Informada","NÃO",64040,13128.2,6724.2,0,0,44187.600000000006,0,0,0,19,30332.05,0,66383.680000000008,13608.65,6970.28,0,0,45804.750000000007,0,0,0,31442.130000000008,0]
[null,805,172,15515,"2023/0055100-5","2023-02-24","2023-06-01","MS 22.854/DF","2016-09-15","Administrativo - Militar - Regime - Anistia Política","2015-06-02","UNIÃO","-","Honorários de sucumbência","x.x.x","Alimentar","Não","Não","Não","-","-","Não informada","Não Informada","NÃO",2636.7999999999997,0,0,0,0,2636.7999999999997,0,0,0,0,0,0,2732.64,0,0,0,0,2732.64,0,0,0,0,0]
[null,806,173,15516,"2023/0055102-9","2023-02-24","2023-06-01","MS 22.854/DF","2016-09-15","Administrativo - Militar - Regime - Anistia Política","2015-06-02","UNIÃO","-","Honorários de sucumbência","x.x.x","Alimentar","Não","Não","Não","-","-","Não informada","Não Informada","NÃO",2636.7999999999997,0,0,0,0,2636.7999999999997,0,0,0,0,0,0,2732.64,0,0,0,0,2732.64,0,0,0,0,0]
[null,807,174,15517,"2023/0055109-1","2023-02-24","2023-06-01","MS 20.231/DF","2013-06-06","Administrativo - Servidor Público Civil - Sistema Remuneratório e Benefícios (PRINCIPAL)","2017-04-29","UNIÃO","Ministério do Planejamento, Orçamento e Gestão","Gratificação de Apoio à Execução de Atividades da Comissão Executiva do Plano da Lavoura Cacaueira - GECEPLAC","Dedução de Honorários Contratuais","Alimentar","Não","Não","Não","-","-","Não informada","Não Informada","NÃO",68560.169999999984,6856.01,0,0,0,61704.159999999982,53299.929999999993,5862.99,0,61,46443.919999999991,5862.99,71052.26999999999,7105.22,0,0,0,63947.049999999988,55237.34,6076.1,0,48132.119999999988,6076.1]
[null,808,175,15518,"2023/0055112-0","2023-02-24","2023-06-01","MS 20.231/DF","2013-06-06","Administrativo - Servidor Público Civil - Sistema Remuneratório e Benefícios (PRINCIPAL)","2017-04-29","UNIÃO","Ministério do Planejamento, Orçamento e Gestão","Gratificação de Apoio à Execução de Atividades da Comissão Executiva do Plano da Lavoura Cacaueira - GECEPLAC","Dedução de Honorários Contratuais","Alimentar","Não","Não","Não","-","-","Não informada","Não Informada","NÃO",49832.15,4983.21,0,0,0,44848.94,37626.06,4138.8599999999997,0,46,32642.86,4138.8599999999997,51643.5,5164.3500000000004,0,0,0,46479.15,38993.74,4289.3100000000004,0,33829.39,4289.3100000000004]
[null,809,176,15519,"2023/0055113-1","2023-02-24","2023-06-01","MS 20.231/DF","2013-06-06","Administrativo - Servidor Público Civil - Sistema Remuneratório e Benefícios (PRINCIPAL)","2017-04-29","UNIÃO","Ministério do Planejamento, Orçamento e Gestão","Gratificação de Apoio à Execução de Atividades da Comissão Executiva do Plano da Lavoura Cacaueira - GECEPLAC","Dedução de Honorários Contratuais","Alimentar","Não","Não","Não","-","-","Não informada","Não Informada","NÃO",68560.169999999984,6856.01,0,0,0,61704.159999999982,53299.929999999993,5862.99,0,61,46443.919999999991,5862.99,71052.26999999999,7105.22,0,0,0,63947.049999999988,55237.34,6076.1,0,48132.119999999988,6076.1]
[null,810,177,15520,"2023/0055125-6","2023-02-24","2023-06-01","MS 20.231/DF","2013-06-06","Administrativo - Servidor Público Civil - Sistema Remuneratório e Benefícios (PRINCIPAL)","2017-04-29","UNIÃO","Ministério do Planejamento, Orçamento e Gestão","Gratificação de Apoio à Execução de Atividades da Comissão Executiva do Plano da Lavoura Cacaueira - GECEPLAC","Dedução de Honorários Contratuais","Alimentar","Não","Não","Não","-","-","Não informada","Não Informada","NÃO",37175.440000000002,3717.54,0,0,0,33457.9,28970.1,3186.71,0,61,25252.559999999998,3186.71,38526.729999999996,3852.67,0,0,0,34674.06,30023.14,3302.54,0,26170.47,3302.54]
[null,811,178,15521,"2023/0055128-1","2023-02-24","2023-06-01","MS 20.231/DF","2013-06-06","Administrativo - Servidor Público Civil - Sistema Remuneratório e Benefícios (PRINCIPAL)","2017-04-29","UNIÃO","Ministério do Planejamento, Orçamento e Gestão","Gratificação de Apoio à Execução de Atividades da Comissão Executiva do Plano da Lavoura Cacaueira - GECEPLAC","Dedução de Honorários Contratuais","Alimentar","Não","Não","Não","-","-","Não informada","Não Informada","NÃO",28474.829999999998,2847.48,0,0,0,25627.35,21670.639999999999,2383.77,0,53,18823.16,2383.77,29509.859999999997,2950.98,0,0,0,26558.879999999997,22458.35,2470.41,0,19507.37,2470.41]
[null,812,179,15522,"2023/0055131-0","2023-02-24","2023-06-01","MS 20.231/DF","2013-06-06","Administrativo - Servidor Público Civil - Sistema Remuneratório e Benefícios (PRINCIPAL)","2017-04-29","UNIÃO","Ministério do Planejamento, Orçamento e Gestão","Gratificação de Apoio à Execução de Atividades da Comissão Executiva do Plano da Lavoura Cacaueira - GECEPLAC","Dedução de Honorários Contratuais","Alimentar","Não","Não","Não","-","-","Não informada","Não Informada","NÃO",12474.56,1247.45,0,0,0,11227.109999999999,9494.0399999999991,1044.3399999999999,0,53,8246.5899999999983,1044.3399999999999,12927.99,1292.79,0,0,0,11635.2,9839.14,1082.3,0,8546.35,1082.3]
[null,813,180,15523,"2023/0055143-4","2023-02-24","2023-06-01","MS 20.231/DF","2013-06-06","Administrativo - Servidor Público Civil - Sistema Remuneratório e Benefícios (PRINCIPAL)","2017-04-29","UNIÃO","Ministério do Planejamento, Orçamento e Gestão","Gratificação de Apoio à Execução de Atividades da Comissão Executiva do Plano da Lavoura Cacaueira - GECEPLAC","Dedução de Honorários Contratuais","Alimentar","Não","Não","Não","-","-","Não informada","Não Informada","NÃO",48867.139999999992,4886.71,0,0,0,43980.429999999993,37142.620000000003,4085.68,0,53,32255.910000000003,4085.68,50643.41,5064.34,0,0,0,45579.070000000007,38492.720000000001,4234.1899999999996,0,33428.380000000005,4234.1899999999996]
[null,814,181,15524,"2023/0055167-3","2023-02-24","2023-06-01","MS 20.231/DF","2013-06-06","Administrativo - Servidor Público Civil - Sistema Remuneratório e Benefícios (PRINCIPAL)","2017-04-29","UNIÃO","Ministério do Planejamento, Orçamento e Gestão","Gratificação de Apoio à Execução de Atividades da Comissão Executiva do Plano da Lavoura Cacaueira - GECEPLAC","Dedução de Honorários Contratuais","Alimentar","Não","Não","Não","-","-","Não informada","Não Informada","NÃO",46483.81,4648.38,0,0,0,41835.43,35878.9,3946.67,0,61,31230.52,3946.67,48173.460000000006,4817.34,0,0,0,43356.12000000001,37183.07,4090.13,0,32365.73000000001,4090.13]
[null,815,182,15525,"2023/0055169-7","2023-02-24","2023-06-01","MS 20.231/DF","2013-06-06","Administrativo - Servidor Público Civil - Sistema Remuneratório e Benefícios (PRINCIPAL)","2017-04-29","UNIÃO","Ministério do Planejamento, Orçamento e Gestão","Gratificação de Apoio à Execução de Atividades da Comissão Executiva do Plano da Lavoura Cacaueira - GECEPLAC","Dedução de Honorários Contratuais","Alimentar","Não","Não","Não","-","-","Não informada","Não Informada","NÃO",42628.800000000003,4262.88,0,0,0,38365.920000000006,34387.119999999995,3782.58,0,66,30124.239999999994,3782.58,44178.30999999999,4417.83,0,0,0,39760.479999999989,35637.06,3920.07,0,31219.229999999989,3920.07]
[null,816,183,15526,"2023/0055178-6","2023-02-24","2023-06-01","MS 20.231/DF","2013-06-06","Administrativo - Servidor Público Civil - Sistema Remuneratório e Benefícios (PRINCIPAL)","2017-04-29","UNIÃO","Ministério do Planejamento, Orçamento e Gestão","Gratificação de Apoio à Execução de Atividades da Comissão Executiva do Plano da Lavoura Cacaueira - GECEPLAC","Dedução de Honorários Contratuais","Alimentar","Não","Não","Não","-","-","Não informada","Não Informada","NÃO",56949.67,5694.96,0,0,0,51254.71,43341.279999999999,4767.54,0,53,37646.32,4767.54,59019.74,5901.97,0,0,0,53117.77,44916.7,4940.83,0,39014.729999999996,4940.83]
[null,817,184,15527,"2023/0055179-8","2023-02-24","2023-06-01","MS 20.231/DF","2013-06-06","Administrativo - Servidor Público Civil - Sistema Remuneratório e Benefícios (PRINCIPAL)","2017-04-29","UNIÃO","Ministério do Planejamento, Orçamento e Gestão","Gratificação de Apoio à Execução de Atividades da Comissão Executiva do Plano da Lavoura Cacaueira - GECEPLAC","Dedução de Honorários Contratuais","Alimentar","Não","Não","Não","-","-","Não informada","Não Informada","NÃO",37676.410000000003,3767.64,0,0,0,33908.770000000004,28673.65,3154.1,0,53,24906.010000000002,3154.1,39045.910000000003,3904.59,0,0,0,35141.320000000007,29715.91,3268.75,0,25811.320000000007,3268.75]
[null,818,185,15528,"2023/0055212-8","2023-02-24","2023-06-01","MS 20.231/DF","2013-06-06","Administrativo - Servidor Público Civil - Sistema Remuneratório e Benefícios (PRINCIPAL)","2017-04-29","UNIÃO","Ministério do Planejamento, Orçamento e Gestão","Gratificação de Apoio à Execução de Atividades da Comissão Executiva do Plano da Lavoura Cacaueira - GECEPLAC","Dedução de Honorários Contratuais","Alimentar","Não","Não","Não","-","-","Não informada","Não Informada","NÃO",68560.169999999984,6856.01,0,0,0,61704.159999999982,53299.929999999993,5862.99,0,61,46443.919999999991,5862.99,71052.26999999999,7105.22,0,0,0,63947.049999999988,55237.34,6076.1,0,48132.119999999988,6076.1]
[null,819,186,15529,"2023/0055218-9","2023-02-24","2023-06-01","MS 20.231/DF","2013-06-06","Administrativo - Servidor Público Civil - Sistema Remuneratório e Benefícios (PRINCIPAL)","2017-04-29","UNIÃO","Ministério do Planejamento, Orçamento e Gestão","Gratificação de Apoio à Execução de Atividades da Comissão Executiva do Plano da Lavoura Cacaueira - GECEPLAC","Dedução de Honorários Contratuais","Alimentar","Não","Não","Não","-","-","Não informada","Não Informada","NÃO",32352.350000000002,3235.23,0,0,0,29117.120000000003,24194.52,2661.39,0,62,20959.29,2661.39,33528.33,3352.83,0,0,0,30175.5,25073.97,2758.13,0,21721.14,2758.13]
[null,820,187,15530,"2023/0055220-5","2023-02-24","2023-06-01","MS 20.231/DF","2013-06-06","Administrativo - Servidor Público Civil - Sistema Remuneratório e Benefícios (PRINCIPAL)","2017-04-29","UNIÃO","Ministério do Planejamento, Orçamento e Gestão","Gratificação de Apoio à Execução de Atividades da Comissão Executiva do Plano da Lavoura Cacaueira - GECEPLAC","Dedução de Honorários Contratuais","Alimentar","Não","Não","Não","-","-","Não informada","Não Informada","NÃO",67635.070000000007,6763.5,0,0,0,60871.570000000007,52689.41,5795.83,0,53,45925.91,5795.83,70093.539999999994,7009.35,0,0,0,63084.189999999995,54604.62,6006.5,0,47595.26999999999,6006.5]
[null,821,188,15533,"2023/0057577-1","2023-02-27","2023-06-01","AR 1.169/CE","1999-10-18","Administrativo - Servidor Público Civil - Sistema Remuneratório e Benefícios","2004-06-07","Instituto Nacional do Seguro Social – INSS","Instituto Nacional do Seguro Social - INSS","Anuênios","Dedução de Honorários Contratuais","Alimentar","Não","Não","Não","-","-","Não informada","Não Informada","NÃO",25984.39,2598.4299999999998,0,0,0,23385.96,8376.9699999999993,921.46,1842.92,47,8165.9400000000005,921.46,26928.89,2692.88,0,0,0,24236.01,8681.4699999999993,954.96,1909.92,8462.7599999999984,954.96]
[null,822,189,15534,"2023/0057590-0","2023-02-27","2023-06-01","AR 1.169/CE","1999-10-18","Administrativo - Servidor Público Civil - Sistema Remuneratório e Benefícios","2004-06-07","Instituto Nacional do Seguro Social – INSS","Instituto Nacional do Seguro Social - INSS","Anuênios","Dedução de Honorários Contratuais","Alimentar","Não","Não","Não","-","-","Não informada","Não Informada","NÃO",2696.5899999999997,269.64999999999998,0,0,0,2426.9399999999996,1117.0999999999999,122.88,245.76,47,847.45000000000016,122.88,2794.6000000000004,279.45999999999998,0,0,0,2515.1400000000003,1157.7,127.34,254.68,878.24000000000024,127.34]
[null,823,190,15535,"2023/0057592-4","2023-02-27","2023-06-01","AR 1.169/CE","1999-10-18","Administrativo - Servidor Público Civil - Sistema Remuneratório e Benefícios","2004-06-07","Instituto Nacional do Seguro Social – INSS","Instituto Nacional do Seguro Social - INSS","Anuênios","Dedução de Honorários Contratuais","Alimentar","Não","Não","Não","-","-","Não informada","Não Informada","NÃO",7100.420000000001,710.04,0,0,0,6390.380000000001,2941.44,323.55,647.1,47,2231.4,323.55,7358.5000000000009,735.85,0,0,0,6622.6500000000005,3048.3500000000004,335.31,670.62,2312.5000000000009,335.31]
[null,824,191,15536,"2023/0057603-6","2023-02-27","2023-06-01","AR 1.169/CE","1999-10-18","Administrativo - Servidor Público Civil - Sistema Remuneratório e Benefícios","2004-06-07","Instituto Nacional do Seguro Social – INSS","Instituto Nacional do Seguro Social - INSS","Anuênios","Dedução de Honorários Contratuais","Alimentar","Não","Não","Não","-","-","Não informada","Não Informada","NÃO",7111.1900000000005,711.11,0,0,0,6400.0800000000008,2945.89,324.04000000000002,648.08000000000004,47,2234.7800000000002,324.04000000000002,7369.67,736.96,0,0,0,6632.71,3052.9700000000003,335.82,671.64,2316.0100000000002,335.82]
[null,825,192,15538,"2023/0057614-9","2023-02-27","2023-06-01","AR 1.169/CE","1999-10-18","Administrativo - Servidor Público Civil - Sistema Remuneratório e Benefícios","2004-06-07","Instituto Nacional do Seguro Social – INSS","Instituto Nacional do Seguro Social - INSS","Anuênios","Dedução de Honorários Contratuais","Alimentar","Não","Não","Não","-","-","Não informada","Não Informada","NÃO",13639.570000000002,1363.95,0,0,0,12275.62,5650.36,621.53,1243.06,47,4286.41,621.53,14135.350000000002,1413.53,0,0,0,12721.820000000002,5855.74,644.13,1288.26,4442.2100000000009,644.13]
[null,826,193,15539,"2023/0057642-8","2023-02-27","2023-06-01","AR 1.169/CE","1999-10-18","Administrativo - Servidor Público Civil - Sistema Remuneratório e Benefícios","2004-06-07","Instituto Nacional do Seguro Social – INSS","Instituto Nacional do Seguro Social - INSS","Anuênios","Dedução de Honorários Contratuais","Alimentar","Não","Não","Não","-","-","Não informada","Não Informada","NÃO",19080.21,1908.02,0,0,0,17172.189999999999,7904.21,869.46,1738.92,47,5996.1900000000005,869.46,19773.75,1977.37,0,0,0,17796.38,8191.52,901.06,1802.12,6214.1500000000015,901.06]
[null,827,194,15540,"2023/0057643-0","2023-02-27","2023-06-01","AR 1.169/CE","1999-10-18","Administrativo - Servidor Público Civil - Sistema Remuneratório e Benefícios","2004-06-07","Instituto Nacional do Seguro Social – INSS","Instituto Nacional do Seguro Social - INSS","Anuênios","Dedução de Honorários Contratuais","Alimentar","Não","Não","Não","-","-","Não informada","Não Informada","NÃO",8893.4699999999993,889.34,0,0,0,8004.1299999999992,3684.24,405.26,810.52,47,2794.8999999999996,405.26,9216.73,921.67,0,0,0,8295.06,3818.1499999999996,419.99,839.98,2896.4799999999996,419.99]
[null,828,195,15541,"2023/0057665-5","2023-02-27","2023-06-01","AR 1.169/CE","1999-10-18","Administrativo - Servidor Público Civil - Sistema Remuneratório e Benefícios","2004-06-07","Instituto Nacional do Seguro Social – INSS","Instituto Nacional do Seguro Social - INSS","Anuênios","Dedução de Honorários Contratuais","Alimentar","Não","Não","Não","-","-","Não informada","Não Informada","NÃO",6796.67,679.66,0,0,0,6117.01,2815.61,309.70999999999998,619.41999999999996,47,2135.9499999999998,309.70999999999998,7043.7100000000009,704.37,0,0,0,6339.3400000000011,2917.95,320.97000000000003,641.94000000000005,2213.5800000000008,320.97000000000003]
[null,829,196,15542,"2023/0057676-8","2023-02-27","2023-06-01","AR 1.169/CE","1999-10-18","Administrativo - Servidor Público Civil - Sistema Remuneratório e Benefícios","2004-06-07","Instituto Nacional do Seguro Social – INSS","Instituto Nacional do Seguro Social - INSS","Anuênios","Dedução de Honorários Contratuais","Alimentar","Não","Não","Não","-","-","Não informada","Não Informada","NÃO",5543.83,1108.76,0,0,0,4435.07,2364.13,260.05,520.1,47,1255.3699999999997,260.05,5745.33,1149.06,0,0,0,4596.2700000000004,2450.06,269.5,539,1301.0000000000005,269.5]
[null,830,197,15544,"2023/0057689-4","2023-02-27","2023-06-01","AR 1.169/CE","1999-10-18","Administrativo - Servidor Público Civil - Sistema Remuneratório e Benefícios","2004-06-07","Instituto Nacional do Seguro Social – INSS","Instituto Nacional do Seguro Social - INSS","Anuênios","Dedução de Honorários Contratuais","Alimentar","Não","Não","Não","-","-","Não informada","Não Informada","NÃO",27656.95,2765.69,0,0,0,24891.260000000002,11457.25,1260.29,2520.58,47,8691.56,1260.29,28662.25,2866.22,0,0,0,25796.03,11873.710000000001,1306.0999999999999,2612.1999999999998,9007.489999999998,1306.0999999999999]
[null,831,198,15545,"2023/0057690-9","2023-02-27","2023-06-01","AR 1.169/CE","1999-10-18","Administrativo - Servidor Público Civil - Sistema Remuneratório e Benefícios","2004-06-07","Instituto Nacional do Seguro Social – INSS","Instituto Nacional do Seguro Social - INSS","Anuênios","Dedução de Honorários Contratuais","Alimentar","Não","Não","Não","-","-","Não informada","Não Informada","NÃO",6025.11,602.51,0,0,0,5422.5999999999995,2495.9899999999998,274.55,549.1,47,1893.4799999999998,274.55,6244.11,624.41,0,0,0,5619.7,2586.71,284.52999999999997,569.05999999999995,1962.2999999999997,284.52999999999997]
[null,832,199,15546,"2023/0057703-4","2023-02-27","2023-06-01","AR 1.169/CE","1999-10-18","Administrativo - Servidor Público Civil - Sistema Remuneratório e Benefícios","2004-06-07","Instituto Nacional do Seguro Social – INSS","Instituto Nacional do Seguro Social - INSS","Anuênios","Dedução de Honorários Contratuais","Alimentar","Não","Não","Não","-","-","Não informada","Não Informada","NÃO",4010.38,401.03,0,0,0,3609.3500000000004,1661.36,182.74,365.48,47,1260.3300000000002,182.74,4156.1400000000003,415.61,0,0,0,3740.53,1721.74,189.39,378.78,1306.1300000000001,189.39]
[null,833,200,15547,"2023/0057706-0","2023-02-27","2023-06-01","AR 1.169/CE","1999-10-18","Administrativo - Servidor Público Civil - Sistema Remuneratório e Benefícios","2004-06-07","Instituto Nacional do Seguro Social – INSS","Instituto Nacional do Seguro Social - INSS","Anuênios","Dedução de Honorários Contratuais","Alimentar","Não","Não","Não","-","-","Não informada","Não Informada","NÃO",2830.75,283.07,0,0,0,2547.6799999999998,1180,129.80000000000001,259.60000000000002,47,896.93000000000006,129.80000000000001,2933.6400000000003,293.36,0,0,0,2640.28,1222.8899999999999,134.51,269.02,929.53000000000031,134.51]
[null,834,201,15548,"2023/0057716-0","2023-02-27","2023-06-01","AR 1.169/CE","1999-10-18","Administrativo - Servidor Público Civil - Sistema Remuneratório e Benefícios","2004-06-07","Instituto Nacional do Seguro Social – INSS","Instituto Nacional do Seguro Social - INSS","Anuênios","Dedução de Honorários Contratuais","Alimentar","Não","Não","Não","-","-","Não informada","Não Informada","NÃO",9469.9000000000015,946.99,0,0,0,8522.9100000000017,3947.56,434.23,868.46,47,3000.5699999999997,434.23,9814.119999999999,981.41,0,0,0,8832.7099999999991,4091.05,450.01,900.02,3109.6399999999994,450.01]
[null,835,202,15549,"2023/0057718-4","2023-02-27","2023-06-01","AR 1.169/CE","1999-10-18","Administrativo - Servidor Público Civil - Sistema Remuneratório e Benefícios","2004-06-07","Instituto Nacional do Seguro Social – INSS","Instituto Nacional do Seguro Social - INSS","Anuênios","Dedução de Honorários Contratuais","Alimentar","Não","Não","Não","-","-","Não informada","Não Informada","NÃO",15212.19,1521.21,0,0,0,13690.98,6301.85,693.2,1386.4,47,4780.6400000000003,693.2,15765.13,1576.51,0,0,0,14188.619999999999,6530.91,718.4,1436.8,4954.3999999999996,718.4]
[null,836,203,15550,"2023/0057733-7","2023-02-27","2023-06-01","AR 1.169/CE","1999-10-18","Administrativo - Servidor Público Civil - Sistema Remuneratório e Benefícios","2004-06-07","Instituto Nacional do Seguro Social – INSS","Instituto Nacional do Seguro Social - INSS","Anuênios","Dedução de Honorários Contratuais","Alimentar","Não","Não","Não","-","-","Não informada","Não Informada","NÃO",2212.4300000000003,221.24,0,0,0,1991.1900000000003,922.26,101.44,202.88,47,701.02,101.44,2292.84,229.28,0,0,0,2063.56,955.78,105.13,210.26,726.5,105.13]
[null,837,204,15551,"2023/0057734-9","2023-02-27","2023-06-01","AR 1.169/CE","1999-10-18","Administrativo - Servidor Público Civil - Sistema Remuneratório e Benefícios","2004-06-07","Instituto Nacional do Seguro Social – INSS","Instituto Nacional do Seguro Social - INSS","Anuênios","Dedução de Honorários Contratuais","Alimentar","Não","Não","Não","-","-","Não informada","Não Informada","NÃO",3732.3399999999997,373.23,0,0,0,3359.1099999999997,1546.17,170.07,340.14,47,1172.9399999999998,170.07,3867.9999999999995,386.8,0,0,0,3481.1999999999994,1602.37,176.26,352.52,1215.5699999999995,176.26]
[null,838,205,15552,"2023/0057747-5","2023-02-27","2023-06-01","AR 1.169/CE","1999-10-18","Administrativo - Servidor Público Civil - Sistema Remuneratório e Benefícios","2004-06-07","Instituto Nacional do Seguro Social – INSS","Instituto Nacional do Seguro Social - INSS","Anuênios","Dedução de Honorários Contratuais","Alimentar","Não","Não","Não","-","-","Não informada","Não Informada","NÃO",10032.299999999999,1003.23,0,0,0,9029.07,4181.9799999999996,460.01,920.02,47,3178.7499999999995,460.01,10396.959999999999,1039.69,0,0,0,9357.2699999999986,4333.99,476.73,953.46,3294.2999999999988,476.73]
[null,839,206,15553,"2023/0057750-3","2023-02-27","2023-06-01","AR 1.169/CE","1999-10-18","Administrativo - Servidor Público Civil - Sistema Remuneratório e Benefícios","2004-06-07","Instituto Nacional do Seguro Social – INSS","Instituto Nacional do Seguro Social - INSS","Anuênios","Dedução de Honorários Contratuais","Alimentar","Não","Não","Não","-","-","Não informada","Não Informada","NÃO",21460.28,2146.02,0,0,0,19314.259999999998,1222.8599999999999,134.51,269.02,47,6744.17,134.51,22240.34,2224.0300000000002,0,0,0,20016.310000000001,1267.32,139.4,278.8,6989.31,139.4]
[null,840,207,15554,"2023/0057780-6","2023-02-27","2023-06-01","AR 1.169/CE","1999-10-18","Administrativo - Servidor Público Civil - Sistema Remuneratório e Benefícios","2004-06-07","Instituto Nacional do Seguro Social – INSS","Instituto Nacional do Seguro Social - INSS","Anuênios","Dedução de Honorários Contratuais","Alimentar","Não","Não","Não","-","-","Não informada","Não Informada","NÃO",16376.859999999999,1637.68,0,0,0,14739.179999999998,6756.33,743.19,1486.38,47,5118.6499999999996,743.19,16972.13,1697.21,0,0,0,15274.920000000002,7001.91,770.21,1540.42,5304.7000000000007,770.21]
[null,841,208,15555,"2023/0057792-0","2023-02-27","2023-06-01","AR 1.169/CE","1999-10-18","Administrativo - Servidor Público Civil - Sistema Remuneratório e Benefícios","2004-06-07","Instituto Nacional do Seguro Social – INSS","Instituto Nacional do Seguro Social - INSS","Anuênios","Dedução de Honorários Contratuais","Alimentar","Não","Não","Não","-","-","Não informada","Não Informada","NÃO",10418.329999999998,1041.83,0,0,0,9376.4999999999982,4379.3999999999996,481.73,963.46,47,3337.5699999999997,481.73,10797.019999999999,1079.7,0,0,0,9717.3199999999979,4538.58,499.24,998.48,3458.8799999999983,499.24]
[null,842,209,15556,"2023/0057793-2","2023-02-27","2023-06-01","AR 1.169/CE","1999-10-18","Administrativo - Servidor Público Civil - Sistema Remuneratório e Benefícios","2004-06-07","Instituto Nacional do Seguro Social – INSS","Instituto Nacional do Seguro Social - INSS","Anuênios","Dedução de Honorários Contratuais","Alimentar","Não","Não","Não","-","-","Não informada","Não Informada","NÃO",10002.619999999999,1000.26,0,0,0,9002.3599999999988,4152.3100000000004,456.75,913.5,47,3152.0499999999993,456.75,10366.200000000001,1036.6199999999999,0,0,0,9329.5800000000017,4303.24,473.35,946.7,3266.6200000000013,473.35]
[null,843,210,15557,"2023/0057802-0","2023-02-27","2023-06-01","AR 1.169/CE","1999-10-18","Administrativo - Servidor Público Civil - Sistema Remuneratório e Benefícios","2004-06-07","Instituto Nacional do Seguro Social – INSS","Instituto Nacional do Seguro Social - INSS","Anuênios","Dedução de Honorários Contratuais","Alimentar","Não","Não","Não","-","-","Não informada","Não Informada","NÃO",3581.68,358.16,0,0,0,3223.52,1486.85,163.55000000000001,327.10000000000002,47,1128.6899999999998,163.55000000000001,3711.86,371.18,0,0,0,3340.6800000000003,1540.8899999999999,169.49,338.98,1169.7100000000003,169.49]
[null,844,211,15558,"2023/0057817-0","2023-02-27","2023-06-01","AR 1.169/CE","1999-10-18","Administrativo - Servidor Público Civil - Sistema Remuneratório e Benefícios","2004-06-07","Instituto Nacional do Seguro Social – INSS","Instituto Nacional do Seguro Social - INSS","Anuênios","Dedução de Honorários Contratuais","Alimentar","Não","Não","Não","-","-","Não informada","Não Informada","NÃO",2527.2999999999997,252.73,0,0,0,2274.5699999999997,1062.3800000000001,116.86,233.72,47,809.64999999999986,116.86,2619.15,261.91000000000003,0,0,0,2357.2400000000002,1100.99,121.1,242.2,839.08000000000027,121.1]
[null,845,212,15559,"2023/0057819-4","2023-02-27","2023-06-01","AR 1.169/CE","1999-10-18","Administrativo - Servidor Público Civil - Sistema Remuneratório e Benefícios","2004-06-07","Instituto Nacional do Seguro Social – INSS","Instituto Nacional do Seguro Social - INSS","Anuênios","Dedução de Honorários Contratuais","Alimentar","Não","Não","Não","-","-","Não informada","Não Informada","NÃO",11092.750000000002,1109.27,0,0,0,9983.4800000000014,4662.8999999999996,512.91,1025.82,47,3553.6299999999997,512.91,11495.960000000001,1149.5899999999999,0,0,0,10346.370000000001,4832.3899999999994,531.55999999999995,1063.1199999999999,3682.8000000000006,531.55999999999995]
[null,846,213,15561,"2023/0057862-6","2023-02-27","2023-06-01","AR 1.169/CE","1999-10-18","Administrativo - Servidor Público Civil - Sistema Remuneratório e Benefícios","2004-06-07","Instituto Nacional do Seguro Social – INSS","Instituto Nacional do Seguro Social - INSS","Anuênios","Dedução de Honorários Contratuais","Alimentar","Não","Não","Não","-","-","Não informada","Não Informada","NÃO",13512.89,1351.28,0,0,0,12161.609999999999,5680.23,624.82000000000005,1249.6400000000001,47,4328.95,624.82000000000005,14004.07,1400.4,0,0,0,12603.67,5886.7,647.53,1295.06,4486.3,647.53]
[null,847,214,15562,"2023/0057867-5","2023-02-27","2023-06-01","AR 1.169/CE","1999-10-18","Administrativo - Servidor Público Civil - Sistema Remuneratório e Benefícios","2004-06-07","Instituto Nacional do Seguro Social – INSS","Instituto Nacional do Seguro Social - INSS","Anuênios","Dedução de Honorários Contratuais","Alimentar","Não","Não","Não","-","-","Não informada","Não Informada","NÃO",21055.050000000003,2105.5,0,0,0,18949.550000000003,8740.41,961.44,1922.88,47,6634.91,961.44,21820.370000000003,2182.0300000000002,0,0,0,19638.340000000004,9058.11,996.39,1992.78,6876.0800000000036,996.39]
[null,848,215,15563,"2023/0057872-7","2023-02-27","2023-06-01","AR 1.169/CE","1999-10-18","Administrativo - Servidor Público Civil - Sistema Remuneratório e Benefícios","2004-06-07","Instituto Nacional do Seguro Social – INSS","Instituto Nacional do Seguro Social - INSS","Anuênios","Dedução de Honorários Contratuais","Alimentar","Não","Não","Não","-","-","Não informada","Não Informada","NÃO",16477.93,1647.79,0,0,0,14830.14,2667.19,293.39,586.78,47,5192.5600000000004,293.39,17076.88,1707.68,0,0,0,15369.2,2764.15,304.05,608.1,5381.3100000000013,304.05]
[null,849,216,15564,"2023/0057876-4","2023-02-27","2023-06-01","AR 1.169/CE","1999-10-18","Administrativo - Servidor Público Civil - Sistema Remuneratório e Benefícios","2004-06-07","Instituto Nacional do Seguro Social – INSS","Instituto Nacional do Seguro Social - INSS","Anuênios","Dedução de Honorários Contratuais","Alimentar","Não","Não","Não","-","-","Não informada","Não Informada","NÃO",4993.22,499.32,0,0,0,4493.9000000000005,2072.7800000000002,228,456,47,1573.4599999999998,228,5174.7100000000009,517.47,0,0,0,4657.2400000000007,2148.12,236.29,472.58,1630.6500000000005,236.29]
[null,850,217,15565,"2023/0057878-8","2023-02-27","2023-06-01","AR 1.169/CE","1999-10-18","Administrativo - Servidor Público Civil - Sistema Remuneratório e Benefícios","2004-06-07","Instituto Nacional do Seguro Social – INSS","Instituto Nacional do Seguro Social - INSS","Anuênios","Dedução de Honorários Contratuais","Alimentar","Não","Não","Não","-","-","Não informada","Não Informada","NÃO",22826.93,2282.69,0,0,0,20544.240000000002,9417.31,1035.9000000000001,2071.8000000000002,47,7134.6200000000008,1035.9000000000001,23656.659999999996,2365.66,0,0,0,21290.999999999996,9759.6200000000008,1073.55,2147.1,7393.9599999999964,1073.55]
[null,851,218,15566,"2023/0057887-7","2023-02-27","2023-06-01","AR 1.169/CE","1999-10-18","Administrativo - Servidor Público Civil - Sistema Remuneratório e Benefícios","2004-06-07","Instituto Nacional do Seguro Social – INSS","Instituto Nacional do Seguro Social - INSS","Anuênios","Dedução de Honorários Contratuais","Alimentar","Não","Não","Não","-","-","Não informada","Não Informada","NÃO",9516.1800000000021,1903.23,0,0,0,7612.9500000000025,3950.37,434.54,869.08,47,2047.1399999999999,434.54,9862.08,1972.41,0,0,0,7889.67,4093.96,450.33,900.66,2121.5500000000002,450.33]
[null,852,219,15569,"2023/0057898-0","2023-02-27","2023-06-01","AR 1.169/CE","1999-10-18","Administrativo - Servidor Público Civil - Sistema Remuneratório e Benefícios","2004-06-07","Instituto Nacional do Seguro Social – INSS","Instituto Nacional do Seguro Social - INSS","Anuênios","Dedução de Honorários Contratuais","Alimentar","Não","Não","Não","-","-","Não informada","Não Informada","NÃO",2757.71,275.77,0,0,0,2481.94,1137.72,125.14,250.28,47,861.95,125.14,2857.94,285.79000000000002,0,0,0,2572.15,1179.07,129.69,259.38,893.2800000000002,129.69]
[null,853,220,15570,"2023/0057925-6","2023-02-27","2023-06-01","AR 1.169/CE","1999-10-18","Administrativo - Servidor Público Civil - Sistema Remuneratório e Benefícios","2004-06-07","Instituto Nacional do Seguro Social – INSS","Instituto Nacional do Seguro Social - INSS","Anuênios","Dedução de Honorários Contratuais","Alimentar","Não","Não","Não","-","-","Não informada","Não Informada","NÃO",2569.98,513.99,0,0,0,2055.9899999999998,1060.25,116.62,233.24,47,546.26,116.62,2663.38,532.66999999999996,0,0,0,2130.71,1098.78,120.86,241.72,566.11,120.86]
[null,854,221,15571,"2023/0057929-3","2023-02-27","2023-06-01","AR 1.169/CE","1999-10-18","Administrativo - Servidor Público Civil - Sistema Remuneratório e Benefícios","2004-06-07","Instituto Nacional do Seguro Social – INSS","Instituto Nacional do Seguro Social - INSS","Anuênios","Dedução de Honorários Contratuais","Alimentar","Não","Não","Não","-","-","Não informada","Não Informada","NÃO",13397.52,2679.5,0,0,0,10718.02,2578.9499999999998,283.68,567.36,47,2847.6900000000005,283.68,13884.5,2776.9,0,0,0,11107.6,2627.7,289.04000000000002,578.08000000000004,2951.19,289.04000000000002]
[null,855,222,15572,"2023/0057938-2","2023-02-27","2023-06-01","AR 1.169/CE","1999-10-18","Administrativo - Servidor Público Civil - Sistema Remuneratório e Benefícios","2004-06-07","Instituto Nacional do Seguro Social – INSS","Instituto Nacional do Seguro Social - INSS","Anuênios","Dedução de Honorários Contratuais","Alimentar","Não","Não","Não","-","-","Não informada","Não Informada","NÃO",11168.2,1116.82,0,0,0,10051.380000000001,4607.47,506.82,1013.64,47,3490.6499999999996,506.82,11574.14,1157.4100000000001,0,0,0,10416.73,4774.9399999999996,525.24,1050.48,3617.5299999999997,525.24]
[null,856,223,15574,"2023/0057952-3","2023-02-27","2023-06-01","AR 1.169/CE","1999-10-18","Administrativo - Servidor Público Civil - Sistema Remuneratório e Benefícios","2004-06-07","Instituto Nacional do Seguro Social – INSS","Instituto Nacional do Seguro Social - INSS","Anuênios","Dedução de Honorários Contratuais","Alimentar","Não","Não","Não","-","-","Não informada","Não Informada","NÃO",4812.2199999999993,481.22,0,0,0,4330.9999999999991,1985.29,218.38,436.76,47,1504.07,218.38,4987.13,498.71,0,0,0,4488.42,2057.4499999999998,226.31,452.62,1558.7400000000002,226.31]
[null,857,224,15575,"2023/0057954-7","2023-02-27","2023-06-01","AR 1.169/CE","1999-10-18","Administrativo - Servidor Público Civil - Sistema Remuneratório e Benefícios","2004-06-07","Instituto Nacional do Seguro Social – INSS","Instituto Nacional do Seguro Social - INSS","Anuênios","Dedução de Honorários Contratuais","Alimentar","Não","Não","Não","-","-","Não informada","Não Informada","NÃO",9944.9599999999991,994.49,0,0,0,8950.4699999999993,4102.82,451.31,902.62,47,3108.3300000000008,451.31,10306.44,1030.6400000000001,0,0,0,9275.8000000000011,4251.9500000000007,467.71,935.42,3221.3100000000013,467.71]
[null,858,225,15576,"2023/0057963-6","2023-02-27","2023-06-01","AR 1.169/CE","1999-10-18","Administrativo - Servidor Público Civil - Sistema Remuneratório e Benefícios","2004-06-07","Instituto Nacional do Seguro Social – INSS","Instituto Nacional do Seguro Social - INSS","Anuênios","Dedução de Honorários Contratuais","Alimentar","Não","Não","Não","-","-","Não informada","Não Informada","NÃO",15071.810000000001,1507.18,0,0,0,13564.630000000001,6217.91,683.97,1367.94,47,4710.7299999999996,683.97,15619.650000000001,1561.96,0,0,0,14057.690000000002,6443.92,708.83,1417.66,4881.9600000000019,708.83]
[null,859,226,15577,"2023/0057982-6","2023-02-27","2023-06-01","MS 4.151/DF","1995-07-21","Administrativo - Servidor Público Civil - Reajustes de Remuneração, Proventos ou Pensão","1999-02-12","UNIÃO","Ministério da Fazenda","Diferença de remuneração - 3,17%","Dedução de Honorários Contratuais","Alimentar","Não","Não","Não","-","-","Não informada","Não Informada","NÃO",47595.839999999997,3807.66,475.95,475.95,0,42836.28,0,0,0,53,11375.919999999998,0,49561.539999999994,3964.92,495.61,495.61,0,44605.399999999994,0,0,0,11845.729999999994,0]
[null,860,227,15578,"2023/0057991-5","2023-02-27","2023-06-01","MS 4.151/DF","1995-07-21","Administrativo - Servidor Público Civil - Reajustes de Remuneração, Proventos ou Pensão","1999-02-12","UNIÃO","Ministério da Fazenda","Diferença de remuneração - 3,17%","Dedução de Honorários Contratuais","Alimentar","Não","Não","Não","-","-","Não informada","Não Informada","NÃO",78120,3124.8,781.2,781.2,3906,69526.8,0,0,0,43,20097.669999999998,0,81346.349999999991,3253.85,813.46,813.46,4067.31,72398.269999999975,0,0,0,20927.719999999979,0]
[null,861,228,15579,"2023/0059515-7","2023-02-28","2023-06-01","MS 27.797/DF","2021-06-04","Administrativo - Militar - Regime - Anistia Política","2022-04-08","UNIÃO","Ministério da Mulher, da Família e dos Direitos Humanos","Anistia Política - Reparação Econômica","Dedução de Honorários Contratuais","Comum","Não","Não","Não","-","-","Não informada","Não Informada","SIM",4810.5700000000006,721.58,0,0,0,4088.9900000000007,0,0,0,0,0,0,4985.42,747.81,0,0,0,4237.6100000000006,0,0,0,0,0]
[null,862,229,15580,"2023/0059561-4","2023-02-28","2023-06-01","MS 20.231/DF","2013-06-06","Administrativo - Servidor Público Civil - Sistema Remuneratório e Benefícios (PRINCIPAL)","2017-04-29","UNIÃO","Ministério do Planejamento, Orçamento e Gestão","Gratificação de Apoio à Execução de Atividades da Comissão Executiva do Plano da Lavoura Cacaueira - GECEPLAC","Dedução de Honorários Contratuais","Alimentar","Não","Não","Não","-","-","Não informada","Não Informada","NÃO",71562.819999999992,7156.28,0,0,0,64406.539999999994,55869.81,6145.67,0,60,48713.53,6145.67,74164.06,7416.4,0,0,0,66747.66,57900.63,6369.06,0,50484.23000000001,6369.06]
[null,863,230,15581,"2023/0059562-6","2023-02-28","2023-06-01","MS 20.231/DF","2013-06-06","Administrativo - Servidor Público Civil - Sistema Remuneratório e Benefícios (PRINCIPAL)","2017-04-29","UNIÃO","Ministério do Planejamento, Orçamento e Gestão","Gratificação de Apoio à Execução de Atividades da Comissão Executiva do Plano da Lavoura Cacaueira - GECEPLAC","Dedução de Honorários Contratuais","Alimentar","Não","Não","Não","-","-","Não informada","Não Informada","NÃO",71562.819999999992,7156.28,0,0,0,64406.539999999994,55869.81,6145.67,0,60,48713.53,6145.67,74164.06,7416.4,0,0,0,66747.66,57900.63,6369.06,0,50484.23000000001,6369.06]
[null,864,231,15583,"2023/0059567-5","2023-02-28","2023-06-01","MS 20.231/DF","2013-06-06","Administrativo - Servidor Público Civil - Sistema Remuneratório e Benefícios (PRINCIPAL)","2017-04-29","UNIÃO","Ministério do Planejamento, Orçamento e Gestão","Gratificação de Apoio à Execução de Atividades da Comissão Executiva do Plano da Lavoura Cacaueira - GECEPLAC","Dedução de Honorários Contratuais","Alimentar","Não","Não","Não","-","-","Não informada","Não Informada","NÃO",71562.819999999992,7156.28,0,0,0,64406.539999999994,55869.81,6145.67,0,60,48713.53,6145.67,74164.06,7416.4,0,0,0,66747.66,57900.63,6369.06,0,50484.23000000001,6369.06]
[null,865,232,15586,"2023/0059622-0","2023-02-28","2023-06-01","MS 20.231/DF","2013-06-06","Administrativo - Servidor Público Civil - Sistema Remuneratório e Benefícios (PRINCIPAL)","2017-04-29","UNIÃO","Ministério do Planejamento, Orçamento e Gestão","Gratificação de Apoio à Execução de Atividades da Comissão Executiva do Plano da Lavoura Cacaueira - GECEPLAC","Dedução de Honorários Contratuais","Alimentar","Não","Não","Não","-","-","Não informada","Não Informada","NÃO",71562.819999999992,7156.28,0,0,0,64406.539999999994,55869.81,6145.67,0,60,48713.53,6145.67,74164.06,7416.4,0,0,0,66747.66,57900.63,6369.06,0,50484.23000000001,6369.06]
[null,866,233,15587,"2023/0059624-4","2023-02-28","2023-06-01","MS 20.231/DF","2013-06-06","Administrativo - Servidor Público Civil - Sistema Remuneratório e Benefícios (PRINCIPAL)","2017-04-29","UNIÃO","Ministério do Planejamento, Orçamento e Gestão","Gratificação de Apoio à Execução de Atividades da Comissão Executiva do Plano da Lavoura Cacaueira - GECEPLAC","Dedução de Honorários Contratuais","Alimentar","Não","Não","Não","-","-","Não informada","Não Informada","NÃO",71562.819999999992,7156.28,0,0,0,64406.539999999994,55869.81,6145.67,0,60,48713.53,6145.67,74164.06,7416.4,0,0,0,66747.66,57900.63,6369.06,0,50484.23000000001,6369.06]
[null,867,234,15588,"2023/0059628-1","2023-02-28","2023-06-01","MS 20.231/DF","2013-06-06","Administrativo - Servidor Público Civil - Sistema Remuneratório e Benefícios (PRINCIPAL)","2017-04-29","UNIÃO","Ministério do Planejamento, Orçamento e Gestão","Gratificação de Apoio à Execução de Atividades da Comissão Executiva do Plano da Lavoura Cacaueira - GECEPLAC","Dedução de Honorários Contratuais","Alimentar","Não","Não","Não","-","-","Não informada","Não Informada","NÃO",71562.819999999992,7156.28,0,0,0,64406.539999999994,55869.81,6145.67,0,60,48713.53,6145.67,74164.06,7416.4,0,0,0,66747.66,57900.63,6369.06,0,50484.23000000001,6369.06]
[null,868,235,15589,"2023/0059632-1","2023-02-28","2023-06-01","MS 20.231/DF","2013-06-06","Administrativo - Servidor Público Civil - Sistema Remuneratório e Benefícios (PRINCIPAL)","2017-04-29","UNIÃO","Ministério do Planejamento, Orçamento e Gestão","Gratificação de Apoio à Execução de Atividades da Comissão Executiva do Plano da Lavoura Cacaueira - GECEPLAC","Dedução de Honorários Contratuais","Alimentar","Não","Não","Não","-","-","Não informada","Não Informada","NÃO",61853.63,6185.36,0,0,0,55668.27,48288.21,5311.7,0,60,42102.85,5311.7,64101.950000000004,6410.19,0,0,0,57691.76,50043.44,5504.77,0,43633.25,5504.77]
[null,869,236,15590,"2023/0059634-5","2023-02-28","2023-06-01","MS 20.231/DF","2013-06-06","Administrativo - Servidor Público Civil - Sistema Remuneratório e Benefícios (PRINCIPAL)","2017-04-29","UNIÃO","Ministério do Planejamento, Orçamento e Gestão","Gratificação de Apoio à Execução de Atividades da Comissão Executiva do Plano da Lavoura Cacaueira - GECEPLAC","Dedução de Honorários Contratuais","Alimentar","Não","Não","Não","-","-","Não informada","Não Informada","NÃO",71562.819999999992,7156.28,0,0,0,64406.539999999994,55869.81,6145.67,0,60,48713.53,6145.67,74164.06,7416.4,0,0,0,66747.66,57900.63,6369.06,0,50484.23000000001,6369.06]
[null,870,237,15591,"2023/0059635-7","2023-02-28","2023-06-01","MS 20.231/DF","2013-06-06","Administrativo - Servidor Público Civil - Sistema Remuneratório e Benefícios (PRINCIPAL)","2017-04-29","UNIÃO","Ministério do Planejamento, Orçamento e Gestão","Gratificação de Apoio à Execução de Atividades da Comissão Executiva do Plano da Lavoura Cacaueira - GECEPLAC","Dedução de Honorários Contratuais","Alimentar","Não","Não","Não","-","-","Não informada","Não Informada","NÃO",71562.819999999992,7156.28,0,0,0,64406.539999999994,55869.81,6145.67,0,60,48713.53,6145.67,74164.06,7416.4,0,0,0,66747.66,57900.63,6369.06,0,50484.23000000001,6369.06]
[null,871,238,15592,"2023/0059640-9","2023-02-28","2023-06-01","MS 20.231/DF","2013-06-06","Administrativo - Servidor Público Civil - Sistema Remuneratório e Benefícios (PRINCIPAL)","2017-04-29","UNIÃO","Ministério do Planejamento, Orçamento e Gestão","Gratificação de Apoio à Execução de Atividades da Comissão Executiva do Plano da Lavoura Cacaueira - GECEPLAC","Dedução de Honorários Contratuais","Alimentar","Não","Não","Não","-","-","Não informada","Não Informada","NÃO",38101.729999999996,3810.17,0,0,0,34291.56,29745.59,3272.01,0,60,25935.42,3272.01,39486.68,3948.66,0,0,0,35538.020000000004,30826.809999999998,3390.94,0,26878.15,3390.94]
[null,872,239,15593,"2023/0059661-2","2023-02-28","2023-06-01","MS 20.231/DF","2013-06-06","Administrativo - Servidor Público Civil - Sistema Remuneratório e Benefícios (PRINCIPAL)","2017-04-29","UNIÃO","Ministério do Planejamento, Orçamento e Gestão","Gratificação de Apoio à Execução de Atividades da Comissão Executiva do Plano da Lavoura Cacaueira - GECEPLAC","Dedução de Honorários Contratuais","Alimentar","Não","Não","Não","-","-","Não informada","Não Informada","NÃO",71562.819999999992,7156.28,0,0,0,64406.539999999994,55869.81,6145.67,0,60,48713.53,6145.67,74164.06,7416.4,0,0,0,66747.66,57900.63,6369.06,0,50484.23000000001,6369.06]
[null,873,240,15594,"2023/0059668-5","2023-02-28","2023-06-01","MS 20.231/DF","2013-06-06","Administrativo - Servidor Público Civil - Sistema Remuneratório e Benefícios (PRINCIPAL)","2017-04-29","UNIÃO","Ministério do Planejamento, Orçamento e Gestão","Gratificação de Apoio à Execução de Atividades da Comissão Executiva do Plano da Lavoura Cacaueira - GECEPLAC","Dedução de Honorários Contratuais","Alimentar","Não","Não","Não","-","-","Não informada","Não Informada","NÃO",71562.819999999992,7156.28,0,0,0,64406.539999999994,55869.81,6145.67,0,60,48713.53,6145.67,74164.06,7416.4,0,0,0,66747.66,57900.63,6369.06,0,50484.23000000001,6369.06]
[null,874,241,15595,"2023/0059671-3","2023-02-28","2023-06-01","MS 20.231/DF","2013-06-06","Administrativo - Servidor Público Civil - Sistema Remuneratório e Benefícios (PRINCIPAL)","2017-04-29","UNIÃO","Ministério do Planejamento, Orçamento e Gestão","Gratificação de Apoio à Execução de Atividades da Comissão Executiva do Plano da Lavoura Cacaueira - GECEPLAC","Dedução de Honorários Contratuais","Alimentar","Não","Não","Não","-","-","Não informada","Não Informada","NÃO",71562.819999999992,7156.28,0,0,0,64406.539999999994,55869.81,6145.67,0,60,48713.53,6145.67,74164.06,7416.4,0,0,0,66747.66,57900.63,6369.06,0,50484.23000000001,6369.06]
[null,875,242,15596,"2023/0059672-5","2023-02-28","2023-06-01","MS 20.231/DF","2013-06-06","Administrativo - Servidor Público Civil - Sistema Remuneratório e Benefícios (PRINCIPAL)","2017-04-29","UNIÃO","Ministério do Planejamento, Orçamento e Gestão","Gratificação de Apoio à Execução de Atividades da Comissão Executiva do Plano da Lavoura Cacaueira - GECEPLAC","Dedução de Honorários Contratuais","Alimentar","Não","Não","Não","-","-","Não informada","Não Informada","NÃO",71562.819999999992,7156.28,0,0,0,64406.539999999994,55869.81,6145.67,0,60,48713.53,6145.67,74164.06,7416.4,0,0,0,66747.66,57900.63,6369.06,0,50484.23000000001,6369.06]
[null,876,243,15597,"2023/0059675-0","2023-02-28","2023-06-01","MS 20.231/DF","2013-06-06","Administrativo - Servidor Público Civil - Sistema Remuneratório e Benefícios (PRINCIPAL)","2017-04-29","UNIÃO","Ministério do Planejamento, Orçamento e Gestão","Gratificação de Apoio à Execução de Atividades da Comissão Executiva do Plano da Lavoura Cacaueira - GECEPLAC","Dedução de Honorários Contratuais","Alimentar","Não","Não","Não","-","-","Não informada","Não Informada","NÃO",71562.819999999992,7156.28,0,0,0,64406.539999999994,55869.81,6145.67,0,60,48713.53,6145.67,74164.06,7416.4,0,0,0,66747.66,57900.63,6369.06,0,50484.23000000001,6369.06]
[null,877,244,15668,"2023/0067692-9","2023-03-06","2023-06-01","MS 4.151/DF","1995-07-21","Administrativo - Servidor Público Civil - Reajustes de Remuneração, Proventos ou Pensão","1999-02-12","UNIÃO","Ministério da Fazenda","Diferença de remuneração - 3,17%","Dedução de Honorários Contratuais","Alimentar","Não","Não","Não","-","-","Não informada","Não Informada","NÃO",64599.67,3875.98,645.99,645.99,0,59431.71,29909.23,3290.01,6580.02,53,17058.789999999997,3290.01,66673.31,4000.39,666.73,666.73,0,61339.459999999992,30869.31,3395.62,6791.24,17606.369999999995,3395.62]
[null,878,245,16835,"2022/0267016-7","2023-06-09","2023-06-01","MS 4.151/DF","1995-07-21","Administrativo - Servidor Público Civil - Reajustes de Remuneração, Proventos ou Pensão","1999-02-12","UNIÃO","Ministério da Fazenda","Diferença de remuneração - 3,17%","Dedução de Honorários Contratuais","Alimentar","Não","Não","Não","-","-","Não informada","Não Informada","NÃO",79200,4752,792,792,0,72864,7232.02,795.52,1591.04,53,22281.839999999997,795.52,79200,4752,792,792,0,72864,8002.2301300000008,880.24,1760.48,22281.839999999997,880.24]
[null,879,246,16836,"2022/0267082-6","2023-06-09","2023-06-01","MS 4.151/DF","1995-07-21","Administrativo - Servidor Público Civil - Reajustes de Remuneração, Proventos ou Pensão","1999-02-12","UNIÃO","Ministério da Fazenda","Diferença de remuneração - 3,17%","Dedução de Honorários Contratuais","Alimentar","Não","Não","Não","-","-","Não informada","Não Informada","NÃO",79200,4752,792,792,0,72864,30443.19,3348.75,6697.5,53,22677.879999999997,3348.75,79200,4752,792,792,0,72864,33685.389734999997,3705.39,7410.78,22677.879999999997,3705.39]
[null,880,247,16837,"2022/0273631-6","2023-06-09","2023-06-01","MS 4.151/DF","1995-07-21","Administrativo - Servidor Público Civil - Reajustes de Remuneração, Proventos ou Pensão","1999-02-12","UNIÃO","Ministério da Fazenda","Diferença de remuneração - 3,17%","Dedução de Honorários Contratuais","Alimentar","Não","Não","Não","-","-","Não informada","Não Informada","NÃO",79200,4752,792,792,0,72864,31361.599999999999,3449.77,6899.54,53,22561.260000000002,3449.77,79200,4752,792,792,0,72864,34701.610399999998,3817.17,7634.34,22561.260000000002,3817.17]
[null,881,248,16838,"2022/0299082-0","2023-06-09","2023-06-01","MS 4.151/DF","1995-07-21","Administrativo - Servidor Público Civil - Reajustes de Remuneração, Proventos ou Pensão","1999-02-12","UNIÃO","Ministério da Fazenda","Diferença de remuneração - 3,17%","Dedução de Honorários Contratuais","Alimentar","Não","Não","Não","-","-","Não informada","Não Informada","NÃO",79200,7128,1584,792,0,69696,27472.76,3022,6044,48,20198.190000000002,3022,79200,7128,1584,792,0,69696,30398.608939999998,3343.84,6687.68,20198.190000000002,3343.84]
[null,882,249,16839,"2022/0305015-8","2023-06-09","2023-06-01","MS 4.151/DF","1995-07-21","Administrativo - Servidor Público Civil - Reajustes de Remuneração, Proventos ou Pensão","1999-02-12","UNIÃO","Ministério da Fazenda","Diferença de remuneração - 3,17%","Dedução de Honorários Contratuais","Alimentar","Não","Não","Não","-","-","Não informada","Não Informada","NÃO",79200,4752,792,792,0,72864,31645,3480.95,6961.9,53,23548.309999999998,3480.95,79200,4752,792,792,0,72864,34644.946000000004,3810.94,7621.88,23548.309999999998,3810.94]
[null,883,250,16840,"2022/0305057-5","2023-06-09","2023-06-01","MS 4.151/DF","1995-07-21","Administrativo - Servidor Público Civil - Reajustes de Remuneração, Proventos ou Pensão","1999-02-12","UNIÃO","Ministério da Fazenda","Diferença de remuneração - 3,17%","Dedução de Honorários Contratuais","Alimentar","Não","Não","Não","-","-","Não informada","Não Informada","NÃO",79200,4752,792,792,0,72864,21117.22,2322.89,4645.78,53,22467.300000000003,2322.89,79200,4752,792,792,0,72864,23119.132456000003,2543.1,5086.2,22467.300000000003,2543.1]
[null,884,251,15444,"2023/0043012-0","2023-02-13","2023-06-01","MS 4.151/DF","1995-07-21","Administrativo - Servidor Público Civil - Reajustes de Remuneração, Proventos ou Pensão","1999-02-12","UNIÃO","Ministério da Fazenda","Diferença de remuneração - 3,17%","Dedução de Honorários Contratuais","Alimentar","Não","Não","Não","-","-","Não informada","Não Informada","NÃO",55226.609999999993,3313.59,552.26,552.26,0,50808.499999999985,29291.21,3222.03,6444.06,53,13063.579999999998,3222.03,57507.46,3450.44,575.07000000000005,575.07000000000005,0,52906.879999999997,30500.93,3355.1,6710.2,13603.099999999999,3355.1]
[null,885,252,15446,"2023/0043015-6","2023-02-13","2023-06-01","MS 4.151/DF","1995-07-21","Administrativo - Servidor Público Civil - Reajustes de Remuneração, Proventos ou Pensão","1999-02-12","UNIÃO","Ministério da Fazenda","Diferença de remuneração - 3,17%","Dedução de Honorários Contratuais","Alimentar","Não","Não","Não","-","-","Não informada","Não Informada","NÃO",65978.759999999995,3958.72,659.78,659.78,0,60700.479999999996,29535.11,3248.86,6497.72,53,17873.260000000002,3248.86,68703.67,4122.22,687.03,687.03,0,63207.39,30754.91,3383.04,6766.08,18611.41,3383.04]
[null,886,253,15450,"2023/0048329-5","2023-02-16","2023-06-01","MS 8.376/DF","2002-05-24","Administrativo - Servidor Público Civil - Sistema Remuneratório e Benefícios - Gratificações da Lei 8.112/1990 (PRINCIPAL)","2004-08-23","UNIÃO","Ministério do Planejamento, Orçamento e Gestão","Gratificação de Operações Especiais - GOE","Dedução de Honorários Contratuais","Alimentar","Não","Não","Não","-","-","Não informada","Não Informada","NÃO",18929.86,1325.09,2460.88,0,0,15143.89,0,0,0,26,3728.33,0,19617.93,1373.25,2550.33,0,0,15694.35,0,0,0,3863.8500000000008,0]
[]
[null,null,null,null,null,null,null,null,null,null,null,null,null,null,null,null,null,null,null,null,null,null,null,null,null,null,null,null,null,null,null,null,null,null,null,"Totais pagas",{"$f":"SUM(AK11:AK264)","v":12011326.200000014},{"$f":"SUM(AL11:AL264)","v":1169915.2799999986},{"$f":"SUM(AM11:AM264)","v":317147.4700000002},{"$f":"SUM(AN11:AN264)","v":70544.159999999989},{"$f":"SUM(AO11:AO263)","v":15754.429999999998},{"$f":"SUM(AP11:AP264)","v":10437964.859999999}]

{"sheet":"Planilha1","index":4,"n_rows":201,"n_cols":10,"rows_kept":201,"cut":false,"hidden":false,"merged":[]}
[14888,null,14888,null,{"$f":"A1-C1","v":0},null,14808,null,14808,{"$f":"G1-I1","v":0}]
[15113,null,15113,null,{"$f":"A2-C2","v":0},null,14843,null,14843,{"$f":"G2-I2","v":0}]
[15128,null,15128,null,0,null,14920,null,14920,0]
[15141,null,15141,null,0,null,14998,null,14998,0]
[15286,null,15286,null,0,null,15004,null,15004,0]
[15298,null,15298,null,0,null,15005,null,15005,0]
[15418,null,15418,null,0,null,15007,null,15007,0]
[15533,null,15533,null,0,null,15008,null,15008,0]
[15534,null,15534,null,0,null,15009,null,15009,0]
[15535,null,15535,null,0,null,15010,null,15010,0]
[15536,null,15536,null,0,null,15011,null,15011,0]
[15538,null,15538,null,0,null,15013,null,15013,0]
[15539,null,15539,null,0,null,15014,null,15014,0]
[15540,null,15540,null,0,null,15015,null,15015,0]
[15541,null,15541,null,0,null,15016,null,15016,0]
[15542,null,15542,null,0,null,15017,null,15017,0]
[15544,null,15544,null,0,null,15018,null,15018,0]
[15545,null,15545,null,0,null,15019,null,15019,0]
[15546,null,15546,null,0,null,15020,null,15020,0]
[15547,null,15547,null,0,null,15021,null,15021,0]
[15548,null,15548,null,0,null,15022,null,15022,0]
[15549,null,15549,null,0,null,15023,null,15023,0]
[15550,null,15550,null,0,null,15024,null,15024,0]
[15551,null,15551,null,0,null,15025,null,15025,0]
[15552,null,15552,null,0,null,15026,null,15026,0]
[15553,null,15553,null,0,null,15027,null,15027,0]
[15554,null,15554,null,0,null,15028,null,15028,0]
[15555,null,15555,null,0,null,15029,null,15029,0]
[15556,null,15556,null,0,null,15030,null,15030,0]
[15557,null,15557,null,0,null,15031,null,15031,0]
[15558,null,15558,null,0,null,15034,null,15034,0]
[15559,null,15559,null,0,null,15038,null,15038,0]
[15561,null,15561,null,0,null,15039,null,15039,0]
[15562,null,15562,null,0,null,15040,null,15040,0]
[15563,null,15563,null,0,null,15041,null,15041,0]
[15564,null,15564,null,0,null,15045,null,15045,0]
[15565,null,15565,null,0,null,15046,null,15046,0]
[15566,null,15566,null,0,null,15047,null,15047,0]
[15569,null,15569,null,0,null,15048,null,15048,0]
[15570,null,15570,null,0,null,15049,null,15049,0]
[15571,null,15571,null,0,null,15050,null,15050,0]
[15572,null,15572,null,0,null,15052,null,15052,0]
[15574,null,15574,null,0,null,15053,null,15053,0]
[15575,null,15575,null,0,null,15054,null,15054,0]
[15576,null,15576,null,0,null,15055,null,15055,0]
[null,null,null,null,null,null,15056,null,15056,0]
[null,null,null,null,null,null,15057,null,15057,0]
[null,null,null,null,null,null,15058,null,15058,0]
[null,null,null,null,null,null,15060,null,15060,0]
[null,null,null,null,null,null,15061,null,15061,0]
[null,null,null,null,null,null,15063,null,15063,0]
[null,null,null,null,null,null,15064,null,15064,0]
[null,null,null,null,null,null,15344,null,15344,0]
[null,null,null,null,null,null,15392,null,15392,0]
[null,null,null,null,null,null,15393,null,15393,0]
[null,null,null,null,null,null,15394,null,15394,0]
[null,null,null,null,null,null,15395,null,15395,0]
[null,null,null,null,null,null,15396,null,15396,0]
[null,null,null,null,null,null,15397,null,15397,0]
[null,null,null,null,null,null,15398,null,15398,0]
[null,null,null,null,null,null,15399,null,15399,0]
[null,null,null,null,null,null,15400,null,15400,0]
[null,null,null,null,null,null,15401,null,15401,0]
[null,null,null,null,null,null,15402,null,15402,0]
[null,null,null,null,null,null,15403,null,15403,0]
[null,null,null,null,null,null,15404,null,15404,{"$f":"G66-I66","v":0}]
[null,null,null,null,null,null,15405,null,15405,0]
[null,null,null,null,null,null,15406,null,15406,0]
[null,null,null,null,null,null,15407,null,15407,0]
[null,null,null,null,null,null,15409,null,15409,0]
[null,null,null,null,null,null,15410,null,15410,0]
[null,null,null,null,null,null,15411,null,15411,0]
[null,null,null,null,null,null,15412,null,15412,0]
[null,null,null,null,null,null,15413,null,15413,0]
[null,null,null,null,null,null,15414,null,15414,0]
[null,null,null,null,null,null,15415,null,15415,0]
[null,null,null,null,null,null,15417,null,15417,0]
[null,null,null,null,null,null,15423,null,15423,0]
[null,null,null,null,null,null,15424,null,15424,0]
[null,null,null,null,null,null,15425,null,15425,0]
[null,null,null,null,null,null,15426,null,15426,0]
[null,null,null,null,null,null,15427,null,15427,0]
[null,null,null,null,null,null,15428,null,15428,0]
[null,null,null,null,null,null,15429,null,15429,0]
[null,null,null,null,null,null,15430,null,15430,0]
[null,null,null,null,null,null,15431,null,15431,0]
[null,null,null,null,null,null,15433,null,15433,0]
[null,null,null,null,null,null,15435,null,15435,0]
[null,null,null,null,null,null,15436,null,15436,0]
[null,null,null,null,null,null,15437,null,15437,0]
[null,null,null,null,null,null,15438,null,15438,0]
[null,null,null,null,null,null,15439,null,15439,0]
[null,null,null,null,null,null,15440,null,15440,0]
[null,null,null,null,null,null,15441,null,15441,0]
[null,null,null,null,null,null,15442,null,15442,0]
[null,null,null,null,null,null,15443,null,15443,0]
[null,null,null,null,null,null,15445,null,15445,0]
[null,null,null,null,null,null,15447,null,15447,0]
[null,null,null,null,null,null,15448,null,15448,0]
[null,null,null,null,null,null,15449,null,15449,0]
[null,null,null,null,null,null,15451,null,15451,0]
[null,null,null,null,null,null,15452,null,15452,0]
[null,null,null,null,null,null,15455,null,15455,0]
[null,null,null,null,null,null,15456,null,15456,0]
[null,null,null,null,null,null,15457,null,15457,0]
[null,null,null,null,null,null,15458,null,15458,0]
[null,null,null,null,null,null,15459,null,15459,0]
[null,null,null,null,null,null,15460,null,15460,0]
[null,null,null,null,null,null,14999,null,14999,0]
[null,null,null,null,null,null,15461,null,15461,0]
[null,null,null,null,null,null,15462,null,15462,0]
[null,null,null,null,null,null,15463,null,15463,0]
[null,null,null,null,null,null,15464,null,15464,0]
[null,null,null,null,null,null,15465,null,15465,0]
[null,null,null,null,null,null,15467,null,15467,0]
[null,null,null,null,null,null,15468,null,15468,0]
[null,null,null,null,null,null,15469,null,15469,0]
[null,null,null,null,null,null,15470,null,15470,0]
[null,null,null,null,null,null,15471,null,15471,0]
[null,null,null,null,null,null,15472,null,15472,0]
[null,null,null,null,null,null,15473,null,15473,0]
[null,null,null,null,null,null,15474,null,15474,0]
[null,null,null,null,null,null,15475,null,15475,0]
[null,null,null,null,null,null,15476,null,15476,0]
[null,null,null,null,null,null,15477,null,15477,0]
[null,null,null,null,null,null,15478,null,15478,0]
[null,null,null,null,null,null,15479,null,15479,0]
[null,null,null,null,null,null,15480,null,15480,0]
[null,null,null,null,null,null,15481,null,15481,0]
[null,null,null,null,null,null,15482,null,15482,{"$f":"G130-I130","v":0}]
[null,null,null,null,null,null,15483,null,15483,0]
[null,null,null,null,null,null,15484,null,15484,0]
[null,null,null,null,null,null,15486,null,15486,0]
[null,null,null,null,null,null,15487,null,15487,0]
[null,null,null,null,null,null,15488,null,15488,0]
[null,null,null,null,null,null,15489,null,15489,0]
[null,null,null,null,null,null,15491,null,15491,0]
[null,null,null,null,null,null,15492,null,15492,0]
[null,null,null,null,null,null,15493,null,15493,0]
[null,null,null,null,null,null,15494,null,15494,0]
[null,null,null,null,null,null,15495,null,15495,0]
[null,null,null,null,null,null,15498,null,15498,0]
[null,null,null,null,null,null,15499,null,15499,0]
[null,null,null,null,null,null,15500,null,15500,0]
[null,null,null,null,null,null,15501,null,15501,0]
[null,null,null,null,null,null,15502,null,15502,0]
[null,null,null,null,null,null,15503,null,15503,0]
[null,null,null,null,null,null,15504,null,15504,0]
[null,null,null,null,null,null,15505,null,15505,0]
[null,null,null,null,null,null,15506,null,15506,0]
[null,null,null,null,null,null,15507,null,15507,0]
[null,null,null,null,null,null,15508,null,15508,0]
[null,null,null,null,null,null,15509,null,15509,0]
[null,null,null,null,null,null,15510,null,15510,0]
[null,null,null,null,null,null,15511,null,15511,0]
[null,null,null,null,null,null,15512,null,15512,0]
[null,null,null,null,null,null,15513,null,15513,0]
[null,null,null,null,null,null,15514,null,15514,0]
[null,null,null,null,null,null,15515,null,15515,0]
[null,null,null,null,null,null,15516,null,15516,0]
[null,null,null,null,null,null,15517,null,15517,0]
[null,null,null,null,null,null,15518,null,15518,0]
[null,null,null,null,null,null,15519,null,15519,0]
[null,null,null,null,null,null,15520,null,15520,0]
[null,null,null,null,null,null,15521,null,15521,0]
[null,null,null,null,null,null,15522,null,15522,0]
[null,null,null,null,null,null,15523,null,15523,0]
[null,null,null,null,null,null,15524,null,15524,0]
[null,null,null,null,null,null,15525,null,15525,0]
[null,null,null,null,null,null,15526,null,15526,0]
[null,null,null,null,null,null,15527,null,15527,0]
[null,null,null,null,null,null,15528,null,15528,0]
[null,null,null,null,null,null,15529,null,15529,0]
[null,null,null,null,null,null,15530,null,15530,0]
[null,null,null,null,null,null,15577,null,15577,0]
[null,null,null,null,null,null,15578,null,15578,0]
[null,null,null,null,null,null,15580,null,15580,0]
[null,null,null,null,null,null,15581,null,15581,0]
[null,null,null,null,null,null,15583,null,15583,0]
[null,null,null,null,null,null,15586,null,15586,0]
[null,null,null,null,null,null,15587,null,15587,0]
[null,null,null,null,null,null,15588,null,15588,0]
[null,null,null,null,null,null,15589,null,15589,0]
[null,null,null,null,null,null,15590,null,15590,0]
[null,null,null,null,null,null,15591,null,15591,0]
[null,null,null,null,null,null,15592,null,15592,0]
[null,null,null,null,null,null,15593,null,15593,0]
[null,null,null,null,null,null,15594,null,15594,0]
[null,null,null,null,null,null,15595,null,15595,0]
[null,null,null,null,null,null,15596,null,15596,0]
[null,null,null,null,null,null,15597,null,15597,0]
[null,null,null,null,null,null,15668,null,15668,0]
[null,null,null,null,null,null,16835,null,16835,0]
[null,null,null,null,null,null,16836,null,16836,{"$f":"G194-I194","v":0}]
[null,null,null,null,null,null,16837,null,16837,0]
[null,null,null,null,null,null,16838,null,16838,0]
[null,null,null,null,null,null,16839,null,16839,0]
[null,null,null,null,null,null,16840,null,16840,0]
[null,null,null,null,null,null,15444,null,15444,0]
[null,null,null,null,null,null,15446,null,15446,0]
[null,null,null,null,null,null,15450,null,15450,0]